Workbook
Name CenyK: #REF!
Name Datum: 'Položkový rozpočet'!#REF!
Name DatumR: Rekapitulace!$D$1
Name NazevObjektu: 'Položkový rozpočet'!$C$4
Name NazevStavby: 'Položkový rozpočet'!$C$3
Name PolBegin: 'Položkový rozpočet'!$A$7
Name PolBeginR: Rekapitulace!$A$9
Name StrediskoK: #REF!
Name ZpracovalK: #REF!

Sheet Položkový rozpočet
A1: Příloha č. 3
A3: Stavba : | C3: 2484 - Pertoltice pod Ralskem čp.87
A4: Objekt : | C4: 24840001 - Sklad se zázemím čp.87
A6: Poř. | B6: Číslo položky | C6: Název položky | D6: m.j. | E6: Výměra | F6: Cena/mj | G6: Cena celkem | H6: Celkem tun
A8: 1 | B8: ZEMNI PRACE STAVEBNI
A10: 1 | B10: C13971-1101 | C10: Vykop uzávr prostor tř 1-4 | D10: m3 | E10: 11.22 | F10: 0 | G10: =E10*F10 -> 0
A12: 2 | B12: C16220-1101 | C12: Vodor.přem.výkop.hor.1-4 do 20m | D12: m3 | E12: 11.22 | F12: 0 | G12: =E12*F12 -> 0
C13: kolečkem s naložením
A14: 3 | B14: C16710-1101 | C14: Nakládání výkopku do 100m3 hor.1-4 | D14: m3 | E14: 11.22 | F14: 0 | G14: =E14*F14 -> 0
A16: 4 | B16: C16270-1105 | C16: Vodorovné přem.výkopku do 10000m1-4 | D16: m3 | E16: 11.22 | F16: 0 | G16: =E16*F16 -> 0
A18: 5 | B18: C17120-1999 | C18: Poplatek za skladku | D18: t | E18: 20.196 | F18: 0 | G18: =E18*F18 -> 0
A20: 6 | B20: C18110-1102 | C20: Uprava plane hor.1-4 | D20: m2 | E20: 59.93 | F20: 0 | G20: =E20*F20 -> 0
C21: se zhutnenim strojne vc.prejezdu
A22: Oddíl celkem | G22: =SUM(G10:G21) -> 0 | H22: =SUM(H10:H21) -> 0
A24: 3 | B24: SVISLE KONSTRUKCE
A26: 7 | B26: C31923-1111 | C26: Úprava pro dod.vloz.vodor.izolace | D26: m2 | E26: 18.45 | F26: 0 | G26: =E26*F26 -> 0 | H26: 11.18808
C27: z cihel a kamene
A28: 8 | B28: C31023-8211 | C28: Zazdívka ot.pl.do 1m2 cih.tl.zd.45cm | D28: m3 | E28: 0.378 | F28: 0 | G28: =E28*F28 -> 0 | H28: 0.68263
C29: na MVC výtah M125l
A30: 9 | B30: C31023-9211 | C30: Zazdívka ot.pl.do 4m2 tl.zdi 45cm | D30: m3 | E30: 0.627 | F30: 0 | G30: =E30*F30 -> 0 | H30: 1.13231
C31: na MVC výtah M125l
A32: 10 | B32: C34023-9212 | C32: Zazdívka ot.pl.do 4m2 příč.stěny | D32: m2 | E32: 1.694 | F32: 0 | G32: =E32*F32 -> 0 | H32: 0.45948
C33: tl.přes 10cm výtah M125l
A34: 11 | B34: C34227-2148 | C34: Příčka tl.5cm YTONG P4-600 u | D34: m2 | E34: 9.24 | F34: 0 | G34: =E34*F34 -> 0 | H34: 0.49
A36: 12 | B36: R31127-1211 | C36: Zdivo z tvárnic such.zd.Ytong P3/580 | D36: m2 | E36: 14.61 | F36: 0 | G36: =E36*F36 -> 0 | H36: 0.98691
C37: tl.zdi 10cm 60x25x10cm
A38: 13 | B38: R31127-1211 | C38: Zdivo z tvárnic such.zd.Ytong P3/580 | D38: m2 | E38: 7.68 | F38: 0 | G38: =E38*F38 -> 0 | H38: 0.78336
C39: tl.zdi 15cm 60x25x15cm
A40: 14 | B40: 59534071 | C40: Nenosný překlad 1200/250/100 | D40: ks | E40: 3 | F40: 0 | G40: =E40*F40 -> 0 | H40: 0.078
A42: 15 | B42: 59534074 | C42: Nenosný překlad 1200/250/150 | D42: ks | E42: 1 | F42: 0 | G42: =E42*F42 -> 0 | H42: 0.042
A44: 16 | B44: C31794-1123 | C44: Osaz.válc.nosníků i,ie,u,ue c.14-22 | D44: t | E44: 0.179 | F44: 0 | G44: =E44*F44 -> 0 | H44: 0.00306
A46: 17 | B46: 13380530 | C46: Tyč ocel-I 11373 označ.průřezu 160 | D46: t | E46: 0.193 | F46: 0 | G46: =E46*F46 -> 0 | H46: 0.193
A48: 18 | B48: C31723-4410 | C48: Vyzdívka mezi nos.cih.na MC | D48: m3 | E48: 0.18 | F48: 0 | G48: =E48*F48 -> 0 | H48: 0.34299
C49: výtah M125l
A50: 19 | B50: C34624-4381 | C50: Plentování oc.válc.nosníků cihlami | D50: m2 | E50: 0.8 | F50: 0 | G50: =E50*F50 -> 0 | H50: 0.14958
C51: výšky do 20cm MVC25v mlt 0,027
A52: 20 | B52: C34648-1121 | C52: Zaplentování rýh,potr.ap.pod stropy | D52: m2 | E52: 3.25 | F52: 0 | G52: =E52*F52 -> 0 | H52: 0.03114
C53: rabic.pletivem MCJ mlt 0,019
A54: Oddíl celkem | G54: =SUM(G26:G53) -> 0 | H54: =SUM(H26:H53) -> 16.56254
A56: 4 | B56: VODOROVNE KONSTRUKCE
...

Sheet Rekapitulace
B2: R E K A P I T U L A C E
B3: S T A V E B N Í C H P R A C Í A D O D Á V E K
A4: Stavba : | B4: ='Položkový rozpočet'!$C$3 -> 2484 - Pertoltice pod Ralskem čp.87
A5: Objekt : | B5: ='Položkový rozpočet'!$C$4 -> 24840001 - Sklad se zázemím čp.87
A7: Číslo | B7: Název stavebního oddílu | C7: Nabídková cena | D7: Hmotnost
A9: ='Položkový rozpočet'!A8 -> 1 | B9: ='Položkový rozpočet'!B8 -> ZEMNI PRACE STAVEBNI | C9: ='Položkový rozpočet'!G22 -> 0 | D9: ='Položkový rozpočet'!H22 -> 0
A10: ='Položkový rozpočet'!A24 -> 3 | B10: ='Položkový rozpočet'!B24 -> SVISLE KONSTRUKCE | C10: ='Položkový rozpočet'!G54 -> 0 | D10: ='Položkový rozpočet'!H54 -> 16.56254
A11: ='Položkový rozpočet'!A56 -> 4 | B11: ='Položkový rozpočet'!B56 -> VODOROVNE KONSTRUKCE | C11: ='Položkový rozpočet'!G66 -> 0 | D11: ='Položkový rozpočet'!H66 -> 1.25413
A12: ='Položkový rozpočet'!A68 -> 31 | B12: ='Položkový rozpočet'!B68 -> ZDI PODPERNE A VOLNE | C12: ='Položkový rozpočet'!G72 -> 0 | D12: ='Položkový rozpočet'!H72 -> 0.07344
A13: ='Položkový rozpočet'!A74 -> 61 | B13: ='Položkový rozpočet'!B74 -> UPRAVY POVRCHU VNITRNI | C13: ='Položkový rozpočet'!G100 -> 0 | D13: ='Položkový rozpočet'!H100 -> 10.63077
A14: ='Položkový rozpočet'!A102 -> 62 | B14: ='Položkový rozpočet'!B102 -> UPRAVY POVRCHU VNEJSI | C14: ='Položkový rozpočet'!G108 -> 0 | D14: ='Položkový rozpočet'!H108 -> 0.09276
A15: ='Položkový rozpočet'!A110 -> 63 | B15: ='Položkový rozpočet'!B110 -> PODLAHY | C15: ='Položkový rozpočet'!G128 -> 0 | D15: ='Položkový rozpočet'!H128 -> 34.2624
A16: ='Položkový rozpočet'!A130 -> 64 | B16: ='Položkový rozpočet'!B130 -> VYPLNE OTVORU | C16: ='Položkový rozpočet'!G150 -> 0 | D16: ='Položkový rozpočet'!H150 -> 0.3386
A17: ='Položkový rozpočet'!A152 -> 94 | B17: ='Položkový rozpočet'!B152 -> LESENI | C17: ='Položkový rozpočet'!G156 -> 0 | D17: ='Položkový rozpočet'!H156 -> 0.00757
A18: ='Položkový rozpočet'!A158 -> 95 | B18: ='Položkový rozpočet'!B158 -> DOKONCUJICI KONSTRUKCE A PRACE | C18: ='Položkový rozpočet'!G166 -> 0 | D18: ='Položkový rozpočet'!H166 -> 0.00454
A19: ='Položkový rozpočet'!A168 -> 96 | B19: ='Položkový rozpočet'!B168 -> BOURANI | C19: ='Položkový rozpočet'!G220 -> 0 | D19: ='Položkový rozpočet'!H220 -> 0.02583
A20: ='Položkový rozpočet'!A222 -> 99 | B20: ='Položkový rozpočet'!B222 -> PRESUN HMOT | C20: ='Položkový rozpočet'!G226 -> 0 | D20: ='Položkový rozpočet'!H226 -> 0
A21: ='Položkový rozpočet'!A228 -> 624 | B21: ='Položkový rozpočet'!B228 -> 24-M MONTAZE VZDUCHOTECHNICKYCH ZARI | C21: ='Položkový rozpočet'!G234 -> 0 | D21: ='Položkový rozpočet'!H234 -> 0.08532
A22: ='Položkový rozpočet'!A236 -> 711 | B22: ='Položkový rozpočet'!B236 -> IZOLACE PROTI VODE A VLHKOSTI | C22: ='Položkový rozpočet'!G260 -> 0 | D22: ='Položkový rozpočet'!H260 -> 0.46258
A23: ='Položkový rozpočet'!A262 -> 713 | B23: ='Položkový rozpočet'!B262 -> IZOLACE TEPELNE | C23: ='Položkový rozpočet'!G282 -> 0 | D23: ='Položkový rozpočet'!H282 -> 0.0879
A24: ='Položkový rozpočet'!A284 -> 720 | B24: ='Položkový rozpočet'!B284 -> INSTALACE VODY, PLYNU A KANALIZACE | C24: ='Položkový rozpočet'!G288 -> 0 | D24: ='Položkový rozpočet'!H288 -> 0
A25: ='Položkový rozpočet'!A290 -> 721 | B25: ='Položkový rozpočet'!B290 -> VNITRNI KANALIZACE | C25: ='Položkový rozpočet'!G294 -> 0 | D25: ='Položkový rozpočet'!H294 -> 0
A26: ='Položkový rozpočet'!A296 -> 722 | B26: ='Položkový rozpočet'!B296 -> VNITRNI VODOVOD | C26: ='Položkový rozpočet'!G300 -> 0 | D26: ='Položkový rozpočet'!H300 -> 0
A27: ='Položkový rozpočet'!A302 -> 725 | B27: ='Položkový rozpočet'!B302 -> ZARIZOVACI PREDMETY | C27: ='Položkový rozpočet'!G330 -> 0 | D27: ='Položkový rozpočet'!H330 -> 0.15505
A28: ='Položkový rozpočet'!A332 -> 730 | B28: ='Položkový rozpočet'!B332 -> USTREDNI VYTAPENI | C28: ='Položkový rozpočet'!G336 -> 0 | D28: ='Položkový rozpočet'!H336 -> 0
A29: ='Položkový rozpočet'!A338 -> 740 | B29: ='Položkový rozpočet'!B338 -> ELEKROINSTALACE | C29: ='Položkový rozpočet'!G342 -> 0 | D29: ='Položkový rozpočet'!H342 -> 0
A30: ='Položkový rozpočet'!A344 -> 764 | B30: ='Položkový rozpočet'!B344 -> KONSTRUKCE KLEMPIRSKE | C30: ='Položkový rozpočet'!G350 -> 0 | D30: ='Položkový rozpočet'!H350 -> 0.00284
A31: ='Položkový rozpočet'!A352 -> 766 | B31: ='Položkový rozpočet'!B352 -> KONSTRUKCE TRUHLARSKE | C31: ='Položkový rozpočet'!G382 -> 0 | D31: ='Položkový rozpočet'!H382 -> 0.3291
A32: ='Položkový rozpočet'!A384 -> 771 | B32: ='Položkový rozpočet'!B384 -> PODLAHY Z DLAZDIC | C32: ='Položkový rozpočet'!G406 -> 0 | D32: ='Položkový rozpočet'!H406 -> 0.65709
A33: ='Položkový rozpočet'!A408 -> 781 | B33: ='Položkový rozpočet'!B408 -> OBKLADY KERAMICKE | C33: ='Položkový rozpočet'!G424 -> 0 | D33: ='Položkový rozpočet'!H424 -> 0.79086
A34: ='Položkový rozpočet'!A426 -> 783 | B34: ='Položkový rozpočet'!B426 -> NATERY | C34: ='Položkový rozpočet'!G434 -> 0 | D34: ='Položkový rozpočet'!H434 -> 0.05019
A35: ='Položkový rozpočet'!A436 -> 784 | B35: ='Položkový rozpočet'!B436 -> MALBY | C35: ='Položkový rozpočet'!G442 -> 0 | D35: ='Položkový rozpočet'!H442 -> 0.0825
A37: REKAPITULACE: | C37: Cena celkem | D37: Hmotnost
B38: Cena bez DPH: | C38: ='Položkový rozpočet'!G445 -> 0
B39: DPH 21%: | C39: ='Položkový rozpočet'!E446 -> 0
B40: DPH 15%: | C40: ='Položkový rozpočet'!F446 -> 0
B41: Cena včetně DPH: | C41: =C40+C39+C38 -> 0 | D41: ='Položkový rozpočet'!H448 -> 65.95601
