Workbook

Sheet Rekapitulace stavby
A1: Export Komplet | BA1: 2.0 | BB1: ZAMOK | BT1: False | BU1: False | BV1: {cbb2722f-ed70-45ce-aadd-5c9ab5894968}
BS2: 0,01 | BT2: 21
BS3: 0,01 | BT3: 15
D4: REKAPITULACE STAVBY | AS4: v --- níže se nacházejí doplnkové a pomocné údaje k sestavám --- v | BE4: Návod na vyplnění | BS4: 0,001
D5: Kód: | K5: 191208 | BE5: Měnit lze pouze buňky se žlutým podbarvením!_x000D_ _x000D_ 1) na prvním listu Rekapitulace stavby vyplňte v sestavě_x000D_ _x000D_ a) Souhrnný list_x000D_ - údaje o Uchazeči_x000D_ (přenesou se do ostatních sestav i v jiných listech)_x000D_ _x000D_ b) Rekapitulace objektů_x000D_ - potřebné Ostatní náklady_x000D_ _x000D_ 2) na vybraných listech vyplňte v sestavě_x000D_ _x000D_ a) Krycí list_x000D_ - údaje o Uchazeči, pokud se liší od údajů o Uchazeči na Souhrnném listu_x000D_ (údaje se přenesou do ostatních sestav v daném listu)_x000D_ _x000D_ b) Rekapitulace rozpočtu_x000D_ - potřebné Ostatní náklady_x000D_ _x000D_ c) Celkové náklady za stavbu_x000D_ - ceny u položek_x000D_ - množství, pokud má žluté podbarvení_x000D_ - a v případě potřeby poznámku (ta je ve skrytém sloupci) | BS5: 0,01
D6: Stavba: | K6: Haťový chodník | BS6: 0,1
D7: KSO: | AK7: CC-CZ: | BS7: 1
D8: Místo: | K8: Brniště | AK8: Datum: | AN8: Vyplň údaj | BS8: 10
BS9: 100
D10: Zadavatel: | AK10: IČ: | BS10: 0,1
AK11: DIČ: | BS11: 0,1
BS12: 0,1
D13: Uchazeč: | AK13: IČ: | AN13: Vyplň údaj | BS13: 0,1
E14: Vyplň údaj | AK14: DIČ: | AN14: Vyplň údaj | BS14: 0,1
BS15: False
D16: Projektant: | AK16: IČ: | BS16: False
E17: Ing. Kateřina Iwanejko | AK17: DIČ: | BS17: True
BS18: 0,01
D19: Zpracovatel: | AK19: IČ: | BS19: 0,01
AK20: DIČ: | BS20: True
D22: Poznámka:
D26: Cena bez DPH | AK26: =ROUND(AG94,2) -> 0
L28: Sazba daně | W28: Základ daně | AK28: Výše daně
D29: DPH | F29: základní | L29: 0.21 | W29: =ROUND(AZ94, 2) -> 0 | AK29: =ROUND(AV94, 2) -> 0
F30: snížená | L30: 0.15 | W30: =ROUND(BA94, 2) -> 0 | AK30: =ROUND(AW94, 2) -> 0
F31: zákl. přenesená | L31: 0.21 | W31: =ROUND(BB94, 2) -> 0 | AK31: 0
F32: sníž. přenesená | L32: 0.15 | W32: =ROUND(BC94, 2) -> 0 | AK32: 0
F33: nulová | L33: 0 | W33: =ROUND(BD94, 2) -> 0 | AK33: 0
D35: Cena s DPH | T35: v | X35: CZK | AK35: =SUM(AK26:AK33) -> 0
D49: Projektant | AH49: Zpracovatel
D60: Datum a podpis: | V60: Razítko | AH60: Datum a podpis: | AM60: Razítko
D64: Objednavatel | AH64: Uchazeč
D75: Datum a podpis: | V75: Razítko | AH75: Datum a podpis: | AM75: Razítko
C82: REKAPITULACE OBJEKTŮ STAVBY A SOUPISŮ PRACÍ
C84: Kód: | L84: =K5 -> 191208
C85: Stavba: | L85: =K6 -> Haťový chodník
C87: Místo: | L87: =IF(K8="","",K8) -> Brniště | AI87: Datum: | AM87: =IF(AN8= "","",AN8) -> Vyplň údaj
C89: Zadavatel: | L89: =IF(E11= "","",E11) | AI89: Projektant: | AM89: =IF(E17="","",E17) -> Ing. Kateřina Iwanejko | AS89: Informatívní údaje z listů zakázek
C90: Uchazeč: | L90: =IF(E14= "Vyplň údaj","",E14) | AI90: Zpracovatel: | AM90: =IF(E20="","",E20)
C92: Kód | I92: Popis | AG92: Cena bez DPH [CZK] | AN92: Cena s DPH [CZK] | AQ92: Typ | AS92: z toho Ostat._x000D_ náklady [CZK] | AT92: DPH [CZK] | AU92: Normohodiny [h] | AV92: DPH základní [CZK] | AW92: DPH snížená [CZK] | AX92: DPH základní přenesená_x000D_ [CZK] | AY92: DPH snížená přenesená_x000D_ [CZK] | AZ92: Základna_x000D_ DPH základní | BA92: Základna_x000D_ DPH snížená | BB92: Základna_x000D_ DPH zákl. přenesená | BC92: Základna_x000D_ DPH sníž. přenesená | BD92: Základna_x000D_ DPH nulová
C94: Náklady z rozpočtů | AG94: =ROUND(AG95,2) -> 0 | AN94: =SUM(AG94,AT94) -> 0 | AS94: =ROUND(AS95,2) -> 0 | AT94: =ROUND(SUM(AV94:AW94),2) -> 0 | AU94: =ROUND(AU95,5) -> 0 | AV94: =ROUND(AZ94*L29,2) -> 0 | AW94: =ROUND(BA94*L30,2) -> 0 | AX94: =ROUND(BB94*L29,2) -> 0 | AY94: =ROUND(BC94*L30,2) -> 0 | AZ94: =ROUND(AZ95,2) -> 0 | BA94: =ROUND(BA95,2) -> 0 | BB94: =ROUND(BB95,2) -> 0 | BC94: =ROUND(BC95,2) -> 0 | BD94: =ROUND(BD95,2) -> 0 | BS94: D | BT94: 0 | BU94: ###NOIMPORT### | BV94: IMPORT | BW94: {cbb2722f-ed70-45ce-aadd-5c9ab5894968} | BX94: {00000000-0000-0000-0000-000000000000}
A95: / | D95: 191208-1 | J95: Haťový chodník | AG95: ='191208-1 - Haťový chodník'!J30 -> 0 | AN95: =SUM(AG95,AT95) -> 0 | AQ95: STA | AS95: 0 | AT95: =ROUND(SUM(AV95:AW95),2) -> 0 | AU95: ='191208-1 - Haťový chodník'!P127 -> 0 | AV95: ='191208-1 - Haťový chodník'!J33 -> 0 | AW95: ='191208-1 - Haťový chodník'!J34 -> 0 | AX95: ='191208-1 - Haťový chodník'!J35 -> 0 | AY95: ='191208-1 - Haťový chodník'!J36 -> 0 | AZ95: ='191208-1 - Haťový chodník'!F33 -> 0 | BA95: ='191208-1 - Haťový chodník'!F34 -> 0 | BB95: ='191208-1 - Haťový chodník'!F35 -> 0 | BC95: ='191208-1 - Haťový chodník'!F36 -> 0 | BD95: ='191208-1 - Haťový chodník'!F37 -> 0 | BT95: 1 | BV95: IMPORT | BW95: {45cf3a3b-0945-436e-949c-1a80d50fd30d} | BX95: {cbb2722f-ed70-45ce-aadd-5c9ab5894968} | CM95: 2

Sheet 191208-1 - Haťový chodník
AT2: {45cf3a3b-0945-436e-949c-1a80d50fd30d}
AT3: 2
D4: KRYCÍ LIST SOUPISU PRACÍ | M4: v --- níže se nacházejí doplnkové a pomocné údaje k sestavám --- v | AT4: False
D6: Stavba:
E7: ='Rekapitulace stavby'!K6 -> Haťový chodník
D8: Objekt:
E9: 191208-1 - Haťový chodník
D11: KSO: | I11: CC-CZ:
D12: Místo: | F12: Brniště | I12: Datum: | J12: ='Rekapitulace stavby'!AN8 -> Vyplň údaj
D14: Zadavatel: | I14: IČ: | J14: =IF('Rekapitulace stavby'!AN10="","",'Rekapitulace stavby'!AN10)
E15: =IF('Rekapitulace stavby'!E11="","",'Rekapitulace stavby'!E11) | I15: DIČ: | J15: =IF('Rekapitulace stavby'!AN11="","",'Rekapitulace stavby'!AN11)
D17: Uchazeč: | I17: IČ: | J17: ='Rekapitulace stavby'!AN13 -> Vyplň údaj
E18: ='Rekapitulace stavby'!E14 -> Vyplň údaj | I18: DIČ: | J18: ='Rekapitulace stavby'!AN14 -> Vyplň údaj
D20: Projektant: | I20: IČ:
E21: Ing. Kateřina Iwanejko | I21: DIČ:
D23: Zpracovatel: | I23: IČ: | J23: =IF('Rekapitulace stavby'!AN19="","",'Rekapitulace stavby'!AN19)
E24: =IF('Rekapitulace stavby'!E20="","",'Rekapitulace stavby'!E20) | I24: DIČ: | J24: =IF('Rekapitulace stavby'!AN20="","",'Rekapitulace stavby'!AN20)
D26: Poznámka:
D30: Cena bez DPH | J30: =ROUND(J127, 2) -> 0
F32: Základ daně | I32: Sazba daně | J32: Výše daně
D33: DPH | E33: základní | F33: =ROUND((SUM(BE127:BE208)), 2) -> 0 | I33: 0.21 | J33: =ROUND(((SUM(BE127:BE208))*I33), 2) -> 0
E34: snížená | F34: =ROUND((SUM(BF127:BF208)), 2) -> 0 | I34: 0.15 | J34: =ROUND(((SUM(BF127:BF208))*I34), 2) -> 0
E35: zákl. přenesená | F35: =ROUND((SUM(BG127:BG208)), 2) -> 0 | I35: 0.21 | J35: =0 -> 0
E36: sníž. přenesená | F36: =ROUND((SUM(BH127:BH208)), 2) -> 0 | I36: 0.15 | J36: =0 -> 0
E37: nulová | F37: =ROUND((SUM(BI127:BI208)), 2) -> 0 | I37: 0 | J37: =0 -> 0
D39: Cena s DPH | G39: v | H39: CZK | J39: =SUM(J30:J37) -> 0
D50: Projektant | G50: Zpracovatel
D61: Datum a podpis: | F61: Razítko | G61: Datum a podpis: | J61: Razítko
D65: Objednavatel | G65: Uchazeč
D76: Datum a podpis: | F76: Razítko | G76: Datum a podpis: | J76: Razítko
C82: REKAPITULACE ČLENĚNÍ SOUPISU PRACÍ
C84: Stavba:
E85: =E7 -> Haťový chodník
C86: Objekt:
E87: =E9 -> 191208-1 - Haťový chodník
C89: Místo: | F89: =F12 -> Brniště | I89: Datum: | J89: =IF(J12="","",J12) -> Vyplň údaj
C91: Zadavatel: | F91: =E15 | I91: Projektant: | J91: =E21 -> Ing. Kateřina Iwanejko
C92: Uchazeč: | F92: =IF(E18="","",E18) -> Vyplň údaj | I92: Zpracovatel: | J92: =E24
C94: Kód dílu - Popis | J94: Cena celkem [CZK]
C96: Náklady ze soupisu prací | J96: =J127 -> 0 | AU96: -1
D97: HSV - Práce a dodávky HSV | J97: =J128 -> 0
D98: 1 - Zemní práce | J98: =J129 -> 0
D99: 5 - Komunikace pozemní | J99: =J155 -> 0
D100: 9 - Ostatní konstrukce a práce-bourání | J100: =J173 -> 0
D101: 998 - Přesun hmot | J101: =J177 -> 0
D102: PSV - Práce a dodávky PSV | J102: =J180 -> 0
D103: 762 - Konstrukce tesařské | J103: =J181 -> 0
D104: VRN - Vedlejší rozpočtové náklady | J104: =J198 -> 0
D105: VRN3 - Zařízení staveniště | J105: =J199 -> 0
D106: VRN4 - Inženýrská činnost | J106: =J203 -> 0
D107: VRN7 - Provozní vlivy | J107: =J206 -> 0
C114: SOUPIS PRACÍ
C116: Stavba:
E117: =E7 -> Haťový chodník
C118: Objekt:
E119: =E9 -> 191208-1 - Haťový chodník
C121: Místo: | F121: =F12 -> Brniště | I121: Datum: | J121: =IF(J12="","",J12) -> Vyplň údaj
C123: Zadavatel: | F123: =E15 | I123: Projektant: | J123: =E21 -> Ing. Kateřina Iwanejko
C124: Uchazeč: | F124: =IF(E18="","",E18) -> Vyplň údaj | I124: Zpracovatel: | J124: =E24
C126: PČ | D126: Typ | E126: Kód | F126: Popis | G126: MJ | H126: Množství | I126: J.cena [CZK] | J126: Cena celkem [CZK] | K126: Cenová soustava | N126: DPH | O126: J. Nh [h] | P126: Nh celkem [h] | Q126: J. hmotnost [t] | R126: Hmotnost celkem [t] | S126: J. suť [t] | T126: Suť Celkem [t]
C127: Náklady soupisu celkem | J127: =BK127 -> 0 | P127: =P128+P180+P198 -> 0 | R127: =R128+R180+R198 -> 33.56745 | T127: =T128+T180+T198 -> 0 | AT127: D | AU127: -1 | BK127: =BK128+BK180+BK198 -> 0
D128: D | E128: HSV | F128: Práce a dodávky HSV | J128: =BK128 -> 0 | P128: =P129+P155+P173+P177 -> 0 | R128: =R129+R155+R173+R177 -> 31.23195 | T128: =T129+T155+T173+T177 -> 0 | AR128: 1 | AT128: D | AU128: 0 | AY128: ROZPOCET | BK128: =BK129+BK155+BK173+BK177 -> 0
D129: D | E129: 1 | F129: Zemní práce | J129: =BK129 -> 0 | P129: =SUM(P130:P154) -> 0 | R129: =SUM(R130:R154) -> 0 | T129: =SUM(T130:T154) -> 0 | AR129: 1 | AT129: D | AU129: 1 | AY129: ROZPOCET | BK129: =SUM(BK130:BK154) -> 0
C130: 1 | D130: K | E130: 122201101 | F130: Odkopávky a prokopávky nezapažené v hornině tř. 3 objem do 100 m3 | G130: m3 | H130: 28 | J130: =ROUND(I130*H130,2) -> 0 | K130: CS ÚRS 2019 02 | N130: základní | P130: =O130*H130 -> 0 | Q130: 0 | R130: =Q130*H130 -> 0 | S130: 0 | T130: =S130*H130 -> 0 | AR130: 4 | AT130: K | AU130: 2 | AY130: ROZPOCET | BE130: =IF(N130="základní",J130,0) -> 0 | BF130: =IF(N130="snížená",J130,0) -> 0 | BG130: =IF(N130="zákl. přenesená",J130,0) -> 0 | BH130: =IF(N130="sníž. přenesená",J130,0) -> 0 | BI130: =IF(N130="nulová",J130,0) -> 0 | BJ130: 1 | BK130: =ROUND(I130*H130,2) -> 0 | BL130: 4 | BM130: -135257682
D131: PP | F131: Odkopávky a prokopávky nezapažené s přehozením výkopku na vzdálenost do 3 m nebo s naložením na dopravní prostředek v hornině tř. 3 do 100 m3 | AT131: PP | AU131: 2
D132: VV | F132: hloubení pod kci chodníku | AT132: VV | AU132: 2 | AV132: 1 | AW132: True | AX132: 0 | AY132: ROZPOCET
D133: VV | F133: 0,35*50,0*1,6 | H133: 28 | AT133: VV | AU133: 2 | AV133: 2 | AW133: True | AX133: 1 | AY133: ROZPOCET
C134: 2 | D134: K | E134: 122201109 | F134: Příplatek za lepivost u odkopávek v hornině tř. 1 až 3 | G134: m3 | H134: 28 | J134: =ROUND(I134*H134,2) -> 0 | K134: CS ÚRS 2019 02 | N134: základní | P134: =O134*H134 -> 0 | Q134: 0 | R134: =Q134*H134 -> 0 | S134: 0 | T134: =S134*H134 -> 0 | AR134: 4 | AT134: K | AU134: 2 | AY134: ROZPOCET | BE134: =IF(N134="základní",J134,0) -> 0 | BF134: =IF(N134="snížená",J134,0) -> 0 | BG134: =IF(N134="zákl. přenesená",J134,0) -> 0 | BH134: =IF(N134="sníž. přenesená",J134,0) -> 0 | BI134: =IF(N134="nulová",J134,0) -> 0 | BJ134: 1 | BK134: =ROUND(I134*H134,2) -> 0 | BL134: 4 | BM134: -1008512011
D135: PP | F135: Odkopávky a prokopávky nezapažené s přehozením výkopku na vzdálenost do 3 m nebo s naložením na dopravní prostředek v hornině tř. 3 Příplatek k cenám za lepivost horniny tř. 3 | AT135: PP | AU135: 2
D136: VV | F136: uvaž. 100% | AT136: VV | AU136: 2 | AV136: 1 | AW136: True | AX136: 0 | AY136: ROZPOCET
D137: VV | F137: 28,0 | H137: 28 | AT137: VV | AU137: 2 | AV137: 2 | AW137: True | AX137: 1 | AY137: ROZPOCET
C138: 3 | D138: K | E138: 162701105.1 | F138: Vodorovné přemístění výkopku/sypaniny z horniny tř. 1 až 4 - na skládku dle dodavatele | G138: m3 | H138: 28 | J138: =ROUND(I138*H138,2) -> 0 | N138: základní | P138: =O138*H138 -> 0 | Q138: 0 | R138: =Q138*H138 -> 0 | S138: 0 | T138: =S138*H138 -> 0 | AR138: 4 | AT138: K | AU138: 2 | AY138: ROZPOCET | BE138: =IF(N138="základní",J138,0) -> 0 | BF138: =IF(N138="snížená",J138,0) -> 0 | BG138: =IF(N138="zákl. přenesená",J138,0) -> 0 | BH138: =IF(N138="sníž. přenesená",J138,0) -> 0 | BI138: =IF(N138="nulová",J138,0) -> 0 | BJ138: 1 | BK138: =ROUND(I138*H138,2) -> 0 | BL138: 4 | BM138: -1065938593
D139: PP | F139: Vodorovné přemístění výkopku/sypaniny z horniny tř. 1 až 4 - na skládku dle dodavatele | AT139: PP | AU139: 2
D140: VV | F140: hloubení pod kci cesty | AT140: VV | AU140: 2 | AV140: 1 | AW140: True | AX140: 0 | AY140: ROZPOCET
D141: VV | F141: 0,35*50,0*1,6 | H141: 28 | AT141: VV | AU141: 2 | AV141: 2 | AW141: True | AX141: 1 | AY141: ROZPOCET
C142: 4 | D142: K | E142: 167101101 | F142: Nakládání výkopku z hornin tř. 1 až 4 do 100 m3 | G142: m3 | H142: 28 | J142: =ROUND(I142*H142,2) -> 0 | K142: CS ÚRS 2019 02 | N142: základní | P142: =O142*H142 -> 0 | Q142: 0 | R142: =Q142*H142 -> 0 | S142: 0 | T142: =S142*H142 -> 0 | AR142: 4 | AT142: K | AU142: 2 | AY142: ROZPOCET | BE142: =IF(N142="základní",J142,0) -> 0 | BF142: =IF(N142="snížená",J142,0) -> 0 | BG142: =IF(N142="zákl. přenesená",J142,0) -> 0 | BH142: =IF(N142="sníž. přenesená",J142,0) -> 0 | BI142: =IF(N142="nulová",J142,0) -> 0 | BJ142: 1 | BK142: =ROUND(I142*H142,2) -> 0 | BL142: 4 | BM142: 1745176435
D143: PP | F143: Nakládání, skládání a překládání neulehlého výkopku nebo sypaniny nakládání, množství do 100 m3, z hornin tř. 1 až 4 | AT143: PP | AU143: 2
D144: VV | F144: hloubení pod kci chodníku | AT144: VV | AU144: 2 | AV144: 1 | AW144: True | AX144: 0 | AY144: ROZPOCET
D145: VV | F145: 0,35*50,0*1,6 | H145: 28 | AT145: VV | AU145: 2 | AV145: 2 | AW145: True | AX145: 1 | AY145: ROZPOCET
C146: 5 | D146: K | E146: 171201201 | F146: Uložení sypaniny na skládky | G146: m3 | H146: 28 | J146: =ROUND(I146*H146,2) -> 0 | K146: CS ÚRS 2019 02 | N146: základní | P146: =O146*H146 -> 0 | Q146: 0 | R146: =Q146*H146 -> 0 | S146: 0 | T146: =S146*H146 -> 0 | AR146: 4 | AT146: K | AU146: 2 | AY146: ROZPOCET | BE146: =IF(N146="základní",J146,0) -> 0 | BF146: =IF(N146="snížená",J146,0) -> 0 | BG146: =IF(N146="zákl. přenesená",J146,0) -> 0 | BH146: =IF(N146="sníž. přenesená",J146,0) -> 0 | BI146: =IF(N146="nulová",J146,0) -> 0 | BJ146: 1 | BK146: =ROUND(I146*H146,2) -> 0 | BL146: 4 | BM146: -1868213241
D147: PP | F147: Uložení sypaniny na skládky | AT147: PP | AU147: 2
C148: 6 | D148: K | E148: 171201211 | F148: Poplatek za uložení stavebního odpadu - zeminy a kameniva na skládce | G148: t | H148: 47.6 | J148: =ROUND(I148*H148,2) -> 0 | K148: CS ÚRS 2019 02 | N148: základní | P148: =O148*H148 -> 0 | Q148: 0 | R148: =Q148*H148 -> 0 | S148: 0 | T148: =S148*H148 -> 0 | AR148: 4 | AT148: K | AU148: 2 | AY148: ROZPOCET | BE148: =IF(N148="základní",J148,0) -> 0 | BF148: =IF(N148="snížená",J148,0) -> 0 | BG148: =IF(N148="zákl. přenesená",J148,0) -> 0 | BH148: =IF(N148="sníž. přenesená",J148,0) -> 0 | BI148: =IF(N148="nulová",J148,0) -> 0 | BJ148: 1 | BK148: =ROUND(I148*H148,2) -> 0 | BL148: 4 | BM148: 1567419511
D149: PP | F149: Poplatek za uložení stavebního odpadu na skládce (skládkovné) zeminy a kameniva zatříděného do Katalogu odpadů pod kódem 170 504 | AT149: PP | AU149: 2
D150: VV | F150: 28,0*1,7 | H150: 47.6 | AT150: VV | AU150: 2 | AV150: 2 | AW150: True | AX150: 1 | AY150: ROZPOCET
C151: 7 | D151: K | E151: 181951102 | F151: Úprava pláně v hornině tř. 1 až 4 se zhutněním | G151: m2 | H151: 80 | J151: =ROUND(I151*H151,2) -> 0 | N151: základní | P151: =O151*H151 -> 0 | Q151: 0 | R151: =Q151*H151 -> 0 | S151: 0 | T151: =S151*H151 -> 0 | AR151: 4 | AT151: K | AU151: 2 | AY151: ROZPOCET | BE151: =IF(N151="základní",J151,0) -> 0 | BF151: =IF(N151="snížená",J151,0) -> 0 | BG151: =IF(N151="zákl. přenesená",J151,0) -> 0 | BH151: =IF(N151="sníž. přenesená",J151,0) -> 0 | BI151: =IF(N151="nulová",J151,0) -> 0 | BJ151: 1 | BK151: =ROUND(I151*H151,2) -> 0 | BL151: 4 | BM151: -351860232
D152: PP | F152: Úprava pláně vyrovnáním výškových rozdílů v hornině tř. 1 až 4 se zhutněním | AT152: PP | AU152: 2
D153: VV | F153: úprava pláně se zhutněním - plocha komunikace | AT153: VV | AU153: 2 | AV153: 1 | AW153: True | AX153: 0 | AY153: ROZPOCET
D154: VV | F154: 50,0*1,6 | H154: 80 | AT154: VV | AU154: 2 | AV154: 2 | AW154: True | AX154: 1 | AY154: ROZPOCET
D155: D | E155: 5 | F155: Komunikace pozemní | J155: =BK155 -> 0 | P155: =SUM(P156:P172) -> 0 | R155: =SUM(R156:R172) -> 31.23195 | T155: =SUM(T156:T172) -> 0 | AR155: 1 | AT155: D | AU155: 1 | AY155: ROZPOCET | BK155: =SUM(BK156:BK172) -> 0
C156: 8 | D156: K | E156: 564760111 | F156: Podklad z kameniva hrubého drceného vel. 16-32 mm tl 200 mm | G156: m2 | H156: 80 | J156: =ROUND(I156*H156,2) -> 0 | K156: CS ÚRS 2019 02 | N156: základní | P156: =O156*H156 -> 0 | Q156: 0 | R156: =Q156*H156 -> 0 | S156: 0 | T156: =S156*H156 -> 0 | AR156: 4 | AT156: K | AU156: 2 | AY156: ROZPOCET | BE156: =IF(N156="základní",J156,0) -> 0 | BF156: =IF(N156="snížená",J156,0) -> 0 | BG156: =IF(N156="zákl. přenesená",J156,0) -> 0 | BH156: =IF(N156="sníž. přenesená",J156,0) -> 0 | BI156: =IF(N156="nulová",J156,0) -> 0 | BJ156: 1 | BK156: =ROUND(I156*H156,2) -> 0 | BL156: 4 | BM156: 365608655
D157: PP | F157: Podklad nebo kryt z kameniva hrubého drceného vel. 16-32 mm s rozprostřením a zhutněním, po zhutnění tl. 200 mm | AT157: PP | AU157: 2
D158: VV | F158: 1,6*50,0 | H158: 80 | AT158: VV | AU158: 2 | AV158: 2 | AW158: True | AX158: 1 | AY158: ROZPOCET
C159: 9 | D159: K | E159: 57190811R | F159: Kryt vymývaným dekoračním kamenivem (kačírkem) tl 50 mm - 16/32 | G159: m2 | H159: 72.44 | J159: =ROUND(I159*H159,2) -> 0 | N159: základní | P159: =O159*H159 -> 0 | Q159: 0.408 | R159: =Q159*H159 -> 29.55552 | S159: 0 | T159: =S159*H159 -> 0 | AR159: 4 | AT159: K | AU159: 2 | AY159: ROZPOCET | BE159: =IF(N159="základní",J159,0) -> 0 | BF159: =IF(N159="snížená",J159,0) -> 0 | BG159: =IF(N159="zákl. přenesená",J159,0) -> 0 | BH159: =IF(N159="sníž. přenesená",J159,0) -> 0 | BI159: =IF(N159="nulová",J159,0) -> 0 | BJ159: 1 | BK159: =ROUND(I159*H159,2) -> 0 | BL159: 4 | BM159: 773327317
D160: PP | F160: Kryt vymývaným dekoračním kamenivem (kačírkem) tl 50 mm | AT160: PP | AU160: 2
D161: VV | F161: plocha mezi dlaždicemi | AT161: VV | AU161: 2 | AV161: 1 | AW161: True | AX161: 0 | AY161: ROZPOCET
D162: VV | F162: 1,6*50,0 | H162: 80 | AT162: VV | AU162: 2 | AV162: 2 | AW162: True | AX162: 0 | AY162: ROZPOCET
D163: VV | F163: odpočet plochy betonových dlaždic | AT163: VV | AU163: 2 | AV163: 1 | AW163: True | AX163: 0 | AY163: ROZPOCET
D164: VV | F164: -42*2*(0,3*0,3) | H164: -7.56 | AT164: VV | AU164: 2 | AV164: 2 | AW164: True | AX164: 0 | AY164: ROZPOCET
D165: VV | F165: Součet | H165: 72.44 | AT165: VV | AU165: 2 | AV165: 4 | AW165: True | AX165: 1 | AY165: ROZPOCET
C166: 10 | D166: K | E166: 596811120 | F166: Kladení betonové dlažby komunikací pro pěší do lože z kameniva vel do 0,09 m2 plochy do 50 m2 | G166: m2 | H166: 7.56 | J166: =ROUND(I166*H166,2) -> 0 | K166: CS ÚRS 2019 02 | N166: základní | P166: =O166*H166 -> 0 | Q166: 0.101 | R166: =Q166*H166 -> 0.76356 | S166: 0 | T166: =S166*H166 -> 0 | AR166: 4 | AT166: K | AU166: 2 | AY166: ROZPOCET | BE166: =IF(N166="základní",J166,0) -> 0 | BF166: =IF(N166="snížená",J166,0) -> 0 | BG166: =IF(N166="zákl. přenesená",J166,0) -> 0 | BH166: =IF(N166="sníž. přenesená",J166,0) -> 0 | BI166: =IF(N166="nulová",J166,0) -> 0 | BJ166: 1 | BK166: =ROUND(I166*H166,2) -> 0 | BL166: 4 | BM166: 666281800
...
