Workbook

Sheet Rekapitulace stavby
A1: Export Komplet | BA1: 2.0 | BB1: ZAMOK | BT1: False | BU1: False | BV1: {31097676-6d18-41f9-9a57-57e43fb09582}
BS2: 0,01 | BT2: 21
BS3: 0,01 | BT3: 15
D4: REKAPITULACE STAVBY | AS4: v --- níže se nacházejí doplnkové a pomocné údaje k sestavám --- v | BE4: Návod na vyplnění | BS4: 0,001
D5: Kód: | K5: 190104 | BE5: Měnit lze pouze buňky se žlutým podbarvením!_x000D_ _x000D_ 1) na prvním listu Rekapitulace stavby vyplňte v sestavě_x000D_ _x000D_ a) Souhrnný list_x000D_ - údaje o Zhotoviteli_x000D_ (přenesou se do ostatních sestav i v jiných listech)_x000D_ _x000D_ b) Rekapitulace objektů_x000D_ - potřebné Ostatní náklady_x000D_ _x000D_ 2) na vybraných listech vyplňte v sestavě_x000D_ _x000D_ a) Krycí list_x000D_ - údaje o Zhotoviteli, pokud se liší od údajů o Zhotoviteli na Souhrnném listu_x000D_ (údaje se přenesou do ostatních sestav v daném listu)_x000D_ _x000D_ b) Rekapitulace rozpočtu_x000D_ - potřebné Ostatní náklady_x000D_ _x000D_ c) Celkové náklady za stavbu_x000D_ - ceny u položek_x000D_ - množství, pokud má žluté podbarvení_x000D_ - a v případě potřeby poznámku (ta je ve skrytém sloupci) | BS5: 0,01
D6: Stavba: | K6: Brniště - účelová komunikace k RD Hlemýždí | BS6: 0,01
D7: KSO: | AK7: CC-CZ: | BS7: 0,01
D8: Místo: | K8: Hlemýždí | AK8: Datum: | AN8: vyplň údaj | BS8: 0,01
BS9: 0,01
D10: Zadavatel: | AK10: IČ: | AN10: 002 60 401 | BS10: 0,01
E11: Obec Brniště | AK11: DIČ: | BS11: 0,01
BS12: 0,01
D13: Uchazeč: | AK13: IČ: | AN13: Vyplň údaj | BS13: 0,01
E14: Vyplň údaj | AK14: DIČ: | AN14: Vyplň údaj | BS14: 0,01
BS15: False
D16: Projektant: | AK16: IČ: | BS16: False
AK17: DIČ: | BS17: True
BS18: 0,01
D19: Zpracovatel: | AK19: IČ: | BS19: 0,01
AK20: DIČ: | BS20: True
D22: Poznámka:
D26: Cena bez DPH | AK26: =ROUND(AG54,2) -> 0
L28: Sazba daně | W28: Základ daně | AK28: Výše daně
D29: DPH | F29: základní | L29: 0.21 | W29: =ROUND(AZ54, 2) -> 0 | AK29: =ROUND(AV54, 2) -> 0
F30: snížená | L30: 0.15 | W30: =ROUND(BA54, 2) -> 0 | AK30: =ROUND(AW54, 2) -> 0
F31: zákl. přenesená | L31: 0.21 | W31: =ROUND(BB54, 2) -> 0 | AK31: 0
F32: sníž. přenesená | L32: 0.15 | W32: =ROUND(BC54, 2) -> 0 | AK32: 0
F33: nulová | L33: 0 | W33: =ROUND(BD54, 2) -> 0 | AK33: 0
D35: Cena s DPH | T35: v | X35: CZK | AK35: =SUM(AK26:AK33) -> 0
C42: REKAPITULACE OBJEKTŮ STAVBY A SOUPISŮ PRACÍ
C44: Kód: | L44: =K5 -> 190104
C45: Stavba: | L45: =K6 -> Brniště - účelová komunikace k RD Hlemýždí
C47: Místo: | L47: =IF(K8="","",K8) -> Hlemýždí | AI47: Datum: | AM47: =IF(AN8= "","",AN8) -> vyplň údaj
C49: Zadavatel: | L49: =IF(E11= "","",E11) -> Obec Brniště | AI49: Projektant: | AM49: =IF(E17="","",E17) | AS49: Informatívní údaje z listů zakázek
C50: Uchazeč: | L50: =IF(E14= "Vyplň údaj","",E14) | AI50: Zpracovatel: | AM50: =IF(E20="","",E20)
C52: Kód | I52: Popis | AG52: Cena bez DPH [CZK] | AN52: Cena s DPH [CZK] | AQ52: Typ | AS52: z toho Ostat._x000D_ náklady [CZK] | AT52: DPH [CZK] | AU52: Normohodiny [h] | AV52: DPH základní [CZK] | AW52: DPH snížená [CZK] | AX52: DPH základní přenesená_x000D_ [CZK] | AY52: DPH snížená přenesená_x000D_ [CZK] | AZ52: Základna_x000D_ DPH základní | BA52: Základna_x000D_ DPH snížená | BB52: Základna_x000D_ DPH zákl. přenesená | BC52: Základna_x000D_ DPH sníž. přenesená | BD52: Základna_x000D_ DPH nulová
C54: Náklady z rozpočtů | AG54: =ROUND(AG55+AG56+AG61,2) -> 0 | AN54: =SUM(AG54,AT54) -> 0 | AS54: =ROUND(AS55+AS56+AS61,2) -> 0 | AT54: =ROUND(SUM(AV54:AW54),2) -> 0 | AU54: =ROUND(AU55+AU56+AU61,5) -> 0 | AV54: =ROUND(AZ54*L29,2) -> 0 | AW54: =ROUND(BA54*L30,2) -> 0 | AX54: =ROUND(BB54*L29,2) -> 0 | AY54: =ROUND(BC54*L30,2) -> 0 | AZ54: =ROUND(AZ55+AZ56+AZ61,2) -> 0 | BA54: =ROUND(BA55+BA56+BA61,2) -> 0 | BB54: =ROUND(BB55+BB56+BB61,2) -> 0 | BC54: =ROUND(BC55+BC56+BC61,2) -> 0 | BD54: =ROUND(BD55+BD56+BD61,2) -> 0 | BS54: D | BT54: 0 | BU54: ###NOIMPORT### | BV54: IMPORT | BW54: {31097676-6d18-41f9-9a57-57e43fb09582} | BX54: {00000000-0000-0000-0000-000000000000}
A55: / | D55: SO 101 | J55: Místní komunikace | AG55: ='SO 101 - Místní komunikace '!J30 -> 0 | AN55: =SUM(AG55,AT55) -> 0 | AQ55: STA | AS55: 0 | AT55: =ROUND(SUM(AV55:AW55),2) -> 0 | AU55: ='SO 101 - Místní komunikace '!P86 -> 0 | AV55: ='SO 101 - Místní komunikace '!J33 -> 0 | AW55: ='SO 101 - Místní komunikace '!J34 -> 0 | AX55: ='SO 101 - Místní komunikace '!J35 -> 0 | AY55: ='SO 101 - Místní komunikace '!J36 -> 0 | AZ55: ='SO 101 - Místní komunikace '!F33 -> 0 | BA55: ='SO 101 - Místní komunikace '!F34 -> 0 | BB55: ='SO 101 - Místní komunikace '!F35 -> 0 | BC55: ='SO 101 - Místní komunikace '!F36 -> 0 | BD55: ='SO 101 - Místní komunikace '!F37 -> 0 | BT55: 1 | BV55: IMPORT | BW55: {0f22965b-59b5-435a-8410-48242c6a0f96} | BX55: {31097676-6d18-41f9-9a57-57e43fb09582} | CM55: 2
D56: SO 301 | J56: Vodovod | AG56: =ROUND(SUM(AG57:AG60),2) -> 0 | AN56: =SUM(AG56,AT56) -> 0 | AQ56: STA | AS56: =ROUND(SUM(AS57:AS60),2) -> 0 | AT56: =ROUND(SUM(AV56:AW56),2) -> 0 | AU56: =ROUND(SUM(AU57:AU60),5) -> 0 | AV56: =ROUND(AZ56*L29,2) -> 0 | AW56: =ROUND(BA56*L30,2) -> 0 | AX56: =ROUND(BB56*L29,2) -> 0 | AY56: =ROUND(BC56*L30,2) -> 0 | AZ56: =ROUND(SUM(AZ57:AZ60),2) -> 0 | BA56: =ROUND(SUM(BA57:BA60),2) -> 0 | BB56: =ROUND(SUM(BB57:BB60),2) -> 0 | BC56: =ROUND(SUM(BC57:BC60),2) -> 0 | BD56: =ROUND(SUM(BD57:BD60),2) -> 0 | BS56: D | BT56: 1 | BU56: ###NOIMPORT### | BV56: IMPORT | BW56: {5df0e369-7209-48d7-b493-0020fb1e0bf0} | BX56: {31097676-6d18-41f9-9a57-57e43fb09582} | CM56: 2
A57: / | E57: SO 301.1 | K57: Vodovodní řad | AG57: ='SO 301.1 - Vodovodní řad'!J32 -> 0 | AN57: =SUM(AG57,AT57) -> 0 | AQ57: Soupis | AS57: 0 | AT57: =ROUND(SUM(AV57:AW57),2) -> 0 | AU57: ='SO 301.1 - Vodovodní řad'!P90 -> 0 | AV57: ='SO 301.1 - Vodovodní řad'!J35 -> 0 | AW57: ='SO 301.1 - Vodovodní řad'!J36 -> 0 | AX57: ='SO 301.1 - Vodovodní řad'!J37 -> 0 | AY57: ='SO 301.1 - Vodovodní řad'!J38 -> 0 | AZ57: ='SO 301.1 - Vodovodní řad'!F35 -> 0 | BA57: ='SO 301.1 - Vodovodní řad'!F36 -> 0 | BB57: ='SO 301.1 - Vodovodní řad'!F37 -> 0 | BC57: ='SO 301.1 - Vodovodní řad'!F38 -> 0 | BD57: ='SO 301.1 - Vodovodní řad'!F39 -> 0 | BT57: 2 | BV57: IMPORT | BW57: {283159c8-5073-45ec-87ec-3a14e4c4c1a1} | BX57: {5df0e369-7209-48d7-b493-0020fb1e0bf0}
A58: / | E58: SO 301.2 | K58: Vodovodní přípojka | AG58: ='SO 301.2 - Vodovodní příp...'!J32 -> 0 | AN58: =SUM(AG58,AT58) -> 0 | AQ58: Soupis | AS58: 0 | AT58: =ROUND(SUM(AV58:AW58),2) -> 0 | AU58: ='SO 301.2 - Vodovodní příp...'!P90 -> 0 | AV58: ='SO 301.2 - Vodovodní příp...'!J35 -> 0 | AW58: ='SO 301.2 - Vodovodní příp...'!J36 -> 0 | AX58: ='SO 301.2 - Vodovodní příp...'!J37 -> 0 | AY58: ='SO 301.2 - Vodovodní příp...'!J38 -> 0 | AZ58: ='SO 301.2 - Vodovodní příp...'!F35 -> 0 | BA58: ='SO 301.2 - Vodovodní příp...'!F36 -> 0 | BB58: ='SO 301.2 - Vodovodní příp...'!F37 -> 0 | BC58: ='SO 301.2 - Vodovodní příp...'!F38 -> 0 | BD58: ='SO 301.2 - Vodovodní příp...'!F39 -> 0 | BT58: 2 | BV58: IMPORT | BW58: {4ee764f7-308f-47a6-9977-43cc48cd6e64} | BX58: {5df0e369-7209-48d7-b493-0020fb1e0bf0}
A59: / | E59: SO 301.3 | K59: Přeložka vodovodu | AG59: ='SO 301.3 - Přeložka vodovodu'!J32 -> 0 | AN59: =SUM(AG59,AT59) -> 0 | AQ59: Soupis | AS59: 0 | AT59: =ROUND(SUM(AV59:AW59),2) -> 0 | AU59: ='SO 301.3 - Přeložka vodovodu'!P90 -> 0 | AV59: ='SO 301.3 - Přeložka vodovodu'!J35 -> 0 | AW59: ='SO 301.3 - Přeložka vodovodu'!J36 -> 0 | AX59: ='SO 301.3 - Přeložka vodovodu'!J37 -> 0 | AY59: ='SO 301.3 - Přeložka vodovodu'!J38 -> 0 | AZ59: ='SO 301.3 - Přeložka vodovodu'!F35 -> 0 | BA59: ='SO 301.3 - Přeložka vodovodu'!F36 -> 0 | BB59: ='SO 301.3 - Přeložka vodovodu'!F37 -> 0 | BC59: ='SO 301.3 - Přeložka vodovodu'!F38 -> 0 | BD59: ='SO 301.3 - Přeložka vodovodu'!F39 -> 0 | BT59: 2 | BV59: IMPORT | BW59: {c6c4d063-5c5b-47b7-862d-baa3f636dbef} | BX59: {5df0e369-7209-48d7-b493-0020fb1e0bf0}
A60: / | E60: VON | K60: Vedlejší a ostatní náklady | AG60: ='VON - Vedlejší a ostatní ...'!J32 -> 0 | AN60: =SUM(AG60,AT60) -> 0 | AQ60: Soupis | AS60: 0 | AT60: =ROUND(SUM(AV60:AW60),2) -> 0 | AU60: ='VON - Vedlejší a ostatní ...'!P92 -> 0 | AV60: ='VON - Vedlejší a ostatní ...'!J35 -> 0 | AW60: ='VON - Vedlejší a ostatní ...'!J36 -> 0 | AX60: ='VON - Vedlejší a ostatní ...'!J37 -> 0 | AY60: ='VON - Vedlejší a ostatní ...'!J38 -> 0 | AZ60: ='VON - Vedlejší a ostatní ...'!F35 -> 0 | BA60: ='VON - Vedlejší a ostatní ...'!F36 -> 0 | BB60: ='VON - Vedlejší a ostatní ...'!F37 -> 0 | BC60: ='VON - Vedlejší a ostatní ...'!F38 -> 0 | BD60: ='VON - Vedlejší a ostatní ...'!F39 -> 0 | BT60: 2 | BV60: IMPORT | BW60: {6f7da7bb-8935-4ee7-bb26-a9fc186b66f1} | BX60: {5df0e369-7209-48d7-b493-0020fb1e0bf0}
A61: / | D61: SO 401 | J61: Veřejné osvětlení | AG61: ='SO 401 - Veřejné osvětlení'!J30 -> 0 | AN61: =SUM(AG61,AT61) -> 0 | AQ61: ING | AS61: 0 | AT61: =ROUND(SUM(AV61:AW61),2) -> 0 | AU61: ='SO 401 - Veřejné osvětlení'!P82 -> 0 | AV61: ='SO 401 - Veřejné osvětlení'!J33 -> 0 | AW61: ='SO 401 - Veřejné osvětlení'!J34 -> 0 | AX61: ='SO 401 - Veřejné osvětlení'!J35 -> 0 | AY61: ='SO 401 - Veřejné osvětlení'!J36 -> 0 | AZ61: ='SO 401 - Veřejné osvětlení'!F33 -> 0 | BA61: ='SO 401 - Veřejné osvětlení'!F34 -> 0 | BB61: ='SO 401 - Veřejné osvětlení'!F35 -> 0 | BC61: ='SO 401 - Veřejné osvětlení'!F36 -> 0 | BD61: ='SO 401 - Veřejné osvětlení'!F37 -> 0 | BT61: 1 | BV61: IMPORT | BW61: {ee2bc877-9eed-4423-b7b9-f5cdb0ea93cf} | BX61: {31097676-6d18-41f9-9a57-57e43fb09582} | CM61: 2

Sheet SO 101 - Místní komunikace 
AT2: {0f22965b-59b5-435a-8410-48242c6a0f96}
AT3: 2
D4: KRYCÍ LIST SOUPISU PRACÍ | M4: v --- níže se nacházejí doplnkové a pomocné údaje k sestavám --- v | AT4: False
D6: Stavba:
E7: ='Rekapitulace stavby'!K6 -> Brniště - účelová komunikace k RD Hlemýždí
D8: Objekt:
E9: SO 101 - Místní komunikace
D11: KSO: | I11: CC-CZ:
D12: Místo: | F12: Hlemýždí | I12: Datum: | J12: ='Rekapitulace stavby'!AN8 -> vyplň údaj
D14: Zadavatel: | I14: IČ: | J14: 002 60 401
E15: Obec Brniště | I15: DIČ:
D17: Uchazeč: | I17: IČ: | J17: ='Rekapitulace stavby'!AN13 -> Vyplň údaj
E18: ='Rekapitulace stavby'!E14 -> Vyplň údaj | I18: DIČ: | J18: ='Rekapitulace stavby'!AN14 -> Vyplň údaj
D20: Projektant: | I20: IČ: | J20: =IF('Rekapitulace stavby'!AN16="","",'Rekapitulace stavby'!AN16)
E21: =IF('Rekapitulace stavby'!E17="","",'Rekapitulace stavby'!E17) | I21: DIČ: | J21: =IF('Rekapitulace stavby'!AN17="","",'Rekapitulace stavby'!AN17)
D23: Zpracovatel: | I23: IČ: | J23: =IF('Rekapitulace stavby'!AN19="","",'Rekapitulace stavby'!AN19)
E24: =IF('Rekapitulace stavby'!E20="","",'Rekapitulace stavby'!E20) | I24: DIČ: | J24: =IF('Rekapitulace stavby'!AN20="","",'Rekapitulace stavby'!AN20)
D26: Poznámka:
D30: Cena bez DPH | J30: =ROUND(J86, 2) -> 0
F32: Základ daně | I32: Sazba daně | J32: Výše daně
D33: DPH | E33: základní | F33: =ROUND((SUM(BE86:BE244)), 2) -> 0 | I33: 0.21 | J33: =ROUND(((SUM(BE86:BE244))*I33), 2) -> 0
E34: snížená | F34: =ROUND((SUM(BF86:BF244)), 2) -> 0 | I34: 0.15 | J34: =ROUND(((SUM(BF86:BF244))*I34), 2) -> 0
E35: zákl. přenesená | F35: =ROUND((SUM(BG86:BG244)), 2) -> 0 | I35: 0.21 | J35: =0 -> 0
E36: sníž. přenesená | F36: =ROUND((SUM(BH86:BH244)), 2) -> 0 | I36: 0.15 | J36: =0 -> 0
E37: nulová | F37: =ROUND((SUM(BI86:BI244)), 2) -> 0 | I37: 0 | J37: =0 -> 0
D39: Cena s DPH | G39: v | H39: CZK | J39: =SUM(J30:J37) -> 0
C45: REKAPITULACE ČLENĚNÍ SOUPISU PRACÍ
C47: Stavba:
E48: =E7 -> Brniště - účelová komunikace k RD Hlemýždí
C49: Objekt:
E50: =E9 -> SO 101 - Místní komunikace
C52: Místo: | F52: =F12 -> Hlemýždí | I52: Datum: | J52: =IF(J12="","",J12) -> vyplň údaj
C54: Zadavatel: | F54: =E15 -> Obec Brniště | I54: Projektant: | J54: =E21
C55: Uchazeč: | F55: =IF(E18="","",E18) -> Vyplň údaj | I55: Zpracovatel: | J55: =E24
C57: Kód dílu - Popis | J57: Cena celkem [CZK]
C59: Náklady ze soupisu prací | J59: =J86 -> 0 | AU59: -1
D60: HSV - Práce a dodávky HSV | J60: =J87 -> 0
D61: 1 - Zemní práce | J61: =J88 -> 0
D62: 2 - Zakládání | J62: =J160 -> 0
D63: 5 - Komunikace pozemní | J63: =J174 -> 0
D64: 9 - Ostatní konstrukce a práce, bourání | J64: =J203 -> 0
D65: 998 - Přesun hmot | J65: =J224 -> 0
D66: VRN - Vedlejší rozpočtové náklady | J66: =J227 -> 0
C73: SOUPIS PRACÍ
C75: Stavba:
E76: =E7 -> Brniště - účelová komunikace k RD Hlemýždí
C77: Objekt:
E78: =E9 -> SO 101 - Místní komunikace
C80: Místo: | F80: =F12 -> Hlemýždí | I80: Datum: | J80: =IF(J12="","",J12) -> vyplň údaj
C82: Zadavatel: | F82: =E15 -> Obec Brniště | I82: Projektant: | J82: =E21
C83: Uchazeč: | F83: =IF(E18="","",E18) -> Vyplň údaj | I83: Zpracovatel: | J83: =E24
C85: PČ | D85: Typ | E85: Kód | F85: Popis | G85: MJ | H85: Množství | I85: J.cena [CZK] | J85: Cena celkem [CZK] | K85: Cenová soustava | N85: DPH | O85: J. Nh [h] | P85: Nh celkem [h] | Q85: J. hmotnost [t] | R85: Hmotnost celkem [t] | S85: J. suť [t] | T85: Suť Celkem [t]
C86: Náklady soupisu celkem | J86: =BK86 -> 0 | P86: =P87+P227 -> 0 | R86: =R87+R227 -> 678.35807 | T86: =T87+T227 -> 0 | AT86: D | AU86: -1 | BK86: =BK87+BK227 -> 0
D87: D | E87: HSV | F87: Práce a dodávky HSV | J87: =BK87 -> 0 | P87: =P88+P160+P174+P203+P224 -> 0 | R87: =R88+R160+R174+R203+R224 -> 678.35807 | T87: =T88+T160+T174+T203+T224 -> 0 | AR87: 1 | AT87: D | AU87: 0 | AY87: ROZPOCET | BK87: =BK88+BK160+BK174+BK203+BK224 -> 0
D88: D | E88: 1 | F88: Zemní práce | J88: =BK88 -> 0 | P88: =SUM(P89:P159) -> 0 | R88: =SUM(R89:R159) -> 646.90113 | T88: =SUM(T89:T159) -> 0 | AR88: 1 | AT88: D | AU88: 1 | AY88: ROZPOCET | BK88: =SUM(BK89:BK159) -> 0
C89: 1 | D89: K | E89: 119001201 | F89: Úprava zemin vápnem nebo směsnými hydraulickými pojivy | G89: m3 | H89: 482.738 | J89: =ROUND(I89*H89,2) -> 0 | K89: CS ÚRS 2018 02 | N89: základní | P89: =O89*H89 -> 0 | Q89: 0 | R89: =Q89*H89 -> 0 | S89: 0 | T89: =S89*H89 -> 0 | AR89: 4 | AT89: K | AU89: 2 | AY89: ROZPOCET | BE89: =IF(N89="základní",J89,0) -> 0 | BF89: =IF(N89="snížená",J89,0) -> 0 | BG89: =IF(N89="zákl. přenesená",J89,0) -> 0 | BH89: =IF(N89="sníž. přenesená",J89,0) -> 0 | BI89: =IF(N89="nulová",J89,0) -> 0 | BJ89: 1 | BK89: =ROUND(I89*H89,2) -> 0 | BL89: 4 | BM89: 1606561500
D90: PP | F90: Úprava zemin vápnem nebo směsnými hydraulickými pojivy za účelem zlepšení mechanických vlastností a zpracovatelnosti u hrubých terénních úprav, násypů a zásypů | AT90: PP | AU90: 2
C91: 2 | D91: M | E91: 58530170 | F91: vápno nehašené CL 90-Q pro úpravu zemin standardní | G91: t | H91: 25.344 | J91: =ROUND(I91*H91,2) -> 0 | K91: CS ÚRS 2018 02 | N91: základní | P91: =O91*H91 -> 0 | Q91: 1 | R91: =Q91*H91 -> 25.344 | S91: 0 | T91: =S91*H91 -> 0 | AR91: 8 | AT91: M | AU91: 2 | AY91: ROZPOCET | BE91: =IF(N91="základní",J91,0) -> 0 | BF91: =IF(N91="snížená",J91,0) -> 0 | BG91: =IF(N91="zákl. přenesená",J91,0) -> 0 | BH91: =IF(N91="sníž. přenesená",J91,0) -> 0 | BI91: =IF(N91="nulová",J91,0) -> 0 | BJ91: 1 | BK91: =ROUND(I91*H91,2) -> 0 | BL91: 4 | BM91: 423120757
D92: PP | F92: vápno nehašené CL 90-Q pro úpravu zemin standardní | AT92: PP | AU92: 2
D93: VV | F93: úprava zemin vápnem 3% | AT93: VV | AU93: 2 | AV93: 1 | AW93: True | AX93: 0 | AY93: ROZPOCET
D94: VV | F94: 482,75*52,5/1000 | H94: 25.344 | AT94: VV | AU94: 2 | AV94: 2 | AW94: True | AX94: 1 | AY94: ROZPOCET
C95: 3 | D95: K | E95: 121101103 | F95: Sejmutí ornice s přemístěním na vzdálenost do 250 m | G95: m3 | H95: 289.56 | J95: =ROUND(I95*H95,2) -> 0 | K95: CS ÚRS 2018 02 | N95: základní | P95: =O95*H95 -> 0 | Q95: 0 | R95: =Q95*H95 -> 0 | S95: 0 | T95: =S95*H95 -> 0 | AR95: 4 | AT95: K | AU95: 2 | AY95: ROZPOCET | BE95: =IF(N95="základní",J95,0) -> 0 | BF95: =IF(N95="snížená",J95,0) -> 0 | BG95: =IF(N95="zákl. přenesená",J95,0) -> 0 | BH95: =IF(N95="sníž. přenesená",J95,0) -> 0 | BI95: =IF(N95="nulová",J95,0) -> 0 | BJ95: 1 | BK95: =ROUND(I95*H95,2) -> 0 | BL95: 4 | BM95: 9333942
D96: PP | F96: Sejmutí ornice nebo lesní půdy s vodorovným přemístěním na hromady v místě upotřebení nebo na dočasné či trvalé skládky se složením, na vzdálenost přes 100 do 250 m | AT96: PP | AU96: 2
D97: VV | F97: 965,2*0,3 | H97: 289.56 | AT97: VV | AU97: 2 | AV97: 2 | AW97: True | AX97: 1 | AY97: ROZPOCET
C98: 4 | D98: K | E98: 122201101 | F98: Odkopávky a prokopávky nezapažené v hornině tř. 3 objem do 100 m3 | G98: m3 | H98: 61.392 | J98: =ROUND(I98*H98,2) -> 0 | K98: CS ÚRS 2018 02 | N98: základní | P98: =O98*H98 -> 0 | Q98: 0 | R98: =Q98*H98 -> 0 | S98: 0 | T98: =S98*H98 -> 0 | AR98: 4 | AT98: K | AU98: 2 | AY98: ROZPOCET | BE98: =IF(N98="základní",J98,0) -> 0 | BF98: =IF(N98="snížená",J98,0) -> 0 | BG98: =IF(N98="zákl. přenesená",J98,0) -> 0 | BH98: =IF(N98="sníž. přenesená",J98,0) -> 0 | BI98: =IF(N98="nulová",J98,0) -> 0 | BJ98: 1 | BK98: =ROUND(I98*H98,2) -> 0 | BL98: 4 | BM98: -1297251360
D99: PP | F99: Odkopávky a prokopávky nezapažené s přehozením výkopku na vzdálenost do 3 m nebo s naložením na dopravní prostředek v hornině tř. 3 do 100 m3 | AT99: PP | AU99: 2
D100: VV | F100: odebrání zeminy | AT100: VV | AU100: 2 | AV100: 1 | AW100: True | AX100: 0 | AY100: ROZPOCET
D101: VV | F101: 511,6*0,12 | H101: 61.392 | AT101: VV | AU101: 2 | AV101: 2 | AW101: True | AX101: 1 | AY101: ROZPOCET
C102: 5 | D102: K | E102: 122201109 | F102: Příplatek za lepivost u odkopávek v hornině tř. 1 až 3 | G102: m3 | H102: 61.392 | J102: =ROUND(I102*H102,2) -> 0 | K102: CS ÚRS 2018 02 | N102: základní | P102: =O102*H102 -> 0 | Q102: 0 | R102: =Q102*H102 -> 0 | S102: 0 | T102: =S102*H102 -> 0 | AR102: 4 | AT102: K | AU102: 2 | AY102: ROZPOCET | BE102: =IF(N102="základní",J102,0) -> 0 | BF102: =IF(N102="snížená",J102,0) -> 0 | BG102: =IF(N102="zákl. přenesená",J102,0) -> 0 | BH102: =IF(N102="sníž. přenesená",J102,0) -> 0 | BI102: =IF(N102="nulová",J102,0) -> 0 | BJ102: 1 | BK102: =ROUND(I102*H102,2) -> 0 | BL102: 4 | BM102: 902033068
D103: PP | F103: Odkopávky a prokopávky nezapažené s přehozením výkopku na vzdálenost do 3 m nebo s naložením na dopravní prostředek v hornině tř. 3 Příplatek k cenám za lepivost horniny tř. 3 | AT103: PP | AU103: 2
D104: VV | F104: uvaž. 100% | AT104: VV | AU104: 2 | AV104: 1 | AW104: True | AX104: 0 | AY104: ROZPOCET
D105: VV | F105: 61,392 | H105: 61.392 | AT105: VV | AU105: 2 | AV105: 2 | AW105: True | AX105: 1 | AY105: ROZPOCET
C106: 6 | D106: K | E106: 132201101 | F106: Hloubení rýh š do 600 mm v hornině tř. 3 objemu do 100 m3 | G106: m3 | H106: 28.56 | J106: =ROUND(I106*H106,2) -> 0 | K106: CS ÚRS 2018 02 | N106: základní | P106: =O106*H106 -> 0 | Q106: 0 | R106: =Q106*H106 -> 0 | S106: 0 | T106: =S106*H106 -> 0 | AR106: 4 | AT106: K | AU106: 2 | AY106: ROZPOCET | BE106: =IF(N106="základní",J106,0) -> 0 | BF106: =IF(N106="snížená",J106,0) -> 0 | BG106: =IF(N106="zákl. přenesená",J106,0) -> 0 | BH106: =IF(N106="sníž. přenesená",J106,0) -> 0 | BI106: =IF(N106="nulová",J106,0) -> 0 | BJ106: 1 | BK106: =ROUND(I106*H106,2) -> 0 | BL106: 4 | BM106: -1814831934
D107: PP | F107: Hloubení zapažených i nezapažených rýh šířky do 600 mm s urovnáním dna do předepsaného profilu a spádu v hornině tř. 3 do 100 m3 | AT107: PP | AU107: 2
D108: VV | F108: "retenční vsakovací rýha" | AT108: VV | AU108: 2 | AV108: 1 | AW108: True | AX108: 0 | AY108: ROZPOCET
D109: VV | F109: (61,4+10,0)*0,5*0,8 | H109: 28.56 | AT109: VV | AU109: 2 | AV109: 2 | AW109: True | AX109: 0 | AY109: ROZPOCET
D110: VV | F110: Součet | H110: 28.56 | AT110: VV | AU110: 2 | AV110: 4 | AW110: True | AX110: 1 | AY110: ROZPOCET
C111: 7 | D111: K | E111: 132201109 | F111: Příplatek za lepivost k hloubení rýh š do 600 mm v hornině tř. 3 | G111: m3 | H111: 28.56 | J111: =ROUND(I111*H111,2) -> 0 | K111: CS ÚRS 2018 02 | N111: základní | P111: =O111*H111 -> 0 | Q111: 0 | R111: =Q111*H111 -> 0 | S111: 0 | T111: =S111*H111 -> 0 | AR111: 4 | AT111: K | AU111: 2 | AY111: ROZPOCET | BE111: =IF(N111="základní",J111,0) -> 0 | BF111: =IF(N111="snížená",J111,0) -> 0 | BG111: =IF(N111="zákl. přenesená",J111,0) -> 0 | BH111: =IF(N111="sníž. přenesená",J111,0) -> 0 | BI111: =IF(N111="nulová",J111,0) -> 0 | BJ111: 1 | BK111: =ROUND(I111*H111,2) -> 0 | BL111: 4 | BM111: -639511795
D112: PP | F112: Hloubení zapažených i nezapažených rýh šířky do 600 mm s urovnáním dna do předepsaného profilu a spádu v hornině tř. 3 Příplatek k cenám za lepivost horniny tř. 3 | AT112: PP | AU112: 2
D113: VV | F113: uvaž. 100% | AT113: VV | AU113: 2 | AV113: 1 | AW113: True | AX113: 0 | AY113: ROZPOCET
D114: VV | F114: 28,56 | H114: 28.56 | AT114: VV | AU114: 2 | AV114: 2 | AW114: True | AX114: 1 | AY114: ROZPOCET
C115: 8 | D115: K | E115: 162701105.1 | F115: Vodorovné přemístění výkopku/sypaniny z horniny tř. 1 až 4 - na skládku dle dodavatele | G115: m3 | H115: 89.952 | J115: =ROUND(I115*H115,2) -> 0 | N115: základní | P115: =O115*H115 -> 0 | Q115: 0 | R115: =Q115*H115 -> 0 | S115: 0 | T115: =S115*H115 -> 0 | AR115: 4 | AT115: K | AU115: 2 | AY115: ROZPOCET | BE115: =IF(N115="základní",J115,0) -> 0 | BF115: =IF(N115="snížená",J115,0) -> 0 | BG115: =IF(N115="zákl. přenesená",J115,0) -> 0 | BH115: =IF(N115="sníž. přenesená",J115,0) -> 0 | BI115: =IF(N115="nulová",J115,0) -> 0 | BJ115: 1 | BK115: =ROUND(I115*H115,2) -> 0 | BL115: 4 | BM115: -256258261
D116: PP | F116: Vodorovné přemístění výkopku/sypaniny z horniny tř. 1 až 4 - na skládku dle dodavatele | AT116: PP | AU116: 2
D117: VV | F117: 61,392 "odkopávky | H117: 61.392 | AT117: VV | AU117: 2 | AV117: 2 | AW117: True | AX117: 0 | AY117: ROZPOCET
D118: VV | F118: 28,56" drenáž | H118: 28.56 | AT118: VV | AU118: 2 | AV118: 2 | AW118: True | AX118: 0 | AY118: ROZPOCET
D119: VV | F119: Součet | H119: 89.952 | AT119: VV | AU119: 2 | AV119: 4 | AW119: True | AX119: 1 | AY119: ROZPOCET
C120: 9 | D120: K | E120: 167101101 | F120: Nakládání výkopku z hornin tř. 1 až 4 do 100 m3 | G120: m3 | H120: 89.952 | J120: =ROUND(I120*H120,2) -> 0 | K120: CS ÚRS 2018 02 | N120: základní | P120: =O120*H120 -> 0 | Q120: 0 | R120: =Q120*H120 -> 0 | S120: 0 | T120: =S120*H120 -> 0 | AR120: 4 | AT120: K | AU120: 2 | AY120: ROZPOCET | BE120: =IF(N120="základní",J120,0) -> 0 | BF120: =IF(N120="snížená",J120,0) -> 0 | BG120: =IF(N120="zákl. přenesená",J120,0) -> 0 | BH120: =IF(N120="sníž. přenesená",J120,0) -> 0 | BI120: =IF(N120="nulová",J120,0) -> 0 | BJ120: 1 | BK120: =ROUND(I120*H120,2) -> 0 | BL120: 4 | BM120: -1057462393
D121: PP | F121: Nakládání, skládání a překládání neulehlého výkopku nebo sypaniny nakládání, množství do 100 m3, z hornin tř. 1 až 4 | AT121: PP | AU121: 2
D122: VV | F122: 61,392 "odkopávky | H122: 61.392 | AT122: VV | AU122: 2 | AV122: 2 | AW122: True | AX122: 0 | AY122: ROZPOCET
D123: VV | F123: 28,56" drenáž | H123: 28.56 | AT123: VV | AU123: 2 | AV123: 2 | AW123: True | AX123: 0 | AY123: ROZPOCET
D124: VV | F124: Součet | H124: 89.952 | AT124: VV | AU124: 2 | AV124: 4 | AW124: True | AX124: 1 | AY124: ROZPOCET
C125: 10 | D125: K | E125: 171101103 | F125: Uložení sypaniny z hornin soudržných do násypů zhutněných do 100 % PS | G125: m3 | H125: 215.81 | J125: =ROUND(I125*H125,2) -> 0 | K125: CS ÚRS 2018 02 | N125: základní | P125: =O125*H125 -> 0 | Q125: 0 | R125: =Q125*H125 -> 0 | S125: 0 | T125: =S125*H125 -> 0 | AR125: 4 | AT125: K | AU125: 2 | AY125: ROZPOCET | BE125: =IF(N125="základní",J125,0) -> 0 | BF125: =IF(N125="snížená",J125,0) -> 0 | BG125: =IF(N125="zákl. přenesená",J125,0) -> 0 | BH125: =IF(N125="sníž. přenesená",J125,0) -> 0 | BI125: =IF(N125="nulová",J125,0) -> 0 | BJ125: 1 | BK125: =ROUND(I125*H125,2) -> 0 | BL125: 4 | BM125: 1209904466
D126: PP | F126: Uložení sypaniny do násypů s rozprostřením sypaniny ve vrstvách a s hrubým urovnáním zhutněných s uzavřením povrchu násypu z hornin soudržných s předepsanou mírou zhutnění v procentech výsledků zkoušek Proctor-Standard (dále jen PS) přes 96 do 100 % PS | AT126: PP | AU126: 2
D127: VV | F127: zemina vhodná do násypů | AT127: VV | AU127: 2 | AV127: 1 | AW127: True | AX127: 0 | AY127: ROZPOCET
D128: VV | F128: 5,0*10,0 | H128: 50 | AT128: VV | AU128: 2 | AV128: 2 | AW128: True | AX128: 0 | AY128: ROZPOCET
D129: VV | F129: 1,7*10,0 | H129: 17 | AT129: VV | AU129: 2 | AV129: 2 | AW129: True | AX129: 0 | AY129: ROZPOCET
D130: VV | F130: 1,3*10,0 | H130: 13 | AT130: VV | AU130: 2 | AV130: 2 | AW130: True | AX130: 0 | AY130: ROZPOCET
D131: VV | F131: 452,7*0,3 | H131: 135.81 | AT131: VV | AU131: 2 | AV131: 2 | AW131: True | AX131: 0 | AY131: ROZPOCET
D132: VV | F132: Součet | H132: 215.81 | AT132: VV | AU132: 2 | AV132: 4 | AW132: True | AX132: 1 | AY132: ROZPOCET
C133: 11 | D133: M | E133: 10364100 | F133: zemina pro terénní úpravy - tříděná - vhodná do násypů | G133: t | H133: 621.533 | J133: =ROUND(I133*H133,2) -> 0 | K133: CS ÚRS 2018 02 | N133: základní | P133: =O133*H133 -> 0 | Q133: 1 | R133: =Q133*H133 -> 621.533 | S133: 0 | T133: =S133*H133 -> 0 | AR133: 8 | AT133: M | AU133: 2 | AY133: ROZPOCET | BE133: =IF(N133="základní",J133,0) -> 0 | BF133: =IF(N133="snížená",J133,0) -> 0 | BG133: =IF(N133="zákl. přenesená",J133,0) -> 0 | BH133: =IF(N133="sníž. přenesená",J133,0) -> 0 | BI133: =IF(N133="nulová",J133,0) -> 0 | BJ133: 1 | BK133: =ROUND(I133*H133,2) -> 0 | BL133: 4 | BM133: -900777782
...

Sheet SO 301.1 - Vodovodní řad
AT2: {283159c8-5073-45ec-87ec-3a14e4c4c1a1}
AT3: 2
D4: KRYCÍ LIST SOUPISU PRACÍ | M4: v --- níže se nacházejí doplnkové a pomocné údaje k sestavám --- v | AT4: False
D6: Stavba:
E7: ='Rekapitulace stavby'!K6 -> Brniště - účelová komunikace k RD Hlemýždí
D8: Objekt:
E9: SO 301 - Vodovod
D10: Soupis:
E11: SO 301.1 - Vodovodní řad
D13: KSO: | I13: CC-CZ:
D14: Místo: | I14: Datum: | J14: ='Rekapitulace stavby'!AN8 -> vyplň údaj
D16: Zadavatel: | I16: IČ: | J16: =IF('Rekapitulace stavby'!AN10="","",'Rekapitulace stavby'!AN10) -> 002 60 401
E17: =IF('Rekapitulace stavby'!E11="","",'Rekapitulace stavby'!E11) -> Obec Brniště | I17: DIČ: | J17: =IF('Rekapitulace stavby'!AN11="","",'Rekapitulace stavby'!AN11)
D19: Uchazeč: | I19: IČ: | J19: ='Rekapitulace stavby'!AN13 -> Vyplň údaj
E20: ='Rekapitulace stavby'!E14 -> Vyplň údaj | I20: DIČ: | J20: ='Rekapitulace stavby'!AN14 -> Vyplň údaj
D22: Projektant: | I22: IČ: | J22: =IF('Rekapitulace stavby'!AN16="","",'Rekapitulace stavby'!AN16)
E23: =IF('Rekapitulace stavby'!E17="","",'Rekapitulace stavby'!E17) | I23: DIČ: | J23: =IF('Rekapitulace stavby'!AN17="","",'Rekapitulace stavby'!AN17)
D25: Zpracovatel: | I25: IČ: | J25: =IF('Rekapitulace stavby'!AN19="","",'Rekapitulace stavby'!AN19)
E26: =IF('Rekapitulace stavby'!E20="","",'Rekapitulace stavby'!E20) | I26: DIČ: | J26: =IF('Rekapitulace stavby'!AN20="","",'Rekapitulace stavby'!AN20)
D28: Poznámka:
D32: Cena bez DPH | J32: =ROUND(J90, 2) -> 0
F34: Základ daně | I34: Sazba daně | J34: Výše daně
D35: DPH | E35: základní | F35: =ROUND((SUM(BE90:BE288)), 2) -> 0 | I35: 0.21 | J35: =ROUND(((SUM(BE90:BE288))*I35), 2) -> 0
E36: snížená | F36: =ROUND((SUM(BF90:BF288)), 2) -> 0 | I36: 0.15 | J36: =ROUND(((SUM(BF90:BF288))*I36), 2) -> 0
E37: zákl. přenesená | F37: =ROUND((SUM(BG90:BG288)), 2) -> 0 | I37: 0.21 | J37: =0 -> 0
E38: sníž. přenesená | F38: =ROUND((SUM(BH90:BH288)), 2) -> 0 | I38: 0.15 | J38: =0 -> 0
E39: nulová | F39: =ROUND((SUM(BI90:BI288)), 2) -> 0 | I39: 0 | J39: =0 -> 0
D41: Cena s DPH | G41: v | H41: CZK | J41: =SUM(J32:J39) -> 0
C47: REKAPITULACE ČLENĚNÍ SOUPISU PRACÍ
C49: Stavba:
E50: =E7 -> Brniště - účelová komunikace k RD Hlemýždí
C51: Objekt:
E52: SO 301 - Vodovod
C53: Soupis:
E54: =E11 -> SO 301.1 - Vodovodní řad
C56: Místo: | F56: =F14 | I56: Datum: | J56: =IF(J14="","",J14) -> vyplň údaj
C58: Zadavatel: | F58: =E17 -> Obec Brniště | I58: Projektant: | J58: =E23
C59: Uchazeč: | F59: =IF(E20="","",E20) -> Vyplň údaj | I59: Zpracovatel: | J59: =E26
C61: Kód dílu - Popis | J61: Cena celkem [CZK]
C63: Náklady ze soupisu prací | J63: =J90 -> 0 | AU63: -1
D64: HSV - Práce a dodávky HSV | J64: =J91 -> 0
D65: 1 - Zemní práce | J65: =J92 -> 0
D66: 4 - Vodorovné konstrukce | J66: =J180 -> 0
D67: 8 - Trubní vedení | J67: =J193 -> 0
D68: 99 - Přesun hmot | J68: =J286 -> 0
C75: SOUPIS PRACÍ
C77: Stavba:
E78: =E7 -> Brniště - účelová komunikace k RD Hlemýždí
C79: Objekt:
E80: SO 301 - Vodovod
C81: Soupis:
E82: =E11 -> SO 301.1 - Vodovodní řad
C84: Místo: | F84: =F14 | I84: Datum: | J84: =IF(J14="","",J14) -> vyplň údaj
C86: Zadavatel: | F86: =E17 -> Obec Brniště | I86: Projektant: | J86: =E23
C87: Uchazeč: | F87: =IF(E20="","",E20) -> Vyplň údaj | I87: Zpracovatel: | J87: =E26
C89: PČ | D89: Typ | E89: Kód | F89: Popis | G89: MJ | H89: Množství | I89: J.cena [CZK] | J89: Cena celkem [CZK] | K89: Cenová soustava | N89: DPH | O89: J. Nh [h] | P89: Nh celkem [h] | Q89: J. hmotnost [t] | R89: Hmotnost celkem [t] | S89: J. suť [t] | T89: Suť Celkem [t]
C90: Náklady soupisu celkem | J90: =BK90 -> 0 | P90: =P91 -> 0 | R90: =R91 -> 0 | T90: =T91 -> 0 | AT90: D | AU90: -1 | BK90: =BK91 -> 0
D91: D | E91: HSV | F91: Práce a dodávky HSV | J91: =BK91 -> 0 | P91: =P92+P180+P193+P286 -> 0 | R91: =R92+R180+R193+R286 -> 0 | T91: =T92+T180+T193+T286 -> 0 | AR91: 1 | AT91: D | AU91: 0 | AY91: ROZPOCET | BK91: =BK92+BK180+BK193+BK286 -> 0
D92: D | E92: 1 | F92: Zemní práce | J92: =BK92 -> 0 | P92: =SUM(P93:P179) -> 0 | R92: =SUM(R93:R179) -> 0 | T92: =SUM(T93:T179) -> 0 | AR92: 1 | AT92: D | AU92: 1 | AY92: ROZPOCET | BK92: =SUM(BK93:BK179) -> 0
C93: 1 | D93: K | E93: 115101201 | F93: Čerpání vody na dopravní výšku do 10 m průměrný přítok do 500 l/min | G93: hod | H93: 120 | J93: =ROUND(I93*H93,2) -> 0 | K93: CS ÚRS 2018 01 | N93: základní | P93: =O93*H93 -> 0 | Q93: 0 | R93: =Q93*H93 -> 0 | S93: 0 | T93: =S93*H93 -> 0 | AR93: 4 | AT93: K | AU93: 2 | AY93: ROZPOCET | BE93: =IF(N93="základní",J93,0) -> 0 | BF93: =IF(N93="snížená",J93,0) -> 0 | BG93: =IF(N93="zákl. přenesená",J93,0) -> 0 | BH93: =IF(N93="sníž. přenesená",J93,0) -> 0 | BI93: =IF(N93="nulová",J93,0) -> 0 | BJ93: 1 | BK93: =ROUND(I93*H93,2) -> 0 | BL93: 4 | BM93: 2
D94: PP | F94: Čerpání vody na dopravní výšku do 10 m s uvažovaným průměrným přítokem do 500 l/min | AT94: PP | AU94: 2
D95: VV | F95: (bude upřesněno dle skutečnosti s měřením motohodin) | AT95: VV | AU95: 2 | AV95: 1 | AW95: True | AX95: 0 | AY95: ROZPOCET
D96: VV | F96: 20*6 | H96: 120 | AT96: VV | AU96: 2 | AV96: 2 | AW96: True | AX96: 0 | AY96: ROZPOCET
D97: VV | F97: Součet | H97: 120 | AT97: VV | AU97: 2 | AV97: 4 | AW97: True | AX97: 1 | AY97: ROZPOCET
C98: 2 | D98: K | E98: 115101301 | F98: Pohotovost čerpací soupravy pro dopravní výšku do 10 m přítok do 500 l/min | G98: den | H98: 20 | J98: =ROUND(I98*H98,2) -> 0 | K98: CS ÚRS 2018 01 | N98: základní | P98: =O98*H98 -> 0 | Q98: 0 | R98: =Q98*H98 -> 0 | S98: 0 | T98: =S98*H98 -> 0 | AR98: 4 | AT98: K | AU98: 2 | AY98: ROZPOCET | BE98: =IF(N98="základní",J98,0) -> 0 | BF98: =IF(N98="snížená",J98,0) -> 0 | BG98: =IF(N98="zákl. přenesená",J98,0) -> 0 | BH98: =IF(N98="sníž. přenesená",J98,0) -> 0 | BI98: =IF(N98="nulová",J98,0) -> 0 | BJ98: 1 | BK98: =ROUND(I98*H98,2) -> 0 | BL98: 4 | BM98: 4
D99: PP | F99: Pohotovost záložní čerpací soupravy pro dopravní výšku do 10 m s uvažovaným průměrným přítokem do 500 l/min | AT99: PP | AU99: 2
D100: VV | F100: (bude upřesněno dle skutečnosti s měřením motohodin) | AT100: VV | AU100: 2 | AV100: 1 | AW100: True | AX100: 0 | AY100: ROZPOCET
D101: VV | F101: 20 | H101: 20 | AT101: VV | AU101: 2 | AV101: 2 | AW101: True | AX101: 0 | AY101: ROZPOCET
D102: VV | F102: Součet | H102: 20 | AT102: VV | AU102: 2 | AV102: 4 | AW102: True | AX102: 1 | AY102: ROZPOCET
C103: 3 | D103: K | E103: 132201202 | F103: Hloubení rýh š do 2000 mm v hornině tř. 3 objemu do 1000 m3 | G103: m3 | H103: 161.6 | J103: =ROUND(I103*H103,2) -> 0 | K103: CS ÚRS 2018 01 | N103: základní | P103: =O103*H103 -> 0 | Q103: 0 | R103: =Q103*H103 -> 0 | S103: 0 | T103: =S103*H103 -> 0 | AR103: 4 | AT103: K | AU103: 2 | AY103: ROZPOCET | BE103: =IF(N103="základní",J103,0) -> 0 | BF103: =IF(N103="snížená",J103,0) -> 0 | BG103: =IF(N103="zákl. přenesená",J103,0) -> 0 | BH103: =IF(N103="sníž. přenesená",J103,0) -> 0 | BI103: =IF(N103="nulová",J103,0) -> 0 | BJ103: 1 | BK103: =ROUND(I103*H103,2) -> 0 | BL103: 4 | BM103: 6
D104: PP | F104: Hloubení zapažených i nezapažených rýh šířky přes 600 do 2 000 mm s urovnáním dna do předepsaného profilu a spádu v hornině tř. 3 přes 100 do 1 000 m3 | AT104: PP | AU104: 2
D105: VV | F105: hor.3 - 80% | AT105: VV | AU105: 2 | AV105: 1 | AW105: True | AX105: 0 | AY105: ROZPOCET
D106: VV | F106: 160,00*1,00*1,20 | H106: 192 | AT106: VV | AU106: 2 | AV106: 2 | AW106: True | AX106: 0 | AY106: ROZPOCET
D107: VV | F107: "drenáž" 160,00*0,25*0,25 | H107: 10 | AT107: VV | AU107: 2 | AV107: 2 | AW107: True | AX107: 0 | AY107: ROZPOCET
D108: VV | F108: Mezisoučet | H108: 202 | AT108: VV | AU108: 2 | AV108: 3 | AW108: True | AX108: 0 | AY108: ROZPOCET
D109: VV | F109: "odp.ostatních hornin" -202*0,20 | H109: -40.4 | AT109: VV | AU109: 2 | AV109: 2 | AW109: True | AX109: 0 | AY109: ROZPOCET
D110: VV | F110: Součet | H110: 161.6 | AT110: VV | AU110: 2 | AV110: 4 | AW110: True | AX110: 1 | AY110: ROZPOCET
C111: 4 | D111: K | E111: 132201209 | F111: Příplatek za lepivost k hloubení rýh š do 2000 mm v hornině tř. 3 | G111: m3 | H111: 161.6 | J111: =ROUND(I111*H111,2) -> 0 | K111: CS ÚRS 2018 01 | N111: základní | P111: =O111*H111 -> 0 | Q111: 0 | R111: =Q111*H111 -> 0 | S111: 0 | T111: =S111*H111 -> 0 | AR111: 4 | AT111: K | AU111: 2 | AY111: ROZPOCET | BE111: =IF(N111="základní",J111,0) -> 0 | BF111: =IF(N111="snížená",J111,0) -> 0 | BG111: =IF(N111="zákl. přenesená",J111,0) -> 0 | BH111: =IF(N111="sníž. přenesená",J111,0) -> 0 | BI111: =IF(N111="nulová",J111,0) -> 0 | BJ111: 1 | BK111: =ROUND(I111*H111,2) -> 0 | BL111: 4 | BM111: 8
D112: PP | F112: Hloubení zapažených i nezapažených rýh šířky přes 600 do 2 000 mm s urovnáním dna do předepsaného profilu a spádu v hornině tř. 3 Příplatek k cenám za lepivost horniny tř. 3 | AT112: PP | AU112: 2
D113: VV | F113: 161,6 | H113: 161.6 | AT113: VV | AU113: 2 | AV113: 2 | AW113: True | AX113: 0 | AY113: ROZPOCET
D114: VV | F114: Součet | H114: 161.6 | AT114: VV | AU114: 2 | AV114: 4 | AW114: True | AX114: 1 | AY114: ROZPOCET
C115: 5 | D115: K | E115: 132301202 | F115: Hloubení rýh š do 2000 mm v hornině tř. 4 objemu do 1000 m3 | G115: m3 | H115: 40.4 | J115: =ROUND(I115*H115,2) -> 0 | K115: CS ÚRS 2018 01 | N115: základní | P115: =O115*H115 -> 0 | Q115: 0 | R115: =Q115*H115 -> 0 | S115: 0 | T115: =S115*H115 -> 0 | AR115: 4 | AT115: K | AU115: 2 | AY115: ROZPOCET | BE115: =IF(N115="základní",J115,0) -> 0 | BF115: =IF(N115="snížená",J115,0) -> 0 | BG115: =IF(N115="zákl. přenesená",J115,0) -> 0 | BH115: =IF(N115="sníž. přenesená",J115,0) -> 0 | BI115: =IF(N115="nulová",J115,0) -> 0 | BJ115: 1 | BK115: =ROUND(I115*H115,2) -> 0 | BL115: 4 | BM115: 10
D116: PP | F116: Hloubení zapažených i nezapažených rýh šířky přes 600 do 2 000 mm s urovnáním dna do předepsaného profilu a spádu v hornině tř. 4 přes 100 do 1 000 m3 | AT116: PP | AU116: 2
D117: VV | F117: hor.4 - 20% | AT117: VV | AU117: 2 | AV117: 1 | AW117: True | AX117: 0 | AY117: ROZPOCET
D118: VV | F118: 202*0,20 | H118: 40.4 | AT118: VV | AU118: 2 | AV118: 2 | AW118: True | AX118: 0 | AY118: ROZPOCET
D119: VV | F119: Součet | H119: 40.4 | AT119: VV | AU119: 2 | AV119: 4 | AW119: True | AX119: 1 | AY119: ROZPOCET
C120: 6 | D120: K | E120: 132301209 | F120: Příplatek za lepivost k hloubení rýh š do 2000 mm v hornině tř. 4 | G120: m3 | H120: 40.4 | J120: =ROUND(I120*H120,2) -> 0 | K120: CS ÚRS 2018 01 | N120: základní | P120: =O120*H120 -> 0 | Q120: 0 | R120: =Q120*H120 -> 0 | S120: 0 | T120: =S120*H120 -> 0 | AR120: 4 | AT120: K | AU120: 2 | AY120: ROZPOCET | BE120: =IF(N120="základní",J120,0) -> 0 | BF120: =IF(N120="snížená",J120,0) -> 0 | BG120: =IF(N120="zákl. přenesená",J120,0) -> 0 | BH120: =IF(N120="sníž. přenesená",J120,0) -> 0 | BI120: =IF(N120="nulová",J120,0) -> 0 | BJ120: 1 | BK120: =ROUND(I120*H120,2) -> 0 | BL120: 4 | BM120: 12
D121: PP | F121: Hloubení zapažených i nezapažených rýh šířky přes 600 do 2 000 mm s urovnáním dna do předepsaného profilu a spádu v hornině tř. 4 Příplatek k cenám za lepivost horniny tř. 4 | AT121: PP | AU121: 2
D122: VV | F122: 40,4 | H122: 40.4 | AT122: VV | AU122: 2 | AV122: 2 | AW122: True | AX122: 0 | AY122: ROZPOCET
D123: VV | F123: Součet | H123: 40.4 | AT123: VV | AU123: 2 | AV123: 4 | AW123: True | AX123: 1 | AY123: ROZPOCET
C124: 7 | D124: K | E124: 151101101 | F124: Zřízení příložného pažení a rozepření stěn rýh hl do 2 m | G124: m2 | H124: 384 | J124: =ROUND(I124*H124,2) -> 0 | K124: CS ÚRS 2018 01 | N124: základní | P124: =O124*H124 -> 0 | Q124: 0 | R124: =Q124*H124 -> 0 | S124: 0 | T124: =S124*H124 -> 0 | AR124: 4 | AT124: K | AU124: 2 | AY124: ROZPOCET | BE124: =IF(N124="základní",J124,0) -> 0 | BF124: =IF(N124="snížená",J124,0) -> 0 | BG124: =IF(N124="zákl. přenesená",J124,0) -> 0 | BH124: =IF(N124="sníž. přenesená",J124,0) -> 0 | BI124: =IF(N124="nulová",J124,0) -> 0 | BJ124: 1 | BK124: =ROUND(I124*H124,2) -> 0 | BL124: 4 | BM124: 14
D125: PP | F125: Zřízení pažení a rozepření stěn rýh pro podzemní vedení pro všechny šířky rýhy příložné pro jakoukoliv mezerovitost, hloubky do 2 m | AT125: PP | AU125: 2
D126: VV | F126: 160,00*2*1,20 | H126: 384 | AT126: VV | AU126: 2 | AV126: 2 | AW126: True | AX126: 0 | AY126: ROZPOCET
D127: VV | F127: Součet | H127: 384 | AT127: VV | AU127: 2 | AV127: 4 | AW127: True | AX127: 1 | AY127: ROZPOCET
C128: 8 | D128: K | E128: 151101111 | F128: Odstranění příložného pažení a rozepření stěn rýh hl do 2 m | G128: m2 | H128: 384 | J128: =ROUND(I128*H128,2) -> 0 | K128: CS ÚRS 2018 01 | N128: základní | P128: =O128*H128 -> 0 | Q128: 0 | R128: =Q128*H128 -> 0 | S128: 0 | T128: =S128*H128 -> 0 | AR128: 4 | AT128: K | AU128: 2 | AY128: ROZPOCET | BE128: =IF(N128="základní",J128,0) -> 0 | BF128: =IF(N128="snížená",J128,0) -> 0 | BG128: =IF(N128="zákl. přenesená",J128,0) -> 0 | BH128: =IF(N128="sníž. přenesená",J128,0) -> 0 | BI128: =IF(N128="nulová",J128,0) -> 0 | BJ128: 1 | BK128: =ROUND(I128*H128,2) -> 0 | BL128: 4 | BM128: 16
D129: PP | F129: Odstranění pažení a rozepření stěn rýh pro podzemní vedení s uložením materiálu na vzdálenost do 3 m od kraje výkopu příložné, hloubky do 2 m | AT129: PP | AU129: 2
C130: 9 | D130: K | E130: 161101101 | F130: Svislé přemístění výkopku z horniny tř. 1 až 4 hl výkopu do 2,5 m | G130: m3 | H130: 202 | J130: =ROUND(I130*H130,2) -> 0 | K130: CS ÚRS 2018 01 | N130: základní | P130: =O130*H130 -> 0 | Q130: 0 | R130: =Q130*H130 -> 0 | S130: 0 | T130: =S130*H130 -> 0 | AR130: 4 | AT130: K | AU130: 2 | AY130: ROZPOCET | BE130: =IF(N130="základní",J130,0) -> 0 | BF130: =IF(N130="snížená",J130,0) -> 0 | BG130: =IF(N130="zákl. přenesená",J130,0) -> 0 | BH130: =IF(N130="sníž. přenesená",J130,0) -> 0 | BI130: =IF(N130="nulová",J130,0) -> 0 | BJ130: 1 | BK130: =ROUND(I130*H130,2) -> 0 | BL130: 4 | BM130: 18
D131: PP | F131: Svislé přemístění výkopku bez naložení do dopravní nádoby avšak s vyprázdněním dopravní nádoby na hromadu nebo do dopravního prostředku z horniny tř. 1 až 4, při hloubce výkopu přes 1 do 2,5 m | AT131: PP | AU131: 2
D132: VV | F132: 161,6+40,4 | H132: 202 | AT132: VV | AU132: 2 | AV132: 2 | AW132: True | AX132: 0 | AY132: ROZPOCET
D133: VV | F133: Součet | H133: 202 | AT133: VV | AU133: 2 | AV133: 4 | AW133: True | AX133: 1 | AY133: ROZPOCET
...

Sheet SO 301.2 - Vodovodní příp...
AT2: {4ee764f7-308f-47a6-9977-43cc48cd6e64}
AT3: 2
D4: KRYCÍ LIST SOUPISU PRACÍ | M4: v --- níže se nacházejí doplnkové a pomocné údaje k sestavám --- v | AT4: False
D6: Stavba:
E7: ='Rekapitulace stavby'!K6 -> Brniště - účelová komunikace k RD Hlemýždí
D8: Objekt:
E9: SO 301 - Vodovod
D10: Soupis:
E11: SO 301.2 - Vodovodní přípojka
D13: KSO: | I13: CC-CZ:
D14: Místo: | I14: Datum: | J14: ='Rekapitulace stavby'!AN8 -> vyplň údaj
D16: Zadavatel: | I16: IČ: | J16: =IF('Rekapitulace stavby'!AN10="","",'Rekapitulace stavby'!AN10) -> 002 60 401
E17: =IF('Rekapitulace stavby'!E11="","",'Rekapitulace stavby'!E11) -> Obec Brniště | I17: DIČ: | J17: =IF('Rekapitulace stavby'!AN11="","",'Rekapitulace stavby'!AN11)
D19: Uchazeč: | I19: IČ: | J19: ='Rekapitulace stavby'!AN13 -> Vyplň údaj
E20: ='Rekapitulace stavby'!E14 -> Vyplň údaj | I20: DIČ: | J20: ='Rekapitulace stavby'!AN14 -> Vyplň údaj
D22: Projektant: | I22: IČ: | J22: =IF('Rekapitulace stavby'!AN16="","",'Rekapitulace stavby'!AN16)
E23: =IF('Rekapitulace stavby'!E17="","",'Rekapitulace stavby'!E17) | I23: DIČ: | J23: =IF('Rekapitulace stavby'!AN17="","",'Rekapitulace stavby'!AN17)
D25: Zpracovatel: | I25: IČ: | J25: =IF('Rekapitulace stavby'!AN19="","",'Rekapitulace stavby'!AN19)
E26: =IF('Rekapitulace stavby'!E20="","",'Rekapitulace stavby'!E20) | I26: DIČ: | J26: =IF('Rekapitulace stavby'!AN20="","",'Rekapitulace stavby'!AN20)
D28: Poznámka:
D32: Cena bez DPH | J32: =ROUND(J90, 2) -> 0
F34: Základ daně | I34: Sazba daně | J34: Výše daně
D35: DPH | E35: základní | F35: =ROUND((SUM(BE90:BE309)), 2) -> 0 | I35: 0.21 | J35: =ROUND(((SUM(BE90:BE309))*I35), 2) -> 0
E36: snížená | F36: =ROUND((SUM(BF90:BF309)), 2) -> 0 | I36: 0.15 | J36: =ROUND(((SUM(BF90:BF309))*I36), 2) -> 0
E37: zákl. přenesená | F37: =ROUND((SUM(BG90:BG309)), 2) -> 0 | I37: 0.21 | J37: =0 -> 0
E38: sníž. přenesená | F38: =ROUND((SUM(BH90:BH309)), 2) -> 0 | I38: 0.15 | J38: =0 -> 0
E39: nulová | F39: =ROUND((SUM(BI90:BI309)), 2) -> 0 | I39: 0 | J39: =0 -> 0
D41: Cena s DPH | G41: v | H41: CZK | J41: =SUM(J32:J39) -> 0
C47: REKAPITULACE ČLENĚNÍ SOUPISU PRACÍ
C49: Stavba:
E50: =E7 -> Brniště - účelová komunikace k RD Hlemýždí
C51: Objekt:
E52: SO 301 - Vodovod
C53: Soupis:
E54: =E11 -> SO 301.2 - Vodovodní přípojka
C56: Místo: | F56: =F14 | I56: Datum: | J56: =IF(J14="","",J14) -> vyplň údaj
C58: Zadavatel: | F58: =E17 -> Obec Brniště | I58: Projektant: | J58: =E23
C59: Uchazeč: | F59: =IF(E20="","",E20) -> Vyplň údaj | I59: Zpracovatel: | J59: =E26
C61: Kód dílu - Popis | J61: Cena celkem [CZK]
C63: Náklady ze soupisu prací | J63: =J90 -> 0 | AU63: -1
D64: HSV - Práce a dodávky HSV | J64: =J91 -> 0
D65: 1 - Zemní práce | J65: =J92 -> 0
D66: 4 - Vodorovné konstrukce | J66: =J200 -> 0
D67: 8 - Trubní vedení | J67: =J230 -> 0
D68: 99 - Přesun hmot | J68: =J307 -> 0
C75: SOUPIS PRACÍ
C77: Stavba:
E78: =E7 -> Brniště - účelová komunikace k RD Hlemýždí
C79: Objekt:
E80: SO 301 - Vodovod
C81: Soupis:
E82: =E11 -> SO 301.2 - Vodovodní přípojka
C84: Místo: | F84: =F14 | I84: Datum: | J84: =IF(J14="","",J14) -> vyplň údaj
C86: Zadavatel: | F86: =E17 -> Obec Brniště | I86: Projektant: | J86: =E23
C87: Uchazeč: | F87: =IF(E20="","",E20) -> Vyplň údaj | I87: Zpracovatel: | J87: =E26
C89: PČ | D89: Typ | E89: Kód | F89: Popis | G89: MJ | H89: Množství | I89: J.cena [CZK] | J89: Cena celkem [CZK] | K89: Cenová soustava | N89: DPH | O89: J. Nh [h] | P89: Nh celkem [h] | Q89: J. hmotnost [t] | R89: Hmotnost celkem [t] | S89: J. suť [t] | T89: Suť Celkem [t]
C90: Náklady soupisu celkem | J90: =BK90 -> 0 | P90: =P91 -> 0 | R90: =R91 -> 0 | T90: =T91 -> 0 | AT90: D | AU90: -1 | BK90: =BK91 -> 0
D91: D | E91: HSV | F91: Práce a dodávky HSV | J91: =BK91 -> 0 | P91: =P92+P200+P230+P307 -> 0 | R91: =R92+R200+R230+R307 -> 0 | T91: =T92+T200+T230+T307 -> 0 | AR91: 1 | AT91: D | AU91: 0 | AY91: ROZPOCET | BK91: =BK92+BK200+BK230+BK307 -> 0
D92: D | E92: 1 | F92: Zemní práce | J92: =BK92 -> 0 | P92: =SUM(P93:P199) -> 0 | R92: =SUM(R93:R199) -> 0 | T92: =SUM(T93:T199) -> 0 | AR92: 1 | AT92: D | AU92: 1 | AY92: ROZPOCET | BK92: =SUM(BK93:BK199) -> 0
C93: 1 | D93: K | E93: 115101201 | F93: Čerpání vody na dopravní výšku do 10 m průměrný přítok do 500 l/min | G93: hod | H93: 18 | J93: =ROUND(I93*H93,2) -> 0 | K93: CS ÚRS 2018 01 | N93: základní | P93: =O93*H93 -> 0 | Q93: 0 | R93: =Q93*H93 -> 0 | S93: 0 | T93: =S93*H93 -> 0 | AR93: 4 | AT93: K | AU93: 2 | AY93: ROZPOCET | BE93: =IF(N93="základní",J93,0) -> 0 | BF93: =IF(N93="snížená",J93,0) -> 0 | BG93: =IF(N93="zákl. přenesená",J93,0) -> 0 | BH93: =IF(N93="sníž. přenesená",J93,0) -> 0 | BI93: =IF(N93="nulová",J93,0) -> 0 | BJ93: 1 | BK93: =ROUND(I93*H93,2) -> 0 | BL93: 4 | BM93: 2
D94: PP | F94: Čerpání vody na dopravní výšku do 10 m s uvažovaným průměrným přítokem do 500 l/min | AT94: PP | AU94: 2
D95: VV | F95: (bude upřesněno dle skutečnosti s měřením motohodin) | AT95: VV | AU95: 2 | AV95: 1 | AW95: True | AX95: 0 | AY95: ROZPOCET
D96: VV | F96: 3*6 | H96: 18 | AT96: VV | AU96: 2 | AV96: 2 | AW96: True | AX96: 0 | AY96: ROZPOCET
D97: VV | F97: Součet | H97: 18 | AT97: VV | AU97: 2 | AV97: 4 | AW97: True | AX97: 1 | AY97: ROZPOCET
C98: 2 | D98: K | E98: 115101301 | F98: Pohotovost čerpací soupravy pro dopravní výšku do 10 m přítok do 500 l/min | G98: den | H98: 3 | J98: =ROUND(I98*H98,2) -> 0 | K98: CS ÚRS 2018 01 | N98: základní | P98: =O98*H98 -> 0 | Q98: 0 | R98: =Q98*H98 -> 0 | S98: 0 | T98: =S98*H98 -> 0 | AR98: 4 | AT98: K | AU98: 2 | AY98: ROZPOCET | BE98: =IF(N98="základní",J98,0) -> 0 | BF98: =IF(N98="snížená",J98,0) -> 0 | BG98: =IF(N98="zákl. přenesená",J98,0) -> 0 | BH98: =IF(N98="sníž. přenesená",J98,0) -> 0 | BI98: =IF(N98="nulová",J98,0) -> 0 | BJ98: 1 | BK98: =ROUND(I98*H98,2) -> 0 | BL98: 4 | BM98: 4
D99: PP | F99: Pohotovost záložní čerpací soupravy pro dopravní výšku do 10 m s uvažovaným průměrným přítokem do 500 l/min | AT99: PP | AU99: 2
D100: VV | F100: (bude upřesněno dle skutečnosti s měřením motohodin) | AT100: VV | AU100: 2 | AV100: 1 | AW100: True | AX100: 0 | AY100: ROZPOCET
D101: VV | F101: 3 | H101: 3 | AT101: VV | AU101: 2 | AV101: 2 | AW101: True | AX101: 0 | AY101: ROZPOCET
D102: VV | F102: Součet | H102: 3 | AT102: VV | AU102: 2 | AV102: 4 | AW102: True | AX102: 1 | AY102: ROZPOCET
C103: 3 | D103: K | E103: 121101101 | F103: Sejmutí ornice s přemístěním na vzdálenost do 50 m | G103: m3 | H103: 8.55 | J103: =ROUND(I103*H103,2) -> 0 | K103: CS ÚRS 2018 01 | N103: základní | P103: =O103*H103 -> 0 | Q103: 0 | R103: =Q103*H103 -> 0 | S103: 0 | T103: =S103*H103 -> 0 | AR103: 4 | AT103: K | AU103: 2 | AY103: ROZPOCET | BE103: =IF(N103="základní",J103,0) -> 0 | BF103: =IF(N103="snížená",J103,0) -> 0 | BG103: =IF(N103="zákl. přenesená",J103,0) -> 0 | BH103: =IF(N103="sníž. přenesená",J103,0) -> 0 | BI103: =IF(N103="nulová",J103,0) -> 0 | BJ103: 1 | BK103: =ROUND(I103*H103,2) -> 0 | BL103: 4 | BM103: 6
D104: PP | F104: Sejmutí ornice nebo lesní půdy s vodorovným přemístěním na hromady v místě upotřebení nebo na dočasné či trvalé skládky se složením, na vzdálenost do 50 m | AT104: PP | AU104: 2
D105: VV | F105: 18,00*1,00*0,15 | H105: 2.7 | AT105: VV | AU105: 2 | AV105: 2 | AW105: True | AX105: 0 | AY105: ROZPOCET
D106: VV | F106: "vodoměrné šachty" (6,50)*6*0,15 | H106: 5.85 | AT106: VV | AU106: 2 | AV106: 2 | AW106: True | AX106: 0 | AY106: ROZPOCET
D107: VV | F107: Součet | H107: 8.55 | AT107: VV | AU107: 2 | AV107: 4 | AW107: True | AX107: 1 | AY107: ROZPOCET
C108: 4 | D108: K | E108: 132201202 | F108: Hloubení rýh š do 2000 mm v hornině tř. 3 objemu do 1000 m3 | G108: m3 | H108: 71.752 | J108: =ROUND(I108*H108,2) -> 0 | K108: CS ÚRS 2018 01 | N108: základní | P108: =O108*H108 -> 0 | Q108: 0 | R108: =Q108*H108 -> 0 | S108: 0 | T108: =S108*H108 -> 0 | AR108: 4 | AT108: K | AU108: 2 | AY108: ROZPOCET | BE108: =IF(N108="základní",J108,0) -> 0 | BF108: =IF(N108="snížená",J108,0) -> 0 | BG108: =IF(N108="zákl. přenesená",J108,0) -> 0 | BH108: =IF(N108="sníž. přenesená",J108,0) -> 0 | BI108: =IF(N108="nulová",J108,0) -> 0 | BJ108: 1 | BK108: =ROUND(I108*H108,2) -> 0 | BL108: 4 | BM108: 8
D109: PP | F109: Hloubení zapažených i nezapažených rýh šířky přes 600 do 2 000 mm s urovnáním dna do předepsaného profilu a spádu v hornině tř. 3 přes 100 do 1 000 m3 | AT109: PP | AU109: 2
D110: VV | F110: hor.3 - 80% | AT110: VV | AU110: 2 | AV110: 1 | AW110: True | AX110: 0 | AY110: ROZPOCET
D111: VV | F111: 26,00*1,00*1,60 | H111: 41.6 | AT111: VV | AU111: 2 | AV111: 2 | AW111: True | AX111: 0 | AY111: ROZPOCET
D112: VV | F112: "budoucí komunikace" -8,00*1,00*0,42 | H112: -3.36 | AT112: VV | AU112: 2 | AV112: 2 | AW112: True | AX112: 0 | AY112: ROZPOCET
D113: VV | F113: "ornice" -18,00*1,00*0,15 | H113: -2.7 | AT113: VV | AU113: 2 | AV113: 2 | AW113: True | AX113: 0 | AY113: ROZPOCET
D114: VV | F114: "vodoměrné šachty" (10,00)*6 | H114: 60 | AT114: VV | AU114: 2 | AV114: 2 | AW114: True | AX114: 0 | AY114: ROZPOCET
D115: VV | F115: "ornice" -(6,50)*6*0,15 | H115: -5.85 | AT115: VV | AU115: 2 | AV115: 2 | AW115: True | AX115: 0 | AY115: ROZPOCET
D116: VV | F116: Mezisoučet | H116: 89.69 | AT116: VV | AU116: 2 | AV116: 3 | AW116: True | AX116: 0 | AY116: ROZPOCET
D117: VV | F117: "odp.ostatních hornin" -89,69*0,20 | H117: -17.938 | AT117: VV | AU117: 2 | AV117: 2 | AW117: True | AX117: 0 | AY117: ROZPOCET
D118: VV | F118: Součet | H118: 71.752 | AT118: VV | AU118: 2 | AV118: 4 | AW118: True | AX118: 1 | AY118: ROZPOCET
C119: 5 | D119: K | E119: 132201209 | F119: Příplatek za lepivost k hloubení rýh š do 2000 mm v hornině tř. 3 | G119: m3 | H119: 71.752 | J119: =ROUND(I119*H119,2) -> 0 | K119: CS ÚRS 2018 01 | N119: základní | P119: =O119*H119 -> 0 | Q119: 0 | R119: =Q119*H119 -> 0 | S119: 0 | T119: =S119*H119 -> 0 | AR119: 4 | AT119: K | AU119: 2 | AY119: ROZPOCET | BE119: =IF(N119="základní",J119,0) -> 0 | BF119: =IF(N119="snížená",J119,0) -> 0 | BG119: =IF(N119="zákl. přenesená",J119,0) -> 0 | BH119: =IF(N119="sníž. přenesená",J119,0) -> 0 | BI119: =IF(N119="nulová",J119,0) -> 0 | BJ119: 1 | BK119: =ROUND(I119*H119,2) -> 0 | BL119: 4 | BM119: 10
D120: PP | F120: Hloubení zapažených i nezapažených rýh šířky přes 600 do 2 000 mm s urovnáním dna do předepsaného profilu a spádu v hornině tř. 3 Příplatek k cenám za lepivost horniny tř. 3 | AT120: PP | AU120: 2
D121: VV | F121: 71,752 | H121: 71.752 | AT121: VV | AU121: 2 | AV121: 2 | AW121: True | AX121: 0 | AY121: ROZPOCET
D122: VV | F122: Součet | H122: 71.752 | AT122: VV | AU122: 2 | AV122: 4 | AW122: True | AX122: 1 | AY122: ROZPOCET
C123: 6 | D123: K | E123: 132301202 | F123: Hloubení rýh š do 2000 mm v hornině tř. 4 objemu do 1000 m3 | G123: m3 | H123: 17.938 | J123: =ROUND(I123*H123,2) -> 0 | K123: CS ÚRS 2018 01 | N123: základní | P123: =O123*H123 -> 0 | Q123: 0 | R123: =Q123*H123 -> 0 | S123: 0 | T123: =S123*H123 -> 0 | AR123: 4 | AT123: K | AU123: 2 | AY123: ROZPOCET | BE123: =IF(N123="základní",J123,0) -> 0 | BF123: =IF(N123="snížená",J123,0) -> 0 | BG123: =IF(N123="zákl. přenesená",J123,0) -> 0 | BH123: =IF(N123="sníž. přenesená",J123,0) -> 0 | BI123: =IF(N123="nulová",J123,0) -> 0 | BJ123: 1 | BK123: =ROUND(I123*H123,2) -> 0 | BL123: 4 | BM123: 12
D124: PP | F124: Hloubení zapažených i nezapažených rýh šířky přes 600 do 2 000 mm s urovnáním dna do předepsaného profilu a spádu v hornině tř. 4 přes 100 do 1 000 m3 | AT124: PP | AU124: 2
D125: VV | F125: hor.4 - 20% | AT125: VV | AU125: 2 | AV125: 1 | AW125: True | AX125: 0 | AY125: ROZPOCET
D126: VV | F126: 89,69*0,20 | H126: 17.938 | AT126: VV | AU126: 2 | AV126: 2 | AW126: True | AX126: 0 | AY126: ROZPOCET
D127: VV | F127: Součet | H127: 17.938 | AT127: VV | AU127: 2 | AV127: 4 | AW127: True | AX127: 1 | AY127: ROZPOCET
C128: 7 | D128: K | E128: 132301209 | F128: Příplatek za lepivost k hloubení rýh š do 2000 mm v hornině tř. 4 | G128: m3 | H128: 17.938 | J128: =ROUND(I128*H128,2) -> 0 | K128: CS ÚRS 2018 01 | N128: základní | P128: =O128*H128 -> 0 | Q128: 0 | R128: =Q128*H128 -> 0 | S128: 0 | T128: =S128*H128 -> 0 | AR128: 4 | AT128: K | AU128: 2 | AY128: ROZPOCET | BE128: =IF(N128="základní",J128,0) -> 0 | BF128: =IF(N128="snížená",J128,0) -> 0 | BG128: =IF(N128="zákl. přenesená",J128,0) -> 0 | BH128: =IF(N128="sníž. přenesená",J128,0) -> 0 | BI128: =IF(N128="nulová",J128,0) -> 0 | BJ128: 1 | BK128: =ROUND(I128*H128,2) -> 0 | BL128: 4 | BM128: 14
D129: PP | F129: Hloubení zapažených i nezapažených rýh šířky přes 600 do 2 000 mm s urovnáním dna do předepsaného profilu a spádu v hornině tř. 4 Příplatek k cenám za lepivost horniny tř. 4 | AT129: PP | AU129: 2
D130: VV | F130: 17,938 | H130: 17.938 | AT130: VV | AU130: 2 | AV130: 2 | AW130: True | AX130: 0 | AY130: ROZPOCET
D131: VV | F131: Součet | H131: 17.938 | AT131: VV | AU131: 2 | AV131: 4 | AW131: True | AX131: 1 | AY131: ROZPOCET
C132: 8 | D132: K | E132: 151101101 | F132: Zřízení příložného pažení a rozepření stěn rýh hl do 2 m | G132: m2 | H132: 137.2 | J132: =ROUND(I132*H132,2) -> 0 | K132: CS ÚRS 2018 01 | N132: základní | P132: =O132*H132 -> 0 | Q132: 0 | R132: =Q132*H132 -> 0 | S132: 0 | T132: =S132*H132 -> 0 | AR132: 4 | AT132: K | AU132: 2 | AY132: ROZPOCET | BE132: =IF(N132="základní",J132,0) -> 0 | BF132: =IF(N132="snížená",J132,0) -> 0 | BG132: =IF(N132="zákl. přenesená",J132,0) -> 0 | BH132: =IF(N132="sníž. přenesená",J132,0) -> 0 | BI132: =IF(N132="nulová",J132,0) -> 0 | BJ132: 1 | BK132: =ROUND(I132*H132,2) -> 0 | BL132: 4 | BM132: 16
D133: PP | F133: Zřízení pažení a rozepření stěn rýh pro podzemní vedení pro všechny šířky rýhy příložné pro jakoukoliv mezerovitost, hloubky do 2 m | AT133: PP | AU133: 2
...

Sheet SO 301.3 - Přeložka vodovodu
AT2: {c6c4d063-5c5b-47b7-862d-baa3f636dbef}
AT3: 2
D4: KRYCÍ LIST SOUPISU PRACÍ | M4: v --- níže se nacházejí doplnkové a pomocné údaje k sestavám --- v | AT4: False
D6: Stavba:
E7: ='Rekapitulace stavby'!K6 -> Brniště - účelová komunikace k RD Hlemýždí
D8: Objekt:
E9: SO 301 - Vodovod
D10: Soupis:
E11: SO 301.3 - Přeložka vodovodu
D13: KSO: | I13: CC-CZ:
D14: Místo: | I14: Datum: | J14: ='Rekapitulace stavby'!AN8 -> vyplň údaj
D16: Zadavatel: | I16: IČ: | J16: =IF('Rekapitulace stavby'!AN10="","",'Rekapitulace stavby'!AN10) -> 002 60 401
E17: =IF('Rekapitulace stavby'!E11="","",'Rekapitulace stavby'!E11) -> Obec Brniště | I17: DIČ: | J17: =IF('Rekapitulace stavby'!AN11="","",'Rekapitulace stavby'!AN11)
D19: Uchazeč: | I19: IČ: | J19: ='Rekapitulace stavby'!AN13 -> Vyplň údaj
E20: ='Rekapitulace stavby'!E14 -> Vyplň údaj | I20: DIČ: | J20: ='Rekapitulace stavby'!AN14 -> Vyplň údaj
D22: Projektant: | I22: IČ: | J22: =IF('Rekapitulace stavby'!AN16="","",'Rekapitulace stavby'!AN16)
E23: =IF('Rekapitulace stavby'!E17="","",'Rekapitulace stavby'!E17) | I23: DIČ: | J23: =IF('Rekapitulace stavby'!AN17="","",'Rekapitulace stavby'!AN17)
D25: Zpracovatel: | I25: IČ: | J25: =IF('Rekapitulace stavby'!AN19="","",'Rekapitulace stavby'!AN19)
E26: =IF('Rekapitulace stavby'!E20="","",'Rekapitulace stavby'!E20) | I26: DIČ: | J26: =IF('Rekapitulace stavby'!AN20="","",'Rekapitulace stavby'!AN20)
D28: Poznámka:
D32: Cena bez DPH | J32: =ROUND(J90, 2) -> 0
F34: Základ daně | I34: Sazba daně | J34: Výše daně
D35: DPH | E35: základní | F35: =ROUND((SUM(BE90:BE340)), 2) -> 0 | I35: 0.21 | J35: =ROUND(((SUM(BE90:BE340))*I35), 2) -> 0
E36: snížená | F36: =ROUND((SUM(BF90:BF340)), 2) -> 0 | I36: 0.15 | J36: =ROUND(((SUM(BF90:BF340))*I36), 2) -> 0
E37: zákl. přenesená | F37: =ROUND((SUM(BG90:BG340)), 2) -> 0 | I37: 0.21 | J37: =0 -> 0
E38: sníž. přenesená | F38: =ROUND((SUM(BH90:BH340)), 2) -> 0 | I38: 0.15 | J38: =0 -> 0
E39: nulová | F39: =ROUND((SUM(BI90:BI340)), 2) -> 0 | I39: 0 | J39: =0 -> 0
D41: Cena s DPH | G41: v | H41: CZK | J41: =SUM(J32:J39) -> 0
C47: REKAPITULACE ČLENĚNÍ SOUPISU PRACÍ
C49: Stavba:
E50: =E7 -> Brniště - účelová komunikace k RD Hlemýždí
C51: Objekt:
E52: SO 301 - Vodovod
C53: Soupis:
E54: =E11 -> SO 301.3 - Přeložka vodovodu
C56: Místo: | F56: =F14 | I56: Datum: | J56: =IF(J14="","",J14) -> vyplň údaj
C58: Zadavatel: | F58: =E17 -> Obec Brniště | I58: Projektant: | J58: =E23
C59: Uchazeč: | F59: =IF(E20="","",E20) -> Vyplň údaj | I59: Zpracovatel: | J59: =E26
C61: Kód dílu - Popis | J61: Cena celkem [CZK]
C63: Náklady ze soupisu prací | J63: =J90 -> 0 | AU63: -1
D64: HSV - Práce a dodávky HSV | J64: =J91 -> 0
D65: 1 - Zemní práce | J65: =J92 -> 0
D66: 4 - Vodorovné konstrukce | J66: =J189 -> 0
D67: 8 - Trubní vedení | J67: =J202 -> 0
D68: 99 - Přesun hmot | J68: =J338 -> 0
C75: SOUPIS PRACÍ
C77: Stavba:
E78: =E7 -> Brniště - účelová komunikace k RD Hlemýždí
C79: Objekt:
E80: SO 301 - Vodovod
C81: Soupis:
E82: =E11 -> SO 301.3 - Přeložka vodovodu
C84: Místo: | F84: =F14 | I84: Datum: | J84: =IF(J14="","",J14) -> vyplň údaj
C86: Zadavatel: | F86: =E17 -> Obec Brniště | I86: Projektant: | J86: =E23
C87: Uchazeč: | F87: =IF(E20="","",E20) -> Vyplň údaj | I87: Zpracovatel: | J87: =E26
C89: PČ | D89: Typ | E89: Kód | F89: Popis | G89: MJ | H89: Množství | I89: J.cena [CZK] | J89: Cena celkem [CZK] | K89: Cenová soustava | N89: DPH | O89: J. Nh [h] | P89: Nh celkem [h] | Q89: J. hmotnost [t] | R89: Hmotnost celkem [t] | S89: J. suť [t] | T89: Suť Celkem [t]
C90: Náklady soupisu celkem | J90: =BK90 -> 0 | P90: =P91 -> 0 | R90: =R91 -> 0 | T90: =T91 -> 0 | AT90: D | AU90: -1 | BK90: =BK91 -> 0
D91: D | E91: HSV | F91: Práce a dodávky HSV | J91: =BK91 -> 0 | P91: =P92+P189+P202+P338 -> 0 | R91: =R92+R189+R202+R338 -> 0 | T91: =T92+T189+T202+T338 -> 0 | AR91: 1 | AT91: D | AU91: 0 | AY91: ROZPOCET | BK91: =BK92+BK189+BK202+BK338 -> 0
D92: D | E92: 1 | F92: Zemní práce | J92: =BK92 -> 0 | P92: =SUM(P93:P188) -> 0 | R92: =SUM(R93:R188) -> 0 | T92: =SUM(T93:T188) -> 0 | AR92: 1 | AT92: D | AU92: 1 | AY92: ROZPOCET | BK92: =SUM(BK93:BK188) -> 0
C93: 1 | D93: K | E93: 115101201 | F93: Čerpání vody na dopravní výšku do 10 m průměrný přítok do 500 l/min | G93: hod | H93: 60 | J93: =ROUND(I93*H93,2) -> 0 | K93: CS ÚRS 2018 01 | N93: základní | P93: =O93*H93 -> 0 | Q93: 0 | R93: =Q93*H93 -> 0 | S93: 0 | T93: =S93*H93 -> 0 | AR93: 4 | AT93: K | AU93: 2 | AY93: ROZPOCET | BE93: =IF(N93="základní",J93,0) -> 0 | BF93: =IF(N93="snížená",J93,0) -> 0 | BG93: =IF(N93="zákl. přenesená",J93,0) -> 0 | BH93: =IF(N93="sníž. přenesená",J93,0) -> 0 | BI93: =IF(N93="nulová",J93,0) -> 0 | BJ93: 1 | BK93: =ROUND(I93*H93,2) -> 0 | BL93: 4 | BM93: 2
D94: PP | F94: Čerpání vody na dopravní výšku do 10 m s uvažovaným průměrným přítokem do 500 l/min | AT94: PP | AU94: 2
D95: VV | F95: (bude upřesněno dle skutečnosti s měřením motohodin) | AT95: VV | AU95: 2 | AV95: 1 | AW95: True | AX95: 0 | AY95: ROZPOCET
D96: VV | F96: 10*6 | H96: 60 | AT96: VV | AU96: 2 | AV96: 2 | AW96: True | AX96: 0 | AY96: ROZPOCET
D97: VV | F97: Součet | H97: 60 | AT97: VV | AU97: 2 | AV97: 4 | AW97: True | AX97: 1 | AY97: ROZPOCET
C98: 2 | D98: K | E98: 115101301 | F98: Pohotovost čerpací soupravy pro dopravní výšku do 10 m přítok do 500 l/min | G98: den | H98: 10 | J98: =ROUND(I98*H98,2) -> 0 | K98: CS ÚRS 2018 01 | N98: základní | P98: =O98*H98 -> 0 | Q98: 0 | R98: =Q98*H98 -> 0 | S98: 0 | T98: =S98*H98 -> 0 | AR98: 4 | AT98: K | AU98: 2 | AY98: ROZPOCET | BE98: =IF(N98="základní",J98,0) -> 0 | BF98: =IF(N98="snížená",J98,0) -> 0 | BG98: =IF(N98="zákl. přenesená",J98,0) -> 0 | BH98: =IF(N98="sníž. přenesená",J98,0) -> 0 | BI98: =IF(N98="nulová",J98,0) -> 0 | BJ98: 1 | BK98: =ROUND(I98*H98,2) -> 0 | BL98: 4 | BM98: 4
D99: PP | F99: Pohotovost záložní čerpací soupravy pro dopravní výšku do 10 m s uvažovaným průměrným přítokem do 500 l/min | AT99: PP | AU99: 2
D100: VV | F100: (bude upřesněno dle skutečnosti s měřením motohodin) | AT100: VV | AU100: 2 | AV100: 1 | AW100: True | AX100: 0 | AY100: ROZPOCET
D101: VV | F101: 10 | H101: 10 | AT101: VV | AU101: 2 | AV101: 2 | AW101: True | AX101: 0 | AY101: ROZPOCET
D102: VV | F102: Součet | H102: 10 | AT102: VV | AU102: 2 | AV102: 4 | AW102: True | AX102: 1 | AY102: ROZPOCET
C103: 3 | D103: K | E103: 120001101 | F103: Příplatek za ztížení odkopávky nebo prokkopávky v blízkosti inženýrských sítí | G103: m3 | H103: 5 | J103: =ROUND(I103*H103,2) -> 0 | K103: CS ÚRS 2018 01 | N103: základní | P103: =O103*H103 -> 0 | Q103: 0 | R103: =Q103*H103 -> 0 | S103: 0 | T103: =S103*H103 -> 0 | AR103: 4 | AT103: K | AU103: 2 | AY103: ROZPOCET | BE103: =IF(N103="základní",J103,0) -> 0 | BF103: =IF(N103="snížená",J103,0) -> 0 | BG103: =IF(N103="zákl. přenesená",J103,0) -> 0 | BH103: =IF(N103="sníž. přenesená",J103,0) -> 0 | BI103: =IF(N103="nulová",J103,0) -> 0 | BJ103: 1 | BK103: =ROUND(I103*H103,2) -> 0 | BL103: 4 | BM103: 6
D104: PP | F104: Příplatek k cenám vykopávek za ztížení vykopávky v blízkosti inženýrských sítí nebo výbušnin v horninách jakékoliv třídy | AT104: PP | AU104: 2
D105: VV | F105: "stávající vodovod" 5,00 | H105: 5 | AT105: VV | AU105: 2 | AV105: 2 | AW105: True | AX105: 0 | AY105: ROZPOCET
D106: VV | F106: Součet | H106: 5 | AT106: VV | AU106: 2 | AV106: 4 | AW106: True | AX106: 1 | AY106: ROZPOCET
C107: 4 | D107: K | E107: 132201202 | F107: Hloubení rýh š do 2000 mm v hornině tř. 3 objemu do 1000 m3 | G107: m3 | H107: 45.47 | J107: =ROUND(I107*H107,2) -> 0 | K107: CS ÚRS 2018 01 | N107: základní | P107: =O107*H107 -> 0 | Q107: 0 | R107: =Q107*H107 -> 0 | S107: 0 | T107: =S107*H107 -> 0 | AR107: 4 | AT107: K | AU107: 2 | AY107: ROZPOCET | BE107: =IF(N107="základní",J107,0) -> 0 | BF107: =IF(N107="snížená",J107,0) -> 0 | BG107: =IF(N107="zákl. přenesená",J107,0) -> 0 | BH107: =IF(N107="sníž. přenesená",J107,0) -> 0 | BI107: =IF(N107="nulová",J107,0) -> 0 | BJ107: 1 | BK107: =ROUND(I107*H107,2) -> 0 | BL107: 4 | BM107: 8
D108: PP | F108: Hloubení zapažených i nezapažených rýh šířky přes 600 do 2 000 mm s urovnáním dna do předepsaného profilu a spádu v hornině tř. 3 přes 100 do 1 000 m3 | AT108: PP | AU108: 2
D109: VV | F109: hor.3 - 80% | AT109: VV | AU109: 2 | AV109: 1 | AW109: True | AX109: 0 | AY109: ROZPOCET
D110: VV | F110: 11,00*1,00*1,90 | H110: 20.9 | AT110: VV | AU110: 2 | AV110: 2 | AW110: True | AX110: 0 | AY110: ROZPOCET
D111: VV | F111: 12,00*1,00*1,50 | H111: 18 | AT111: VV | AU111: 2 | AV111: 2 | AW111: True | AX111: 0 | AY111: ROZPOCET
D112: VV | F112: 8,00*1,00*2,00 | H112: 16 | AT112: VV | AU112: 2 | AV112: 2 | AW112: True | AX112: 0 | AY112: ROZPOCET
D113: VV | F113: "drenáž" 31,00*0,25*0,25 | H113: 1.938 | AT113: VV | AU113: 2 | AV113: 2 | AW113: True | AX113: 0 | AY113: ROZPOCET
D114: VV | F114: Mezisoučet | H114: 56.838 | AT114: VV | AU114: 2 | AV114: 3 | AW114: True | AX114: 0 | AY114: ROZPOCET
D115: VV | F115: "odp.ostatních hornin" -56,838*0,20 | H115: -11.368 | AT115: VV | AU115: 2 | AV115: 2 | AW115: True | AX115: 0 | AY115: ROZPOCET
D116: VV | F116: Součet | H116: 45.47 | AT116: VV | AU116: 2 | AV116: 4 | AW116: True | AX116: 1 | AY116: ROZPOCET
C117: 5 | D117: K | E117: 132201209 | F117: Příplatek za lepivost k hloubení rýh š do 2000 mm v hornině tř. 3 | G117: m3 | H117: 45.47 | J117: =ROUND(I117*H117,2) -> 0 | K117: CS ÚRS 2018 01 | N117: základní | P117: =O117*H117 -> 0 | Q117: 0 | R117: =Q117*H117 -> 0 | S117: 0 | T117: =S117*H117 -> 0 | AR117: 4 | AT117: K | AU117: 2 | AY117: ROZPOCET | BE117: =IF(N117="základní",J117,0) -> 0 | BF117: =IF(N117="snížená",J117,0) -> 0 | BG117: =IF(N117="zákl. přenesená",J117,0) -> 0 | BH117: =IF(N117="sníž. přenesená",J117,0) -> 0 | BI117: =IF(N117="nulová",J117,0) -> 0 | BJ117: 1 | BK117: =ROUND(I117*H117,2) -> 0 | BL117: 4 | BM117: 10
D118: PP | F118: Hloubení zapažených i nezapažených rýh šířky přes 600 do 2 000 mm s urovnáním dna do předepsaného profilu a spádu v hornině tř. 3 Příplatek k cenám za lepivost horniny tř. 3 | AT118: PP | AU118: 2
D119: VV | F119: 45,47 | H119: 45.47 | AT119: VV | AU119: 2 | AV119: 2 | AW119: True | AX119: 0 | AY119: ROZPOCET
D120: VV | F120: Součet | H120: 45.47 | AT120: VV | AU120: 2 | AV120: 4 | AW120: True | AX120: 1 | AY120: ROZPOCET
C121: 6 | D121: K | E121: 132301202 | F121: Hloubení rýh š do 2000 mm v hornině tř. 4 objemu do 1000 m3 | G121: m3 | H121: 11.368 | J121: =ROUND(I121*H121,2) -> 0 | K121: CS ÚRS 2018 01 | N121: základní | P121: =O121*H121 -> 0 | Q121: 0 | R121: =Q121*H121 -> 0 | S121: 0 | T121: =S121*H121 -> 0 | AR121: 4 | AT121: K | AU121: 2 | AY121: ROZPOCET | BE121: =IF(N121="základní",J121,0) -> 0 | BF121: =IF(N121="snížená",J121,0) -> 0 | BG121: =IF(N121="zákl. přenesená",J121,0) -> 0 | BH121: =IF(N121="sníž. přenesená",J121,0) -> 0 | BI121: =IF(N121="nulová",J121,0) -> 0 | BJ121: 1 | BK121: =ROUND(I121*H121,2) -> 0 | BL121: 4 | BM121: 12
D122: PP | F122: Hloubení zapažených i nezapažených rýh šířky přes 600 do 2 000 mm s urovnáním dna do předepsaného profilu a spádu v hornině tř. 4 přes 100 do 1 000 m3 | AT122: PP | AU122: 2
D123: VV | F123: hor.4 - 20% | AT123: VV | AU123: 2 | AV123: 1 | AW123: True | AX123: 0 | AY123: ROZPOCET
D124: VV | F124: 56,838*0,20 | H124: 11.368 | AT124: VV | AU124: 2 | AV124: 2 | AW124: True | AX124: 0 | AY124: ROZPOCET
D125: VV | F125: Součet | H125: 11.368 | AT125: VV | AU125: 2 | AV125: 4 | AW125: True | AX125: 1 | AY125: ROZPOCET
C126: 7 | D126: K | E126: 132301209 | F126: Příplatek za lepivost k hloubení rýh š do 2000 mm v hornině tř. 4 | G126: m3 | H126: 11.368 | J126: =ROUND(I126*H126,2) -> 0 | K126: CS ÚRS 2018 01 | N126: základní | P126: =O126*H126 -> 0 | Q126: 0 | R126: =Q126*H126 -> 0 | S126: 0 | T126: =S126*H126 -> 0 | AR126: 4 | AT126: K | AU126: 2 | AY126: ROZPOCET | BE126: =IF(N126="základní",J126,0) -> 0 | BF126: =IF(N126="snížená",J126,0) -> 0 | BG126: =IF(N126="zákl. přenesená",J126,0) -> 0 | BH126: =IF(N126="sníž. přenesená",J126,0) -> 0 | BI126: =IF(N126="nulová",J126,0) -> 0 | BJ126: 1 | BK126: =ROUND(I126*H126,2) -> 0 | BL126: 4 | BM126: 14
D127: PP | F127: Hloubení zapažených i nezapažených rýh šířky přes 600 do 2 000 mm s urovnáním dna do předepsaného profilu a spádu v hornině tř. 4 Příplatek k cenám za lepivost horniny tř. 4 | AT127: PP | AU127: 2
D128: VV | F128: 11,368 | H128: 11.368 | AT128: VV | AU128: 2 | AV128: 2 | AW128: True | AX128: 0 | AY128: ROZPOCET
D129: VV | F129: Součet | H129: 11.368 | AT129: VV | AU129: 2 | AV129: 4 | AW129: True | AX129: 1 | AY129: ROZPOCET
C130: 8 | D130: K | E130: 151101101 | F130: Zřízení příložného pažení a rozepření stěn rýh hl do 2 m | G130: m2 | H130: 109.8 | J130: =ROUND(I130*H130,2) -> 0 | K130: CS ÚRS 2018 01 | N130: základní | P130: =O130*H130 -> 0 | Q130: 0 | R130: =Q130*H130 -> 0 | S130: 0 | T130: =S130*H130 -> 0 | AR130: 4 | AT130: K | AU130: 2 | AY130: ROZPOCET | BE130: =IF(N130="základní",J130,0) -> 0 | BF130: =IF(N130="snížená",J130,0) -> 0 | BG130: =IF(N130="zákl. přenesená",J130,0) -> 0 | BH130: =IF(N130="sníž. přenesená",J130,0) -> 0 | BI130: =IF(N130="nulová",J130,0) -> 0 | BJ130: 1 | BK130: =ROUND(I130*H130,2) -> 0 | BL130: 4 | BM130: 16
D131: PP | F131: Zřízení pažení a rozepření stěn rýh pro podzemní vedení pro všechny šířky rýhy příložné pro jakoukoliv mezerovitost, hloubky do 2 m | AT131: PP | AU131: 2
D132: VV | F132: hor.3 - 80% | AT132: VV | AU132: 2 | AV132: 1 | AW132: True | AX132: 0 | AY132: ROZPOCET
D133: VV | F133: 11,00*2*1,90 | H133: 41.8 | AT133: VV | AU133: 2 | AV133: 2 | AW133: True | AX133: 0 | AY133: ROZPOCET
...

Sheet VON - Vedlejší a ostatní ...
AT2: {6f7da7bb-8935-4ee7-bb26-a9fc186b66f1}
AT3: 2
D4: KRYCÍ LIST SOUPISU PRACÍ | M4: v --- níže se nacházejí doplnkové a pomocné údaje k sestavám --- v | AT4: False
D6: Stavba:
E7: ='Rekapitulace stavby'!K6 -> Brniště - účelová komunikace k RD Hlemýždí
D8: Objekt:
E9: SO 301 - Vodovod
D10: Soupis:
E11: VON - Vedlejší a ostatní náklady
D13: KSO: | I13: CC-CZ:
D14: Místo: | I14: Datum: | J14: ='Rekapitulace stavby'!AN8 -> vyplň údaj
D16: Zadavatel: | I16: IČ: | J16: =IF('Rekapitulace stavby'!AN10="","",'Rekapitulace stavby'!AN10) -> 002 60 401
E17: =IF('Rekapitulace stavby'!E11="","",'Rekapitulace stavby'!E11) -> Obec Brniště | I17: DIČ: | J17: =IF('Rekapitulace stavby'!AN11="","",'Rekapitulace stavby'!AN11)
D19: Uchazeč: | I19: IČ: | J19: ='Rekapitulace stavby'!AN13 -> Vyplň údaj
E20: ='Rekapitulace stavby'!E14 -> Vyplň údaj | I20: DIČ: | J20: ='Rekapitulace stavby'!AN14 -> Vyplň údaj
D22: Projektant: | I22: IČ: | J22: =IF('Rekapitulace stavby'!AN16="","",'Rekapitulace stavby'!AN16)
E23: =IF('Rekapitulace stavby'!E17="","",'Rekapitulace stavby'!E17) | I23: DIČ: | J23: =IF('Rekapitulace stavby'!AN17="","",'Rekapitulace stavby'!AN17)
D25: Zpracovatel: | I25: IČ: | J25: =IF('Rekapitulace stavby'!AN19="","",'Rekapitulace stavby'!AN19)
E26: =IF('Rekapitulace stavby'!E20="","",'Rekapitulace stavby'!E20) | I26: DIČ: | J26: =IF('Rekapitulace stavby'!AN20="","",'Rekapitulace stavby'!AN20)
D28: Poznámka:
D32: Cena bez DPH | J32: =ROUND(J92, 2) -> 0
F34: Základ daně | I34: Sazba daně | J34: Výše daně
D35: DPH | E35: základní | F35: =ROUND((SUM(BE92:BE123)), 2) -> 0 | I35: 0.21 | J35: =ROUND(((SUM(BE92:BE123))*I35), 2) -> 0
E36: snížená | F36: =ROUND((SUM(BF92:BF123)), 2) -> 0 | I36: 0.15 | J36: =ROUND(((SUM(BF92:BF123))*I36), 2) -> 0
E37: zákl. přenesená | F37: =ROUND((SUM(BG92:BG123)), 2) -> 0 | I37: 0.21 | J37: =0 -> 0
E38: sníž. přenesená | F38: =ROUND((SUM(BH92:BH123)), 2) -> 0 | I38: 0.15 | J38: =0 -> 0
E39: nulová | F39: =ROUND((SUM(BI92:BI123)), 2) -> 0 | I39: 0 | J39: =0 -> 0
D41: Cena s DPH | G41: v | H41: CZK | J41: =SUM(J32:J39) -> 0
C47: REKAPITULACE ČLENĚNÍ SOUPISU PRACÍ
C49: Stavba:
E50: =E7 -> Brniště - účelová komunikace k RD Hlemýždí
C51: Objekt:
E52: SO 301 - Vodovod
C53: Soupis:
E54: =E11 -> VON - Vedlejší a ostatní náklady
C56: Místo: | F56: =F14 | I56: Datum: | J56: =IF(J14="","",J14) -> vyplň údaj
C58: Zadavatel: | F58: =E17 -> Obec Brniště | I58: Projektant: | J58: =E23
C59: Uchazeč: | F59: =IF(E20="","",E20) -> Vyplň údaj | I59: Zpracovatel: | J59: =E26
C61: Kód dílu - Popis | J61: Cena celkem [CZK]
C63: Náklady ze soupisu prací | J63: =J92 -> 0 | AU63: -1
D64: OST - Ostatní | J64: =J93 -> 0
D65: 9131 - Dopravní značení | J65: =J94 -> 0
D66: 9132 - Zkoušky hutnění | J66: =J97 -> 0
D67: O02 - Zařízení staveniště | J67: =J100 -> 0
D68: O01 - Ostatní náklady | J68: =J103 -> 0
D69: O03 - Projektová dokumentace | J69: =J106 -> 0
D70: O04 - Geodetická zaměření | J70: =J111 -> 0
C77: SOUPIS PRACÍ
C79: Stavba:
E80: =E7 -> Brniště - účelová komunikace k RD Hlemýždí
C81: Objekt:
E82: SO 301 - Vodovod
C83: Soupis:
E84: =E11 -> VON - Vedlejší a ostatní náklady
C86: Místo: | F86: =F14 | I86: Datum: | J86: =IF(J14="","",J14) -> vyplň údaj
C88: Zadavatel: | F88: =E17 -> Obec Brniště | I88: Projektant: | J88: =E23
C89: Uchazeč: | F89: =IF(E20="","",E20) -> Vyplň údaj | I89: Zpracovatel: | J89: =E26
C91: PČ | D91: Typ | E91: Kód | F91: Popis | G91: MJ | H91: Množství | I91: J.cena [CZK] | J91: Cena celkem [CZK] | K91: Cenová soustava | N91: DPH | O91: J. Nh [h] | P91: Nh celkem [h] | Q91: J. hmotnost [t] | R91: Hmotnost celkem [t] | S91: J. suť [t] | T91: Suť Celkem [t]
C92: Náklady soupisu celkem | J92: =BK92 -> 0 | P92: =P93 -> 0 | R92: =R93 -> 0 | T92: =T93 -> 0 | AT92: D | AU92: -1 | BK92: =BK93 -> 0
D93: D | E93: OST | F93: Ostatní | J93: =BK93 -> 0 | P93: =P94+P97+P100+P103+P106+P111 -> 0 | R93: =R94+R97+R100+R103+R106+R111 -> 0 | T93: =T94+T97+T100+T103+T106+T111 -> 0 | AR93: 1 | AT93: D | AU93: 0 | AY93: ROZPOCET | BK93: =BK94+BK97+BK100+BK103+BK106+BK111 -> 0
D94: D | E94: 9131 | F94: Dopravní značení | J94: =BK94 -> 0 | P94: =SUM(P95:P96) -> 0 | R94: =SUM(R95:R96) -> 0 | T94: =SUM(T95:T96) -> 0 | AR94: 1 | AT94: D | AU94: 1 | AY94: ROZPOCET | BK94: =SUM(BK95:BK96) -> 0
C95: 1 | D95: K | E95: 91320 | F95: Dopravní značení v průběhu výstavby | G95: kpl | H95: 1 | J95: =ROUND(I95*H95,2) -> 0 | N95: základní | P95: =O95*H95 -> 0 | Q95: 0 | R95: =Q95*H95 -> 0 | S95: 0 | T95: =S95*H95 -> 0 | AR95: 4 | AT95: K | AU95: 2 | AY95: ROZPOCET | BE95: =IF(N95="základní",J95,0) -> 0 | BF95: =IF(N95="snížená",J95,0) -> 0 | BG95: =IF(N95="zákl. přenesená",J95,0) -> 0 | BH95: =IF(N95="sníž. přenesená",J95,0) -> 0 | BI95: =IF(N95="nulová",J95,0) -> 0 | BJ95: 1 | BK95: =ROUND(I95*H95,2) -> 0 | BL95: 4 | BM95: 2
D96: PP | F96: Dopravní značení v průběhu výstavby | AT96: PP | AU96: 2
D97: D | E97: 9132 | F97: Zkoušky hutnění | J97: =BK97 -> 0 | P97: =SUM(P98:P99) -> 0 | R97: =SUM(R98:R99) -> 0 | T97: =SUM(T98:T99) -> 0 | AR97: 1 | AT97: D | AU97: 1 | AY97: ROZPOCET | BK97: =SUM(BK98:BK99) -> 0
C98: 2 | D98: K | E98: 950000000 | F98: Zkoušky hutnění-statické zatěžovací zkoušky | G98: kpl | H98: 1 | J98: =ROUND(I98*H98,2) -> 0 | N98: základní | P98: =O98*H98 -> 0 | Q98: 0 | R98: =Q98*H98 -> 0 | S98: 0 | T98: =S98*H98 -> 0 | AR98: 4 | AT98: K | AU98: 2 | AY98: ROZPOCET | BE98: =IF(N98="základní",J98,0) -> 0 | BF98: =IF(N98="snížená",J98,0) -> 0 | BG98: =IF(N98="zákl. přenesená",J98,0) -> 0 | BH98: =IF(N98="sníž. přenesená",J98,0) -> 0 | BI98: =IF(N98="nulová",J98,0) -> 0 | BJ98: 1 | BK98: =ROUND(I98*H98,2) -> 0 | BL98: 4 | BM98: 4
D99: PP | F99: Zkoušky hutnění-statické zatěžovací zkoušky | AT99: PP | AU99: 2
D100: D | E100: O02 | F100: Zařízení staveniště | J100: =BK100 -> 0 | P100: =SUM(P101:P102) -> 0 | R100: =SUM(R101:R102) -> 0 | T100: =SUM(T101:T102) -> 0 | AR100: 1 | AT100: D | AU100: 1 | AY100: ROZPOCET | BK100: =SUM(BK101:BK102) -> 0
C101: 3 | D101: K | E101: 100004 | F101: Zařízení staveniště | G101: kpl | H101: 1 | J101: =ROUND(I101*H101,2) -> 0 | N101: základní | P101: =O101*H101 -> 0 | Q101: 0 | R101: =Q101*H101 -> 0 | S101: 0 | T101: =S101*H101 -> 0 | AR101: 4 | AT101: K | AU101: 2 | AY101: ROZPOCET | BE101: =IF(N101="základní",J101,0) -> 0 | BF101: =IF(N101="snížená",J101,0) -> 0 | BG101: =IF(N101="zákl. přenesená",J101,0) -> 0 | BH101: =IF(N101="sníž. přenesená",J101,0) -> 0 | BI101: =IF(N101="nulová",J101,0) -> 0 | BJ101: 1 | BK101: =ROUND(I101*H101,2) -> 0 | BL101: 4 | BM101: 6
D102: PP | F102: Zařízení staveniště | AT102: PP | AU102: 2
D103: D | E103: O01 | F103: Ostatní náklady | J103: =BK103 -> 0 | P103: =SUM(P104:P105) -> 0 | R103: =SUM(R104:R105) -> 0 | T103: =SUM(T104:T105) -> 0 | AR103: 1 | AT103: D | AU103: 1 | AY103: ROZPOCET | BK103: =SUM(BK104:BK105) -> 0
C104: 4 | D104: K | E104: 100009 | F104: Kompletační činnost, inženýrská činnost zhotovitele | G104: kpl | H104: 1 | J104: =ROUND(I104*H104,2) -> 0 | N104: základní | P104: =O104*H104 -> 0 | Q104: 0 | R104: =Q104*H104 -> 0 | S104: 0 | T104: =S104*H104 -> 0 | AR104: 4 | AT104: K | AU104: 2 | AY104: ROZPOCET | BE104: =IF(N104="základní",J104,0) -> 0 | BF104: =IF(N104="snížená",J104,0) -> 0 | BG104: =IF(N104="zákl. přenesená",J104,0) -> 0 | BH104: =IF(N104="sníž. přenesená",J104,0) -> 0 | BI104: =IF(N104="nulová",J104,0) -> 0 | BJ104: 1 | BK104: =ROUND(I104*H104,2) -> 0 | BL104: 4 | BM104: 8
D105: PP | F105: Kompletační činnost, inženýrská činnost zhotovitele | AT105: PP | AU105: 2
D106: D | E106: O03 | F106: Projektová dokumentace | J106: =BK106 -> 0 | P106: =SUM(P107:P110) -> 0 | R106: =SUM(R107:R110) -> 0 | T106: =SUM(T107:T110) -> 0 | AR106: 1 | AT106: D | AU106: 1 | AY106: ROZPOCET | BK106: =SUM(BK107:BK110) -> 0
C107: 5 | D107: K | E107: 100005 | F107: Projektová dokumentace skutečného provedení | G107: kpl | H107: 1 | J107: =ROUND(I107*H107,2) -> 0 | N107: základní | P107: =O107*H107 -> 0 | Q107: 0 | R107: =Q107*H107 -> 0 | S107: 0 | T107: =S107*H107 -> 0 | AR107: 4 | AT107: K | AU107: 2 | AY107: ROZPOCET | BE107: =IF(N107="základní",J107,0) -> 0 | BF107: =IF(N107="snížená",J107,0) -> 0 | BG107: =IF(N107="zákl. přenesená",J107,0) -> 0 | BH107: =IF(N107="sníž. přenesená",J107,0) -> 0 | BI107: =IF(N107="nulová",J107,0) -> 0 | BJ107: 1 | BK107: =ROUND(I107*H107,2) -> 0 | BL107: 4 | BM107: 10
D108: PP | F108: Projektová dokumentace skutečného provedení | AT108: PP | AU108: 2
C109: 6 | D109: K | E109: 100016 | F109: Fotodokumentace | G109: kpl | H109: 1 | J109: =ROUND(I109*H109,2) -> 0 | N109: základní | P109: =O109*H109 -> 0 | Q109: 0 | R109: =Q109*H109 -> 0 | S109: 0 | T109: =S109*H109 -> 0 | AR109: 4 | AT109: K | AU109: 2 | AY109: ROZPOCET | BE109: =IF(N109="základní",J109,0) -> 0 | BF109: =IF(N109="snížená",J109,0) -> 0 | BG109: =IF(N109="zákl. přenesená",J109,0) -> 0 | BH109: =IF(N109="sníž. přenesená",J109,0) -> 0 | BI109: =IF(N109="nulová",J109,0) -> 0 | BJ109: 1 | BK109: =ROUND(I109*H109,2) -> 0 | BL109: 4 | BM109: 12
D110: PP | F110: Fotodokumentace | AT110: PP | AU110: 2
D111: D | E111: O04 | F111: Geodetická zaměření | J111: =BK111 -> 0 | P111: =SUM(P112:P123) -> 0 | R111: =SUM(R112:R123) -> 0 | T111: =SUM(T112:T123) -> 0 | AR111: 1 | AT111: D | AU111: 1 | AY111: ROZPOCET | BK111: =SUM(BK112:BK123) -> 0
C112: 7 | D112: K | E112: 100006 | F112: Vytýčení inženýrských sítí před zahájením prací | G112: kpl | H112: 1 | J112: =ROUND(I112*H112,2) -> 0 | N112: základní | P112: =O112*H112 -> 0 | Q112: 0 | R112: =Q112*H112 -> 0 | S112: 0 | T112: =S112*H112 -> 0 | AR112: 4 | AT112: K | AU112: 2 | AY112: ROZPOCET | BE112: =IF(N112="základní",J112,0) -> 0 | BF112: =IF(N112="snížená",J112,0) -> 0 | BG112: =IF(N112="zákl. přenesená",J112,0) -> 0 | BH112: =IF(N112="sníž. přenesená",J112,0) -> 0 | BI112: =IF(N112="nulová",J112,0) -> 0 | BJ112: 1 | BK112: =ROUND(I112*H112,2) -> 0 | BL112: 4 | BM112: 14
D113: PP | F113: Vytýčení inženýrských sítí před zahájením prací | AT113: PP | AU113: 2
C114: 8 | D114: K | E114: 100007 | F114: Geodetické práce před výstavbou - vytýčení bodů | G114: kpl | H114: 1 | J114: =ROUND(I114*H114,2) -> 0 | N114: základní | P114: =O114*H114 -> 0 | Q114: 0 | R114: =Q114*H114 -> 0 | S114: 0 | T114: =S114*H114 -> 0 | AR114: 4 | AT114: K | AU114: 2 | AY114: ROZPOCET | BE114: =IF(N114="základní",J114,0) -> 0 | BF114: =IF(N114="snížená",J114,0) -> 0 | BG114: =IF(N114="zákl. přenesená",J114,0) -> 0 | BH114: =IF(N114="sníž. přenesená",J114,0) -> 0 | BI114: =IF(N114="nulová",J114,0) -> 0 | BJ114: 1 | BK114: =ROUND(I114*H114,2) -> 0 | BL114: 4 | BM114: 16
D115: PP | F115: Geodetické práce před výstavbou - vytýčení bodů | AT115: PP | AU115: 2
C116: 9 | D116: K | E116: 1000071 | F116: Geodetické práce při provádění stavby | G116: kpl | H116: 1 | J116: =ROUND(I116*H116,2) -> 0 | N116: základní | P116: =O116*H116 -> 0 | Q116: 0 | R116: =Q116*H116 -> 0 | S116: 0 | T116: =S116*H116 -> 0 | AR116: 4 | AT116: K | AU116: 2 | AY116: ROZPOCET | BE116: =IF(N116="základní",J116,0) -> 0 | BF116: =IF(N116="snížená",J116,0) -> 0 | BG116: =IF(N116="zákl. přenesená",J116,0) -> 0 | BH116: =IF(N116="sníž. přenesená",J116,0) -> 0 | BI116: =IF(N116="nulová",J116,0) -> 0 | BJ116: 1 | BK116: =ROUND(I116*H116,2) -> 0 | BL116: 4 | BM116: 18
D117: PP | F117: Geodetické práce při provádění stavby | AT117: PP | AU117: 2
C118: 10 | D118: K | E118: 100008 | F118: Geodetické práce po výstavbě | G118: kpl | H118: 1 | J118: =ROUND(I118*H118,2) -> 0 | N118: základní | P118: =O118*H118 -> 0 | Q118: 0 | R118: =Q118*H118 -> 0 | S118: 0 | T118: =S118*H118 -> 0 | AR118: 4 | AT118: K | AU118: 2 | AY118: ROZPOCET | BE118: =IF(N118="základní",J118,0) -> 0 | BF118: =IF(N118="snížená",J118,0) -> 0 | BG118: =IF(N118="zákl. přenesená",J118,0) -> 0 | BH118: =IF(N118="sníž. přenesená",J118,0) -> 0 | BI118: =IF(N118="nulová",J118,0) -> 0 | BJ118: 1 | BK118: =ROUND(I118*H118,2) -> 0 | BL118: 4 | BM118: 20
D119: PP | F119: Geodetické práce po výstavbě | AT119: PP | AU119: 2
C120: 11 | D120: K | E120: 100013 | F120: Označení stavby | G120: kpl | H120: 1 | J120: =ROUND(I120*H120,2) -> 0 | N120: základní | P120: =O120*H120 -> 0 | Q120: 0 | R120: =Q120*H120 -> 0 | S120: 0 | T120: =S120*H120 -> 0 | AR120: 4 | AT120: K | AU120: 2 | AY120: ROZPOCET | BE120: =IF(N120="základní",J120,0) -> 0 | BF120: =IF(N120="snížená",J120,0) -> 0 | BG120: =IF(N120="zákl. přenesená",J120,0) -> 0 | BH120: =IF(N120="sníž. přenesená",J120,0) -> 0 | BI120: =IF(N120="nulová",J120,0) -> 0 | BJ120: 1 | BK120: =ROUND(I120*H120,2) -> 0 | BL120: 4 | BM120: 22
D121: PP | F121: Označení stavby | AT121: PP | AU121: 2
C122: 12 | D122: K | E122: 100014 | F122: Ostatní náklady zhotovitele jinde neuvedené | G122: kpl | H122: 1 | J122: =ROUND(I122*H122,2) -> 0 | N122: základní | P122: =O122*H122 -> 0 | Q122: 0 | R122: =Q122*H122 -> 0 | S122: 0 | T122: =S122*H122 -> 0 | AR122: 4 | AT122: K | AU122: 2 | AY122: ROZPOCET | BE122: =IF(N122="základní",J122,0) -> 0 | BF122: =IF(N122="snížená",J122,0) -> 0 | BG122: =IF(N122="zákl. přenesená",J122,0) -> 0 | BH122: =IF(N122="sníž. přenesená",J122,0) -> 0 | BI122: =IF(N122="nulová",J122,0) -> 0 | BJ122: 1 | BK122: =ROUND(I122*H122,2) -> 0 | BL122: 4 | BM122: 24
D123: PP | F123: Ostatní náklady zhotovitele jinde neuvedené | AT123: PP | AU123: 2

Sheet SO 401 - Veřejné osvětlení
AT2: {ee2bc877-9eed-4423-b7b9-f5cdb0ea93cf}
AT3: 2
D4: KRYCÍ LIST SOUPISU PRACÍ | M4: v --- níže se nacházejí doplnkové a pomocné údaje k sestavám --- v | AT4: False
D6: Stavba:
E7: ='Rekapitulace stavby'!K6 -> Brniště - účelová komunikace k RD Hlemýždí
D8: Objekt:
E9: SO 401 - Veřejné osvětlení
D11: KSO: | I11: CC-CZ:
D12: Místo: | F12: Hlemýždí | I12: Datum: | J12: ='Rekapitulace stavby'!AN8 -> vyplň údaj
D14: Zadavatel: | I14: IČ: | J14: 002 60 401
E15: Obec Brniště | I15: DIČ:
D17: Uchazeč: | I17: IČ: | J17: ='Rekapitulace stavby'!AN13 -> Vyplň údaj
E18: ='Rekapitulace stavby'!E14 -> Vyplň údaj | I18: DIČ: | J18: ='Rekapitulace stavby'!AN14 -> Vyplň údaj
D20: Projektant: | I20: IČ: | J20: =IF('Rekapitulace stavby'!AN16="","",'Rekapitulace stavby'!AN16)
E21: =IF('Rekapitulace stavby'!E17="","",'Rekapitulace stavby'!E17) | I21: DIČ: | J21: =IF('Rekapitulace stavby'!AN17="","",'Rekapitulace stavby'!AN17)
D23: Zpracovatel: | I23: IČ: | J23: =IF('Rekapitulace stavby'!AN19="","",'Rekapitulace stavby'!AN19)
E24: =IF('Rekapitulace stavby'!E20="","",'Rekapitulace stavby'!E20) | I24: DIČ: | J24: =IF('Rekapitulace stavby'!AN20="","",'Rekapitulace stavby'!AN20)
D26: Poznámka:
D30: Cena bez DPH | J30: =ROUND(J82, 2) -> 0
F32: Základ daně | I32: Sazba daně | J32: Výše daně
D33: DPH | E33: základní | F33: =ROUND((SUM(BE82:BE159)), 2) -> 0 | I33: 0.21 | J33: =ROUND(((SUM(BE82:BE159))*I33), 2) -> 0
E34: snížená | F34: =ROUND((SUM(BF82:BF159)), 2) -> 0 | I34: 0.15 | J34: =ROUND(((SUM(BF82:BF159))*I34), 2) -> 0
E35: zákl. přenesená | F35: =ROUND((SUM(BG82:BG159)), 2) -> 0 | I35: 0.21 | J35: =0 -> 0
E36: sníž. přenesená | F36: =ROUND((SUM(BH82:BH159)), 2) -> 0 | I36: 0.15 | J36: =0 -> 0
E37: nulová | F37: =ROUND((SUM(BI82:BI159)), 2) -> 0 | I37: 0 | J37: =0 -> 0
D39: Cena s DPH | G39: v | H39: CZK | J39: =SUM(J30:J37) -> 0
C45: REKAPITULACE ČLENĚNÍ SOUPISU PRACÍ
C47: Stavba:
E48: =E7 -> Brniště - účelová komunikace k RD Hlemýždí
C49: Objekt:
E50: =E9 -> SO 401 - Veřejné osvětlení
C52: Místo: | F52: =F12 -> Hlemýždí | I52: Datum: | J52: =IF(J12="","",J12) -> vyplň údaj
C54: Zadavatel: | F54: =E15 -> Obec Brniště | I54: Projektant: | J54: =E21
C55: Uchazeč: | F55: =IF(E18="","",E18) -> Vyplň údaj | I55: Zpracovatel: | J55: =E24
C57: Kód dílu - Popis | J57: Cena celkem [CZK]
C59: Náklady ze soupisu prací | J59: =J82 -> 0 | AU59: -1
D60: D1 - VEŘEJNÉ OSVĚTLENÍ | J60: =J83 -> 0
D61: D3 - ZEMNÍ PRÁCE | J61: =J126 -> 0
D62: D4 - PŘIDRUŽENÉ NÁKLADY | J62: =J147 -> 0
C69: SOUPIS PRACÍ
C71: Stavba:
E72: =E7 -> Brniště - účelová komunikace k RD Hlemýždí
C73: Objekt:
E74: =E9 -> SO 401 - Veřejné osvětlení
C76: Místo: | F76: =F12 -> Hlemýždí | I76: Datum: | J76: =IF(J12="","",J12) -> vyplň údaj
C78: Zadavatel: | F78: =E15 -> Obec Brniště | I78: Projektant: | J78: =E21
C79: Uchazeč: | F79: =IF(E18="","",E18) -> Vyplň údaj | I79: Zpracovatel: | J79: =E24
C81: PČ | D81: Typ | E81: Kód | F81: Popis | G81: MJ | H81: Množství | I81: J.cena [CZK] | J81: Cena celkem [CZK] | K81: Cenová soustava | N81: DPH | O81: J. Nh [h] | P81: Nh celkem [h] | Q81: J. hmotnost [t] | R81: Hmotnost celkem [t] | S81: J. suť [t] | T81: Suť Celkem [t]
C82: Náklady soupisu celkem | J82: =BK82 -> 0 | P82: =P83+P126+P147 -> 0 | R82: =R83+R126+R147 -> 0 | T82: =T83+T126+T147 -> 0 | AT82: D | AU82: -1 | BK82: =BK83+BK126+BK147 -> 0
D83: D | E83: D1 | F83: VEŘEJNÉ OSVĚTLENÍ | J83: =BK83 -> 0 | P83: =SUM(P84:P125) -> 0 | R83: =SUM(R84:R125) -> 0 | T83: =SUM(T84:T125) -> 0 | AR83: 1 | AT83: D | AU83: 0 | AY83: ROZPOCET | BK83: =SUM(BK84:BK125) -> 0
C84: 1 | D84: K | E84: 1 | F84: trubka oheb.el.inst.(pod) typ 23- 16mm | G84: m | H84: 50 | J84: =ROUND(I84*H84,2) -> 0 | N84: základní | P84: =O84*H84 -> 0 | Q84: 0 | R84: =Q84*H84 -> 0 | S84: 0 | T84: =S84*H84 -> 0 | AR84: 4 | AT84: K | AU84: 1 | AY84: ROZPOCET | BE84: =IF(N84="základní",J84,0) -> 0 | BF84: =IF(N84="snížená",J84,0) -> 0 | BG84: =IF(N84="zákl. přenesená",J84,0) -> 0 | BH84: =IF(N84="sníž. přenesená",J84,0) -> 0 | BI84: =IF(N84="nulová",J84,0) -> 0 | BJ84: 1 | BK84: =ROUND(I84*H84,2) -> 0 | BL84: 4 | BM84: -1070145760
D85: PP | F85: trubka oheb.el.inst.(pod) typ 23- 16mm | AT85: PP | AU85: 1
C86: 2 | D86: K | E86: 2 | F86: chránička KOPOFLEX DN63 | G86: m | H86: 190 | J86: =ROUND(I86*H86,2) -> 0 | N86: základní | P86: =O86*H86 -> 0 | Q86: 0 | R86: =Q86*H86 -> 0 | S86: 0 | T86: =S86*H86 -> 0 | AR86: 4 | AT86: K | AU86: 1 | AY86: ROZPOCET | BE86: =IF(N86="základní",J86,0) -> 0 | BF86: =IF(N86="snížená",J86,0) -> 0 | BG86: =IF(N86="zákl. přenesená",J86,0) -> 0 | BH86: =IF(N86="sníž. přenesená",J86,0) -> 0 | BI86: =IF(N86="nulová",J86,0) -> 0 | BJ86: 1 | BK86: =ROUND(I86*H86,2) -> 0 | BL86: 4 | BM86: 1572476760
D87: PP | F87: chránička KOPOFLEX DN63 | AT87: PP | AU87: 1
C88: 3 | D88: K | E88: 3 | F88: ukonč.vod.v rozv.vč.zap.a konc.do 2.5mm2 | G88: ks | H88: 18 | J88: =ROUND(I88*H88,2) -> 0 | N88: základní | P88: =O88*H88 -> 0 | Q88: 0 | R88: =Q88*H88 -> 0 | S88: 0 | T88: =S88*H88 -> 0 | AR88: 4 | AT88: K | AU88: 1 | AY88: ROZPOCET | BE88: =IF(N88="základní",J88,0) -> 0 | BF88: =IF(N88="snížená",J88,0) -> 0 | BG88: =IF(N88="zákl. přenesená",J88,0) -> 0 | BH88: =IF(N88="sníž. přenesená",J88,0) -> 0 | BI88: =IF(N88="nulová",J88,0) -> 0 | BJ88: 1 | BK88: =ROUND(I88*H88,2) -> 0 | BL88: 4 | BM88: 361918000
D89: PP | F89: ukonč.vod.v rozv.vč.zap.a konc.do 2.5mm2 | AT89: PP | AU89: 1
C90: 4 | D90: K | E90: 4 | F90: ukonč.vod.v rozv.vc.zap.a konc.do 16mm2 | G90: ks | H90: 54 | J90: =ROUND(I90*H90,2) -> 0 | N90: základní | P90: =O90*H90 -> 0 | Q90: 0 | R90: =Q90*H90 -> 0 | S90: 0 | T90: =S90*H90 -> 0 | AR90: 4 | AT90: K | AU90: 1 | AY90: ROZPOCET | BE90: =IF(N90="základní",J90,0) -> 0 | BF90: =IF(N90="snížená",J90,0) -> 0 | BG90: =IF(N90="zákl. přenesená",J90,0) -> 0 | BH90: =IF(N90="sníž. přenesená",J90,0) -> 0 | BI90: =IF(N90="nulová",J90,0) -> 0 | BJ90: 1 | BK90: =ROUND(I90*H90,2) -> 0 | BL90: 4 | BM90: -1332509664
D91: PP | F91: ukonč.vod.v rozv.vc.zap.a konc.do 16mm2 | AT91: PP | AU91: 1
C92: 5 | D92: K | E92: 5 | F92: Svítidlo silniční LED/28W/2707Lm/3100K/IP65, s funkcí CLO+DIMMING, dle Výpočtu osvětlení | G92: ks | H92: 6 | J92: =ROUND(I92*H92,2) -> 0 | N92: základní | P92: =O92*H92 -> 0 | Q92: 0 | R92: =Q92*H92 -> 0 | S92: 0 | T92: =S92*H92 -> 0 | AR92: 4 | AT92: K | AU92: 1 | AY92: ROZPOCET | BE92: =IF(N92="základní",J92,0) -> 0 | BF92: =IF(N92="snížená",J92,0) -> 0 | BG92: =IF(N92="zákl. přenesená",J92,0) -> 0 | BH92: =IF(N92="sníž. přenesená",J92,0) -> 0 | BI92: =IF(N92="nulová",J92,0) -> 0 | BJ92: 1 | BK92: =ROUND(I92*H92,2) -> 0 | BL92: 4 | BM92: -1377217805
D93: PP | F93: Svítidlo silniční LED/20W/1727m/3000K/IP66, s funkcí CLO+DIMMING, dle Výpočtu osvětlení | AT93: PP | AU93: 1
C94: 6 | D94: K | E94: 6 | F94: stožár bezpaticový ocelový žár.pozink. 6,0 m, KL-6-133/89/60 | G94: ks | H94: 6 | J94: =ROUND(I94*H94,2) -> 0 | N94: základní | P94: =O94*H94 -> 0 | Q94: 0 | R94: =Q94*H94 -> 0 | S94: 0 | T94: =S94*H94 -> 0 | AR94: 4 | AT94: K | AU94: 1 | AY94: ROZPOCET | BE94: =IF(N94="základní",J94,0) -> 0 | BF94: =IF(N94="snížená",J94,0) -> 0 | BG94: =IF(N94="zákl. přenesená",J94,0) -> 0 | BH94: =IF(N94="sníž. přenesená",J94,0) -> 0 | BI94: =IF(N94="nulová",J94,0) -> 0 | BJ94: 1 | BK94: =ROUND(I94*H94,2) -> 0 | BL94: 4 | BM94: -1701898645
D95: PP | F95: stožár bezpaticový ocelový žár.pozink. 5,6 m, KL-6-114/89/60 | AT95: PP | AU95: 1
C96: 7 | D96: K | E96: 7 | F96: výložník lomený ocel.pozink 0,5m, SK1/60-500 | G96: ks | H96: 2 | J96: =ROUND(I96*H96,2) -> 0 | N96: základní | P96: =O96*H96 -> 0 | Q96: 0 | R96: =Q96*H96 -> 0 | S96: 0 | T96: =S96*H96 -> 0 | AR96: 4 | AT96: K | AU96: 1 | AY96: ROZPOCET | BE96: =IF(N96="základní",J96,0) -> 0 | BF96: =IF(N96="snížená",J96,0) -> 0 | BG96: =IF(N96="zákl. přenesená",J96,0) -> 0 | BH96: =IF(N96="sníž. přenesená",J96,0) -> 0 | BI96: =IF(N96="nulová",J96,0) -> 0 | BJ96: 1 | BK96: =ROUND(I96*H96,2) -> 0 | BL96: 4 | BM96: -426573961
D97: PP | F97: výložník lomený ocel.pozink 0,5m, UD1/60-500 | AT97: PP | AU97: 1
C98: 8 | D98: K | E98: 7.1 | F98: výložník lomený ocel.pozink 1,5m, SK1/60-1500 | G98: ks | H98: 4 | J98: =ROUND(I98*H98,2) -> 0 | N98: základní | P98: =O98*H98 -> 0 | Q98: 0 | R98: =Q98*H98 -> 0 | S98: 0 | T98: =S98*H98 -> 0 | AR98: 4 | AT98: K | AU98: 1 | AY98: ROZPOCET | BE98: =IF(N98="základní",J98,0) -> 0 | BF98: =IF(N98="snížená",J98,0) -> 0 | BG98: =IF(N98="zákl. přenesená",J98,0) -> 0 | BH98: =IF(N98="sníž. přenesená",J98,0) -> 0 | BI98: =IF(N98="nulová",J98,0) -> 0 | BJ98: 1 | BK98: =ROUND(I98*H98,2) -> 0 | BL98: 4 | BM98: 379204268
D99: PP | F99: výložník lomený ocel.pozink 1,5m, SK1/60-1500 | AT99: PP | AU99: 1
C100: 9 | D100: K | E100: 8 | F100: stožárová svorkovnice SV-A 6.16.4 | G100: ks | H100: 6 | J100: =ROUND(I100*H100,2) -> 0 | N100: základní | P100: =O100*H100 -> 0 | Q100: 0 | R100: =Q100*H100 -> 0 | S100: 0 | T100: =S100*H100 -> 0 | AR100: 4 | AT100: K | AU100: 1 | AY100: ROZPOCET | BE100: =IF(N100="základní",J100,0) -> 0 | BF100: =IF(N100="snížená",J100,0) -> 0 | BG100: =IF(N100="zákl. přenesená",J100,0) -> 0 | BH100: =IF(N100="sníž. přenesená",J100,0) -> 0 | BI100: =IF(N100="nulová",J100,0) -> 0 | BJ100: 1 | BK100: =ROUND(I100*H100,2) -> 0 | BL100: 4 | BM100: 776951803
D101: PP | F101: stožárová svorkovnice SV-A 6.16.4 | AT101: PP | AU101: 1
C102: 10 | D102: K | E102: 9.1 | F102: uzemn. v zemi FeZn 30x4 mm vč.svorek | G102: m | H102: 190 | J102: =ROUND(I102*H102,2) -> 0 | N102: základní | P102: =O102*H102 -> 0 | Q102: 0 | R102: =Q102*H102 -> 0 | S102: 0 | T102: =S102*H102 -> 0 | AR102: 4 | AT102: K | AU102: 1 | AY102: ROZPOCET | BE102: =IF(N102="základní",J102,0) -> 0 | BF102: =IF(N102="snížená",J102,0) -> 0 | BG102: =IF(N102="zákl. přenesená",J102,0) -> 0 | BH102: =IF(N102="sníž. přenesená",J102,0) -> 0 | BI102: =IF(N102="nulová",J102,0) -> 0 | BJ102: 1 | BK102: =ROUND(I102*H102,2) -> 0 | BL102: 4 | BM102: -1198616681
D103: PP | F103: uzemn. v zemi FeZn 30x4 mm vč.svorek | AT103: PP | AU103: 1
C104: 11 | D104: K | E104: 9.2 | F104: uzemn. v zemi FeZn o 10 mm vč.svorek;propoj.aj. | G104: m | H104: 15 | J104: =ROUND(I104*H104,2) -> 0 | N104: základní | P104: =O104*H104 -> 0 | Q104: 0 | R104: =Q104*H104 -> 0 | S104: 0 | T104: =S104*H104 -> 0 | AR104: 4 | AT104: K | AU104: 1 | AY104: ROZPOCET | BE104: =IF(N104="základní",J104,0) -> 0 | BF104: =IF(N104="snížená",J104,0) -> 0 | BG104: =IF(N104="zákl. přenesená",J104,0) -> 0 | BH104: =IF(N104="sníž. přenesená",J104,0) -> 0 | BI104: =IF(N104="nulová",J104,0) -> 0 | BJ104: 1 | BK104: =ROUND(I104*H104,2) -> 0 | BL104: 4 | BM104: 478239100
D105: PP | F105: uzemn. v zemi FeZn o 10 mm vč.svorek;propoj.aj. | AT105: PP | AU105: 1
C106: 12 | D106: K | E106: 10 | F106: položení výstražné folie PVC s=330mm | G106: m | H106: 160 | J106: =ROUND(I106*H106,2) -> 0 | N106: základní | P106: =O106*H106 -> 0 | Q106: 0 | R106: =Q106*H106 -> 0 | S106: 0 | T106: =S106*H106 -> 0 | AR106: 4 | AT106: K | AU106: 1 | AY106: ROZPOCET | BE106: =IF(N106="základní",J106,0) -> 0 | BF106: =IF(N106="snížená",J106,0) -> 0 | BG106: =IF(N106="zákl. přenesená",J106,0) -> 0 | BH106: =IF(N106="sníž. přenesená",J106,0) -> 0 | BI106: =IF(N106="nulová",J106,0) -> 0 | BJ106: 1 | BK106: =ROUND(I106*H106,2) -> 0 | BL106: 4 | BM106: -275600505
D107: PP | F107: položení výstražné folie PVC s=330mm | AT107: PP | AU107: 1
C108: 13 | D108: K | E108: 11 | F108: Vodič CY 6 mm2 z/z | G108: m | H108: 10 | J108: =ROUND(I108*H108,2) -> 0 | N108: základní | P108: =O108*H108 -> 0 | Q108: 0 | R108: =Q108*H108 -> 0 | S108: 0 | T108: =S108*H108 -> 0 | AR108: 4 | AT108: K | AU108: 1 | AY108: ROZPOCET | BE108: =IF(N108="základní",J108,0) -> 0 | BF108: =IF(N108="snížená",J108,0) -> 0 | BG108: =IF(N108="zákl. přenesená",J108,0) -> 0 | BH108: =IF(N108="sníž. přenesená",J108,0) -> 0 | BI108: =IF(N108="nulová",J108,0) -> 0 | BJ108: 1 | BK108: =ROUND(I108*H108,2) -> 0 | BL108: 4 | BM108: -992119797
D109: PP | F109: Vodič CY 6 mm2 z/z | AT109: PP | AU109: 1
C110: 14 | D110: K | E110: 12 | F110: Kabel CYKY 3-Jx1.5 mm2 750V (TR) | G110: m | H110: 50 | J110: =ROUND(I110*H110,2) -> 0 | N110: základní | P110: =O110*H110 -> 0 | Q110: 0 | R110: =Q110*H110 -> 0 | S110: 0 | T110: =S110*H110 -> 0 | AR110: 4 | AT110: K | AU110: 1 | AY110: ROZPOCET | BE110: =IF(N110="základní",J110,0) -> 0 | BF110: =IF(N110="snížená",J110,0) -> 0 | BG110: =IF(N110="zákl. přenesená",J110,0) -> 0 | BH110: =IF(N110="sníž. přenesená",J110,0) -> 0 | BI110: =IF(N110="nulová",J110,0) -> 0 | BJ110: 1 | BK110: =ROUND(I110*H110,2) -> 0 | BL110: 4 | BM110: 26960064
D111: PP | F111: Kabel CYKY 3-Jx1.5 mm2 750V (TR) | AT111: PP | AU111: 1
C112: 15 | D112: K | E112: 13 | F112: Kabel CYKY 4-Jx16 mm2 750V (VU) | G112: m | H112: 195 | J112: =ROUND(I112*H112,2) -> 0 | N112: základní | P112: =O112*H112 -> 0 | Q112: 0 | R112: =Q112*H112 -> 0 | S112: 0 | T112: =S112*H112 -> 0 | AR112: 4 | AT112: K | AU112: 1 | AY112: ROZPOCET | BE112: =IF(N112="základní",J112,0) -> 0 | BF112: =IF(N112="snížená",J112,0) -> 0 | BG112: =IF(N112="zákl. přenesená",J112,0) -> 0 | BH112: =IF(N112="sníž. přenesená",J112,0) -> 0 | BI112: =IF(N112="nulová",J112,0) -> 0 | BJ112: 1 | BK112: =ROUND(I112*H112,2) -> 0 | BL112: 4 | BM112: 812229027
D113: PP | F113: Kabel CYKY 4-Jx16 mm2 750V (VU) | AT113: PP | AU113: 1
C114: 16 | D114: K | E114: 14 | F114: Pojistka E14 | G114: ks | H114: 6 | J114: =ROUND(I114*H114,2) -> 0 | N114: základní | P114: =O114*H114 -> 0 | Q114: 0 | R114: =Q114*H114 -> 0 | S114: 0 | T114: =S114*H114 -> 0 | AR114: 4 | AT114: K | AU114: 1 | AY114: ROZPOCET | BE114: =IF(N114="základní",J114,0) -> 0 | BF114: =IF(N114="snížená",J114,0) -> 0 | BG114: =IF(N114="zákl. přenesená",J114,0) -> 0 | BH114: =IF(N114="sníž. přenesená",J114,0) -> 0 | BI114: =IF(N114="nulová",J114,0) -> 0 | BJ114: 1 | BK114: =ROUND(I114*H114,2) -> 0 | BL114: 4 | BM114: -971809746
D115: PP | F115: Pojistka E14 | AT115: PP | AU115: 1
C116: 17 | D116: K | E116: 15 | F116: Betonová směs C25/30 | G116: m3 | H116: 2.4 | J116: =ROUND(I116*H116,2) -> 0 | N116: základní | P116: =O116*H116 -> 0 | Q116: 0 | R116: =Q116*H116 -> 0 | S116: 0 | T116: =S116*H116 -> 0 | AR116: 4 | AT116: K | AU116: 1 | AY116: ROZPOCET | BE116: =IF(N116="základní",J116,0) -> 0 | BF116: =IF(N116="snížená",J116,0) -> 0 | BG116: =IF(N116="zákl. přenesená",J116,0) -> 0 | BH116: =IF(N116="sníž. přenesená",J116,0) -> 0 | BI116: =IF(N116="nulová",J116,0) -> 0 | BJ116: 1 | BK116: =ROUND(I116*H116,2) -> 0 | BL116: 4 | BM116: -1356697736
D117: PP | F117: Betonová směs C25/30 | AT117: PP | AU117: 1
C118: 18 | D118: K | E118: 16 | F118: stožárové pouzdro SP-250/1000 | G118: ks | H118: 6 | J118: =ROUND(I118*H118,2) -> 0 | N118: základní | P118: =O118*H118 -> 0 | Q118: 0 | R118: =Q118*H118 -> 0 | S118: 0 | T118: =S118*H118 -> 0 | AR118: 4 | AT118: K | AU118: 1 | AY118: ROZPOCET | BE118: =IF(N118="základní",J118,0) -> 0 | BF118: =IF(N118="snížená",J118,0) -> 0 | BG118: =IF(N118="zákl. přenesená",J118,0) -> 0 | BH118: =IF(N118="sníž. přenesená",J118,0) -> 0 | BI118: =IF(N118="nulová",J118,0) -> 0 | BJ118: 1 | BK118: =ROUND(I118*H118,2) -> 0 | BL118: 4 | BM118: 887454633
D119: PP | F119: stožárové pouzdro SP-250/1000 | AT119: PP | AU119: 1
C120: 19 | D120: K | E120: 17 | F120: Beton deska D=60cm | G120: ks | H120: 6 | J120: =ROUND(I120*H120,2) -> 0 | N120: základní | P120: =O120*H120 -> 0 | Q120: 0 | R120: =Q120*H120 -> 0 | S120: 0 | T120: =S120*H120 -> 0 | AR120: 4 | AT120: K | AU120: 1 | AY120: ROZPOCET | BE120: =IF(N120="základní",J120,0) -> 0 | BF120: =IF(N120="snížená",J120,0) -> 0 | BG120: =IF(N120="zákl. přenesená",J120,0) -> 0 | BH120: =IF(N120="sníž. přenesená",J120,0) -> 0 | BI120: =IF(N120="nulová",J120,0) -> 0 | BJ120: 1 | BK120: =ROUND(I120*H120,2) -> 0 | BL120: 4 | BM120: 1752300266
D121: PP | F121: Beton deska D=60cm | AT121: PP | AU121: 1
C122: 20 | D122: K | E122: 18 | F122: písek pro kabelové lože | G122: m3 | H122: 15 | J122: =ROUND(I122*H122,2) -> 0 | N122: základní | P122: =O122*H122 -> 0 | Q122: 0 | R122: =Q122*H122 -> 0 | S122: 0 | T122: =S122*H122 -> 0 | AR122: 4 | AT122: K | AU122: 1 | AY122: ROZPOCET | BE122: =IF(N122="základní",J122,0) -> 0 | BF122: =IF(N122="snížená",J122,0) -> 0 | BG122: =IF(N122="zákl. přenesená",J122,0) -> 0 | BH122: =IF(N122="sníž. přenesená",J122,0) -> 0 | BI122: =IF(N122="nulová",J122,0) -> 0 | BJ122: 1 | BK122: =ROUND(I122*H122,2) -> 0 | BL122: 4 | BM122: -994504307
D123: PP | F123: písek pro kabelové lože | AT123: PP | AU123: 1
C124: 21 | D124: K | E124: 20 | F124: rozvaděč REVO1 (podle výkresu č.E4) | G124: ks | H124: 1 | J124: =ROUND(I124*H124,2) -> 0 | N124: základní | P124: =O124*H124 -> 0 | Q124: 0 | R124: =Q124*H124 -> 0 | S124: 0 | T124: =S124*H124 -> 0 | AR124: 4 | AT124: K | AU124: 1 | AY124: ROZPOCET | BE124: =IF(N124="základní",J124,0) -> 0 | BF124: =IF(N124="snížená",J124,0) -> 0 | BG124: =IF(N124="zákl. přenesená",J124,0) -> 0 | BH124: =IF(N124="sníž. přenesená",J124,0) -> 0 | BI124: =IF(N124="nulová",J124,0) -> 0 | BJ124: 1 | BK124: =ROUND(I124*H124,2) -> 0 | BL124: 4 | BM124: -997191752
D125: PP | F125: rozvaděč REVO1 (podle výkresu č.E4) | AT125: PP | AU125: 1
D126: D | E126: D3 | F126: ZEMNÍ PRÁCE | J126: =BK126 -> 0 | P126: =SUM(P127:P146) -> 0 | R126: =SUM(R127:R146) -> 0 | T126: =SUM(T127:T146) -> 0 | AR126: 1 | AT126: D | AU126: 0 | AY126: ROZPOCET | BK126: =SUM(BK127:BK146) -> 0
C127: 22 | D127: K | E127: 21 | F127: vytyč.trati kab.vedeni v zastavěném prostoru | G127: km | H127: 0.15 | J127: =ROUND(I127*H127,2) -> 0 | N127: základní | P127: =O127*H127 -> 0 | Q127: 0 | R127: =Q127*H127 -> 0 | S127: 0 | T127: =S127*H127 -> 0 | AR127: 4 | AT127: K | AU127: 1 | AY127: ROZPOCET | BE127: =IF(N127="základní",J127,0) -> 0 | BF127: =IF(N127="snížená",J127,0) -> 0 | BG127: =IF(N127="zákl. přenesená",J127,0) -> 0 | BH127: =IF(N127="sníž. přenesená",J127,0) -> 0 | BI127: =IF(N127="nulová",J127,0) -> 0 | BJ127: 1 | BK127: =ROUND(I127*H127,2) -> 0 | BL127: 4 | BM127: 133817787
D128: PP | F128: vytyč.trati kab.vedeni v zastavěném prostoru | AT128: PP | AU128: 1
C129: 23 | D129: K | E129: 22 | F129: kabel.rýha 50cm/šíř., 90cm/hl. zem.tr.4 | G129: m | H129: 140 | J129: =ROUND(I129*H129,2) -> 0 | N129: základní | P129: =O129*H129 -> 0 | Q129: 0 | R129: =Q129*H129 -> 0 | S129: 0 | T129: =S129*H129 -> 0 | AR129: 4 | AT129: K | AU129: 1 | AY129: ROZPOCET | BE129: =IF(N129="základní",J129,0) -> 0 | BF129: =IF(N129="snížená",J129,0) -> 0 | BG129: =IF(N129="zákl. přenesená",J129,0) -> 0 | BH129: =IF(N129="sníž. přenesená",J129,0) -> 0 | BI129: =IF(N129="nulová",J129,0) -> 0 | BJ129: 1 | BK129: =ROUND(I129*H129,2) -> 0 | BL129: 4 | BM129: 1851239796
D130: PP | F130: kabel.rýha 50cm/šíř., 90cm/hl. zem.tr.4 | AT130: PP | AU130: 1
C131: 24 | D131: K | E131: 23 | F131: ruč.zához.kab.rýhy 50cm/šiř., 90Cm/hl.zem.tr.4 | G131: m | H131: 140 | J131: =ROUND(I131*H131,2) -> 0 | N131: základní | P131: =O131*H131 -> 0 | Q131: 0 | R131: =Q131*H131 -> 0 | S131: 0 | T131: =S131*H131 -> 0 | AR131: 4 | AT131: K | AU131: 1 | AY131: ROZPOCET | BE131: =IF(N131="základní",J131,0) -> 0 | BF131: =IF(N131="snížená",J131,0) -> 0 | BG131: =IF(N131="zákl. přenesená",J131,0) -> 0 | BH131: =IF(N131="sníž. přenesená",J131,0) -> 0 | BI131: =IF(N131="nulová",J131,0) -> 0 | BJ131: 1 | BK131: =ROUND(I131*H131,2) -> 0 | BL131: 4 | BM131: -1537128594
D132: PP | F132: ruč.zához.kab.rýhy 50cm/šiř., 90Cm/hl.zem.tr.4 | AT132: PP | AU132: 1
C133: 25 | D133: K | E133: 24 | F133: kabel.rýha 50cm/šíř., 110cm/hl. zem.tr.4 | G133: m | H133: 10 | J133: =ROUND(I133*H133,2) -> 0 | N133: základní | P133: =O133*H133 -> 0 | Q133: 0 | R133: =Q133*H133 -> 0 | S133: 0 | T133: =S133*H133 -> 0 | AR133: 4 | AT133: K | AU133: 1 | AY133: ROZPOCET | BE133: =IF(N133="základní",J133,0) -> 0 | BF133: =IF(N133="snížená",J133,0) -> 0 | BG133: =IF(N133="zákl. přenesená",J133,0) -> 0 | BH133: =IF(N133="sníž. přenesená",J133,0) -> 0 | BI133: =IF(N133="nulová",J133,0) -> 0 | BJ133: 1 | BK133: =ROUND(I133*H133,2) -> 0 | BL133: 4 | BM133: -234994165
...
