Workbook

Sheet Rekapitulace stavby
A1: Export Komplet | BA1: 2.0 | BB1: ZAMOK | BT1: False | BU1: False | BV1: {31097676-6d18-41f9-9a57-57e43fb09582}
BS2: 0,01 | BT2: 21
BS3: 0,01 | BT3: 15
D4: REKAPITULACE STAVBY | AS4: v --- níže se nacházejí doplnkové a pomocné údaje k sestavám --- v | BE4: Návod na vyplnění | BS4: 0,001
D5: Kód: | K5: 190104 | BE5: Měnit lze pouze buňky se žlutým podbarvením!_x000D_ _x000D_ 1) na prvním listu Rekapitulace stavby vyplňte v sestavě_x000D_ _x000D_ a) Souhrnný list_x000D_ - údaje o Zhotoviteli_x000D_ (přenesou se do ostatních sestav i v jiných listech)_x000D_ _x000D_ b) Rekapitulace objektů_x000D_ - potřebné Ostatní náklady_x000D_ _x000D_ 2) na vybraných listech vyplňte v sestavě_x000D_ _x000D_ a) Krycí list_x000D_ - údaje o Zhotoviteli, pokud se liší od údajů o Zhotoviteli na Souhrnném listu_x000D_ (údaje se přenesou do ostatních sestav v daném listu)_x000D_ _x000D_ b) Rekapitulace rozpočtu_x000D_ - potřebné Ostatní náklady_x000D_ _x000D_ c) Celkové náklady za stavbu_x000D_ - ceny u položek_x000D_ - množství, pokud má žluté podbarvení_x000D_ - a v případě potřeby poznámku (ta je ve skrytém sloupci) | BS5: 0,01
D6: Stavba: | K6: Brniště - účelová komunikace k RD Hlemýždí | BS6: 0,01
D7: KSO: | AK7: CC-CZ: | BS7: 0,01
D8: Místo: | K8: Hlemýždí | AK8: Datum: | AN8: vyplň údaj | BS8: 0,01
BS9: 0,01
D10: Zadavatel: | AK10: IČ: | AN10: 002 60 401 | BS10: 0,01
E11: Obec Brniště | AK11: DIČ: | BS11: 0,01
BS12: 0,01
D13: Uchazeč: | AK13: IČ: | AN13: Vyplň údaj | BS13: 0,01
E14: Vyplň údaj | AK14: DIČ: | AN14: Vyplň údaj | BS14: 0,01
BS15: False
D16: Projektant: | AK16: IČ: | BS16: False
AK17: DIČ: | BS17: True
BS18: 0,01
D19: Zpracovatel: | AK19: IČ: | BS19: 0,01
AK20: DIČ: | BS20: True
D22: Poznámka:
D26: Cena bez DPH | AK26: =ROUND(AG54,2) -> 0
L28: Sazba daně | W28: Základ daně | AK28: Výše daně
D29: DPH | F29: základní | L29: 0.21 | W29: =ROUND(AZ54, 2) -> 0 | AK29: =ROUND(AV54, 2) -> 0
F30: snížená | L30: 0.15 | W30: =ROUND(BA54, 2) -> 0 | AK30: =ROUND(AW54, 2) -> 0
F31: zákl. přenesená | L31: 0.21 | W31: =ROUND(BB54, 2) -> 0 | AK31: 0
F32: sníž. přenesená | L32: 0.15 | W32: =ROUND(BC54, 2) -> 0 | AK32: 0
F33: nulová | L33: 0 | W33: =ROUND(BD54, 2) -> 0 | AK33: 0
D35: Cena s DPH | T35: v | X35: CZK | AK35: =SUM(AK26:AK33) -> 0
C42: REKAPITULACE OBJEKTŮ STAVBY A SOUPISŮ PRACÍ
C44: Kód: | L44: =K5 -> 190104
C45: Stavba: | L45: =K6 -> Brniště - účelová komunikace k RD Hlemýždí
C47: Místo: | L47: =IF(K8="","",K8) -> Hlemýždí | AI47: Datum: | AM47: =IF(AN8= "","",AN8) -> vyplň údaj
C49: Zadavatel: | L49: =IF(E11= "","",E11) -> Obec Brniště | AI49: Projektant: | AM49: =IF(E17="","",E17) | AS49: Informatívní údaje z listů zakázek
C50: Uchazeč: | L50: =IF(E14= "Vyplň údaj","",E14) | AI50: Zpracovatel: | AM50: =IF(E20="","",E20)
C52: Kód | I52: Popis | AG52: Cena bez DPH [CZK] | AN52: Cena s DPH [CZK] | AQ52: Typ | AS52: z toho Ostat._x000D_ náklady [CZK] | AT52: DPH [CZK] | AU52: Normohodiny [h] | AV52: DPH základní [CZK] | AW52: DPH snížená [CZK] | AX52: DPH základní přenesená_x000D_ [CZK] | AY52: DPH snížená přenesená_x000D_ [CZK] | AZ52: Základna_x000D_ DPH základní | BA52: Základna_x000D_ DPH snížená | BB52: Základna_x000D_ DPH zákl. přenesená | BC52: Základna_x000D_ DPH sníž. přenesená | BD52: Základna_x000D_ DPH nulová
C54: Náklady z rozpočtů | AG54: =ROUND(AG55+AG56+AG61,2) -> 0 | AN54: =SUM(AG54,AT54) -> 0 | AS54: =ROUND(AS55+AS56+AS61,2) -> 0 | AT54: =ROUND(SUM(AV54:AW54),2) -> 0 | AU54: =ROUND(AU55+AU56+AU61,5) -> 0 | AV54: =ROUND(AZ54*L29,2) -> 0 | AW54: =ROUND(BA54*L30,2) -> 0 | AX54: =ROUND(BB54*L29,2) -> 0 | AY54: =ROUND(BC54*L30,2) -> 0 | AZ54: =ROUND(AZ55+AZ56+AZ61,2) -> 0 | BA54: =ROUND(BA55+BA56+BA61,2) -> 0 | BB54: =ROUND(BB55+BB56+BB61,2) -> 0 | BC54: =ROUND(BC55+BC56+BC61,2) -> 0 | BD54: =ROUND(BD55+BD56+BD61,2) -> 0 | BS54: D | BT54: 0 | BU54: ###NOIMPORT### | BV54: IMPORT | BW54: {31097676-6d18-41f9-9a57-57e43fb09582} | BX54: {00000000-0000-0000-0000-000000000000}
A55: / | D55: SO 101 | J55: Místní komunikace | AG55: ='SO 101 - Místní komunikace '!J30 -> 0 | AN55: =SUM(AG55,AT55) -> 0 | AQ55: STA | AS55: 0 | AT55: =ROUND(SUM(AV55:AW55),2) -> 0 | AU55: ='SO 101 - Místní komunikace '!P86 -> 0 | AV55: ='SO 101 - Místní komunikace '!J33 -> 0 | AW55: ='SO 101 - Místní komunikace '!J34 -> 0 | AX55: ='SO 101 - Místní komunikace '!J35 -> 0 | AY55: ='SO 101 - Místní komunikace '!J36 -> 0 | AZ55: ='SO 101 - Místní komunikace '!F33 -> 0 | BA55: ='SO 101 - Místní komunikace '!F34 -> 0 | BB55: ='SO 101 - Místní komunikace '!F35 -> 0 | BC55: ='SO 101 - Místní komunikace '!F36 -> 0 | BD55: ='SO 101 - Místní komunikace '!F37 -> 0 | BT55: 1 | BV55: IMPORT | BW55: {0f22965b-59b5-435a-8410-48242c6a0f96} | BX55: {31097676-6d18-41f9-9a57-57e43fb09582} | CM55: 2
D56: SO 301 | J56: Vodovod | AG56: =ROUND(SUM(AG57:AG60),2) -> 0 | AN56: =SUM(AG56,AT56) -> 0 | AQ56: STA | AS56: =ROUND(SUM(AS57:AS60),2) -> 0 | AT56: =ROUND(SUM(AV56:AW56),2) -> 0 | AU56: =ROUND(SUM(AU57:AU60),5) -> 0 | AV56: =ROUND(AZ56*L29,2) -> 0 | AW56: =ROUND(BA56*L30,2) -> 0 | AX56: =ROUND(BB56*L29,2) -> 0 | AY56: =ROUND(BC56*L30,2) -> 0 | AZ56: =ROUND(SUM(AZ57:AZ60),2) -> 0 | BA56: =ROUND(SUM(BA57:BA60),2) -> 0 | BB56: =ROUND(SUM(BB57:BB60),2) -> 0 | BC56: =ROUND(SUM(BC57:BC60),2) -> 0 | BD56: =ROUND(SUM(BD57:BD60),2) -> 0 | BS56: D | BT56: 1 | BU56: ###NOIMPORT### | BV56: IMPORT | BW56: {5df0e369-7209-48d7-b493-0020fb1e0bf0} | BX56: {31097676-6d18-41f9-9a57-57e43fb09582} | CM56: 2
A57: / | E57: SO 301.1 | K57: Vodovodní řad | AG57: ='SO 301.1 - Vodovodní řad'!J32 -> 0 | AN57: =SUM(AG57,AT57) -> 0 | AQ57: Soupis | AS57: 0 | AT57: =ROUND(SUM(AV57:AW57),2) -> 0 | AU57: ='SO 301.1 - Vodovodní řad'!P90 -> 0 | AV57: ='SO 301.1 - Vodovodní řad'!J35 -> 0 | AW57: ='SO 301.1 - Vodovodní řad'!J36 -> 0 | AX57: ='SO 301.1 - Vodovodní řad'!J37 -> 0 | AY57: ='SO 301.1 - Vodovodní řad'!J38 -> 0 | AZ57: ='SO 301.1 - Vodovodní řad'!F35 -> 0 | BA57: ='SO 301.1 - Vodovodní řad'!F36 -> 0 | BB57: ='SO 301.1 - Vodovodní řad'!F37 -> 0 | BC57: ='SO 301.1 - Vodovodní řad'!F38 -> 0 | BD57: ='SO 301.1 - Vodovodní řad'!F39 -> 0 | BT57: 2 | BV57: IMPORT | BW57: {283159c8-5073-45ec-87ec-3a14e4c4c1a1} | BX57: {5df0e369-7209-48d7-b493-0020fb1e0bf0}
...

Sheet SO 101 - Místní komunikace 
AT2: {0f22965b-59b5-435a-8410-48242c6a0f96}
AT3: 2
D4: KRYCÍ LIST SOUPISU PRACÍ | M4: v --- níže se nacházejí doplnkové a pomocné údaje k sestavám --- v | AT4: False
D6: Stavba:
E7: ='Rekapitulace stavby'!K6 -> Brniště - účelová komunikace k RD Hlemýždí
D8: Objekt:
E9: SO 101 - Místní komunikace
D11: KSO: | I11: CC-CZ:
D12: Místo: | F12: Hlemýždí | I12: Datum: | J12: ='Rekapitulace stavby'!AN8 -> vyplň údaj
D14: Zadavatel: | I14: IČ: | J14: 002 60 401
E15: Obec Brniště | I15: DIČ:
D17: Uchazeč: | I17: IČ: | J17: ='Rekapitulace stavby'!AN13 -> Vyplň údaj
E18: ='Rekapitulace stavby'!E14 -> Vyplň údaj | I18: DIČ: | J18: ='Rekapitulace stavby'!AN14 -> Vyplň údaj
D20: Projektant: | I20: IČ: | J20: =IF('Rekapitulace stavby'!AN16="","",'Rekapitulace stavby'!AN16)
E21: =IF('Rekapitulace stavby'!E17="","",'Rekapitulace stavby'!E17) | I21: DIČ: | J21: =IF('Rekapitulace stavby'!AN17="","",'Rekapitulace stavby'!AN17)
D23: Zpracovatel: | I23: IČ: | J23: =IF('Rekapitulace stavby'!AN19="","",'Rekapitulace stavby'!AN19)
E24: =IF('Rekapitulace stavby'!E20="","",'Rekapitulace stavby'!E20) | I24: DIČ: | J24: =IF('Rekapitulace stavby'!AN20="","",'Rekapitulace stavby'!AN20)
D26: Poznámka:
D30: Cena bez DPH | J30: =ROUND(J86, 2) -> 0
F32: Základ daně | I32: Sazba daně | J32: Výše daně
D33: DPH | E33: základní | F33: =ROUND((SUM(BE86:BE244)), 2) -> 0 | I33: 0.21 | J33: =ROUND(((SUM(BE86:BE244))*I33), 2) -> 0
E34: snížená | F34: =ROUND((SUM(BF86:BF244)), 2) -> 0 | I34: 0.15 | J34: =ROUND(((SUM(BF86:BF244))*I34), 2) -> 0
E35: zákl. přenesená | F35: =ROUND((SUM(BG86:BG244)), 2) -> 0 | I35: 0.21 | J35: =0 -> 0
E36: sníž. přenesená | F36: =ROUND((SUM(BH86:BH244)), 2) -> 0 | I36: 0.15 | J36: =0 -> 0
E37: nulová | F37: =ROUND((SUM(BI86:BI244)), 2) -> 0 | I37: 0 | J37: =0 -> 0
D39: Cena s DPH | G39: v | H39: CZK | J39: =SUM(J30:J37) -> 0
C45: REKAPITULACE ČLENĚNÍ SOUPISU PRACÍ
C47: Stavba:
E48: =E7 -> Brniště - účelová komunikace k RD Hlemýždí
C49: Objekt:
E50: =E9 -> SO 101 - Místní komunikace
C52: Místo: | F52: =F12 -> Hlemýždí | I52: Datum: | J52: =IF(J12="","",J12) -> vyplň údaj
C54: Zadavatel: | F54: =E15 -> Obec Brniště | I54: Projektant: | J54: =E21
C55: Uchazeč: | F55: =IF(E18="","",E18) -> Vyplň údaj | I55: Zpracovatel: | J55: =E24
C57: Kód dílu - Popis | J57: Cena celkem [CZK]
C59: Náklady ze soupisu prací | J59: =J86 -> 0 | AU59: -1
D60: HSV - Práce a dodávky HSV | J60: =J87 -> 0
D61: 1 - Zemní práce | J61: =J88 -> 0
D62: 2 - Zakládání | J62: =J160 -> 0
D63: 5 - Komunikace pozemní | J63: =J174 -> 0
...

Sheet SO 301.1 - Vodovodní řad
AT2: {283159c8-5073-45ec-87ec-3a14e4c4c1a1}
AT3: 2
D4: KRYCÍ LIST SOUPISU PRACÍ | M4: v --- níže se nacházejí doplnkové a pomocné údaje k sestavám --- v | AT4: False
D6: Stavba:
E7: ='Rekapitulace stavby'!K6 -> Brniště - účelová komunikace k RD Hlemýždí
D8: Objekt:
E9: SO 301 - Vodovod
D10: Soupis:
E11: SO 301.1 - Vodovodní řad
D13: KSO: | I13: CC-CZ:
D14: Místo: | I14: Datum: | J14: ='Rekapitulace stavby'!AN8 -> vyplň údaj
D16: Zadavatel: | I16: IČ: | J16: =IF('Rekapitulace stavby'!AN10="","",'Rekapitulace stavby'!AN10) -> 002 60 401
E17: =IF('Rekapitulace stavby'!E11="","",'Rekapitulace stavby'!E11) -> Obec Brniště | I17: DIČ: | J17: =IF('Rekapitulace stavby'!AN11="","",'Rekapitulace stavby'!AN11)
D19: Uchazeč: | I19: IČ: | J19: ='Rekapitulace stavby'!AN13 -> Vyplň údaj
E20: ='Rekapitulace stavby'!E14 -> Vyplň údaj | I20: DIČ: | J20: ='Rekapitulace stavby'!AN14 -> Vyplň údaj
D22: Projektant: | I22: IČ: | J22: =IF('Rekapitulace stavby'!AN16="","",'Rekapitulace stavby'!AN16)
E23: =IF('Rekapitulace stavby'!E17="","",'Rekapitulace stavby'!E17) | I23: DIČ: | J23: =IF('Rekapitulace stavby'!AN17="","",'Rekapitulace stavby'!AN17)
D25: Zpracovatel: | I25: IČ: | J25: =IF('Rekapitulace stavby'!AN19="","",'Rekapitulace stavby'!AN19)
E26: =IF('Rekapitulace stavby'!E20="","",'Rekapitulace stavby'!E20) | I26: DIČ: | J26: =IF('Rekapitulace stavby'!AN20="","",'Rekapitulace stavby'!AN20)
D28: Poznámka:
D32: Cena bez DPH | J32: =ROUND(J90, 2) -> 0
F34: Základ daně | I34: Sazba daně | J34: Výše daně
D35: DPH | E35: základní | F35: =ROUND((SUM(BE90:BE288)), 2) -> 0 | I35: 0.21 | J35: =ROUND(((SUM(BE90:BE288))*I35), 2) -> 0
E36: snížená | F36: =ROUND((SUM(BF90:BF288)), 2) -> 0 | I36: 0.15 | J36: =ROUND(((SUM(BF90:BF288))*I36), 2) -> 0
E37: zákl. přenesená | F37: =ROUND((SUM(BG90:BG288)), 2) -> 0 | I37: 0.21 | J37: =0 -> 0
E38: sníž. přenesená | F38: =ROUND((SUM(BH90:BH288)), 2) -> 0 | I38: 0.15 | J38: =0 -> 0
E39: nulová | F39: =ROUND((SUM(BI90:BI288)), 2) -> 0 | I39: 0 | J39: =0 -> 0
D41: Cena s DPH | G41: v | H41: CZK | J41: =SUM(J32:J39) -> 0
C47: REKAPITULACE ČLENĚNÍ SOUPISU PRACÍ
C49: Stavba:
E50: =E7 -> Brniště - účelová komunikace k RD Hlemýždí
C51: Objekt:
E52: SO 301 - Vodovod
C53: Soupis:
E54: =E11 -> SO 301.1 - Vodovodní řad
C56: Místo: | F56: =F14 | I56: Datum: | J56: =IF(J14="","",J14) -> vyplň údaj
C58: Zadavatel: | F58: =E17 -> Obec Brniště | I58: Projektant: | J58: =E23
C59: Uchazeč: | F59: =IF(E20="","",E20) -> Vyplň údaj | I59: Zpracovatel: | J59: =E26
C61: Kód dílu - Popis | J61: Cena celkem [CZK]
C63: Náklady ze soupisu prací | J63: =J90 -> 0 | AU63: -1
...

Sheet SO 301.2 - Vodovodní příp...
AT2: {4ee764f7-308f-47a6-9977-43cc48cd6e64}
AT3: 2
D4: KRYCÍ LIST SOUPISU PRACÍ | M4: v --- níže se nacházejí doplnkové a pomocné údaje k sestavám --- v | AT4: False
D6: Stavba:
E7: ='Rekapitulace stavby'!K6 -> Brniště - účelová komunikace k RD Hlemýždí
D8: Objekt:
E9: SO 301 - Vodovod
D10: Soupis:
E11: SO 301.2 - Vodovodní přípojka
D13: KSO: | I13: CC-CZ:
D14: Místo: | I14: Datum: | J14: ='Rekapitulace stavby'!AN8 -> vyplň údaj
D16: Zadavatel: | I16: IČ: | J16: =IF('Rekapitulace stavby'!AN10="","",'Rekapitulace stavby'!AN10) -> 002 60 401
E17: =IF('Rekapitulace stavby'!E11="","",'Rekapitulace stavby'!E11) -> Obec Brniště | I17: DIČ: | J17: =IF('Rekapitulace stavby'!AN11="","",'Rekapitulace stavby'!AN11)
D19: Uchazeč: | I19: IČ: | J19: ='Rekapitulace stavby'!AN13 -> Vyplň údaj
E20: ='Rekapitulace stavby'!E14 -> Vyplň údaj | I20: DIČ: | J20: ='Rekapitulace stavby'!AN14 -> Vyplň údaj
D22: Projektant: | I22: IČ: | J22: =IF('Rekapitulace stavby'!AN16="","",'Rekapitulace stavby'!AN16)
E23: =IF('Rekapitulace stavby'!E17="","",'Rekapitulace stavby'!E17) | I23: DIČ: | J23: =IF('Rekapitulace stavby'!AN17="","",'Rekapitulace stavby'!AN17)
D25: Zpracovatel: | I25: IČ: | J25: =IF('Rekapitulace stavby'!AN19="","",'Rekapitulace stavby'!AN19)
E26: =IF('Rekapitulace stavby'!E20="","",'Rekapitulace stavby'!E20) | I26: DIČ: | J26: =IF('Rekapitulace stavby'!AN20="","",'Rekapitulace stavby'!AN20)
D28: Poznámka:
D32: Cena bez DPH | J32: =ROUND(J90, 2) -> 0
F34: Základ daně | I34: Sazba daně | J34: Výše daně
D35: DPH | E35: základní | F35: =ROUND((SUM(BE90:BE309)), 2) -> 0 | I35: 0.21 | J35: =ROUND(((SUM(BE90:BE309))*I35), 2) -> 0
E36: snížená | F36: =ROUND((SUM(BF90:BF309)), 2) -> 0 | I36: 0.15 | J36: =ROUND(((SUM(BF90:BF309))*I36), 2) -> 0
E37: zákl. přenesená | F37: =ROUND((SUM(BG90:BG309)), 2) -> 0 | I37: 0.21 | J37: =0 -> 0
E38: sníž. přenesená | F38: =ROUND((SUM(BH90:BH309)), 2) -> 0 | I38: 0.15 | J38: =0 -> 0
E39: nulová | F39: =ROUND((SUM(BI90:BI309)), 2) -> 0 | I39: 0 | J39: =0 -> 0
D41: Cena s DPH | G41: v | H41: CZK | J41: =SUM(J32:J39) -> 0
C47: REKAPITULACE ČLENĚNÍ SOUPISU PRACÍ
C49: Stavba:
E50: =E7 -> Brniště - účelová komunikace k RD Hlemýždí
C51: Objekt:
E52: SO 301 - Vodovod
C53: Soupis:
E54: =E11 -> SO 301.2 - Vodovodní přípojka
C56: Místo: | F56: =F14 | I56: Datum: | J56: =IF(J14="","",J14) -> vyplň údaj
C58: Zadavatel: | F58: =E17 -> Obec Brniště | I58: Projektant: | J58: =E23
C59: Uchazeč: | F59: =IF(E20="","",E20) -> Vyplň údaj | I59: Zpracovatel: | J59: =E26
C61: Kód dílu - Popis | J61: Cena celkem [CZK]
C63: Náklady ze soupisu prací | J63: =J90 -> 0 | AU63: -1
...

Sheet SO 301.3 - Přeložka vodovodu
AT2: {c6c4d063-5c5b-47b7-862d-baa3f636dbef}
AT3: 2
D4: KRYCÍ LIST SOUPISU PRACÍ | M4: v --- níže se nacházejí doplnkové a pomocné údaje k sestavám --- v | AT4: False
D6: Stavba:
E7: ='Rekapitulace stavby'!K6 -> Brniště - účelová komunikace k RD Hlemýždí
D8: Objekt:
E9: SO 301 - Vodovod
D10: Soupis:
E11: SO 301.3 - Přeložka vodovodu
D13: KSO: | I13: CC-CZ:
D14: Místo: | I14: Datum: | J14: ='Rekapitulace stavby'!AN8 -> vyplň údaj
D16: Zadavatel: | I16: IČ: | J16: =IF('Rekapitulace stavby'!AN10="","",'Rekapitulace stavby'!AN10) -> 002 60 401
E17: =IF('Rekapitulace stavby'!E11="","",'Rekapitulace stavby'!E11) -> Obec Brniště | I17: DIČ: | J17: =IF('Rekapitulace stavby'!AN11="","",'Rekapitulace stavby'!AN11)
D19: Uchazeč: | I19: IČ: | J19: ='Rekapitulace stavby'!AN13 -> Vyplň údaj
E20: ='Rekapitulace stavby'!E14 -> Vyplň údaj | I20: DIČ: | J20: ='Rekapitulace stavby'!AN14 -> Vyplň údaj
D22: Projektant: | I22: IČ: | J22: =IF('Rekapitulace stavby'!AN16="","",'Rekapitulace stavby'!AN16)
E23: =IF('Rekapitulace stavby'!E17="","",'Rekapitulace stavby'!E17) | I23: DIČ: | J23: =IF('Rekapitulace stavby'!AN17="","",'Rekapitulace stavby'!AN17)
D25: Zpracovatel: | I25: IČ: | J25: =IF('Rekapitulace stavby'!AN19="","",'Rekapitulace stavby'!AN19)
E26: =IF('Rekapitulace stavby'!E20="","",'Rekapitulace stavby'!E20) | I26: DIČ: | J26: =IF('Rekapitulace stavby'!AN20="","",'Rekapitulace stavby'!AN20)
D28: Poznámka:
D32: Cena bez DPH | J32: =ROUND(J90, 2) -> 0
F34: Základ daně | I34: Sazba daně | J34: Výše daně
D35: DPH | E35: základní | F35: =ROUND((SUM(BE90:BE340)), 2) -> 0 | I35: 0.21 | J35: =ROUND(((SUM(BE90:BE340))*I35), 2) -> 0
E36: snížená | F36: =ROUND((SUM(BF90:BF340)), 2) -> 0 | I36: 0.15 | J36: =ROUND(((SUM(BF90:BF340))*I36), 2) -> 0
E37: zákl. přenesená | F37: =ROUND((SUM(BG90:BG340)), 2) -> 0 | I37: 0.21 | J37: =0 -> 0
E38: sníž. přenesená | F38: =ROUND((SUM(BH90:BH340)), 2) -> 0 | I38: 0.15 | J38: =0 -> 0
E39: nulová | F39: =ROUND((SUM(BI90:BI340)), 2) -> 0 | I39: 0 | J39: =0 -> 0
D41: Cena s DPH | G41: v | H41: CZK | J41: =SUM(J32:J39) -> 0
C47: REKAPITULACE ČLENĚNÍ SOUPISU PRACÍ
C49: Stavba:
E50: =E7 -> Brniště - účelová komunikace k RD Hlemýždí
C51: Objekt:
E52: SO 301 - Vodovod
C53: Soupis:
E54: =E11 -> SO 301.3 - Přeložka vodovodu
C56: Místo: | F56: =F14 | I56: Datum: | J56: =IF(J14="","",J14) -> vyplň údaj
C58: Zadavatel: | F58: =E17 -> Obec Brniště | I58: Projektant: | J58: =E23
C59: Uchazeč: | F59: =IF(E20="","",E20) -> Vyplň údaj | I59: Zpracovatel: | J59: =E26
C61: Kód dílu - Popis | J61: Cena celkem [CZK]
C63: Náklady ze soupisu prací | J63: =J90 -> 0 | AU63: -1
...

Sheet VON - Vedlejší a ostatní ...
AT2: {6f7da7bb-8935-4ee7-bb26-a9fc186b66f1}
AT3: 2
D4: KRYCÍ LIST SOUPISU PRACÍ | M4: v --- níže se nacházejí doplnkové a pomocné údaje k sestavám --- v | AT4: False
D6: Stavba:
E7: ='Rekapitulace stavby'!K6 -> Brniště - účelová komunikace k RD Hlemýždí
D8: Objekt:
E9: SO 301 - Vodovod
D10: Soupis:
E11: VON - Vedlejší a ostatní náklady
D13: KSO: | I13: CC-CZ:
D14: Místo: | I14: Datum: | J14: ='Rekapitulace stavby'!AN8 -> vyplň údaj
D16: Zadavatel: | I16: IČ: | J16: =IF('Rekapitulace stavby'!AN10="","",'Rekapitulace stavby'!AN10) -> 002 60 401
E17: =IF('Rekapitulace stavby'!E11="","",'Rekapitulace stavby'!E11) -> Obec Brniště | I17: DIČ: | J17: =IF('Rekapitulace stavby'!AN11="","",'Rekapitulace stavby'!AN11)
D19: Uchazeč: | I19: IČ: | J19: ='Rekapitulace stavby'!AN13 -> Vyplň údaj
E20: ='Rekapitulace stavby'!E14 -> Vyplň údaj | I20: DIČ: | J20: ='Rekapitulace stavby'!AN14 -> Vyplň údaj
D22: Projektant: | I22: IČ: | J22: =IF('Rekapitulace stavby'!AN16="","",'Rekapitulace stavby'!AN16)
E23: =IF('Rekapitulace stavby'!E17="","",'Rekapitulace stavby'!E17) | I23: DIČ: | J23: =IF('Rekapitulace stavby'!AN17="","",'Rekapitulace stavby'!AN17)
D25: Zpracovatel: | I25: IČ: | J25: =IF('Rekapitulace stavby'!AN19="","",'Rekapitulace stavby'!AN19)
E26: =IF('Rekapitulace stavby'!E20="","",'Rekapitulace stavby'!E20) | I26: DIČ: | J26: =IF('Rekapitulace stavby'!AN20="","",'Rekapitulace stavby'!AN20)
D28: Poznámka:
D32: Cena bez DPH | J32: =ROUND(J92, 2) -> 0
F34: Základ daně | I34: Sazba daně | J34: Výše daně
D35: DPH | E35: základní | F35: =ROUND((SUM(BE92:BE123)), 2) -> 0 | I35: 0.21 | J35: =ROUND(((SUM(BE92:BE123))*I35), 2) -> 0
E36: snížená | F36: =ROUND((SUM(BF92:BF123)), 2) -> 0 | I36: 0.15 | J36: =ROUND(((SUM(BF92:BF123))*I36), 2) -> 0
E37: zákl. přenesená | F37: =ROUND((SUM(BG92:BG123)), 2) -> 0 | I37: 0.21 | J37: =0 -> 0
E38: sníž. přenesená | F38: =ROUND((SUM(BH92:BH123)), 2) -> 0 | I38: 0.15 | J38: =0 -> 0
E39: nulová | F39: =ROUND((SUM(BI92:BI123)), 2) -> 0 | I39: 0 | J39: =0 -> 0
D41: Cena s DPH | G41: v | H41: CZK | J41: =SUM(J32:J39) -> 0
C47: REKAPITULACE ČLENĚNÍ SOUPISU PRACÍ
C49: Stavba:
E50: =E7 -> Brniště - účelová komunikace k RD Hlemýždí
C51: Objekt:
E52: SO 301 - Vodovod
C53: Soupis:
E54: =E11 -> VON - Vedlejší a ostatní náklady
C56: Místo: | F56: =F14 | I56: Datum: | J56: =IF(J14="","",J14) -> vyplň údaj
C58: Zadavatel: | F58: =E17 -> Obec Brniště | I58: Projektant: | J58: =E23
C59: Uchazeč: | F59: =IF(E20="","",E20) -> Vyplň údaj | I59: Zpracovatel: | J59: =E26
C61: Kód dílu - Popis | J61: Cena celkem [CZK]
C63: Náklady ze soupisu prací | J63: =J92 -> 0 | AU63: -1
...

Sheet SO 401 - Veřejné osvětlení
AT2: {ee2bc877-9eed-4423-b7b9-f5cdb0ea93cf}
AT3: 2
D4: KRYCÍ LIST SOUPISU PRACÍ | M4: v --- níže se nacházejí doplnkové a pomocné údaje k sestavám --- v | AT4: False
D6: Stavba:
E7: ='Rekapitulace stavby'!K6 -> Brniště - účelová komunikace k RD Hlemýždí
D8: Objekt:
E9: SO 401 - Veřejné osvětlení
D11: KSO: | I11: CC-CZ:
D12: Místo: | F12: Hlemýždí | I12: Datum: | J12: ='Rekapitulace stavby'!AN8 -> vyplň údaj
D14: Zadavatel: | I14: IČ: | J14: 002 60 401
E15: Obec Brniště | I15: DIČ:
D17: Uchazeč: | I17: IČ: | J17: ='Rekapitulace stavby'!AN13 -> Vyplň údaj
E18: ='Rekapitulace stavby'!E14 -> Vyplň údaj | I18: DIČ: | J18: ='Rekapitulace stavby'!AN14 -> Vyplň údaj
D20: Projektant: | I20: IČ: | J20: =IF('Rekapitulace stavby'!AN16="","",'Rekapitulace stavby'!AN16)
E21: =IF('Rekapitulace stavby'!E17="","",'Rekapitulace stavby'!E17) | I21: DIČ: | J21: =IF('Rekapitulace stavby'!AN17="","",'Rekapitulace stavby'!AN17)
D23: Zpracovatel: | I23: IČ: | J23: =IF('Rekapitulace stavby'!AN19="","",'Rekapitulace stavby'!AN19)
E24: =IF('Rekapitulace stavby'!E20="","",'Rekapitulace stavby'!E20) | I24: DIČ: | J24: =IF('Rekapitulace stavby'!AN20="","",'Rekapitulace stavby'!AN20)
D26: Poznámka:
D30: Cena bez DPH | J30: =ROUND(J82, 2) -> 0
F32: Základ daně | I32: Sazba daně | J32: Výše daně
D33: DPH | E33: základní | F33: =ROUND((SUM(BE82:BE159)), 2) -> 0 | I33: 0.21 | J33: =ROUND(((SUM(BE82:BE159))*I33), 2) -> 0
E34: snížená | F34: =ROUND((SUM(BF82:BF159)), 2) -> 0 | I34: 0.15 | J34: =ROUND(((SUM(BF82:BF159))*I34), 2) -> 0
E35: zákl. přenesená | F35: =ROUND((SUM(BG82:BG159)), 2) -> 0 | I35: 0.21 | J35: =0 -> 0
E36: sníž. přenesená | F36: =ROUND((SUM(BH82:BH159)), 2) -> 0 | I36: 0.15 | J36: =0 -> 0
E37: nulová | F37: =ROUND((SUM(BI82:BI159)), 2) -> 0 | I37: 0 | J37: =0 -> 0
D39: Cena s DPH | G39: v | H39: CZK | J39: =SUM(J30:J37) -> 0
C45: REKAPITULACE ČLENĚNÍ SOUPISU PRACÍ
C47: Stavba:
E48: =E7 -> Brniště - účelová komunikace k RD Hlemýždí
C49: Objekt:
E50: =E9 -> SO 401 - Veřejné osvětlení
C52: Místo: | F52: =F12 -> Hlemýždí | I52: Datum: | J52: =IF(J12="","",J12) -> vyplň údaj
C54: Zadavatel: | F54: =E15 -> Obec Brniště | I54: Projektant: | J54: =E21
C55: Uchazeč: | F55: =IF(E18="","",E18) -> Vyplň údaj | I55: Zpracovatel: | J55: =E24
C57: Kód dílu - Popis | J57: Cena celkem [CZK]
C59: Náklady ze soupisu prací | J59: =J82 -> 0 | AU59: -1
D60: D1 - VEŘEJNÉ OSVĚTLENÍ | J60: =J83 -> 0
D61: D3 - ZEMNÍ PRÁCE | J61: =J126 -> 0
D62: D4 - PŘIDRUŽENÉ NÁKLADY | J62: =J147 -> 0
C69: SOUPIS PRACÍ
...
