Workbook

Sheet Krycí list rozpočtu
C1: Krycí list slepého rozpočtu
A2: Název stavby: | C2: ='Stavební rozpočet'!C2 -> Oprava komunikace pro pěší u č.p.332-337, Ralsko-Ploužnice | E2: Objednatel: | F2: ='Stavební rozpočet'!I2 | H2: IČ/DIČ:
A4: Druh stavby: | C4: ='Stavební rozpočet'!C4 | E4: Projektant: | F4: ='Stavební rozpočet'!I4 | H4: IČ/DIČ:
A6: Lokalita: | C6: ='Stavební rozpočet'!C6 | E6: Zhotovitel: | F6: ='Stavební rozpočet'!I6 | H6: IČ/DIČ:
A8: Začátek výstavby: | E8: Konec výstavby: | H8: Položek: | I8: 32
A10: JKSO: | C10: ='Stavební rozpočet'!C8 | E10: Zpracoval: | F10: ='Stavební rozpočet'!I8 | H10: Datum:
A12: Rozpočtové náklady v Kč
A13: A | B13: Základní rozpočtové náklady | D13: B | E13: Doplňkové náklady | G13: C | H13: Náklady na umístění stavby (NUS)
A14: HSV | B14: Dodávky | C14: =SUM('Stavební rozpočet'!AB12:AB56) -> 0 | D14: Práce přesčas | F14: 0 | G14: Zařízení staveniště | I14: 0
B15: Montáž | C15: =SUM('Stavební rozpočet'!AC12:AC56) -> 0 | D15: Bez pevné podl. | F15: 0 | G15: Mimostav. doprava | I15: 0
A16: PSV | B16: Dodávky | C16: =SUM('Stavební rozpočet'!AD12:AD56) -> 0 | D16: Kulturní památka | F16: 0 | G16: Územní vlivy | I16: 0
B17: Montáž | C17: =SUM('Stavební rozpočet'!AE12:AE56) -> 0 | D17: Vedlejší náklady | F17: 0 | G17: Provozní vlivy | I17: 0
A18: "M" | B18: Dodávky | C18: =SUM('Stavební rozpočet'!AF12:AF56) -> 0 | G18: Ostatní | I18: 0
B19: Montáž | C19: =SUM('Stavební rozpočet'!AG12:AG56) -> 0 | G19: NUS z rozpočtu | I19: 0
A20: Ostatní materiál | C20: =SUM('Stavební rozpočet'!AH12:AH56) -> 0
A21: Přesun hmot a sutí | C21: =SUM('Stavební rozpočet'!Z12:Z56) -> 0
A22: ZRN celkem | C22: =SUM(C14:C21) -> 0 | D22: DN celkem | F22: =SUM(F14:F21) -> 0 | G22: NUS celkem | I22: =SUM(I14:I21) -> 0
D23: DN celkem z obj. | F23: 0 | G23: NUS celkem z obj. | I23: 0
G24: ORN celkem
G25: ORN celkem z obj. | I25: 0
A27: Základ 0% | C27: =SUM('Stavební rozpočet'!AJ12:AJ56) -> 0
A28: Základ 15% | C28: =SUM('Stavební rozpočet'!AK12:AK56) -> 0 | D28: DPH 15% | F28: =ROUND(C28*(15/100),2) -> 0 | G28: Celkem bez DPH | I28: =SUM(C27:C29) -> 0
A29: Základ 21% | C29: =SUM('Stavební rozpočet'!AL12:AL56)+(F22+I22+F23+I23+I24+I25) -> 0 | D29: DPH 21% | F29: =ROUND(C29*(21/100),2) -> 0 | G29: Celkem včetně DPH | I29: =SUM(F28:F29)+I28 -> 0
A31: Projektant | D31: Objednatel | G31: Zhotovitel
A35: Datum, razítko a podpis | D35: Datum, razítko a podpis | G35: Datum, razítko a podpis
A36: Poznámka:

Sheet Stavební rozpočet - součet
A1: Slepý stavební rozpočet - rekapitulace
A2: Název stavby: | B2: ='Stavební rozpočet'!C2 -> Oprava komunikace pro pěší u č.p.332-337, Ralsko-Ploužnice | D2: Objednatel: | E2: ='Stavební rozpočet'!I2
A4: Druh stavby: | B4: ='Stavební rozpočet'!C4 | D4: Projektant: | E4: ='Stavební rozpočet'!I4
A6: Lokalita: | B6: ='Stavební rozpočet'!C6 | D6: Zhotovitel: | E6: ='Stavební rozpočet'!I6
A8: Zpracoval: | B8: ='Stavební rozpočet'!I8 | D8: Zpracováno dne:
A10: Objekt | B10: Kód | C10: Zkrácený popis | E10: Náklady (Kč) - dodávka | F10: Náklady (Kč) - Montáž | G10: Náklady (Kč) - celkem
B11: 11 | C11: Přípravné a přidružené práce | E11: ='Stavební rozpočet'!I12 -> 0 | F11: ='Stavební rozpočet'!J12 -> 0 | G11: ='Stavební rozpočet'!K12 -> 0 | H11: T | I11: =IF(H11="F",0,G11) -> 0
B12: 12 | C12: Odkopávky a prokopávky | E12: ='Stavební rozpočet'!I17 -> 0 | F12: ='Stavební rozpočet'!J17 -> 0 | G12: ='Stavební rozpočet'!K17 -> 0 | H12: T | I12: =IF(H12="F",0,G12) -> 0
B13: 13 | C13: Hloubené vykopávky | E13: ='Stavební rozpočet'!I20 -> 0 | F13: ='Stavební rozpočet'!J20 -> 0 | G13: ='Stavební rozpočet'!K20 -> 0 | H13: T | I13: =IF(H13="F",0,G13) -> 0
B14: 16 | C14: Přemístění výkopku | E14: ='Stavební rozpočet'!I23 -> 0 | F14: ='Stavební rozpočet'!J23 -> 0 | G14: ='Stavební rozpočet'!K23 -> 0 | H14: T | I14: =IF(H14="F",0,G14) -> 0
B15: 17 | C15: Konstrukce ze zemin | E15: ='Stavební rozpočet'!I26 -> 0 | F15: ='Stavební rozpočet'!J26 -> 0 | G15: ='Stavební rozpočet'!K26 -> 0 | H15: T | I15: =IF(H15="F",0,G15) -> 0
B16: 18 | C16: Povrchové úpravy terénu | E16: ='Stavební rozpočet'!I28 -> 0 | F16: ='Stavební rozpočet'!J28 -> 0 | G16: ='Stavební rozpočet'!K28 -> 0 | H16: T | I16: =IF(H16="F",0,G16) -> 0
B17: 56 | C17: Podkladní vrstvy komunikací, letišť a ploch | E17: ='Stavební rozpočet'!I30 -> 0 | F17: ='Stavební rozpočet'!J30 -> 0 | G17: ='Stavební rozpočet'!K30 -> 0 | H17: T | I17: =IF(H17="F",0,G17) -> 0
B18: 59 | C18: Kryty pozemních komunikací, letišť a ploch dlážděných (předlažby) | E18: ='Stavební rozpočet'!I32 -> 0 | F18: ='Stavební rozpočet'!J32 -> 0 | G18: ='Stavební rozpočet'!K32 -> 0 | H18: T | I18: =IF(H18="F",0,G18) -> 0
B19: 91 | C19: Doplňující konstrukce a práce na pozemních komunikacích a zpevněných plochách | E19: ='Stavební rozpočet'!I35 -> 0 | F19: ='Stavební rozpočet'!J35 -> 0 | G19: ='Stavební rozpočet'!K35 -> 0 | H19: T | I19: =IF(H19="F",0,G19) -> 0
B20: 95 | C20: Různé dokončovací konstrukce a práce na pozemních stavbách | E20: ='Stavební rozpočet'!I45 -> 0 | F20: ='Stavební rozpočet'!J45 -> 0 | G20: ='Stavební rozpočet'!K45 -> 0 | H20: T | I20: =IF(H20="F",0,G20) -> 0
B21: H22 | C21: Komunikace pozemní a letiště | E21: ='Stavební rozpočet'!I47 -> 0 | F21: ='Stavební rozpočet'!J47 -> 0 | G21: ='Stavební rozpočet'!K47 -> 0 | H21: T | I21: =IF(H21="F",0,G21) -> 0
B22: S | C22: Přesuny sutí | E22: ='Stavební rozpočet'!I49 -> 0 | F22: ='Stavební rozpočet'!J49 -> 0 | G22: ='Stavební rozpočet'!K49 -> 0 | H22: T | I22: =IF(H22="F",0,G22) -> 0
B23: VRN | C23: Vedlejší rozpočtové náklady | E23: ='Stavební rozpočet'!I53 -> 0 | F23: ='Stavební rozpočet'!J53 -> 0 | G23: ='Stavební rozpočet'!K53 -> 0 | H23: T | I23: =IF(H23="F",0,G23) -> 0
F25: Celkem: | G25: =SUM(I11:I23) -> 0

Sheet Stavební rozpočet
A1: Slepý stavební rozpočet
A2: Název stavby: | C2: Oprava komunikace pro pěší u č.p.332-337, Ralsko-Ploužnice | D2: Doba výstavby: | H2: Objednatel:
A4: Druh stavby: | D4: Začátek výstavby: | H4: Projektant:
A6: Lokalita: | D6: Konec výstavby: | H6: Zhotovitel:
A8: JKSO: | D8: Zpracováno dne: | H8: Zpracoval:
A10: Č | B10: Kód | C10: Zkrácený popis / Varianta | F10: MJ | G10: Množství | H10: Cena/MJ | I10: Náklady (Kč) | L10: Cenová
C11: Rozměry | H11: (Kč) | I11: Dodávka | J11: Montáž | K11: Celkem | L11: soustava | Z11: Přesuny | AA11: Typ skupiny | AB11: HSV mat | AC11: HSV prac | AD11: PSV mat | AE11: PSV prac | AF11: Mont mat | AG11: Mont prac | AH11: Ostatní mat. | BH11: MAT | BI11: WORK | BJ11: CELK
B12: 11 | C12: Přípravné a přidružené práce | I12: =SUM(I13:I16) -> 0 | J12: =SUM(J13:J16) -> 0 | K12: =SUM(K13:K16) -> 0 | AS12: =SUM(AJ13:AJ16) -> 0 | AT12: =SUM(AK13:AK16) -> 0 | AU12: =SUM(AL13:AL16) -> 0
A13: 1 | B13: 113106231R00 | C13: Rozebrání dlažeb ze zámkové dlažby | F13: m2 | G13: 7.233 | H13: 0 | I13: =G13*AO13 -> 0 | J13: =G13*AP13 -> 0 | K13: =G13*H13 -> 0 | L13: RTS I / 2019 | Z13: =IF(AQ13="5",BJ13,0) -> 0 | AB13: =IF(AQ13="1",BH13,0) -> 0 | AC13: =IF(AQ13="1",BI13,0) -> 0 | AD13: =IF(AQ13="7",BH13,0) -> 0 | AE13: =IF(AQ13="7",BI13,0) -> 0 | AF13: =IF(AQ13="2",BH13,0) -> 0 | AG13: =IF(AQ13="2",BI13,0) -> 0 | AH13: =IF(AQ13="0",BJ13,0) -> 0 | AJ13: =IF(AN13=0,K13,0) -> 0 | AK13: =IF(AN13=15,K13,0) -> 0 | AL13: =IF(AN13=21,K13,0) -> 0 | AN13: 21 | AO13: =H13*0 -> 0 | AP13: =H13*(1-0) -> 0 | AQ13: 1 | AV13: =AW13+AX13 -> 0 | AW13: =G13*AO13 -> 0 | AX13: =G13*AP13 -> 0 | AY13: 11_ | AZ13: 1_ | BA13: _ | BC13: =AW13+AX13 -> 0 | BD13: =H13/(100-BE13)*100 -> 0 | BE13: 0 | BF13: =13 -> 13 | BH13: =G13*AO13 -> 0 | BI13: =G13*AP13 -> 0 | BJ13: =G13*H13 -> 0
A14: 2 | B14: 113108305R00 | C14: Odstranění asfaltové vrstvy pl.do 50 m2, tl. 5 cm | F14: m2 | G14: 542.767 | H14: 0 | I14: =G14*AO14 -> 0 | J14: =G14*AP14 -> 0 | K14: =G14*H14 -> 0 | L14: RTS I / 2019 | Z14: =IF(AQ14="5",BJ14,0) -> 0 | AB14: =IF(AQ14="1",BH14,0) -> 0 | AC14: =IF(AQ14="1",BI14,0) -> 0 | AD14: =IF(AQ14="7",BH14,0) -> 0 | AE14: =IF(AQ14="7",BI14,0) -> 0 | AF14: =IF(AQ14="2",BH14,0) -> 0 | AG14: =IF(AQ14="2",BI14,0) -> 0 | AH14: =IF(AQ14="0",BJ14,0) -> 0 | AJ14: =IF(AN14=0,K14,0) -> 0 | AK14: =IF(AN14=15,K14,0) -> 0 | AL14: =IF(AN14=21,K14,0) -> 0 | AN14: 21 | AO14: =H14*0 -> 0 | AP14: =H14*(1-0) -> 0 | AQ14: 1 | AV14: =AW14+AX14 -> 0 | AW14: =G14*AO14 -> 0 | AX14: =G14*AP14 -> 0 | AY14: 11_ | AZ14: 1_ | BA14: _ | BC14: =AW14+AX14 -> 0 | BD14: =H14/(100-BE14)*100 -> 0 | BE14: 0 | BF14: =14 -> 14 | BH14: =G14*AO14 -> 0 | BI14: =G14*AP14 -> 0 | BJ14: =G14*H14 -> 0
A15: 3 | B15: 113111115R00 | C15: Odstranění podkladu pl.50 m2,kam.zpev.cem.tl.15 cm | F15: m2 | G15: 550 | H15: 0 | I15: =G15*AO15 -> 0 | J15: =G15*AP15 -> 0 | K15: =G15*H15 -> 0 | L15: RTS I / 2019 | Z15: =IF(AQ15="5",BJ15,0) -> 0 | AB15: =IF(AQ15="1",BH15,0) -> 0 | AC15: =IF(AQ15="1",BI15,0) -> 0 | AD15: =IF(AQ15="7",BH15,0) -> 0 | AE15: =IF(AQ15="7",BI15,0) -> 0 | AF15: =IF(AQ15="2",BH15,0) -> 0 | AG15: =IF(AQ15="2",BI15,0) -> 0 | AH15: =IF(AQ15="0",BJ15,0) -> 0 | AJ15: =IF(AN15=0,K15,0) -> 0 | AK15: =IF(AN15=15,K15,0) -> 0 | AL15: =IF(AN15=21,K15,0) -> 0 | AN15: 21 | AO15: =H15*0 -> 0 | AP15: =H15*(1-0) -> 0 | AQ15: 1 | AV15: =AW15+AX15 -> 0 | AW15: =G15*AO15 -> 0 | AX15: =G15*AP15 -> 0 | AY15: 11_ | AZ15: 1_ | BA15: _ | BC15: =AW15+AX15 -> 0 | BD15: =H15/(100-BE15)*100 -> 0 | BE15: 0 | BF15: =15 -> 15 | BH15: =G15*AO15 -> 0 | BI15: =G15*AP15 -> 0 | BJ15: =G15*H15 -> 0
A16: 4 | B16: 113201111R00 | C16: Vytrhání obrubníků chodníkových a parkových | F16: m | G16: 530.5 | H16: 0 | I16: =G16*AO16 -> 0 | J16: =G16*AP16 -> 0 | K16: =G16*H16 -> 0 | L16: RTS I / 2019 | Z16: =IF(AQ16="5",BJ16,0) -> 0 | AB16: =IF(AQ16="1",BH16,0) -> 0 | AC16: =IF(AQ16="1",BI16,0) -> 0 | AD16: =IF(AQ16="7",BH16,0) -> 0 | AE16: =IF(AQ16="7",BI16,0) -> 0 | AF16: =IF(AQ16="2",BH16,0) -> 0 | AG16: =IF(AQ16="2",BI16,0) -> 0 | AH16: =IF(AQ16="0",BJ16,0) -> 0 | AJ16: =IF(AN16=0,K16,0) -> 0 | AK16: =IF(AN16=15,K16,0) -> 0 | AL16: =IF(AN16=21,K16,0) -> 0 | AN16: 21 | AO16: =H16*0 -> 0 | AP16: =H16*(1-0) -> 0 | AQ16: 1 | AV16: =AW16+AX16 -> 0 | AW16: =G16*AO16 -> 0 | AX16: =G16*AP16 -> 0 | AY16: 11_ | AZ16: 1_ | BA16: _ | BC16: =AW16+AX16 -> 0 | BD16: =H16/(100-BE16)*100 -> 0 | BE16: 0 | BF16: =16 -> 16 | BH16: =G16*AO16 -> 0 | BI16: =G16*AP16 -> 0 | BJ16: =G16*H16 -> 0
B17: 12 | C17: Odkopávky a prokopávky | I17: =SUM(I18:I19) -> 0 | J17: =SUM(J18:J19) -> 0 | K17: =SUM(K18:K19) -> 0 | AS17: =SUM(AJ18:AJ19) -> 0 | AT17: =SUM(AK18:AK19) -> 0 | AU17: =SUM(AL18:AL19) -> 0
A18: 5 | B18: 122202201R00 | C18: Odkopávky pro silnice v hor. 3 do 100 m3 | F18: m3 | G18: 55 | H18: 0 | I18: =G18*AO18 -> 0 | J18: =G18*AP18 -> 0 | K18: =G18*H18 -> 0 | L18: RTS I / 2019 | Z18: =IF(AQ18="5",BJ18,0) -> 0 | AB18: =IF(AQ18="1",BH18,0) -> 0 | AC18: =IF(AQ18="1",BI18,0) -> 0 | AD18: =IF(AQ18="7",BH18,0) -> 0 | AE18: =IF(AQ18="7",BI18,0) -> 0 | AF18: =IF(AQ18="2",BH18,0) -> 0 | AG18: =IF(AQ18="2",BI18,0) -> 0 | AH18: =IF(AQ18="0",BJ18,0) -> 0 | AJ18: =IF(AN18=0,K18,0) -> 0 | AK18: =IF(AN18=15,K18,0) -> 0 | AL18: =IF(AN18=21,K18,0) -> 0 | AN18: 21 | AO18: =H18*0 -> 0 | AP18: =H18*(1-0) -> 0 | AQ18: 1 | AV18: =AW18+AX18 -> 0 | AW18: =G18*AO18 -> 0 | AX18: =G18*AP18 -> 0 | AY18: 12_ | AZ18: 1_ | BA18: _ | BC18: =AW18+AX18 -> 0 | BD18: =H18/(100-BE18)*100 -> 0 | BE18: 0 | BF18: =18 -> 18 | BH18: =G18*AO18 -> 0 | BI18: =G18*AP18 -> 0 | BJ18: =G18*H18 -> 0
A19: 6 | B19: 122202209R00 | C19: Příplatek za lepivost - odkop. pro silnice v hor.3 | F19: m3 | G19: 55 | H19: 0 | I19: =G19*AO19 -> 0 | J19: =G19*AP19 -> 0 | K19: =G19*H19 -> 0 | L19: RTS I / 2019 | Z19: =IF(AQ19="5",BJ19,0) -> 0 | AB19: =IF(AQ19="1",BH19,0) -> 0 | AC19: =IF(AQ19="1",BI19,0) -> 0 | AD19: =IF(AQ19="7",BH19,0) -> 0 | AE19: =IF(AQ19="7",BI19,0) -> 0 | AF19: =IF(AQ19="2",BH19,0) -> 0 | AG19: =IF(AQ19="2",BI19,0) -> 0 | AH19: =IF(AQ19="0",BJ19,0) -> 0 | AJ19: =IF(AN19=0,K19,0) -> 0 | AK19: =IF(AN19=15,K19,0) -> 0 | AL19: =IF(AN19=21,K19,0) -> 0 | AN19: 21 | AO19: =H19*0 -> 0 | AP19: =H19*(1-0) -> 0 | AQ19: 1 | AV19: =AW19+AX19 -> 0 | AW19: =G19*AO19 -> 0 | AX19: =G19*AP19 -> 0 | AY19: 12_ | AZ19: 1_ | BA19: _ | BC19: =AW19+AX19 -> 0 | BD19: =H19/(100-BE19)*100 -> 0 | BE19: 0 | BF19: =19 -> 19 | BH19: =G19*AO19 -> 0 | BI19: =G19*AP19 -> 0 | BJ19: =G19*H19 -> 0
B20: 13 | C20: Hloubené vykopávky | I20: =SUM(I21:I22) -> 0 | J20: =SUM(J21:J22) -> 0 | K20: =SUM(K21:K22) -> 0 | AS20: =SUM(AJ21:AJ22) -> 0 | AT20: =SUM(AK21:AK22) -> 0 | AU20: =SUM(AL21:AL22) -> 0
A21: 7 | B21: 132201110R00 | C21: Hloubení rýh š.do 60 cm v hor.3 do 50 m3 -pro obruby | F21: m3 | G21: 11.936 | H21: 0 | I21: =G21*AO21 -> 0 | J21: =G21*AP21 -> 0 | K21: =G21*H21 -> 0 | L21: RTS I / 2019 | Z21: =IF(AQ21="5",BJ21,0) -> 0 | AB21: =IF(AQ21="1",BH21,0) -> 0 | AC21: =IF(AQ21="1",BI21,0) -> 0 | AD21: =IF(AQ21="7",BH21,0) -> 0 | AE21: =IF(AQ21="7",BI21,0) -> 0 | AF21: =IF(AQ21="2",BH21,0) -> 0 | AG21: =IF(AQ21="2",BI21,0) -> 0 | AH21: =IF(AQ21="0",BJ21,0) -> 0 | AJ21: =IF(AN21=0,K21,0) -> 0 | AK21: =IF(AN21=15,K21,0) -> 0 | AL21: =IF(AN21=21,K21,0) -> 0 | AN21: 21 | AO21: =H21*0 -> 0 | AP21: =H21*(1-0) -> 0 | AQ21: 1 | AV21: =AW21+AX21 -> 0 | AW21: =G21*AO21 -> 0 | AX21: =G21*AP21 -> 0 | AY21: 13_ | AZ21: 1_ | BA21: _ | BC21: =AW21+AX21 -> 0 | BD21: =H21/(100-BE21)*100 -> 0 | BE21: 0 | BF21: =21 -> 21 | BH21: =G21*AO21 -> 0 | BI21: =G21*AP21 -> 0 | BJ21: =G21*H21 -> 0
A22: 8 | B22: 132201119R00 | C22: Přípl.za lepivost,hloubení rýh 60 cm,hor.3 -pro obruby | F22: m3 | G22: 11.936 | H22: 0 | I22: =G22*AO22 -> 0 | J22: =G22*AP22 -> 0 | K22: =G22*H22 -> 0 | L22: RTS I / 2019 | Z22: =IF(AQ22="5",BJ22,0) -> 0 | AB22: =IF(AQ22="1",BH22,0) -> 0 | AC22: =IF(AQ22="1",BI22,0) -> 0 | AD22: =IF(AQ22="7",BH22,0) -> 0 | AE22: =IF(AQ22="7",BI22,0) -> 0 | AF22: =IF(AQ22="2",BH22,0) -> 0 | AG22: =IF(AQ22="2",BI22,0) -> 0 | AH22: =IF(AQ22="0",BJ22,0) -> 0 | AJ22: =IF(AN22=0,K22,0) -> 0 | AK22: =IF(AN22=15,K22,0) -> 0 | AL22: =IF(AN22=21,K22,0) -> 0 | AN22: 21 | AO22: =H22*0 -> 0 | AP22: =H22*(1-0) -> 0 | AQ22: 1 | AV22: =AW22+AX22 -> 0 | AW22: =G22*AO22 -> 0 | AX22: =G22*AP22 -> 0 | AY22: 13_ | AZ22: 1_ | BA22: _ | BC22: =AW22+AX22 -> 0 | BD22: =H22/(100-BE22)*100 -> 0 | BE22: 0 | BF22: =22 -> 22 | BH22: =G22*AO22 -> 0 | BI22: =G22*AP22 -> 0 | BJ22: =G22*H22 -> 0
B23: 16 | C23: Přemístění výkopku | I23: =SUM(I24:I25) -> 0 | J23: =SUM(J24:J25) -> 0 | K23: =SUM(K24:K25) -> 0 | AS23: =SUM(AJ24:AJ25) -> 0 | AT23: =SUM(AK24:AK25) -> 0 | AU23: =SUM(AL24:AL25) -> 0
A24: 9 | B24: 162301102R00 | C24: Vodorovné přemístění výkopku z hor.1-4 do 1000 m | F24: m3 | G24: 66.936 | H24: 0 | I24: =G24*AO24 -> 0 | J24: =G24*AP24 -> 0 | K24: =G24*H24 -> 0 | L24: RTS I / 2019 | Z24: =IF(AQ24="5",BJ24,0) -> 0 | AB24: =IF(AQ24="1",BH24,0) -> 0 | AC24: =IF(AQ24="1",BI24,0) -> 0 | AD24: =IF(AQ24="7",BH24,0) -> 0 | AE24: =IF(AQ24="7",BI24,0) -> 0 | AF24: =IF(AQ24="2",BH24,0) -> 0 | AG24: =IF(AQ24="2",BI24,0) -> 0 | AH24: =IF(AQ24="0",BJ24,0) -> 0 | AJ24: =IF(AN24=0,K24,0) -> 0 | AK24: =IF(AN24=15,K24,0) -> 0 | AL24: =IF(AN24=21,K24,0) -> 0 | AN24: 21 | AO24: =H24*0 -> 0 | AP24: =H24*(1-0) -> 0 | AQ24: 1 | AV24: =AW24+AX24 -> 0 | AW24: =G24*AO24 -> 0 | AX24: =G24*AP24 -> 0 | AY24: 16_ | AZ24: 1_ | BA24: _ | BC24: =AW24+AX24 -> 0 | BD24: =H24/(100-BE24)*100 -> 0 | BE24: 0 | BF24: =24 -> 24 | BH24: =G24*AO24 -> 0 | BI24: =G24*AP24 -> 0 | BJ24: =G24*H24 -> 0
A25: 10 | B25: 167101101R00 | C25: Nakládání výkopku z hor.1-4 v množství do 100 m3 | F25: m3 | G25: 66.936 | H25: 0 | I25: =G25*AO25 -> 0 | J25: =G25*AP25 -> 0 | K25: =G25*H25 -> 0 | L25: RTS I / 2019 | Z25: =IF(AQ25="5",BJ25,0) -> 0 | AB25: =IF(AQ25="1",BH25,0) -> 0 | AC25: =IF(AQ25="1",BI25,0) -> 0 | AD25: =IF(AQ25="7",BH25,0) -> 0 | AE25: =IF(AQ25="7",BI25,0) -> 0 | AF25: =IF(AQ25="2",BH25,0) -> 0 | AG25: =IF(AQ25="2",BI25,0) -> 0 | AH25: =IF(AQ25="0",BJ25,0) -> 0 | AJ25: =IF(AN25=0,K25,0) -> 0 | AK25: =IF(AN25=15,K25,0) -> 0 | AL25: =IF(AN25=21,K25,0) -> 0 | AN25: 21 | AO25: =H25*0 -> 0 | AP25: =H25*(1-0) -> 0 | AQ25: 1 | AV25: =AW25+AX25 -> 0 | AW25: =G25*AO25 -> 0 | AX25: =G25*AP25 -> 0 | AY25: 16_ | AZ25: 1_ | BA25: _ | BC25: =AW25+AX25 -> 0 | BD25: =H25/(100-BE25)*100 -> 0 | BE25: 0 | BF25: =25 -> 25 | BH25: =G25*AO25 -> 0 | BI25: =G25*AP25 -> 0 | BJ25: =G25*H25 -> 0
B26: 17 | C26: Konstrukce ze zemin | I26: =SUM(I27:I27) -> 0 | J26: =SUM(J27:J27) -> 0 | K26: =SUM(K27:K27) -> 0 | AS26: =SUM(AJ27:AJ27) -> 0 | AT26: =SUM(AK27:AK27) -> 0 | AU26: =SUM(AL27:AL27) -> 0
A27: 11 | B27: 171201201R00 | C27: Uložení sypaniny na skl.-sypanina na výšku přes 2m -mezideponie investora | F27: m3 | G27: 66.936 | H27: 0 | I27: =G27*AO27 -> 0 | J27: =G27*AP27 -> 0 | K27: =G27*H27 -> 0 | L27: RTS I / 2019 | Z27: =IF(AQ27="5",BJ27,0) -> 0 | AB27: =IF(AQ27="1",BH27,0) -> 0 | AC27: =IF(AQ27="1",BI27,0) -> 0 | AD27: =IF(AQ27="7",BH27,0) -> 0 | AE27: =IF(AQ27="7",BI27,0) -> 0 | AF27: =IF(AQ27="2",BH27,0) -> 0 | AG27: =IF(AQ27="2",BI27,0) -> 0 | AH27: =IF(AQ27="0",BJ27,0) -> 0 | AJ27: =IF(AN27=0,K27,0) -> 0 | AK27: =IF(AN27=15,K27,0) -> 0 | AL27: =IF(AN27=21,K27,0) -> 0 | AN27: 21 | AO27: =H27*0 -> 0 | AP27: =H27*(1-0) -> 0 | AQ27: 1 | AV27: =AW27+AX27 -> 0 | AW27: =G27*AO27 -> 0 | AX27: =G27*AP27 -> 0 | AY27: 17_ | AZ27: 1_ | BA27: _ | BC27: =AW27+AX27 -> 0 | BD27: =H27/(100-BE27)*100 -> 0 | BE27: 0 | BF27: =27 -> 27 | BH27: =G27*AO27 -> 0 | BI27: =G27*AP27 -> 0 | BJ27: =G27*H27 -> 0
B28: 18 | C28: Povrchové úpravy terénu | I28: =SUM(I29:I29) -> 0 | J28: =SUM(J29:J29) -> 0 | K28: =SUM(K29:K29) -> 0 | AS28: =SUM(AJ29:AJ29) -> 0 | AT28: =SUM(AK29:AK29) -> 0 | AU28: =SUM(AL29:AL29) -> 0
A29: 12 | B29: 181202305R00 | C29: Úprava pláně komunikací na násypech se zhutněním | F29: m2 | G29: 550 | H29: 0 | I29: =G29*AO29 -> 0 | J29: =G29*AP29 -> 0 | K29: =G29*H29 -> 0 | L29: RTS I / 2019 | Z29: =IF(AQ29="5",BJ29,0) -> 0 | AB29: =IF(AQ29="1",BH29,0) -> 0 | AC29: =IF(AQ29="1",BI29,0) -> 0 | AD29: =IF(AQ29="7",BH29,0) -> 0 | AE29: =IF(AQ29="7",BI29,0) -> 0 | AF29: =IF(AQ29="2",BH29,0) -> 0 | AG29: =IF(AQ29="2",BI29,0) -> 0 | AH29: =IF(AQ29="0",BJ29,0) -> 0 | AJ29: =IF(AN29=0,K29,0) -> 0 | AK29: =IF(AN29=15,K29,0) -> 0 | AL29: =IF(AN29=21,K29,0) -> 0 | AN29: 21 | AO29: =H29*0 -> 0 | AP29: =H29*(1-0) -> 0 | AQ29: 1 | AV29: =AW29+AX29 -> 0 | AW29: =G29*AO29 -> 0 | AX29: =G29*AP29 -> 0 | AY29: 18_ | AZ29: 1_ | BA29: _ | BC29: =AW29+AX29 -> 0 | BD29: =H29/(100-BE29)*100 -> 0 | BE29: 0 | BF29: =29 -> 29 | BH29: =G29*AO29 -> 0 | BI29: =G29*AP29 -> 0 | BJ29: =G29*H29 -> 0
B30: 56 | C30: Podkladní vrstvy komunikací, letišť a ploch | I30: =SUM(I31:I31) -> 0 | J30: =SUM(J31:J31) -> 0 | K30: =SUM(K31:K31) -> 0 | AS30: =SUM(AJ31:AJ31) -> 0 | AT30: =SUM(AK31:AK31) -> 0 | AU30: =SUM(AL31:AL31) -> 0
A31: 13 | B31: 564861111R00 | C31: Podklad ze štěrkodrti po zhutnění tloušťky 20 cm (15+5) | F31: m2 | G31: 550 | H31: 0 | I31: =G31*AO31 -> 0 | J31: =G31*AP31 -> 0 | K31: =G31*H31 -> 0 | L31: RTS I / 2019 | Z31: =IF(AQ31="5",BJ31,0) -> 0 | AB31: =IF(AQ31="1",BH31,0) -> 0 | AC31: =IF(AQ31="1",BI31,0) -> 0 | AD31: =IF(AQ31="7",BH31,0) -> 0 | AE31: =IF(AQ31="7",BI31,0) -> 0 | AF31: =IF(AQ31="2",BH31,0) -> 0 | AG31: =IF(AQ31="2",BI31,0) -> 0 | AH31: =IF(AQ31="0",BJ31,0) -> 0 | AJ31: =IF(AN31=0,K31,0) -> 0 | AK31: =IF(AN31=15,K31,0) -> 0 | AL31: =IF(AN31=21,K31,0) -> 0 | AN31: 21 | AO31: =H31*0.864166666666667 -> 0 | AP31: =H31*(1-0.864166666666667) -> 0 | AQ31: 1 | AV31: =AW31+AX31 -> 0 | AW31: =G31*AO31 -> 0 | AX31: =G31*AP31 -> 0 | AY31: 56_ | AZ31: 5_ | BA31: _ | BC31: =AW31+AX31 -> 0 | BD31: =H31/(100-BE31)*100 -> 0 | BE31: 0 | BF31: =31 -> 31 | BH31: =G31*AO31 -> 0 | BI31: =G31*AP31 -> 0 | BJ31: =G31*H31 -> 0
B32: 59 | C32: Kryty pozemních komunikací, letišť a ploch dlážděných (předlažby) | I32: =SUM(I33:I34) -> 0 | J32: =SUM(J33:J34) -> 0 | K32: =SUM(K33:K34) -> 0 | AS32: =SUM(AJ33:AJ34) -> 0 | AT32: =SUM(AK33:AK34) -> 0 | AU32: =SUM(AL33:AL34) -> 0
A33: 14 | B33: 596215020R00 | C33: Kladení zámkové dlažby tl. 6 cm do drtě tl. 3 cm | F33: m2 | G33: 550 | H33: 0 | I33: =G33*AO33 -> 0 | J33: =G33*AP33 -> 0 | K33: =G33*H33 -> 0 | L33: RTS I / 2019 | Z33: =IF(AQ33="5",BJ33,0) -> 0 | AB33: =IF(AQ33="1",BH33,0) -> 0 | AC33: =IF(AQ33="1",BI33,0) -> 0 | AD33: =IF(AQ33="7",BH33,0) -> 0 | AE33: =IF(AQ33="7",BI33,0) -> 0 | AF33: =IF(AQ33="2",BH33,0) -> 0 | AG33: =IF(AQ33="2",BI33,0) -> 0 | AH33: =IF(AQ33="0",BJ33,0) -> 0 | AJ33: =IF(AN33=0,K33,0) -> 0 | AK33: =IF(AN33=15,K33,0) -> 0 | AL33: =IF(AN33=21,K33,0) -> 0 | AN33: 21 | AO33: =H33*0.122037409364927 -> 0 | AP33: =H33*(1-0.122037409364927) -> 0 | AQ33: 1 | AV33: =AW33+AX33 -> 0 | AW33: =G33*AO33 -> 0 | AX33: =G33*AP33 -> 0 | AY33: 59_ | AZ33: 5_ | BA33: _ | BC33: =AW33+AX33 -> 0 | BD33: =H33/(100-BE33)*100 -> 0 | BE33: 0 | BF33: =33 -> 33 | BH33: =G33*AO33 -> 0 | BI33: =G33*AP33 -> 0 | BJ33: =G33*H33 -> 0
A34: 15 | B34: 59245110 | C34: Dlažba vibrolisovaná, standardní povrch, přírodní (šedá) 20x10x6 | F34: m2 | G34: 577.5 | H34: 0 | I34: =G34*AO34 -> 0 | J34: =G34*AP34 -> 0 | K34: =G34*H34 -> 0 | L34: RTS I / 2019 | Z34: =IF(AQ34="5",BJ34,0) -> 0 | AB34: =IF(AQ34="1",BH34,0) -> 0 | AC34: =IF(AQ34="1",BI34,0) -> 0 | AD34: =IF(AQ34="7",BH34,0) -> 0 | AE34: =IF(AQ34="7",BI34,0) -> 0 | AF34: =IF(AQ34="2",BH34,0) -> 0 | AG34: =IF(AQ34="2",BI34,0) -> 0 | AH34: =IF(AQ34="0",BJ34,0) -> 0 | AJ34: =IF(AN34=0,K34,0) -> 0 | AK34: =IF(AN34=15,K34,0) -> 0 | AL34: =IF(AN34=21,K34,0) -> 0 | AN34: 21 | AO34: =H34*1 -> 0 | AP34: =H34*(1-1) -> 0 | AQ34: 1 | AV34: =AW34+AX34 -> 0 | AW34: =G34*AO34 -> 0 | AX34: =G34*AP34 -> 0 | AY34: 59_ | AZ34: 5_ | BA34: _ | BC34: =AW34+AX34 -> 0 | BD34: =H34/(100-BE34)*100 -> 0 | BE34: 0 | BF34: =34 -> 34 | BH34: =G34*AO34 -> 0 | BI34: =G34*AP34 -> 0 | BJ34: =G34*H34 -> 0
B35: 91 | C35: Doplňující konstrukce a práce na pozemních komunikacích a zpevněných plochách | I35: =SUM(I36:I44) -> 0 | J35: =SUM(J36:J44) -> 0 | K35: =SUM(K36:K44) -> 0 | AS35: =SUM(AJ36:AJ44) -> 0 | AT35: =SUM(AK36:AK44) -> 0 | AU35: =SUM(AL36:AL44) -> 0
A36: 16 | B36: 916661111R00 | C36: Osazení park. obrubníků do lože z C 12/15 s opěrou | F36: m | G36: 337.5 | H36: 0 | I36: =G36*AO36 -> 0 | J36: =G36*AP36 -> 0 | K36: =G36*H36 -> 0 | L36: RTS I / 2019 | Z36: =IF(AQ36="5",BJ36,0) -> 0 | AB36: =IF(AQ36="1",BH36,0) -> 0 | AC36: =IF(AQ36="1",BI36,0) -> 0 | AD36: =IF(AQ36="7",BH36,0) -> 0 | AE36: =IF(AQ36="7",BI36,0) -> 0 | AF36: =IF(AQ36="2",BH36,0) -> 0 | AG36: =IF(AQ36="2",BI36,0) -> 0 | AH36: =IF(AQ36="0",BJ36,0) -> 0 | AJ36: =IF(AN36=0,K36,0) -> 0 | AK36: =IF(AN36=15,K36,0) -> 0 | AL36: =IF(AN36=21,K36,0) -> 0 | AN36: 21 | AO36: =H36*0.635181836742428 -> 0 | AP36: =H36*(1-0.635181836742428) -> 0 | AQ36: 1 | AV36: =AW36+AX36 -> 0 | AW36: =G36*AO36 -> 0 | AX36: =G36*AP36 -> 0 | AY36: 91_ | AZ36: 9_ | BA36: _ | BC36: =AW36+AX36 -> 0 | BD36: =H36/(100-BE36)*100 -> 0 | BE36: 0 | BF36: =36 -> 36 | BH36: =G36*AO36 -> 0 | BI36: =G36*AP36 -> 0 | BJ36: =G36*H36 -> 0
A37: 17 | B37: 59217331 | C37: Obrubník parkový betonový ABO 12-20 1000/50/200 mm šedý | F37: kus | G37: 354.375 | H37: 0 | I37: =G37*AO37 -> 0 | J37: =G37*AP37 -> 0 | K37: =G37*H37 -> 0 | L37: RTS I / 2019 | Z37: =IF(AQ37="5",BJ37,0) -> 0 | AB37: =IF(AQ37="1",BH37,0) -> 0 | AC37: =IF(AQ37="1",BI37,0) -> 0 | AD37: =IF(AQ37="7",BH37,0) -> 0 | AE37: =IF(AQ37="7",BI37,0) -> 0 | AF37: =IF(AQ37="2",BH37,0) -> 0 | AG37: =IF(AQ37="2",BI37,0) -> 0 | AH37: =IF(AQ37="0",BJ37,0) -> 0 | AJ37: =IF(AN37=0,K37,0) -> 0 | AK37: =IF(AN37=15,K37,0) -> 0 | AL37: =IF(AN37=21,K37,0) -> 0 | AN37: 21 | AO37: =H37*1 -> 0 | AP37: =H37*(1-1) -> 0 | AQ37: 1 | AV37: =AW37+AX37 -> 0 | AW37: =G37*AO37 -> 0 | AX37: =G37*AP37 -> 0 | AY37: 91_ | AZ37: 9_ | BA37: _ | BC37: =AW37+AX37 -> 0 | BD37: =H37/(100-BE37)*100 -> 0 | BE37: 0 | BF37: =37 -> 37 | BH37: =G37*AO37 -> 0 | BI37: =G37*AP37 -> 0 | BJ37: =G37*H37 -> 0
A38: 18 | B38: 917762111R00 | C38: Osazení ležat. obrub. bet. s opěrou,lože z C 12/15 | F38: m | G38: 57.8 | H38: 0 | I38: =G38*AO38 -> 0 | J38: =G38*AP38 -> 0 | K38: =G38*H38 -> 0 | L38: RTS I / 2019 | Z38: =IF(AQ38="5",BJ38,0) -> 0 | AB38: =IF(AQ38="1",BH38,0) -> 0 | AC38: =IF(AQ38="1",BI38,0) -> 0 | AD38: =IF(AQ38="7",BH38,0) -> 0 | AE38: =IF(AQ38="7",BI38,0) -> 0 | AF38: =IF(AQ38="2",BH38,0) -> 0 | AG38: =IF(AQ38="2",BI38,0) -> 0 | AH38: =IF(AQ38="0",BJ38,0) -> 0 | AJ38: =IF(AN38=0,K38,0) -> 0 | AK38: =IF(AN38=15,K38,0) -> 0 | AL38: =IF(AN38=21,K38,0) -> 0 | AN38: 21 | AO38: =H38*0.503616902883703 -> 0 | AP38: =H38*(1-0.503616902883703) -> 0 | AQ38: 1 | AV38: =AW38+AX38 -> 0 | AW38: =G38*AO38 -> 0 | AX38: =G38*AP38 -> 0 | AY38: 91_ | AZ38: 9_ | BA38: _ | BC38: =AW38+AX38 -> 0 | BD38: =H38/(100-BE38)*100 -> 0 | BE38: 0 | BF38: =38 -> 38 | BH38: =G38*AO38 -> 0 | BI38: =G38*AP38 -> 0 | BJ38: =G38*H38 -> 0
A39: 19 | B39: 59217020 | C39: Obrubník nájezdový betonový šedý 148,5x145x1000 mm | F39: kus | G39: 60.69 | H39: 0 | I39: =G39*AO39 -> 0 | J39: =G39*AP39 -> 0 | K39: =G39*H39 -> 0 | L39: RTS I / 2019 | Z39: =IF(AQ39="5",BJ39,0) -> 0 | AB39: =IF(AQ39="1",BH39,0) -> 0 | AC39: =IF(AQ39="1",BI39,0) -> 0 | AD39: =IF(AQ39="7",BH39,0) -> 0 | AE39: =IF(AQ39="7",BI39,0) -> 0 | AF39: =IF(AQ39="2",BH39,0) -> 0 | AG39: =IF(AQ39="2",BI39,0) -> 0 | AH39: =IF(AQ39="0",BJ39,0) -> 0 | AJ39: =IF(AN39=0,K39,0) -> 0 | AK39: =IF(AN39=15,K39,0) -> 0 | AL39: =IF(AN39=21,K39,0) -> 0 | AN39: 21 | AO39: =H39*1 -> 0 | AP39: =H39*(1-1) -> 0 | AQ39: 1 | AV39: =AW39+AX39 -> 0 | AW39: =G39*AO39 -> 0 | AX39: =G39*AP39 -> 0 | AY39: 91_ | AZ39: 9_ | BA39: _ | BC39: =AW39+AX39 -> 0 | BD39: =H39/(100-BE39)*100 -> 0 | BE39: 0 | BF39: =39 -> 39 | BH39: =G39*AO39 -> 0 | BI39: =G39*AP39 -> 0 | BJ39: =G39*H39 -> 0
A40: 20 | B40: 917862111R00 | C40: Osazení stojat. obrub.bet. s opěrou,lože z C 12/15 | F40: m | G40: 135.2 | H40: 0 | I40: =G40*AO40 -> 0 | J40: =G40*AP40 -> 0 | K40: =G40*H40 -> 0 | L40: RTS I / 2019 | Z40: =IF(AQ40="5",BJ40,0) -> 0 | AB40: =IF(AQ40="1",BH40,0) -> 0 | AC40: =IF(AQ40="1",BI40,0) -> 0 | AD40: =IF(AQ40="7",BH40,0) -> 0 | AE40: =IF(AQ40="7",BI40,0) -> 0 | AF40: =IF(AQ40="2",BH40,0) -> 0 | AG40: =IF(AQ40="2",BI40,0) -> 0 | AH40: =IF(AQ40="0",BJ40,0) -> 0 | AJ40: =IF(AN40=0,K40,0) -> 0 | AK40: =IF(AN40=15,K40,0) -> 0 | AL40: =IF(AN40=21,K40,0) -> 0 | AN40: 21 | AO40: =H40*0.560357781753131 -> 0 | AP40: =H40*(1-0.560357781753131) -> 0 | AQ40: 1 | AV40: =AW40+AX40 -> 0 | AW40: =G40*AO40 -> 0 | AX40: =G40*AP40 -> 0 | AY40: 91_ | AZ40: 9_ | BA40: _ | BC40: =AW40+AX40 -> 0 | BD40: =H40/(100-BE40)*100 -> 0 | BE40: 0 | BF40: =40 -> 40 | BH40: =G40*AO40 -> 0 | BI40: =G40*AP40 -> 0 | BJ40: =G40*H40 -> 0
A41: 21 | B41: 59217421 | C41: Obrubník chodníkový betonový ABO 14-10 1000/100/250 | F41: kus | G41: 141.96 | H41: 0 | I41: =G41*AO41 -> 0 | J41: =G41*AP41 -> 0 | K41: =G41*H41 -> 0 | L41: RTS I / 2019 | Z41: =IF(AQ41="5",BJ41,0) -> 0 | AB41: =IF(AQ41="1",BH41,0) -> 0 | AC41: =IF(AQ41="1",BI41,0) -> 0 | AD41: =IF(AQ41="7",BH41,0) -> 0 | AE41: =IF(AQ41="7",BI41,0) -> 0 | AF41: =IF(AQ41="2",BH41,0) -> 0 | AG41: =IF(AQ41="2",BI41,0) -> 0 | AH41: =IF(AQ41="0",BJ41,0) -> 0 | AJ41: =IF(AN41=0,K41,0) -> 0 | AK41: =IF(AN41=15,K41,0) -> 0 | AL41: =IF(AN41=21,K41,0) -> 0 | AN41: 21 | AO41: =H41*1 -> 0 | AP41: =H41*(1-1) -> 0 | AQ41: 1 | AV41: =AW41+AX41 -> 0 | AW41: =G41*AO41 -> 0 | AX41: =G41*AP41 -> 0 | AY41: 91_ | AZ41: 9_ | BA41: _ | BC41: =AW41+AX41 -> 0 | BD41: =H41/(100-BE41)*100 -> 0 | BE41: 0 | BF41: =41 -> 41 | BH41: =G41*AO41 -> 0 | BI41: =G41*AP41 -> 0 | BJ41: =G41*H41 -> 0
A42: 22 | B42: 918101111R00 | C42: Lože pod obrubníky nebo obruby dlažeb z C 12/15 | F42: m3 | G42: 11.936 | H42: 0 | I42: =G42*AO42 -> 0 | J42: =G42*AP42 -> 0 | K42: =G42*H42 -> 0 | L42: RTS I / 2019 | Z42: =IF(AQ42="5",BJ42,0) -> 0 | AB42: =IF(AQ42="1",BH42,0) -> 0 | AC42: =IF(AQ42="1",BI42,0) -> 0 | AD42: =IF(AQ42="7",BH42,0) -> 0 | AE42: =IF(AQ42="7",BI42,0) -> 0 | AF42: =IF(AQ42="2",BH42,0) -> 0 | AG42: =IF(AQ42="2",BI42,0) -> 0 | AH42: =IF(AQ42="0",BJ42,0) -> 0 | AJ42: =IF(AN42=0,K42,0) -> 0 | AK42: =IF(AN42=15,K42,0) -> 0 | AL42: =IF(AN42=21,K42,0) -> 0 | AN42: 21 | AO42: =H42*0.778820286792221 -> 0 | AP42: =H42*(1-0.778820286792221) -> 0 | AQ42: 1 | AV42: =AW42+AX42 -> 0 | AW42: =G42*AO42 -> 0 | AX42: =G42*AP42 -> 0 | AY42: 91_ | AZ42: 9_ | BA42: _ | BC42: =AW42+AX42 -> 0 | BD42: =H42/(100-BE42)*100 -> 0 | BE42: 0 | BF42: =42 -> 42 | BH42: =G42*AO42 -> 0 | BI42: =G42*AP42 -> 0 | BJ42: =G42*H42 -> 0
A43: 23 | B43: 919731102RT1 | C43: Zarovnání styčné plochy u vstupů do objektu | F43: m | G43: 40.8 | H43: 0 | I43: =G43*AO43 -> 0 | J43: =G43*AP43 -> 0 | K43: =G43*H43 -> 0 | L43: RTS I / 2019 | Z43: =IF(AQ43="5",BJ43,0) -> 0 | AB43: =IF(AQ43="1",BH43,0) -> 0 | AC43: =IF(AQ43="1",BI43,0) -> 0 | AD43: =IF(AQ43="7",BH43,0) -> 0 | AE43: =IF(AQ43="7",BI43,0) -> 0 | AF43: =IF(AQ43="2",BH43,0) -> 0 | AG43: =IF(AQ43="2",BI43,0) -> 0 | AH43: =IF(AQ43="0",BJ43,0) -> 0 | AJ43: =IF(AN43=0,K43,0) -> 0 | AK43: =IF(AN43=15,K43,0) -> 0 | AL43: =IF(AN43=21,K43,0) -> 0 | AN43: 21 | AO43: =H43*0 -> 0 | AP43: =H43*(1-0) -> 0 | AQ43: 1 | AV43: =AW43+AX43 -> 0 | AW43: =G43*AO43 -> 0 | AX43: =G43*AP43 -> 0 | AY43: 91_ | AZ43: 9_ | BA43: _ | BC43: =AW43+AX43 -> 0 | BD43: =H43/(100-BE43)*100 -> 0 | BE43: 0 | BF43: =43 -> 43 | BH43: =G43*AO43 -> 0 | BI43: =G43*AP43 -> 0 | BJ43: =G43*H43 -> 0
A44: 24 | B44: 919731102RT2 | C44: Zarovnání styčné plochy u boční strany objektu | F44: m | G44: 30.8 | H44: 0 | I44: =G44*AO44 -> 0 | J44: =G44*AP44 -> 0 | K44: =G44*H44 -> 0 | L44: RTS I / 2019 | Z44: =IF(AQ44="5",BJ44,0) -> 0 | AB44: =IF(AQ44="1",BH44,0) -> 0 | AC44: =IF(AQ44="1",BI44,0) -> 0 | AD44: =IF(AQ44="7",BH44,0) -> 0 | AE44: =IF(AQ44="7",BI44,0) -> 0 | AF44: =IF(AQ44="2",BH44,0) -> 0 | AG44: =IF(AQ44="2",BI44,0) -> 0 | AH44: =IF(AQ44="0",BJ44,0) -> 0 | AJ44: =IF(AN44=0,K44,0) -> 0 | AK44: =IF(AN44=15,K44,0) -> 0 | AL44: =IF(AN44=21,K44,0) -> 0 | AN44: 21 | AO44: =H44*0 -> 0 | AP44: =H44*(1-0) -> 0 | AQ44: 1 | AV44: =AW44+AX44 -> 0 | AW44: =G44*AO44 -> 0 | AX44: =G44*AP44 -> 0 | AY44: 91_ | AZ44: 9_ | BA44: _ | BC44: =AW44+AX44 -> 0 | BD44: =H44/(100-BE44)*100 -> 0 | BE44: 0 | BF44: =44 -> 44 | BH44: =G44*AO44 -> 0 | BI44: =G44*AP44 -> 0 | BJ44: =G44*H44 -> 0
B45: 95 | C45: Různé dokončovací konstrukce a práce na pozemních stavbách | I45: =SUM(I46:I46) -> 0 | J45: =SUM(J46:J46) -> 0 | K45: =SUM(K46:K46) -> 0 | AS45: =SUM(AJ46:AJ46) -> 0 | AT45: =SUM(AK46:AK46) -> 0 | AU45: =SUM(AL46:AL46) -> 0
A46: 25 | B46: 953941321R01 | C46: Demontáž a zpětné osazení železných rohoží s rámy o ploše do 1 m2 | F46: kus | G46: 16 | H46: 0 | I46: =G46*AO46 -> 0 | J46: =G46*AP46 -> 0 | K46: =G46*H46 -> 0 | L46: RTS I / 2019 | Z46: =IF(AQ46="5",BJ46,0) -> 0 | AB46: =IF(AQ46="1",BH46,0) -> 0 | AC46: =IF(AQ46="1",BI46,0) -> 0 | AD46: =IF(AQ46="7",BH46,0) -> 0 | AE46: =IF(AQ46="7",BI46,0) -> 0 | AF46: =IF(AQ46="2",BH46,0) -> 0 | AG46: =IF(AQ46="2",BI46,0) -> 0 | AH46: =IF(AQ46="0",BJ46,0) -> 0 | AJ46: =IF(AN46=0,K46,0) -> 0 | AK46: =IF(AN46=15,K46,0) -> 0 | AL46: =IF(AN46=21,K46,0) -> 0 | AN46: 21 | AO46: =H46*0.0685411764705882 -> 0 | AP46: =H46*(1-0.0685411764705882) -> 0 | AQ46: 1 | AV46: =AW46+AX46 -> 0 | AW46: =G46*AO46 -> 0 | AX46: =G46*AP46 -> 0 | AY46: 95_ | AZ46: 9_ | BA46: _ | BC46: =AW46+AX46 -> 0 | BD46: =H46/(100-BE46)*100 -> 0 | BE46: 0 | BF46: =46 -> 46 | BH46: =G46*AO46 -> 0 | BI46: =G46*AP46 -> 0 | BJ46: =G46*H46 -> 0
B47: H22 | C47: Komunikace pozemní a letiště | I47: =SUM(I48:I48) -> 0 | J47: =SUM(J48:J48) -> 0 | K47: =SUM(K48:K48) -> 0 | AS47: =SUM(AJ48:AJ48) -> 0 | AT47: =SUM(AK48:AK48) -> 0 | AU47: =SUM(AL48:AL48) -> 0
A48: 26 | B48: 998223011R00 | C48: Přesun hmot, pozemní komunikace, kryt dlážděný | F48: t | G48: 484.967 | H48: 0 | I48: =G48*AO48 -> 0 | J48: =G48*AP48 -> 0 | K48: =G48*H48 -> 0 | L48: RTS I / 2019 | Z48: =IF(AQ48="5",BJ48,0) -> 0 | AB48: =IF(AQ48="1",BH48,0) -> 0 | AC48: =IF(AQ48="1",BI48,0) -> 0 | AD48: =IF(AQ48="7",BH48,0) -> 0 | AE48: =IF(AQ48="7",BI48,0) -> 0 | AF48: =IF(AQ48="2",BH48,0) -> 0 | AG48: =IF(AQ48="2",BI48,0) -> 0 | AH48: =IF(AQ48="0",BJ48,0) -> 0 | AJ48: =IF(AN48=0,K48,0) -> 0 | AK48: =IF(AN48=15,K48,0) -> 0 | AL48: =IF(AN48=21,K48,0) -> 0 | AN48: 21 | AO48: =H48*0 -> 0 | AP48: =H48*(1-0) -> 0 | AQ48: 5 | AV48: =AW48+AX48 -> 0 | AW48: =G48*AO48 -> 0 | AX48: =G48*AP48 -> 0 | AY48: H22_ | AZ48: 9_ | BA48: _ | BC48: =AW48+AX48 -> 0 | BD48: =H48/(100-BE48)*100 -> 0 | BE48: 0 | BF48: =48 -> 48 | BH48: =G48*AO48 -> 0 | BI48: =G48*AP48 -> 0 | BJ48: =G48*H48 -> 0
B49: S | C49: Přesuny sutí | I49: =SUM(I50:I52) -> 0 | J49: =SUM(J50:J52) -> 0 | K49: =SUM(K50:K52) -> 0 | AS49: =SUM(AJ50:AJ52) -> 0 | AT49: =SUM(AK50:AK52) -> 0 | AU49: =SUM(AL50:AL52) -> 0
A50: 27 | B50: 979081111R00 | C50: Odvoz suti a vybour. hmot na skládku do 1 km | F50: t | G50: 388.768 | H50: 0 | I50: =G50*AO50 -> 0 | J50: =G50*AP50 -> 0 | K50: =G50*H50 -> 0 | L50: RTS I / 2019 | Z50: =IF(AQ50="5",BJ50,0) -> 0 | AB50: =IF(AQ50="1",BH50,0) -> 0 | AC50: =IF(AQ50="1",BI50,0) -> 0 | AD50: =IF(AQ50="7",BH50,0) -> 0 | AE50: =IF(AQ50="7",BI50,0) -> 0 | AF50: =IF(AQ50="2",BH50,0) -> 0 | AG50: =IF(AQ50="2",BI50,0) -> 0 | AH50: =IF(AQ50="0",BJ50,0) -> 0 | AJ50: =IF(AN50=0,K50,0) -> 0 | AK50: =IF(AN50=15,K50,0) -> 0 | AL50: =IF(AN50=21,K50,0) -> 0 | AN50: 21 | AO50: =H50*0 -> 0 | AP50: =H50*(1-0) -> 0 | AQ50: 5 | AV50: =AW50+AX50 -> 0 | AW50: =G50*AO50 -> 0 | AX50: =G50*AP50 -> 0 | AY50: S_ | AZ50: 9_ | BA50: _ | BC50: =AW50+AX50 -> 0 | BD50: =H50/(100-BE50)*100 -> 0 | BE50: 0 | BF50: =50 -> 50 | BH50: =G50*AO50 -> 0 | BI50: =G50*AP50 -> 0 | BJ50: =G50*H50 -> 0
A51: 28 | B51: 979087212R00 | C51: Nakládání suti na dopravní prostředky - komunikace | F51: t | G51: 388.768 | H51: 0 | I51: =G51*AO51 -> 0 | J51: =G51*AP51 -> 0 | K51: =G51*H51 -> 0 | L51: RTS I / 2019 | Z51: =IF(AQ51="5",BJ51,0) -> 0 | AB51: =IF(AQ51="1",BH51,0) -> 0 | AC51: =IF(AQ51="1",BI51,0) -> 0 | AD51: =IF(AQ51="7",BH51,0) -> 0 | AE51: =IF(AQ51="7",BI51,0) -> 0 | AF51: =IF(AQ51="2",BH51,0) -> 0 | AG51: =IF(AQ51="2",BI51,0) -> 0 | AH51: =IF(AQ51="0",BJ51,0) -> 0 | AJ51: =IF(AN51=0,K51,0) -> 0 | AK51: =IF(AN51=15,K51,0) -> 0 | AL51: =IF(AN51=21,K51,0) -> 0 | AN51: 21 | AO51: =H51*0 -> 0 | AP51: =H51*(1-0) -> 0 | AQ51: 5 | AV51: =AW51+AX51 -> 0 | AW51: =G51*AO51 -> 0 | AX51: =G51*AP51 -> 0 | AY51: S_ | AZ51: 9_ | BA51: _ | BC51: =AW51+AX51 -> 0 | BD51: =H51/(100-BE51)*100 -> 0 | BE51: 0 | BF51: =51 -> 51 | BH51: =G51*AO51 -> 0 | BI51: =G51*AP51 -> 0 | BJ51: =G51*H51 -> 0
A52: 29 | B52: 979093111R00 | C52: Uložení suti na skládku bez zhutnění -mezideponie investora | F52: t | G52: 388.768 | H52: 0 | I52: =G52*AO52 -> 0 | J52: =G52*AP52 -> 0 | K52: =G52*H52 -> 0 | L52: RTS I / 2019 | Z52: =IF(AQ52="5",BJ52,0) -> 0 | AB52: =IF(AQ52="1",BH52,0) -> 0 | AC52: =IF(AQ52="1",BI52,0) -> 0 | AD52: =IF(AQ52="7",BH52,0) -> 0 | AE52: =IF(AQ52="7",BI52,0) -> 0 | AF52: =IF(AQ52="2",BH52,0) -> 0 | AG52: =IF(AQ52="2",BI52,0) -> 0 | AH52: =IF(AQ52="0",BJ52,0) -> 0 | AJ52: =IF(AN52=0,K52,0) -> 0 | AK52: =IF(AN52=15,K52,0) -> 0 | AL52: =IF(AN52=21,K52,0) -> 0 | AN52: 21 | AO52: =H52*0 -> 0 | AP52: =H52*(1-0) -> 0 | AQ52: 5 | AV52: =AW52+AX52 -> 0 | AW52: =G52*AO52 -> 0 | AX52: =G52*AP52 -> 0 | AY52: S_ | AZ52: 9_ | BA52: _ | BC52: =AW52+AX52 -> 0 | BD52: =H52/(100-BE52)*100 -> 0 | BE52: 0 | BF52: =52 -> 52 | BH52: =G52*AO52 -> 0 | BI52: =G52*AP52 -> 0 | BJ52: =G52*H52 -> 0
B53: VRN | C53: Vedlejší rozpočtové náklady | I53: =SUM(I54:I56) -> 0 | J53: =SUM(J54:J56) -> 0 | K53: =SUM(K54:K56) -> 0 | AS53: =SUM(AJ54:AJ56) -> 0 | AT53: =SUM(AK54:AK56) -> 0 | AU53: =SUM(AL54:AL56) -> 0
A54: 30 | B54: 005 12-1020.R | C54: Zařízení staveniště | F54: kus | G54: 1 | H54: 0 | I54: =G54*AO54 -> 0 | J54: =G54*AP54 -> 0 | K54: =G54*H54 -> 0 | L54: RTS I / 2019 | Z54: =IF(AQ54="5",BJ54,0) -> 0 | AB54: =IF(AQ54="1",BH54,0) -> 0 | AC54: =IF(AQ54="1",BI54,0) -> 0 | AD54: =IF(AQ54="7",BH54,0) -> 0 | AE54: =IF(AQ54="7",BI54,0) -> 0 | AF54: =IF(AQ54="2",BH54,0) -> 0 | AG54: =IF(AQ54="2",BI54,0) -> 0 | AH54: =IF(AQ54="0",BJ54,0) -> 0 | AJ54: =IF(AN54=0,K54,0) -> 0 | AK54: =IF(AN54=15,K54,0) -> 0 | AL54: =IF(AN54=21,K54,0) -> 0 | AN54: 21 | AO54: =H54*0 -> 0 | AP54: =H54*(1-0) -> 0 | AQ54: 1 | AV54: =AW54+AX54 -> 0 | AW54: =G54*AO54 -> 0 | AX54: =G54*AP54 -> 0 | AY54: VRN_ | AZ54: 9_ | BA54: _ | BC54: =AW54+AX54 -> 0 | BD54: =H54/(100-BE54)*100 -> 0 | BE54: 0 | BF54: =54 -> 54 | BH54: =G54*AO54 -> 0 | BI54: =G54*AP54 -> 0 | BJ54: =G54*H54 -> 0
A55: 31 | B55: 005 12-2010.R | C55: Provozní a územní vlivy | F55: kus | G55: 1 | H55: 0 | I55: =G55*AO55 -> 0 | J55: =G55*AP55 -> 0 | K55: =G55*H55 -> 0 | L55: RTS I / 2019 | Z55: =IF(AQ55="5",BJ55,0) -> 0 | AB55: =IF(AQ55="1",BH55,0) -> 0 | AC55: =IF(AQ55="1",BI55,0) -> 0 | AD55: =IF(AQ55="7",BH55,0) -> 0 | AE55: =IF(AQ55="7",BI55,0) -> 0 | AF55: =IF(AQ55="2",BH55,0) -> 0 | AG55: =IF(AQ55="2",BI55,0) -> 0 | AH55: =IF(AQ55="0",BJ55,0) -> 0 | AJ55: =IF(AN55=0,K55,0) -> 0 | AK55: =IF(AN55=15,K55,0) -> 0 | AL55: =IF(AN55=21,K55,0) -> 0 | AN55: 21 | AO55: =H55*0 -> 0 | AP55: =H55*(1-0) -> 0 | AQ55: 1 | AV55: =AW55+AX55 -> 0 | AW55: =G55*AO55 -> 0 | AX55: =G55*AP55 -> 0 | AY55: VRN_ | AZ55: 9_ | BA55: _ | BC55: =AW55+AX55 -> 0 | BD55: =H55/(100-BE55)*100 -> 0 | BE55: 0 | BF55: =55 -> 55 | BH55: =G55*AO55 -> 0 | BI55: =G55*AP55 -> 0 | BJ55: =G55*H55 -> 0
A56: 32 | B56: 005 24-1020.R | C56: Geodetické práce | F56: kus | G56: 1 | H56: 0 | I56: =G56*AO56 -> 0 | J56: =G56*AP56 -> 0 | K56: =G56*H56 -> 0 | L56: RTS I / 2019 | Z56: =IF(AQ56="5",BJ56,0) -> 0 | AB56: =IF(AQ56="1",BH56,0) -> 0 | AC56: =IF(AQ56="1",BI56,0) -> 0 | AD56: =IF(AQ56="7",BH56,0) -> 0 | AE56: =IF(AQ56="7",BI56,0) -> 0 | AF56: =IF(AQ56="2",BH56,0) -> 0 | AG56: =IF(AQ56="2",BI56,0) -> 0 | AH56: =IF(AQ56="0",BJ56,0) -> 0 | AJ56: =IF(AN56=0,K56,0) -> 0 | AK56: =IF(AN56=15,K56,0) -> 0 | AL56: =IF(AN56=21,K56,0) -> 0 | AN56: 21 | AO56: =H56*0 -> 0 | AP56: =H56*(1-0) -> 0 | AQ56: 1 | AV56: =AW56+AX56 -> 0 | AW56: =G56*AO56 -> 0 | AX56: =G56*AP56 -> 0 | AY56: VRN_ | AZ56: 9_ | BA56: _ | BC56: =AW56+AX56 -> 0 | BD56: =H56/(100-BE56)*100 -> 0 | BE56: 0 | BF56: =56 -> 56 | BH56: =G56*AO56 -> 0 | BI56: =G56*AP56 -> 0 | BJ56: =G56*H56 -> 0
I57: Celkem: | K57: =K12+K17+K20+K23+K26+K28+K30+K32+K35+K45+K47+K49+K53 -> 0
A58: Poznámka:

Sheet Výkaz výměr
A1: Výkaz výměr
A2: Název stavby: | C2: ='[1]Stavební rozpočet'!D2 -> Ralsko-Ploužnice: Oprava komunikace pro pěší u č.p.332-337 | E2: Objednatel: | F2: ='[1]Stavební rozpočet'!I2
A4: Druh stavby: | C4: ='[1]Stavební rozpočet'!D4 | E4: Projektant: | F4: ='[1]Stavební rozpočet'!I4
A6: Lokalita: | C6: ='[1]Stavební rozpočet'!D6 | E6: Zhotovitel:
A8: Zpracoval: | C8: ='[1]Stavební rozpočet'!I8 | E8: Zpracováno dne:
A10: Č | B10: Objekt | C10: Kód | D10: Zkrácený popis / Varianta | F10: MJ | G10: Množství | H10: Potřebné množství
C11: 11 | D11: Přípravné a přidružené práce
A12: 1 | C12: 113106231R00 | D12: Rozebrání dlažeb ze zámkové dlažby | F12: m2 | G12: 7.233 | H12: 0
D13: 7,233 | G13: 7.233
A14: 2 | C14: 113108305R00 | D14: Odstranění asfaltové vrstvy pl.do 50 m2, tl. 5 cm | F14: m2 | G14: 542.767 | H14: 0
D15: 550-7,233 | G15: 542.767
A16: 3 | C16: 113111115R00 | D16: Odstranění podkladu pl.50 m2,kam.zpev.cem.tl.15 cm | F16: m2 | G16: 550 | H16: 0
D17: 550 | G17: 550
A18: 4 | C18: 113201111R00 | D18: Vytrhání obrubníků chodníkových a parkových | F18: m | G18: 530.5 | H18: 0
D19: 530,5 | G19: 530.5
C20: 12 | D20: Odkopávky a prokopávky
A21: 5 | C21: 122202201R00 | D21: Odkopávky pro silnice v hor. 3 do 100 m3 | F21: m3 | G21: 55 | H21: 0
D22: 550*0,1 | G22: 55
A23: 6 | C23: 122202209R00 | D23: Příplatek za lepivost - odkop. pro silnice v hor.3 | F23: m3 | G23: 55 | H23: 0
D24: 550*0,1 | G24: 55
C25: 13 | D25: Hloubené vykopávky
A26: 7 | C26: 132201110R00 | D26: Hloubení rýh š.do 60 cm v hor.3 do 50 m3 -pro obruby | F26: m3 | G26: 11.936 | H26: 0
D27: (337,5+57,8+135,2)*0,15*0,15 | G27: 11.936
A28: 8 | C28: 132201119R00 | D28: Přípl.za lepivost,hloubení rýh 60 cm,hor.3 -pro obruby | F28: m3 | G28: 11.936 | H28: 0
D29: (337,5+57,8+135,2)*0,15*0,15 | G29: 11.936
C30: 16 | D30: Přemístění výkopku
A31: 9 | C31: 162301102R00 | D31: Vodorovné přemístění výkopku z hor.1-4 do 1000 m | F31: m3 | G31: 66.936 | H31: 0
D32: 55,0+11,936 | G32: 66.936
A33: 10 | C33: 167101101R00 | D33: Nakládání výkopku z hor.1-4 v množství do 100 m3 | F33: m3 | G33: 66.936 | H33: 0
D34: 66,936 | G34: 66.936
C35: 17 | D35: Konstrukce ze zemin
A36: 11 | C36: 171201201R00 | D36: Uložení sypaniny na skl.-sypanina na výšku přes 2m -mezideponie investora | F36: m3 | G36: 66.936 | H36: 0
D37: 66,936 | G37: 66.936
C38: 18 | D38: Povrchové úpravy terénu
A39: 12 | C39: 181202305R00 | D39: Úprava pláně komunikací na násypech se zhutněním | F39: m2 | G39: 550 | H39: 0
D40: 550 | G40: 550
C41: 56 | D41: Podkladní vrstvy komunikací, letišť a ploch
A42: 13 | C42: 564861111R00 | D42: Podklad ze štěrkodrti po zhutnění tloušťky 20 cm (15+5) | F42: m2 | G42: 550 | H42: 0
D43: 550 | G43: 550
C44: 59 | D44: Kryty pozemních komunikací, letišť a ploch dlážděných (předlažby)
A45: 14 | C45: 596215020R00 | D45: Kladení zámkové dlažby tl. 6 cm do drtě tl. 3 cm | F45: m2 | G45: 550 | H45: 0
D46: 550 | G46: 550
A47: 15 | C47: 59245110 | D47: Dlažba vibrolisovaná, standardní povrch, přírodní (šedá) 20x10x6 | F47: m2 | G47: 577.5 | H47: 0
D48: 550 | G48: 550
D49: ;ztratné 5%; 27,5 | G49: 27.5
C50: 91 | D50: Doplňující konstrukce a práce na pozemních komunikacích a zpevněných plochách
A51: 16 | C51: 916661111R00 | D51: Osazení park. obrubníků do lože z C 12/15 s opěrou | F51: m | G51: 337.5 | H51: 0
D52: 337,5 | G52: 337.5
A53: 17 | C53: 59217331 | D53: Obrubník parkový betonový ABO 12-20 1000/50/200 mm šedý | F53: kus | G53: 354.375 | H53: 0
D54: 337,5 | G54: 337.5
D55: ;ztratné 5%; 16,875 | G55: 16.875
A56: 18 | C56: 917762111R00 | D56: Osazení ležat. obrub. bet. s opěrou,lože z C 12/15 | F56: m | G56: 57.8 | H56: 0
D57: 57,8 | G57: 57.8
A58: 19 | C58: 59217020 | D58: Obrubník nájezdový betonový šedý 148,5x145x1000 mm | F58: kus | G58: 60.69 | H58: 0
D59: 57,8 | G59: 57.8
D60: ;ztratné 5%; 2,89 | G60: 2.89
A61: 20 | C61: 917862111R00 | D61: Osazení stojat. obrub.bet. s opěrou,lože z C 12/15 | F61: m | G61: 135.2 | H61: 0
D62: 135,2 | G62: 135.2
A63: 21 | C63: 59217421 | D63: Obrubník chodníkový betonový ABO 14-10 1000/100/250 | F63: kus | G63: 141.96 | H63: 0
D64: 135,2 | G64: 135.2
D65: ;ztratné 5%; 6,76 | G65: 6.76
A66: 22 | C66: 918101111R00 | D66: Lože pod obrubníky nebo obruby dlažeb z C 12/15 | F66: m3 | G66: 11.936 | H66: 0
D67: (337,5+57,8+135,2)*0,15*0,15 | G67: 11.936
A68: 23 | C68: 919731102RT1 | D68: Zarovnání styčné plochy u vstupů do objektu | F68: m | G68: 40.8 | H68: 0
D69: 2,55*16 | G69: 40.8
A70: 24 | C70: 919731102RT2 | D70: Zarovnání styčné plochy u boční strany objektu | F70: m | G70: 30.8 | H70: 0
D71: 30,8 | G71: 30.8
C72: 95 | D72: Různé dokončovací konstrukce a práce na pozemních stavbách
A73: 25 | C73: 953941321R01 | D73: Demontáž a zpětné osazení železných rohoží s rámy o ploše do 1 m2 | F73: kus | G73: 16 | H73: 0
D74: 16 | G74: 16
C75: H22 | D75: Komunikace pozemní a letiště
A76: 26 | C76: 998223011R00 | D76: Přesun hmot, pozemní komunikace, kryt dlážděný | F76: t | G76: 484.967 | H76: 0
D77: 242,55+104,995+136,587+0,835 | G77: 484.967
C78: S | D78: Přesuny sutí
A79: 27 | C79: 979081111R00 | D79: Odvoz suti a vybour. hmot na skládku do 1 km | F79: t | G79: 388.768 | H79: 0
D80: 1,627+59,704+210,727+116,71 | G80: 388.768
A81: 28 | C81: 979087212R00 | D81: Nakládání suti na dopravní prostředky - komunikace | F81: t | G81: 388.768 | H81: 0
D82: 1,627+59,704+210,727+116,71 | G82: 388.768
A83: 29 | C83: 979093111R00 | D83: Uložení suti na skládku bez zhutnění -mezideponie investora | F83: t | G83: 388.768 | H83: 0
D84: 1,627+59,704+210,727+116,71 | G84: 388.768
C85: VRN | D85: Vedlejší rozpočtové náklady
A86: 30 | C86: 005 12-1020.R | D86: Zařízení staveniště | F86: kus | G86: 1 | H86: 0
A87: 31 | C87: 005 12-2010.R | D87: Provozní a územní vlivy | F87: kus | G87: 1 | H87: 0
A88: 32 | C88: 005 24-1020.R | D88: Geodetické práce | F88: kus | G88: 1 | H88: 0
A90: Poznámka:
