Workbook

Sheet Titulka
H1: Příloha č. 2
A11: Výkaz - výměr
A12: Oceněný
A41: Název projektu:
A42: Rozšíření městského kamerového systému města Ralsko - vybudování nových
A43: kamerových bodů a modernizace videomanagement zařízení
A50: IO AGA 2018

Sheet Rekapitulace
A1: Rekapitulace nákladů
C3: Materiál | D3: Montáž | E3: Jiné náklady | F3: Celkem za položku | G3: Celkem s DPH
A4: 1 | B4: Velín MP na Ploužnici | C4: ='Centrální pracoviště MP+ulož.'!C2 -> 0 | D4: ='Centrální pracoviště MP+ulož.'!C3 -> 0 | E4: ='Centrální pracoviště MP+ulož.'!C4 -> 0 | F4: =SUM(C4:E4) -> 0 | G4: =PRODUCT(F4,F9)+F4 -> 0
A5: 2 | B5: Lokální úložiště v Kuřívodech | C5: ='Centrální pracoviště MP+ulož.'!C21 -> 0 | D5: ='Centrální pracoviště MP+ulož.'!C22 -> 0 | E5: ='Centrální pracoviště MP+ulož.'!C23 -> 0 | F5: =SUM(C5:E5) -> 0 | G5: =PRODUCT(F5,F9)+F5 -> 0
A6: 3 | B6: Kamerový bod 6 | C6: ='Kam. body'!C2 -> 0 | D6: ='Kam. body'!C3 -> 0 | E6: ='Kam. body'!C4 -> 0 | F6: =SUM(C6:E6) -> 0 | G6: =PRODUCT(F6,F9)+F6 -> 0
A7: 4 | B7: Kamerový bod 7 | C7: ='Kam. body'!C20 -> 0 | D7: ='Kam. body'!C21 -> 0 | E7: ='Kam. body'!C22 -> 0 | F7: =SUM(C7:E7) -> 0 | G7: =PRODUCT(F7,F9)+F7 -> 0
B8: Celkem bez DPH | C8: =SUM(C4:C7) -> 0 | D8: =SUM(D4:D7) -> 0 | E8: =SUM(E4:E7) -> 0 | F8: =SUM(F4:F7) -> 0
B9: DPH | F9: 0.21
B10: Celkem včetně DPH | F10: =SUM(F8*(1+F9)) -> 0

Sheet Centrální pracoviště MP+ulož.
A1: Velín MP na Ploužnici
B2: Materiál
B3: Montáž
B4: Jiné náklady
B5: Celkem bez DPH
A6: pol. | B6: typ | C6: popis | D6: množství | E6: jednotka | F6: materiál | G6: materiál celk. | H6: montáž | I6: montáž celk. | J6: celkem
A7: 1 | B7: Úložiště | C7: Datové uložiště pro ukládání obrazových dat z kamer. Min. datový tok do záznamu 300Mbps. Max. možná osazená kapacita úložiště min. 64TB. Oceněná kapacita úložiště musí být 8TB. Podpora H265 a rozlišení až do 12Mpx. | D7: 1 | E7: kpl | G7: =D7*F7 -> 0 | I7: =D7*H7 -> 0 | J7: =G7+I7 -> 0
A8: 2 | B8: Základní software | C8: Základní licence software Klient-Server pro správu obrazu z 16 IP kamer a neomezeného počtu uživatelů s možností nastavení priorit mezi nimi. Základní licenci je možné kdykoli rozšiřovat pomocí licencí jednotlivých kamer. Další informace v TZ. | D8: 1 | E8: ks | G8: =D8*F8 -> 0 | I8: =D8*H8 -> 0 | J8: =G8+I8 -> 0
A9: 4 | B9: PC správa + server | C9: Dohledové PC a řídící server. PC server pro správu a řízení systému, ovládání a přehrávání záznamů, vybavený speciálním software pro tuto činnost. 4x výstup pro monitor. Technické parametry serveru musí odpovídat nárokům použitého software, dvěma klientským pracovištím a 16 připojeným kamerám až v 4K rozlišení. Některé kamery budou rozlišovat a ukládat RZ automobilů. | D9: 1 | E9: kpl | G9: =D9*F9 -> 0 | I9: =D9*H9 -> 0 | J9: =G9+I9 -> 0
A10: 5 | B10: Mon 4K 55" | C10: 55"/137 cm LED velkoformátový průmyslový display pro režim 24/7, max. 4K rozlišení, 16:9, HDMI/VGA/DVI/BNC, Napájení 220-240V AC, 50/60Hz, Audio In (L/R), min. úhel 175°/175°. Kovový kryt. Standartní záruční doba 3 roky. | D10: 1 | E10: ks | G10: =D10*F10 -> 0 | I10: =D10*H10 -> 0 | J10: =G10+I10 -> 0
A11: 8 | B11: Switch | C11: switch 19", řízený, 16x10/100/1000Tx(RJ-45)+4x1000Fx(SFP slot) | D11: 1 | E11: ks | G11: =D11*F11 -> 0 | I11: =D11*H11 -> 0 | J11: =G11+I11 -> 0
A12: 9 | B12: Spoj | C12: Rádiový transceiver pro Ethernet včetně antény a přísluš., 5GHz | D12: 2 | E12: kpl | G12: =D12*F12 -> 0 | I12: =D12*H12 -> 0 | J12: =G12+I12 -> 0
A13: 10 | B13: Přepěťová ochrana | C13: 10/1000/1000Mb, RJ45 | D13: 2 | E13: ks | G13: =D13*F13 -> 0 | I13: =D13*H13 -> 0 | J13: =SUM(G13,I13) -> 0
A14: 11 | C14: Nespecifikovaný instalační materiál včetně kabelů a držáku monitorů | D14: 1 | E14: kpl | G14: =D14*F14 -> 0 | I14: =D14*H14 -> 0 | J14: =G14+I14 -> 0
C15: Další nespecifikované činnosti | D15: 1 | E15: kpl | G15: =D15*F15 -> 0 | I15: =D15*H15 -> 0 | J15: =G15+I15 -> 0
C16: Doprava osob a materiálu | D16: 1 | E16: kpl | G16: =D16*F16 -> 0 | I16: =D16*H16 -> 0 | J16: =G16+I16 -> 0
C17: Oživení a programování systému | D17: 1 | E17: kpl | G17: =D17*F17 -> 0 | I17: =D17*H17 -> 0 | J17: =G17+I17 -> 0
C18: Zaškolení obsluhy | D18: 1 | E18: kpl | G18: =D18*F18 -> 0 | I18: =D18*H18 -> 0 | J18: =G18+I18 -> 0
A20: Lokální úložiště v Kuřívodech
B21: Materiál
B22: Montáž
B23: Jiné náklady
B24: Celkem bez DPH
A25: pol. | B25: typ | C25: popis | D25: množství | E25: jednotka | F25: materiál | G25: materiál celk. | H25: montáž | I25: montáž celk. | J25: celkem
A26: 1 | B26: Lokální úložiště | C26: Datové uložiště pro ukládání obrazových dat z kamer. Min. datový tok do záznamu 150Mbps. Max. možná osazená kapacita úložiště min. 32TB. Oceněná kapacita úložiště musí být 2TB. Podpora H265 a rozlišení až do 12Mpx. | D26: 1 | E26: kpl | G26: =D26*F26 -> 0 | I26: =D26*H26 -> 0 | J26: =G26+I26 -> 0
A27: 11 | C27: Nespecifikovaný instalační materiál včetně kabelů, rackové skříně a držáku monitorů | D27: 1 | E27: kpl | G27: =D27*F27 -> 0 | I27: =D27*H27 -> 0 | J27: =G27+I27 -> 0
A28: 13 | C28: Doprava osob a materiálu | D28: 1 | E28: kpl | G28: =D28*F28 -> 0 | I28: =D28*H28 -> 0 | J28: =G28+I28 -> 0

Sheet Kam. body
A1: Kamerový bod 6 | C1: U hlavní komunikace
B2: Materiál
B3: Montáž
B4: Jiné náklady
B5: Celkem bez DPH
A6: pol. | B6: typ | C6: popis | D6: množství | E6: jednotka | F6: materiál | G6: materiál celk. | H6: montáž | I6: montáž celk. | J6: celkem
A7: 1 | B7: Kamera PTZ | C7: Otočná 4Mpx IP kam.(přesnější spec. v TZ), držák na sloup | D7: 1 | E7: ks | G7: =D7*F7 -> 0 | J7: =G7+I7 -> 0
A8: 2 | B8: Zdroj pro kameru | C8: Zdroj 24V AC/DC pro napájení kamery | D8: 1 | E8: ks | G8: =D8*F8 -> 0 | J8: =G8+I8 -> 0
A9: 3 | B9: Micro SD karta | C9: Paměťová micro SD karta s kapacitou 128GB pro záložní záznam přímo v kameře. Více v TZ. | D9: 1 | E9: ks | G9: =D9*F9 -> 0 | J9: =G9+I9 -> 0
A10: 4 | B10: Spoj | C10: Rádiový transceiver pro Ethernet včetně antény a přísluš., 5GHz | D10: 1 | E10: kpl | G10: =D10*F10 -> 0 | J10: =G10+I10 -> 0
A11: 5 | B11: Switch | C11: Miniaturní neřízený průmyslový switch s rozšířeným rozsahem prac. Teploty, 5 x 10/100TX RJ-45 včetně vhodného napájecího zdroje | D11: 1 | E11: kpl | G11: =D11*F11 -> 0 | J11: =G11+I11 -> 0
A12: 6 | B12: UPS | C12: UPS 650VA záložní zdroj, ochrana technologie rozvaděče | D12: 1 | E12: ks | G12: =D12*F12 -> 0 | J12: =G12+I12 -> 0
A13: 7 | B13: Rozvaděč | C13: Rozvaděč IP 66, odolný UV, uzamykatelný, vybavený | D13: 1 | E13: ks | G13: =D13*F13 -> 0 | J13: =G13+I13 -> 0
A14: 8 | C14: Nespecifikovaný instalační materiál | D14: 1 | E14: kpl | G14: =D14*F14 -> 0 | J14: =G14+I14 -> 0
A15: 9 | C15: Další nespecifikované činnosti | D15: 1 | E15: kpl | G15: =D15*F15 -> 0 | J15: =G15+I15 -> 0
A16: 10 | C16: Doprava osob a materiálu | D16: 1 | E16: kpl | G16: =D16*F16 -> 0 | J16: =G16+I16 -> 0
A17: 11 | C17: Pronájem plošiny | D17: 1 | E17: kpl | G17: =D17*F17 -> 0 | J17: =G17+I17 -> 0
A19: Kamerový bod 7 | C19: U hřiště
B20: Materiál | C20: =SUM(G25:G36) -> 0
B21: Montáž | C21: =SUM(I25:I36) -> 0
B22: Jiné náklady
B23: Celkem bez DPH | C23: =SUM(C20:D22) -> 0
A24: pol. | B24: typ | C24: popis | D24: množství | E24: jednotka | F24: materiál | G24: materiál celk. | H24: montáž | I24: montáž celk. | J24: celkem
A25: 1 | B25: Kamera PTZ | C25: Otočná 4Mpx IP kam.(přesnější spec. v TZ), držák na sloup | D25: 1 | E25: ks | G25: =D25*F25 -> 0 | I25: =D25*H25 -> 0 | J25: =G25+I25 -> 0
A26: 2 | B26: Zdroj pro kameru | C26: Zdroj 24V AC/DC pro napájení kamery | D26: 1 | E26: ks | G26: =D26*F26 -> 0 | I26: =D26*H26 -> 0 | J26: =G26+I26 -> 0
A27: 3 | B27: SD karta | C27: Paměťová SD karta s kapacitou 128GB pro záložní záznam přímo v kameře. Více v TZ. | D27: 1 | E27: ks | G27: =D27*F27 -> 0 | I27: =D27*H27 -> 0 | J27: =G27+I27 -> 0
A28: 4 | B28: Spoj | C28: Rádiový transceiver pro Ethernet včetně antény a přísluš., 5GHz | D28: 1 | E28: kpl | G28: =D28*F28 -> 0 | I28: =D28*H28 -> 0 | J28: =G28+I28 -> 0
A29: 5 | B29: Switch | C29: Miniaturní neřízený průmyslový switch s rozšířeným rozsahem prac. Teploty, 5 x 10/100TX RJ-45 včetně vhodného napájecího zdroje | D29: 1 | E29: kpl | G29: =D29*F29 -> 0 | I29: =D29*H29 -> 0 | J29: =G29+I29 -> 0
A30: 6 | B30: UPS | C30: UPS 650VA záložní zdroj, ochrana technologie rozvaděče | D30: 1 | E30: ks | G30: =D30*F30 -> 0 | I30: =D30*H30 -> 0 | J30: =G30+I30 -> 0
A31: 7 | B31: Rozvaděč | C31: Rozvaděč IP 66, odolný UV, uzamykatelný, vybavený | D31: 1 | E31: ks | G31: =D31*F31 -> 0 | I31: =D31*H31 -> 0 | J31: =G31+I31 -> 0
A32: 8 | B32: Sloup | C32: Nový sloup pro kameru | D32: 1 | E32: kpl | G32: =D32*F32 -> 0 | I32: =D32*H32 -> 0 | J32: =G32+I32 -> 0
A33: 9 | C33: Nespecifikovaný instalační materiál | D33: 1 | E33: kpl | G33: =D33*F33 -> 0 | I33: =D33*H33 -> 0 | J33: =G33+I33 -> 0
A34: 10 | C34: Další nespecifikované činnosti | D34: 1 | E34: kpl | G34: =D34*F34 -> 0 | I34: =D34*H34 -> 0 | J34: =G34+I34 -> 0
A35: 11 | C35: Doprava osob a materiálu | D35: 1 | E35: kpl | G35: =D35*F35 -> 0 | I35: =D35*H35 -> 0 | J35: =G35+I35 -> 0
A36: 12 | C36: Pronájem plošiny | D36: 1 | E36: kpl | G36: =D36*F36 -> 0 | I36: =D36*H36 -> 0 | J36: =G36+I36 -> 0
