Workbook

Sheet Rekapitulace stavby
A1: Export VZ | D1: List obsahuje: | K1: 1) Rekapitulace stavby | W1: 2) Rekapitulace objektů stavby a soupisů prací | BA1: 3.0 | BT1: False | BU1: False | BV1: {adabfac9-71d8-4932-b311-466d6f5e57b5}
AR2: >> skryté sloupce << | BS2: 0,01 | BT2: 21
BS3: 0,01 | BT3: 15
D4: REKAPITULACE STAVBY | AS4: v --- níže se nacházejí doplnkové a pomocné údaje k sestavám --- v | BS4: 0,001
D5: Kód: | BS5: 0,01
D6: Stavba: | K6: Hradčanský rybník, oprava rybníka | BS6: 0,01
D7: KSO: | AK7: CC-CZ: | BS7: 0,01
D8: Místo: | AK8: Datum: | BS8: 0,01
BS9: 0,01
D10: Zadavatel: | AK10: IČ: | BS10: 0,01
E11: MĚSTO RALSKA, Kuřívody 701, Ralsko, 471 24 Mimoň | AK11: DIČ: | BS11: 0,01
BS12: 0,01
D13: Uchazeč: | AK13: IČ: | BS13: 0,01
AK14: DIČ: | BS14: 0,01
BS15: False
D16: Projektant: | AK16: IČ: | BS16: False
AK17: DIČ: | BS17: True
BS18: 0,01
D19: Poznámka: | BS19: 0,01
BS20: False
D23: Cena bez DPH | AK23: =ROUND(AG51,2) -> 0
L25: Sazba daně | W25: Základ daně | AK25: Výše daně
D26: DPH | F26: základní | L26: 0.21 | W26: =ROUND(AZ51,2) -> 0 | AK26: =ROUND(AV51,2) -> 0
F27: snížená | L27: 0.15 | W27: =ROUND(BA51,2) -> 0 | AK27: =ROUND(AW51,2) -> 0
F28: zákl. přenesená | L28: 0.21 | W28: =ROUND(BB51,2) -> 0 | AK28: 0
F29: sníž. přenesená | L29: 0.15 | W29: =ROUND(BC51,2) -> 0 | AK29: 0
F30: nulová | L30: 0 | W30: =ROUND(BD51,2) -> 0 | AK30: 0
D32: Cena s DPH | T32: v | X32: CZK | AK32: =SUM(AK23:AK30) -> 0
C39: REKAPITULACE OBJEKTŮ STAVBY A SOUPISŮ PRACÍ
C41: Kód: | L41: =K5 -> 0
C42: Stavba: | L42: =K6 -> Hradčanský rybník, oprava rybníka
C44: Místo: | L44: =IF(K8="","",K8) | AI44: Datum:
C46: Zadavatel: | L46: =IF(E11= "","",E11) -> MĚSTO RALSKA, Kuřívody 701, Ralsko, 471 24 Mimoň | AI46: Projektant: | AM46: =IF(E17="","",E17) | AS46: Informatívní údaje z listů zakázek
C47: Uchazeč: | L47: =IF(E14="","",E14)
C49: Kód | I49: Objekt, Soupis prací | AG49: Cena bez DPH [CZK] | AN49: Cena s DPH [CZK] | AQ49: Typ | AS49: z toho Ostat._x000D_ náklady [CZK] | AT49: DPH [CZK] | AU49: Normohodiny [h] | AV49: DPH základní [CZK] | AW49: DPH snížená [CZK] | AX49: DPH základní přenesená_x000D_ [CZK] | AY49: DPH snížená přenesená_x000D_ [CZK] | AZ49: Základna_x000D_ DPH základní | BA49: Základna_x000D_ DPH snížená | BB49: Základna_x000D_ DPH zákl. přenesená | BC49: Základna_x000D_ DPH sníž. přenesená | BD49: Základna_x000D_ DPH nulová
C51: Náklady stavby celkem | AG51: =ROUND(SUM(AG52:AG60),2) -> 0 | AN51: =SUM(AG51,AT51) -> 0 | AS51: =ROUND(SUM(AS52:AS60),2) -> 0 | AT51: =ROUND(SUM(AV51:AW51),2) -> 0 | AU51: =ROUND(SUM(AU52:AU60),5) -> 32107.08 | AV51: =ROUND(AZ51*L26,2) -> 0 | AW51: =ROUND(BA51*L27,2) -> 0 | AX51: =ROUND(BB51*L26,2) -> 0 | AY51: =ROUND(BC51*L27,2) -> 0 | AZ51: =ROUND(SUM(AZ52:AZ60),2) -> 0 | BA51: =ROUND(SUM(BA52:BA60),2) -> 0 | BB51: =ROUND(SUM(BB52:BB60),2) -> 0 | BC51: =ROUND(SUM(BC52:BC60),2) -> 0 | BD51: =ROUND(SUM(BD52:BD60),2) -> 0 | BS51: D | BT51: 0 | BU51: ###NOIMPORT### | BV51: IMPORT | BW51: {adabfac9-71d8-4932-b311-466d6f5e57b5} | BX51: {00000000-0000-0000-0000-000000000000}
A52: / | D52: SO 01a | J52: Bezpečnostní přeliv | AG52: ='SO 01a - Bezpečnostní přeliv'!J27 -> 0 | AN52: =SUM(AG52,AT52) -> 0 | AQ52: STA | AS52: 0 | AT52: =ROUND(SUM(AV52:AW52),2) -> 0 | AU52: ='SO 01a - Bezpečnostní přeliv'!P90 -> 3534.9345 | AV52: ='SO 01a - Bezpečnostní přeliv'!J30 -> 0 | AW52: ='SO 01a - Bezpečnostní přeliv'!J31 -> 0 | AX52: ='SO 01a - Bezpečnostní přeliv'!J32 -> 0 | AY52: ='SO 01a - Bezpečnostní přeliv'!J33 -> 0 | AZ52: ='SO 01a - Bezpečnostní přeliv'!F30 -> 0 | BA52: ='SO 01a - Bezpečnostní přeliv'!F31 -> 0 | BB52: ='SO 01a - Bezpečnostní přeliv'!F32 -> 0 | BC52: ='SO 01a - Bezpečnostní přeliv'!F33 -> 0 | BD52: ='SO 01a - Bezpečnostní přeliv'!F34 -> 0 | BT52: 1 | BV52: IMPORT | BW52: {6d9d9edc-cde4-4ae4-b4df-421d40af0289} | BX52: {adabfac9-71d8-4932-b311-466d6f5e57b5} | CM52: 2
A53: / | D53: SO 01b | J53: Lávka | AG53: ='SO 01b - Lávka'!J27 -> 0 | AN53: =SUM(AG53,AT53) -> 0 | AQ53: STA | AS53: 0 | AT53: =ROUND(SUM(AV53:AW53),2) -> 0 | AU53: ='SO 01b - Lávka'!P83 -> 1006.3243 | AV53: ='SO 01b - Lávka'!J30 -> 0 | AW53: ='SO 01b - Lávka'!J31 -> 0 | AX53: ='SO 01b - Lávka'!J32 -> 0 | AY53: ='SO 01b - Lávka'!J33 -> 0 | AZ53: ='SO 01b - Lávka'!F30 -> 0 | BA53: ='SO 01b - Lávka'!F31 -> 0 | BB53: ='SO 01b - Lávka'!F32 -> 0 | BC53: ='SO 01b - Lávka'!F33 -> 0 | BD53: ='SO 01b - Lávka'!F34 -> 0 | BT53: 1 | BV53: IMPORT | BW53: {190abf37-f305-451d-a49f-80680e372db7} | BX53: {adabfac9-71d8-4932-b311-466d6f5e57b5} | CM53: 2
A54: / | D54: SO 03 | J54: Hráz | AG54: ='SO 03 - Hráz'!J27 -> 0 | AN54: =SUM(AG54,AT54) -> 0 | AQ54: STA | AS54: 0 | AT54: =ROUND(SUM(AV54:AW54),2) -> 0 | AU54: ='SO 03 - Hráz'!P84 -> 5197.1702 | AV54: ='SO 03 - Hráz'!J30 -> 0 | AW54: ='SO 03 - Hráz'!J31 -> 0 | AX54: ='SO 03 - Hráz'!J32 -> 0 | AY54: ='SO 03 - Hráz'!J33 -> 0 | AZ54: ='SO 03 - Hráz'!F30 -> 0 | BA54: ='SO 03 - Hráz'!F31 -> 0 | BB54: ='SO 03 - Hráz'!F32 -> 0 | BC54: ='SO 03 - Hráz'!F33 -> 0 | BD54: ='SO 03 - Hráz'!F34 -> 0 | BT54: 1 | BV54: IMPORT | BW54: {7e0245d7-9d4e-4b07-ba13-3bc173468632} | BX54: {adabfac9-71d8-4932-b311-466d6f5e57b5} | CM54: 2
A55: / | D55: SO 04 | J55: Chodník | AG55: ='SO 04 - Chodník'!J27 -> 0 | AN55: =SUM(AG55,AT55) -> 0 | AQ55: STA | AS55: 0 | AT55: =ROUND(SUM(AV55:AW55),2) -> 0 | AU55: ='SO 04 - Chodník'!P82 -> 188.72382 | AV55: ='SO 04 - Chodník'!J30 -> 0 | AW55: ='SO 04 - Chodník'!J31 -> 0 | AX55: ='SO 04 - Chodník'!J32 -> 0 | AY55: ='SO 04 - Chodník'!J33 -> 0 | AZ55: ='SO 04 - Chodník'!F30 -> 0 | BA55: ='SO 04 - Chodník'!F31 -> 0 | BB55: ='SO 04 - Chodník'!F32 -> 0 | BC55: ='SO 04 - Chodník'!F33 -> 0 | BD55: ='SO 04 - Chodník'!F34 -> 0 | BT55: 1 | BV55: IMPORT | BW55: {2c463dee-1fe0-4259-8258-779fc0713503} | BX55: {adabfac9-71d8-4932-b311-466d6f5e57b5} | CM55: 2
...

Sheet SO 01a - Bezpečnostní přeliv
D1: List obsahuje: | F1: 1) Krycí list soupisu | G1: 2) Rekapitulace | J1: 3) Soupis prací | K1: Zpět na list: | L1: Rekapitulace stavby
L2: >> skryté sloupce << | AT2: {6d9d9edc-cde4-4ae4-b4df-421d40af0289}
AT3: 2
D4: KRYCÍ LIST SOUPISU | M4: v --- níže se nacházejí doplnkové a pomocné údaje k sestavám --- v | AT4: False
D6: Stavba:
E7: ='Rekapitulace stavby'!K6 -> Hradčanský rybník, oprava rybníka
D8: Objekt:
E9: SO 01a - Bezpečnostní přeliv
D11: KSO: | I11: CC-CZ:
D12: Místo: | I12: Datum:
D14: Zadavatel: | I14: IČ:
E15: MĚSTO RALSKA, Kuřívody 701, Ralsko, 471 24 Mimoň | I15: DIČ:
D17: Uchazeč: | I17: IČ: | J17: =IF('Rekapitulace stavby'!AN13="Vyplň údaj","",IF('Rekapitulace stavby'!AN13="","",'Rekapitulace stavby'!AN13))
E18: =IF('Rekapitulace stavby'!E14="Vyplň údaj","",IF('Rekapitulace stavby'!E14="","",'Rekapitulace stavby'!E14)) | I18: DIČ: | J18: =IF('Rekapitulace stavby'!AN14="Vyplň údaj","",IF('Rekapitulace stavby'!AN14="","",'Rekapitulace stavby'!AN14))
D20: Projektant: | I20: IČ:
E21: Vodohospodářské projekty s.r.o. | I21: DIČ:
D23: Poznámka:
E24: Stavební objekt SO 01 obsahuje výměry i pro SO 02
D27: Cena bez DPH | J27: =ROUND(J90,2) -> 0
F29: Základ daně | I29: Sazba daně | J29: Výše daně
D30: DPH | E30: základní | F30: =ROUND(SUM(BE90:BE361), 2) -> 0 | I30: 0.21 | J30: =ROUND(ROUND((SUM(BE90:BE361)), 2)*I30, 2) -> 0
E31: snížená | F31: =ROUND(SUM(BF90:BF361), 2) -> 0 | I31: 0.15 | J31: =ROUND(ROUND((SUM(BF90:BF361)), 2)*I31, 2) -> 0
E32: zákl. přenesená | F32: =ROUND(SUM(BG90:BG361), 2) -> 0 | I32: 0.21 | J32: 0
E33: sníž. přenesená | F33: =ROUND(SUM(BH90:BH361), 2) -> 0 | I33: 0.15 | J33: 0
E34: nulová | F34: =ROUND(SUM(BI90:BI361), 2) -> 0 | I34: 0 | J34: 0
D36: Cena s DPH | G36: v | H36: CZK | J36: =SUM(J27:J34) -> 0
C42: REKAPITULACE ČLENĚNÍ SOUPISU PRACÍ
C44: Stavba:
E45: =E7 -> Hradčanský rybník, oprava rybníka
C46: Objekt:
E47: =E9 -> SO 01a - Bezpečnostní přeliv
C49: Místo: | F49: =F12 | I49: Datum:
C51: Zadavatel: | F51: =E15 -> MĚSTO RALSKA, Kuřívody 701, Ralsko, 471 24 Mimoň | I51: Projektant:
C52: Uchazeč: | F52: =IF(E18="","",E18)
C54: Kód dílu - Popis | J54: Cena celkem [CZK]
C56: Náklady soupisu celkem | J56: =J90 -> 0 | AU56: -1
D57: HSV - Práce a dodávky HSV | J57: =J91 -> 0
D58: 1 - Zemní práce | J58: =J92 -> 0
D59: 2 - Zakládání | J59: =J156 -> 0
D60: 3 - Svislé a kompletní konstrukce | J60: =J170 -> 0
...

Sheet SO 01b - Lávka
D1: List obsahuje: | F1: 1) Krycí list soupisu | G1: 2) Rekapitulace | J1: 3) Soupis prací | K1: Zpět na list: | L1: Rekapitulace stavby
L2: >> skryté sloupce << | AT2: {190abf37-f305-451d-a49f-80680e372db7}
AT3: 2
D4: KRYCÍ LIST SOUPISU | M4: v --- níže se nacházejí doplnkové a pomocné údaje k sestavám --- v | AT4: False
D6: Stavba:
E7: ='Rekapitulace stavby'!K6 -> Hradčanský rybník, oprava rybníka
D8: Objekt:
E9: SO 01b - Lávka
D11: KSO: | I11: CC-CZ:
D12: Místo: | I12: Datum:
D14: Zadavatel: | I14: IČ:
E15: MĚSTO RALSKA, Kuřívody 701, Ralsko, 471 24 Mimoň | I15: DIČ:
D17: Uchazeč: | I17: IČ: | J17: =IF('Rekapitulace stavby'!AN13="Vyplň údaj","",IF('Rekapitulace stavby'!AN13="","",'Rekapitulace stavby'!AN13))
E18: =IF('Rekapitulace stavby'!E14="Vyplň údaj","",IF('Rekapitulace stavby'!E14="","",'Rekapitulace stavby'!E14)) | I18: DIČ: | J18: =IF('Rekapitulace stavby'!AN14="Vyplň údaj","",IF('Rekapitulace stavby'!AN14="","",'Rekapitulace stavby'!AN14))
D20: Projektant: | I20: IČ:
I21: DIČ:
D23: Poznámka:
E24: Stavební objekt SO 01 obsahuje výměry i pro SO 02
D27: Cena bez DPH | J27: =ROUND(J83,2) -> 0
F29: Základ daně | I29: Sazba daně | J29: Výše daně
D30: DPH | E30: základní | F30: =ROUND(SUM(BE83:BE179), 2) -> 0 | I30: 0.21 | J30: =ROUND(ROUND((SUM(BE83:BE179)), 2)*I30, 2) -> 0
E31: snížená | F31: =ROUND(SUM(BF83:BF179), 2) -> 0 | I31: 0.15 | J31: =ROUND(ROUND((SUM(BF83:BF179)), 2)*I31, 2) -> 0
E32: zákl. přenesená | F32: =ROUND(SUM(BG83:BG179), 2) -> 0 | I32: 0.21 | J32: 0
E33: sníž. přenesená | F33: =ROUND(SUM(BH83:BH179), 2) -> 0 | I33: 0.15 | J33: 0
E34: nulová | F34: =ROUND(SUM(BI83:BI179), 2) -> 0 | I34: 0 | J34: 0
D36: Cena s DPH | G36: v | H36: CZK | J36: =SUM(J27:J34) -> 0
C42: REKAPITULACE ČLENĚNÍ SOUPISU PRACÍ
C44: Stavba:
E45: =E7 -> Hradčanský rybník, oprava rybníka
C46: Objekt:
E47: =E9 -> SO 01b - Lávka
C49: Místo: | F49: =F12 | I49: Datum: | J49: =IF(J12="","",J12)
C51: Zadavatel: | F51: =E15 -> MĚSTO RALSKA, Kuřívody 701, Ralsko, 471 24 Mimoň | I51: Projektant:
C52: Uchazeč: | F52: =IF(E18="","",E18)
C54: Kód dílu - Popis | J54: Cena celkem [CZK]
C56: Náklady soupisu celkem | J56: =J83 -> 0 | AU56: -1
D57: HSV - Práce a dodávky HSV | J57: =J84 -> 0
D58: 3 - Svislé a kompletní konstrukce | J58: =J85 -> 0
D59: 9 - Ostatní konstrukce a práce-bourání | J59: =J100 -> 0
D60: 998 - Přesun hmot | J60: =J107 -> 0
...

Sheet SO 03 - Hráz
D1: List obsahuje: | F1: 1) Krycí list soupisu | G1: 2) Rekapitulace | J1: 3) Soupis prací | K1: Zpět na list: | L1: Rekapitulace stavby
L2: >> skryté sloupce << | AT2: {7e0245d7-9d4e-4b07-ba13-3bc173468632}
AT3: 2
D4: KRYCÍ LIST SOUPISU | M4: v --- níže se nacházejí doplnkové a pomocné údaje k sestavám --- v | AT4: False
D6: Stavba:
E7: ='Rekapitulace stavby'!K6 -> Hradčanský rybník, oprava rybníka
D8: Objekt:
E9: SO 03 - Hráz
D11: KSO: | I11: CC-CZ:
D12: Místo: | I12: Datum:
D14: Zadavatel: | I14: IČ:
E15: MĚSTO RALSKA, Kuřívody 701, Ralsko, 471 24 Mimoň | I15: DIČ:
D17: Uchazeč: | I17: IČ: | J17: =IF('Rekapitulace stavby'!AN13="Vyplň údaj","",IF('Rekapitulace stavby'!AN13="","",'Rekapitulace stavby'!AN13))
E18: =IF('Rekapitulace stavby'!E14="Vyplň údaj","",IF('Rekapitulace stavby'!E14="","",'Rekapitulace stavby'!E14)) | I18: DIČ: | J18: =IF('Rekapitulace stavby'!AN14="Vyplň údaj","",IF('Rekapitulace stavby'!AN14="","",'Rekapitulace stavby'!AN14))
D20: Projektant: | I20: IČ:
E21: Vodohospodářské projekty s.r.o. | I21: DIČ:
D23: Poznámka:
D27: Cena bez DPH | J27: =ROUND(J84,2) -> 0
F29: Základ daně | I29: Sazba daně | J29: Výše daně
D30: DPH | E30: základní | F30: =ROUND(SUM(BE84:BE215), 2) -> 0 | I30: 0.21 | J30: =ROUND(ROUND((SUM(BE84:BE215)), 2)*I30, 2) -> 0
E31: snížená | F31: =ROUND(SUM(BF84:BF215), 2) -> 0 | I31: 0.15 | J31: =ROUND(ROUND((SUM(BF84:BF215)), 2)*I31, 2) -> 0
E32: zákl. přenesená | F32: =ROUND(SUM(BG84:BG215), 2) -> 0 | I32: 0.21 | J32: 0
E33: sníž. přenesená | F33: =ROUND(SUM(BH84:BH215), 2) -> 0 | I33: 0.15 | J33: 0
E34: nulová | F34: =ROUND(SUM(BI84:BI215), 2) -> 0 | I34: 0 | J34: 0
D36: Cena s DPH | G36: v | H36: CZK | J36: =SUM(J27:J34) -> 0
C42: REKAPITULACE ČLENĚNÍ SOUPISU PRACÍ
C44: Stavba:
E45: =E7 -> Hradčanský rybník, oprava rybníka
C46: Objekt:
E47: =E9 -> SO 03 - Hráz
C49: Místo: | F49: =F12 | I49: Datum: | J49: =IF(J12="","",J12)
C51: Zadavatel: | F51: =E15 -> MĚSTO RALSKA, Kuřívody 701, Ralsko, 471 24 Mimoň | I51: Projektant: | J51: =E21 -> Vodohospodářské projekty s.r.o.
C52: Uchazeč: | F52: =IF(E18="","",E18)
C54: Kód dílu - Popis | J54: Cena celkem [CZK]
C56: Náklady soupisu celkem | J56: =J84 -> 0 | AU56: -1
D57: HSV - Práce a dodávky HSV | J57: =J85 -> 0
D58: 1 - Zemní práce | J58: =J86 -> 0
D59: 3 - Svislé a kompletní konstrukce | J59: =J148 -> 0
D60: 4 - Vodorovné konstrukce | J60: =J159 -> 0
D61: 5 - Komunikace pozemní | J61: =J184 -> 0
...

Sheet SO 04 - Chodník
D1: List obsahuje: | F1: 1) Krycí list soupisu | G1: 2) Rekapitulace | J1: 3) Soupis prací | K1: Zpět na list: | L1: Rekapitulace stavby
L2: >> skryté sloupce << | AT2: {2c463dee-1fe0-4259-8258-779fc0713503}
AT3: 2
D4: KRYCÍ LIST SOUPISU | M4: v --- níže se nacházejí doplnkové a pomocné údaje k sestavám --- v | AT4: False
D6: Stavba:
E7: ='Rekapitulace stavby'!K6 -> Hradčanský rybník, oprava rybníka
D8: Objekt:
E9: SO 04 - Chodník
D11: KSO: | I11: CC-CZ:
D12: Místo: | I12: Datum:
D14: Zadavatel: | I14: IČ:
E15: MĚSTO RALSKA, Kuřívody 701, Ralsko, 471 24 Mimoň | I15: DIČ:
D17: Uchazeč: | I17: IČ: | J17: =IF('Rekapitulace stavby'!AN13="Vyplň údaj","",IF('Rekapitulace stavby'!AN13="","",'Rekapitulace stavby'!AN13))
E18: =IF('Rekapitulace stavby'!E14="Vyplň údaj","",IF('Rekapitulace stavby'!E14="","",'Rekapitulace stavby'!E14)) | I18: DIČ: | J18: =IF('Rekapitulace stavby'!AN14="Vyplň údaj","",IF('Rekapitulace stavby'!AN14="","",'Rekapitulace stavby'!AN14))
D20: Projektant: | I20: IČ:
I21: DIČ:
D23: Poznámka:
D27: Cena bez DPH | J27: =ROUND(J82,2) -> 0
F29: Základ daně | I29: Sazba daně | J29: Výše daně
D30: DPH | E30: základní | F30: =ROUND(SUM(BE82:BE124), 2) -> 0 | I30: 0.21 | J30: =ROUND(ROUND((SUM(BE82:BE124)), 2)*I30, 2) -> 0
E31: snížená | F31: =ROUND(SUM(BF82:BF124), 2) -> 0 | I31: 0.15 | J31: =ROUND(ROUND((SUM(BF82:BF124)), 2)*I31, 2) -> 0
E32: zákl. přenesená | F32: =ROUND(SUM(BG82:BG124), 2) -> 0 | I32: 0.21 | J32: 0
E33: sníž. přenesená | F33: =ROUND(SUM(BH82:BH124), 2) -> 0 | I33: 0.15 | J33: 0
E34: nulová | F34: =ROUND(SUM(BI82:BI124), 2) -> 0 | I34: 0 | J34: 0
D36: Cena s DPH | G36: v | H36: CZK | J36: =SUM(J27:J34) -> 0
C42: REKAPITULACE ČLENĚNÍ SOUPISU PRACÍ
C44: Stavba:
E45: =E7 -> Hradčanský rybník, oprava rybníka
C46: Objekt:
E47: =E9 -> SO 04 - Chodník
C49: Místo: | F49: =F12 | I49: Datum: | J49: =IF(J12="","",J12)
C51: Zadavatel: | F51: =E15 -> MĚSTO RALSKA, Kuřívody 701, Ralsko, 471 24 Mimoň | I51: Projektant:
C52: Uchazeč: | F52: =IF(E18="","",E18)
C54: Kód dílu - Popis | J54: Cena celkem [CZK]
C56: Náklady soupisu celkem | J56: =J82 -> 0 | AU56: -1
D57: HSV - Práce a dodávky HSV | J57: =J83 -> 0
D58: 1 - Zemní práce | J58: =J84 -> 0
D59: 4 - Vodorovné konstrukce | J59: =J88 -> 0
D60: 5 - Komunikace pozemní | J60: =J95 -> 0
D61: 9 - Ostatní konstrukce a práce, bourání | J61: =J111 -> 0
...

Sheet SO 05 - Objekty podhrází,...
D1: List obsahuje: | F1: 1) Krycí list soupisu | G1: 2) Rekapitulace | J1: 3) Soupis prací | K1: Zpět na list: | L1: Rekapitulace stavby
L2: >> skryté sloupce << | AT2: {8d3b50ef-6b1e-4be5-b31f-ac7297a33e79}
AT3: 2
D4: KRYCÍ LIST SOUPISU | M4: v --- níže se nacházejí doplnkové a pomocné údaje k sestavám --- v | AT4: False
D6: Stavba:
E7: ='Rekapitulace stavby'!K6 -> Hradčanský rybník, oprava rybníka
D8: Objekt:
E9: SO 05 - Objekty podhrází, odběrný objekt
D11: KSO: | I11: CC-CZ:
D12: Místo: | I12: Datum:
D14: Zadavatel: | I14: IČ:
E15: MĚSTO RALSKA, Kuřívody 701, Ralsko, 471 24 Mimoň | I15: DIČ:
D17: Uchazeč: | I17: IČ: | J17: =IF('Rekapitulace stavby'!AN13="Vyplň údaj","",IF('Rekapitulace stavby'!AN13="","",'Rekapitulace stavby'!AN13))
E18: =IF('Rekapitulace stavby'!E14="Vyplň údaj","",IF('Rekapitulace stavby'!E14="","",'Rekapitulace stavby'!E14)) | I18: DIČ: | J18: =IF('Rekapitulace stavby'!AN14="Vyplň údaj","",IF('Rekapitulace stavby'!AN14="","",'Rekapitulace stavby'!AN14))
D20: Projektant: | I20: IČ:
I21: DIČ:
D23: Poznámka:
D27: Cena bez DPH | J27: =ROUND(J89,2) -> 0
F29: Základ daně | I29: Sazba daně | J29: Výše daně
D30: DPH | E30: základní | F30: =ROUND(SUM(BE89:BE361), 2) -> 0 | I30: 0.21 | J30: =ROUND(ROUND((SUM(BE89:BE361)), 2)*I30, 2) -> 0
E31: snížená | F31: =ROUND(SUM(BF89:BF361), 2) -> 0 | I31: 0.15 | J31: =ROUND(ROUND((SUM(BF89:BF361)), 2)*I31, 2) -> 0
E32: zákl. přenesená | F32: =ROUND(SUM(BG89:BG361), 2) -> 0 | I32: 0.21 | J32: 0
E33: sníž. přenesená | F33: =ROUND(SUM(BH89:BH361), 2) -> 0 | I33: 0.15 | J33: 0
E34: nulová | F34: =ROUND(SUM(BI89:BI361), 2) -> 0 | I34: 0 | J34: 0
D36: Cena s DPH | G36: v | H36: CZK | J36: =SUM(J27:J34) -> 0
C42: REKAPITULACE ČLENĚNÍ SOUPISU PRACÍ
C44: Stavba:
E45: =E7 -> Hradčanský rybník, oprava rybníka
C46: Objekt:
E47: =E9 -> SO 05 - Objekty podhrází, odběrný objekt
C49: Místo: | F49: =F12 | I49: Datum: | J49: =IF(J12="","",J12)
C51: Zadavatel: | F51: =E15 -> MĚSTO RALSKA, Kuřívody 701, Ralsko, 471 24 Mimoň | I51: Projektant:
C52: Uchazeč: | F52: =IF(E18="","",E18)
C54: Kód dílu - Popis | J54: Cena celkem [CZK]
C56: Náklady soupisu celkem | J56: =J89 -> 0 | AU56: -1
D57: HSV - Práce a dodávky HSV | J57: =J90 -> 0
D58: 1 - Zemní práce | J58: =J91 -> 0
D59: 18 - Zemní práce - povrchové úpravy terénu | J59: =J209 -> 0
D60: 2 - Zakládání | J60: =J216 -> 0
D61: 3 - Svislé a kompletní konstrukce | J61: =J230 -> 0
...

Sheet SO 06 - Biotechnická opat...
D1: List obsahuje: | F1: 1) Krycí list soupisu | G1: 2) Rekapitulace | J1: 3) Soupis prací | K1: Zpět na list: | L1: Rekapitulace stavby
L2: >> skryté sloupce << | AT2: {6aa73440-ce02-45dc-8af3-e605704266df}
AT3: 2
D4: KRYCÍ LIST SOUPISU | M4: v --- níže se nacházejí doplnkové a pomocné údaje k sestavám --- v | AT4: False
D6: Stavba:
E7: ='Rekapitulace stavby'!K6 -> Hradčanský rybník, oprava rybníka
D8: Objekt:
E9: SO 06 - Biotechnická opatření podhrází
D11: KSO: | I11: CC-CZ:
D12: Místo: | I12: Datum:
D14: Zadavatel: | I14: IČ:
E15: MĚSTO RALSKA, Kuřívody 701, Ralsko, 471 24 Mimoň | I15: DIČ:
D17: Uchazeč: | I17: IČ: | J17: =IF('Rekapitulace stavby'!AN13="Vyplň údaj","",IF('Rekapitulace stavby'!AN13="","",'Rekapitulace stavby'!AN13))
E18: =IF('Rekapitulace stavby'!E14="Vyplň údaj","",IF('Rekapitulace stavby'!E14="","",'Rekapitulace stavby'!E14)) | I18: DIČ: | J18: =IF('Rekapitulace stavby'!AN14="Vyplň údaj","",IF('Rekapitulace stavby'!AN14="","",'Rekapitulace stavby'!AN14))
D20: Projektant: | I20: IČ:
E21: Vodohospodářské projekty s.r.o. | I21: DIČ:
D23: Poznámka:
E24: Výměry vycházejí z výkresových příloh C.3
D27: Cena bez DPH | J27: =ROUND(J78,2) -> 0
F29: Základ daně | I29: Sazba daně | J29: Výše daně
D30: DPH | E30: základní | F30: =ROUND(SUM(BE78:BE97), 2) -> 0 | I30: 0.21 | J30: =ROUND(ROUND((SUM(BE78:BE97)), 2)*I30, 2) -> 0
E31: snížená | F31: =ROUND(SUM(BF78:BF97), 2) -> 0 | I31: 0.15 | J31: =ROUND(ROUND((SUM(BF78:BF97)), 2)*I31, 2) -> 0
E32: zákl. přenesená | F32: =ROUND(SUM(BG78:BG97), 2) -> 0 | I32: 0.21 | J32: 0
E33: sníž. přenesená | F33: =ROUND(SUM(BH78:BH97), 2) -> 0 | I33: 0.15 | J33: 0
E34: nulová | F34: =ROUND(SUM(BI78:BI97), 2) -> 0 | I34: 0 | J34: 0
D36: Cena s DPH | G36: v | H36: CZK | J36: =SUM(J27:J34) -> 0
C42: REKAPITULACE ČLENĚNÍ SOUPISU PRACÍ
C44: Stavba:
E45: =E7 -> Hradčanský rybník, oprava rybníka
C46: Objekt:
E47: =E9 -> SO 06 - Biotechnická opatření podhrází
C49: Místo: | F49: =F12 | I49: Datum: | J49: =IF(J12="","",J12)
C51: Zadavatel: | F51: =E15 -> MĚSTO RALSKA, Kuřívody 701, Ralsko, 471 24 Mimoň | I51: Projektant:
C52: Uchazeč: | F52: =IF(E18="","",E18)
C54: Kód dílu - Popis | J54: Cena celkem [CZK]
C56: Náklady soupisu celkem | J56: =J78 -> 0 | AU56: -1
D57: HSV - Práce a dodávky HSV | J57: =J79 -> 0
D58: 1 - Zemní práce | J58: =J80 -> 0
C65: SOUPIS PRACÍ
C67: Stavba:
...

Sheet SO 07 - Nádrž sediment, pláž
D1: List obsahuje: | F1: 1) Krycí list soupisu | G1: 2) Rekapitulace | J1: 3) Soupis prací | K1: Zpět na list: | L1: Rekapitulace stavby
L2: >> skryté sloupce << | AT2: {f80421cd-b747-4a85-a877-f254648e77db}
AT3: 2
D4: KRYCÍ LIST SOUPISU | M4: v --- níže se nacházejí doplnkové a pomocné údaje k sestavám --- v | AT4: False
D6: Stavba:
E7: ='Rekapitulace stavby'!K6 -> Hradčanský rybník, oprava rybníka
D8: Objekt:
E9: SO 07 - Nádrž sediment, pláž
D11: KSO: | I11: CC-CZ:
D12: Místo: | I12: Datum:
D14: Zadavatel: | I14: IČ:
E15: MĚSTO RALSKA, Kuřívody 701, Ralsko, 471 24 Mimoň | I15: DIČ:
D17: Uchazeč: | I17: IČ: | J17: =IF('Rekapitulace stavby'!AN13="Vyplň údaj","",IF('Rekapitulace stavby'!AN13="","",'Rekapitulace stavby'!AN13))
E18: =IF('Rekapitulace stavby'!E14="Vyplň údaj","",IF('Rekapitulace stavby'!E14="","",'Rekapitulace stavby'!E14)) | I18: DIČ: | J18: =IF('Rekapitulace stavby'!AN14="Vyplň údaj","",IF('Rekapitulace stavby'!AN14="","",'Rekapitulace stavby'!AN14))
D20: Projektant: | I20: IČ:
I21: DIČ:
D23: Poznámka:
E24: Výměry vycházejí z výkresových příloh C.6, C.7
D27: Cena bez DPH | J27: =ROUND(J79,2) -> 0
F29: Základ daně | I29: Sazba daně | J29: Výše daně
D30: DPH | E30: základní | F30: =ROUND(SUM(BE79:BE165), 2) -> 0 | I30: 0.21 | J30: =ROUND(ROUND((SUM(BE79:BE165)), 2)*I30, 2) -> 0
E31: snížená | F31: =ROUND(SUM(BF79:BF165), 2) -> 0 | I31: 0.15 | J31: =ROUND(ROUND((SUM(BF79:BF165)), 2)*I31, 2) -> 0
E32: zákl. přenesená | F32: =ROUND(SUM(BG79:BG165), 2) -> 0 | I32: 0.21 | J32: 0
E33: sníž. přenesená | F33: =ROUND(SUM(BH79:BH165), 2) -> 0 | I33: 0.15 | J33: 0
E34: nulová | F34: =ROUND(SUM(BI79:BI165), 2) -> 0 | I34: 0 | J34: 0
D36: Cena s DPH | G36: v | H36: CZK | J36: =SUM(J27:J34) -> 0
C42: REKAPITULACE ČLENĚNÍ SOUPISU PRACÍ
C44: Stavba:
E45: =E7 -> Hradčanský rybník, oprava rybníka
C46: Objekt:
E47: =E9 -> SO 07 - Nádrž sediment, pláž
C49: Místo: | F49: =F12 | I49: Datum: | J49: =IF(J12="","",J12)
C51: Zadavatel: | F51: =E15 -> MĚSTO RALSKA, Kuřívody 701, Ralsko, 471 24 Mimoň | I51: Projektant:
C52: Uchazeč: | F52: =IF(E18="","",E18)
C54: Kód dílu - Popis | J54: Cena celkem [CZK]
C56: Náklady soupisu celkem | J56: =J79 -> 0 | AU56: -1
D57: HSV - Práce a dodávky HSV | J57: =J80 -> 0
D58: A - SEDIMENT | J58: =J81 -> 0
D59: B - PLÁŽ | J59: =J118 -> 0
C66: SOUPIS PRACÍ
...

Sheet SO 08 - Bourací práce
D1: List obsahuje: | F1: 1) Krycí list soupisu | G1: 2) Rekapitulace | J1: 3) Soupis prací | K1: Zpět na list: | L1: Rekapitulace stavby
L2: >> skryté sloupce << | AT2: {14dee07d-c9dd-49ce-8283-72b3842d8abe}
AT3: 2
D4: KRYCÍ LIST SOUPISU | M4: v --- níže se nacházejí doplnkové a pomocné údaje k sestavám --- v | AT4: False
D6: Stavba:
E7: ='Rekapitulace stavby'!K6 -> Hradčanský rybník, oprava rybníka
D8: Objekt:
E9: SO 08 - Bourací práce
D11: KSO: | I11: CC-CZ:
D12: Místo: | I12: Datum:
D14: Zadavatel: | I14: IČ:
E15: MĚSTO RALSKA, Kuřívody 701, Ralsko, 471 24 Mimoň | I15: DIČ:
D17: Uchazeč: | I17: IČ: | J17: =IF('Rekapitulace stavby'!AN13="Vyplň údaj","",IF('Rekapitulace stavby'!AN13="","",'Rekapitulace stavby'!AN13))
E18: =IF('Rekapitulace stavby'!E14="Vyplň údaj","",IF('Rekapitulace stavby'!E14="","",'Rekapitulace stavby'!E14)) | I18: DIČ: | J18: =IF('Rekapitulace stavby'!AN14="Vyplň údaj","",IF('Rekapitulace stavby'!AN14="","",'Rekapitulace stavby'!AN14))
D20: Projektant: | I20: IČ:
I21: DIČ:
D23: Poznámka:
D27: Cena bez DPH | J27: =ROUND(J83,2) -> 0
F29: Základ daně | I29: Sazba daně | J29: Výše daně
D30: DPH | E30: základní | F30: =ROUND(SUM(BE83:BE169), 2) -> 0 | I30: 0.21 | J30: =ROUND(ROUND((SUM(BE83:BE169)), 2)*I30, 2) -> 0
E31: snížená | F31: =ROUND(SUM(BF83:BF169), 2) -> 0 | I31: 0.15 | J31: =ROUND(ROUND((SUM(BF83:BF169)), 2)*I31, 2) -> 0
E32: zákl. přenesená | F32: =ROUND(SUM(BG83:BG169), 2) -> 0 | I32: 0.21 | J32: 0
E33: sníž. přenesená | F33: =ROUND(SUM(BH83:BH169), 2) -> 0 | I33: 0.15 | J33: 0
E34: nulová | F34: =ROUND(SUM(BI83:BI169), 2) -> 0 | I34: 0 | J34: 0
D36: Cena s DPH | G36: v | H36: CZK | J36: =SUM(J27:J34) -> 0
C42: REKAPITULACE ČLENĚNÍ SOUPISU PRACÍ
C44: Stavba:
E45: =E7 -> Hradčanský rybník, oprava rybníka
C46: Objekt:
E47: =E9 -> SO 08 - Bourací práce
C49: Místo: | F49: =F12 | I49: Datum: | J49: =IF(J12="","",J12)
C51: Zadavatel: | F51: =E15 -> MĚSTO RALSKA, Kuřívody 701, Ralsko, 471 24 Mimoň | I51: Projektant:
C52: Uchazeč: | F52: =IF(E18="","",E18)
C54: Kód dílu - Popis | J54: Cena celkem [CZK]
C56: Náklady soupisu celkem | J56: =J83 -> 0 | AU56: -1
D57: HSV - Práce a dodávky HSV | J57: =J84 -> 0
D58: 1 - Zemní práce | J58: =J85 -> 0
D59: 3 - Svislé a kompletní konstrukce | J59: =J107 -> 0
D60: 9 - Ostatní konstrukce a práce, bourání | J60: =J116 -> 0
D61: 96 - Bourání konstrukcí | J61: =J150 -> 0
...

Sheet VON - Vedlejší a ostatní ...
D1: List obsahuje: | F1: 1) Krycí list soupisu | G1: 2) Rekapitulace | J1: 3) Soupis prací | K1: Zpět na list: | L1: Rekapitulace stavby
L2: >> skryté sloupce << | AT2: {2103ddbf-7014-47d8-ad23-ad283dbae7d4}
AT3: 2
D4: KRYCÍ LIST SOUPISU | M4: v --- níže se nacházejí doplnkové a pomocné údaje k sestavám --- v | AT4: False
D6: Stavba:
E7: ='Rekapitulace stavby'!K6 -> Hradčanský rybník, oprava rybníka
D8: Objekt:
E9: VON - Vedlejší a ostatní náklady
D11: KSO: | I11: CC-CZ:
D12: Místo: | I12: Datum:
D14: Zadavatel: | I14: IČ:
E15: MĚSTO RALSKA, Kuřívody 701, Ralsko, 471 24 Mimoň | I15: DIČ:
D17: Uchazeč: | I17: IČ: | J17: =IF('Rekapitulace stavby'!AN13="Vyplň údaj","",IF('Rekapitulace stavby'!AN13="","",'Rekapitulace stavby'!AN13))
E18: =IF('Rekapitulace stavby'!E14="Vyplň údaj","",IF('Rekapitulace stavby'!E14="","",'Rekapitulace stavby'!E14)) | I18: DIČ: | J18: =IF('Rekapitulace stavby'!AN14="Vyplň údaj","",IF('Rekapitulace stavby'!AN14="","",'Rekapitulace stavby'!AN14))
D20: Projektant: | I20: IČ:
I21: DIČ:
D23: Poznámka:
D27: Cena bez DPH | J27: =ROUND(J81,2) -> 0
F29: Základ daně | I29: Sazba daně | J29: Výše daně
D30: DPH | E30: základní | F30: =ROUND(SUM(BE81:BE111), 2) -> 0 | I30: 0.21 | J30: =ROUND(ROUND((SUM(BE81:BE111)), 2)*I30, 2) -> 0
E31: snížená | F31: =ROUND(SUM(BF81:BF111), 2) -> 0 | I31: 0.15 | J31: =ROUND(ROUND((SUM(BF81:BF111)), 2)*I31, 2) -> 0
E32: zákl. přenesená | F32: =ROUND(SUM(BG81:BG111), 2) -> 0 | I32: 0.21 | J32: 0
E33: sníž. přenesená | F33: =ROUND(SUM(BH81:BH111), 2) -> 0 | I33: 0.15 | J33: 0
E34: nulová | F34: =ROUND(SUM(BI81:BI111), 2) -> 0 | I34: 0 | J34: 0
D36: Cena s DPH | G36: v | H36: CZK | J36: =SUM(J27:J34) -> 0
C42: REKAPITULACE ČLENĚNÍ SOUPISU PRACÍ
C44: Stavba:
E45: =E7 -> Hradčanský rybník, oprava rybníka
C46: Objekt:
E47: =E9 -> VON - Vedlejší a ostatní náklady
C49: Místo: | F49: =F12 | I49: Datum: | J49: =IF(J12="","",J12)
C51: Zadavatel: | F51: =E15 -> MĚSTO RALSKA, Kuřívody 701, Ralsko, 471 24 Mimoň | I51: Projektant:
C52: Uchazeč: | F52: =IF(E18="","",E18)
C54: Kód dílu - Popis | J54: Cena celkem [CZK]
C56: Náklady soupisu celkem | J56: =J81 -> 0 | AU56: -1
D57: VRN - Vedlejší rozpočtové náklady | J57: =J82 -> 0
D58: VRN1 - Průzkumné, geodetické a projektové práce | J58: =J83 -> 0
D59: VRN2 - Příprava staveniště | J59: =J91 -> 0
D60: VRN3 - Zařízení staveniště | J60: =J93 -> 0
D61: VRN5 - Finanční náklady | J61: =J110 -> 0
...

Sheet Pokyny pro vyplnění
C3: Struktura údajů, formát souboru a metodika pro zpracování
C4: Struktura
C6: Soubor je složen ze záložky Rekapitulace stavby a záložek s názvem soupisu prací pro jednotlivé objekty ve formátu XLSX. Každá ze záložek přitom obsahuje
C7: ještě samostatné sestavy vymezené orámovaním a nadpisem sestavy.
C9: Rekapitulace stavby obsahuje sestavu Rekapitulace stavby a Rekapitulace objektů stavby a soupisů prací.
D10: V sestavě Rekapitulace stavby jsou uvedeny informace identifikující předmět veřejné zakázky na stavební práce, KSO, CC-CZ, CZ-CPV, CZ-CPA a rekapitulaci
D11: celkové nabídkové ceny uchazeče.
D13: V sestavě Rekapitulace objektů stavby a soupisů prací je uvedena rekapitulace stavebních objektů, inženýrských objektů, provozních souborů,
D14: vedlejších a ostatních nákladů a ostatních nákladů s rekapitulací nabídkové ceny za jednotlivé soupisy prací. Na základě údaje Typ je možné
D15: identifikovat, zda se jedná o objekt nebo soupis prací pro daný objekt:
E16: STA | F16: Stavební objekt pozemní
E17: ING | F17: Stavební objekt inženýrský
E18: PRO | F18: Provozní soubor
E19: VON | F19: Vedlejší a ostatní náklady
E20: OST | F20: Ostatní
E21: Soupis | F21: Soupis prací pro daný typ objektu
C23: Soupis prací pro jednotlivé objekty obsahuje sestavy Krycí list soupisu, Rekapitulace členění soupisu prací, Soupis prací. Za soupis prací může být považován
C24: i objekt stavby v případě, že neobsahuje podřízenou zakázku.
D25: Krycí list soupisu obsahuje rekapitulaci informací o předmětu veřejné zakázky ze sestavy Rekapitulace stavby, informaci o zařazení objektu do KSO,
D26: CC-CZ, CZ-CPV, CZ-CPA a rekapitulaci celkové nabídkové ceny uchazeče za aktuální soupis prací.
D28: Rekapitulace členění soupisu prací obsahuje rekapitulaci soupisu prací ve všech úrovních členění soupisu tak, jak byla tato členění použita (např.
D29: stavební díly, funkční díly, případně jiné členění) s rekapitulací nabídkové ceny.
D31: Soupis prací obsahuje položky veškerých stavebních nebo montážních prací, dodávek materiálů a služeb nezbytných pro zhotovení stavebního objektu,
D32: inženýrského objektu, provozního souboru, vedlejších a ostatních nákladů.
D33: Pro položky soupisu prací se zobrazují následující informace:
E34: PČ | G34: Pořadové číslo položky v aktuálním soupisu
E35: TYP | G35: Typ položky: K - konstrukce, M - materiál, PP - plný popis, PSC - poznámka k souboru cen, P - poznámka k položce, VV - výkaz výměr
E36: Kód | G36: Kód položky
E37: Popis | G37: Zkrácený popis položky
E38: MJ | G38: Měrná jednotka položky
E39: Množství | G39: Množství v měrné jednotce
E40: J.cena | G40: Jednotková cena položky. Zadaní může obsahovat namísto J.ceny sloupce J.materiál a J.montáž, jejichž součet definuje
G41: J.cenu položky.
E42: Cena celkem | G42: Celková cena položky daná jako součin množství a j.ceny
E43: Cenová soustava | G43: Příslušnost položky do cenové soustavy
D45: Ke každé položce soupisu prací se na samostatných řádcích může zobrazovat:
E46: Plný popis položky
E47: Poznámka k souboru cen a poznámka zadavatele
E48: Výkaz výměr
D49: Pokud je k řádku výkazu výměr evidovaný údaj ve sloupci Kód, jedná se o definovaný odkaz, na který se může odvolávat výkaz výměr z jiné položky.
...
