Workbook

Sheet Rekapitulace stavby
A1: Export VZ | D1: List obsahuje: | K1: 1) Rekapitulace stavby | W1: 2) Rekapitulace objektů stavby a soupisů prací | BA1: 3.0 | BT1: False | BU1: False | BV1: {adabfac9-71d8-4932-b311-466d6f5e57b5}
AR2: >> skryté sloupce << | BS2: 0,01 | BT2: 21
BS3: 0,01 | BT3: 15
D4: REKAPITULACE STAVBY | AS4: v --- níže se nacházejí doplnkové a pomocné údaje k sestavám --- v | BS4: 0,001
D5: Kód: | BS5: 0,01
D6: Stavba: | K6: Hradčanský rybník, oprava rybníka | BS6: 0,01
D7: KSO: | AK7: CC-CZ: | BS7: 0,01
D8: Místo: | AK8: Datum: | BS8: 0,01
BS9: 0,01
D10: Zadavatel: | AK10: IČ: | BS10: 0,01
E11: MĚSTO RALSKA, Kuřívody 701, Ralsko, 471 24 Mimoň | AK11: DIČ: | BS11: 0,01
BS12: 0,01
D13: Uchazeč: | AK13: IČ: | BS13: 0,01
AK14: DIČ: | BS14: 0,01
BS15: False
D16: Projektant: | AK16: IČ: | BS16: False
AK17: DIČ: | BS17: True
BS18: 0,01
D19: Poznámka: | BS19: 0,01
BS20: False
D23: Cena bez DPH | AK23: =ROUND(AG51,2) -> 0
L25: Sazba daně | W25: Základ daně | AK25: Výše daně
D26: DPH | F26: základní | L26: 0.21 | W26: =ROUND(AZ51,2) -> 0 | AK26: =ROUND(AV51,2) -> 0
F27: snížená | L27: 0.15 | W27: =ROUND(BA51,2) -> 0 | AK27: =ROUND(AW51,2) -> 0
F28: zákl. přenesená | L28: 0.21 | W28: =ROUND(BB51,2) -> 0 | AK28: 0
F29: sníž. přenesená | L29: 0.15 | W29: =ROUND(BC51,2) -> 0 | AK29: 0
F30: nulová | L30: 0 | W30: =ROUND(BD51,2) -> 0 | AK30: 0
D32: Cena s DPH | T32: v | X32: CZK | AK32: =SUM(AK23:AK30) -> 0
C39: REKAPITULACE OBJEKTŮ STAVBY A SOUPISŮ PRACÍ
C41: Kód: | L41: =K5 -> 0
C42: Stavba: | L42: =K6 -> Hradčanský rybník, oprava rybníka
C44: Místo: | L44: =IF(K8="","",K8) | AI44: Datum:
C46: Zadavatel: | L46: =IF(E11= "","",E11) -> MĚSTO RALSKA, Kuřívody 701, Ralsko, 471 24 Mimoň | AI46: Projektant: | AM46: =IF(E17="","",E17) | AS46: Informatívní údaje z listů zakázek
C47: Uchazeč: | L47: =IF(E14="","",E14)
C49: Kód | I49: Objekt, Soupis prací | AG49: Cena bez DPH [CZK] | AN49: Cena s DPH [CZK] | AQ49: Typ | AS49: z toho Ostat._x000D_ náklady [CZK] | AT49: DPH [CZK] | AU49: Normohodiny [h] | AV49: DPH základní [CZK] | AW49: DPH snížená [CZK] | AX49: DPH základní přenesená_x000D_ [CZK] | AY49: DPH snížená přenesená_x000D_ [CZK] | AZ49: Základna_x000D_ DPH základní | BA49: Základna_x000D_ DPH snížená | BB49: Základna_x000D_ DPH zákl. přenesená | BC49: Základna_x000D_ DPH sníž. přenesená | BD49: Základna_x000D_ DPH nulová
C51: Náklady stavby celkem | AG51: =ROUND(SUM(AG52:AG60),2) -> 0 | AN51: =SUM(AG51,AT51) -> 0 | AS51: =ROUND(SUM(AS52:AS60),2) -> 0 | AT51: =ROUND(SUM(AV51:AW51),2) -> 0 | AU51: =ROUND(SUM(AU52:AU60),5) -> 32107.08 | AV51: =ROUND(AZ51*L26,2) -> 0 | AW51: =ROUND(BA51*L27,2) -> 0 | AX51: =ROUND(BB51*L26,2) -> 0 | AY51: =ROUND(BC51*L27,2) -> 0 | AZ51: =ROUND(SUM(AZ52:AZ60),2) -> 0 | BA51: =ROUND(SUM(BA52:BA60),2) -> 0 | BB51: =ROUND(SUM(BB52:BB60),2) -> 0 | BC51: =ROUND(SUM(BC52:BC60),2) -> 0 | BD51: =ROUND(SUM(BD52:BD60),2) -> 0 | BS51: D | BT51: 0 | BU51: ###NOIMPORT### | BV51: IMPORT | BW51: {adabfac9-71d8-4932-b311-466d6f5e57b5} | BX51: {00000000-0000-0000-0000-000000000000}
A52: / | D52: SO 01a | J52: Bezpečnostní přeliv | AG52: ='SO 01a - Bezpečnostní přeliv'!J27 -> 0 | AN52: =SUM(AG52,AT52) -> 0 | AQ52: STA | AS52: 0 | AT52: =ROUND(SUM(AV52:AW52),2) -> 0 | AU52: ='SO 01a - Bezpečnostní přeliv'!P90 -> 3534.9345 | AV52: ='SO 01a - Bezpečnostní přeliv'!J30 -> 0 | AW52: ='SO 01a - Bezpečnostní přeliv'!J31 -> 0 | AX52: ='SO 01a - Bezpečnostní přeliv'!J32 -> 0 | AY52: ='SO 01a - Bezpečnostní přeliv'!J33 -> 0 | AZ52: ='SO 01a - Bezpečnostní přeliv'!F30 -> 0 | BA52: ='SO 01a - Bezpečnostní přeliv'!F31 -> 0 | BB52: ='SO 01a - Bezpečnostní přeliv'!F32 -> 0 | BC52: ='SO 01a - Bezpečnostní přeliv'!F33 -> 0 | BD52: ='SO 01a - Bezpečnostní přeliv'!F34 -> 0 | BT52: 1 | BV52: IMPORT | BW52: {6d9d9edc-cde4-4ae4-b4df-421d40af0289} | BX52: {adabfac9-71d8-4932-b311-466d6f5e57b5} | CM52: 2
A53: / | D53: SO 01b | J53: Lávka | AG53: ='SO 01b - Lávka'!J27 -> 0 | AN53: =SUM(AG53,AT53) -> 0 | AQ53: STA | AS53: 0 | AT53: =ROUND(SUM(AV53:AW53),2) -> 0 | AU53: ='SO 01b - Lávka'!P83 -> 1006.3243 | AV53: ='SO 01b - Lávka'!J30 -> 0 | AW53: ='SO 01b - Lávka'!J31 -> 0 | AX53: ='SO 01b - Lávka'!J32 -> 0 | AY53: ='SO 01b - Lávka'!J33 -> 0 | AZ53: ='SO 01b - Lávka'!F30 -> 0 | BA53: ='SO 01b - Lávka'!F31 -> 0 | BB53: ='SO 01b - Lávka'!F32 -> 0 | BC53: ='SO 01b - Lávka'!F33 -> 0 | BD53: ='SO 01b - Lávka'!F34 -> 0 | BT53: 1 | BV53: IMPORT | BW53: {190abf37-f305-451d-a49f-80680e372db7} | BX53: {adabfac9-71d8-4932-b311-466d6f5e57b5} | CM53: 2
A54: / | D54: SO 03 | J54: Hráz | AG54: ='SO 03 - Hráz'!J27 -> 0 | AN54: =SUM(AG54,AT54) -> 0 | AQ54: STA | AS54: 0 | AT54: =ROUND(SUM(AV54:AW54),2) -> 0 | AU54: ='SO 03 - Hráz'!P84 -> 5197.1702 | AV54: ='SO 03 - Hráz'!J30 -> 0 | AW54: ='SO 03 - Hráz'!J31 -> 0 | AX54: ='SO 03 - Hráz'!J32 -> 0 | AY54: ='SO 03 - Hráz'!J33 -> 0 | AZ54: ='SO 03 - Hráz'!F30 -> 0 | BA54: ='SO 03 - Hráz'!F31 -> 0 | BB54: ='SO 03 - Hráz'!F32 -> 0 | BC54: ='SO 03 - Hráz'!F33 -> 0 | BD54: ='SO 03 - Hráz'!F34 -> 0 | BT54: 1 | BV54: IMPORT | BW54: {7e0245d7-9d4e-4b07-ba13-3bc173468632} | BX54: {adabfac9-71d8-4932-b311-466d6f5e57b5} | CM54: 2
A55: / | D55: SO 04 | J55: Chodník | AG55: ='SO 04 - Chodník'!J27 -> 0 | AN55: =SUM(AG55,AT55) -> 0 | AQ55: STA | AS55: 0 | AT55: =ROUND(SUM(AV55:AW55),2) -> 0 | AU55: ='SO 04 - Chodník'!P82 -> 188.72382 | AV55: ='SO 04 - Chodník'!J30 -> 0 | AW55: ='SO 04 - Chodník'!J31 -> 0 | AX55: ='SO 04 - Chodník'!J32 -> 0 | AY55: ='SO 04 - Chodník'!J33 -> 0 | AZ55: ='SO 04 - Chodník'!F30 -> 0 | BA55: ='SO 04 - Chodník'!F31 -> 0 | BB55: ='SO 04 - Chodník'!F32 -> 0 | BC55: ='SO 04 - Chodník'!F33 -> 0 | BD55: ='SO 04 - Chodník'!F34 -> 0 | BT55: 1 | BV55: IMPORT | BW55: {2c463dee-1fe0-4259-8258-779fc0713503} | BX55: {adabfac9-71d8-4932-b311-466d6f5e57b5} | CM55: 2
A56: / | D56: SO 05 | J56: Objekty podhrází, odběrný objekt | AG56: ='SO 05 - Objekty podhrází,...'!J27 -> 0 | AN56: =SUM(AG56,AT56) -> 0 | AQ56: STA | AS56: 0 | AT56: =ROUND(SUM(AV56:AW56),2) -> 0 | AU56: ='SO 05 - Objekty podhrází,...'!P89 -> 1513.7232 | AV56: ='SO 05 - Objekty podhrází,...'!J30 -> 0 | AW56: ='SO 05 - Objekty podhrází,...'!J31 -> 0 | AX56: ='SO 05 - Objekty podhrází,...'!J32 -> 0 | AY56: ='SO 05 - Objekty podhrází,...'!J33 -> 0 | AZ56: ='SO 05 - Objekty podhrází,...'!F30 -> 0 | BA56: ='SO 05 - Objekty podhrází,...'!F31 -> 0 | BB56: ='SO 05 - Objekty podhrází,...'!F32 -> 0 | BC56: ='SO 05 - Objekty podhrází,...'!F33 -> 0 | BD56: ='SO 05 - Objekty podhrází,...'!F34 -> 0 | BT56: 1 | BV56: IMPORT | BW56: {8d3b50ef-6b1e-4be5-b31f-ac7297a33e79} | BX56: {adabfac9-71d8-4932-b311-466d6f5e57b5} | CM56: 2
A57: / | D57: SO 06 | J57: Biotechnická opatření podhrází | AG57: ='SO 06 - Biotechnická opat...'!J27 -> 0 | AN57: =SUM(AG57,AT57) -> 0 | AQ57: STA | AS57: 0 | AT57: =ROUND(SUM(AV57:AW57),2) -> 0 | AU57: ='SO 06 - Biotechnická opat...'!P78 -> 123.76476 | AV57: ='SO 06 - Biotechnická opat...'!J30 -> 0 | AW57: ='SO 06 - Biotechnická opat...'!J31 -> 0 | AX57: ='SO 06 - Biotechnická opat...'!J32 -> 0 | AY57: ='SO 06 - Biotechnická opat...'!J33 -> 0 | AZ57: ='SO 06 - Biotechnická opat...'!F30 -> 0 | BA57: ='SO 06 - Biotechnická opat...'!F31 -> 0 | BB57: ='SO 06 - Biotechnická opat...'!F32 -> 0 | BC57: ='SO 06 - Biotechnická opat...'!F33 -> 0 | BD57: ='SO 06 - Biotechnická opat...'!F34 -> 0 | BT57: 1 | BV57: IMPORT | BW57: {6aa73440-ce02-45dc-8af3-e605704266df} | BX57: {adabfac9-71d8-4932-b311-466d6f5e57b5} | CM57: 2
A58: / | D58: SO 07 | J58: Nádrž sediment, pláž | AG58: ='SO 07 - Nádrž sediment, pláž'!J27 -> 0 | AN58: =SUM(AG58,AT58) -> 0 | AQ58: STA | AS58: 0 | AT58: =ROUND(SUM(AV58:AW58),2) -> 0 | AU58: ='SO 07 - Nádrž sediment, pláž'!P79 -> 18250.158 | AV58: ='SO 07 - Nádrž sediment, pláž'!J30 -> 0 | AW58: ='SO 07 - Nádrž sediment, pláž'!J31 -> 0 | AX58: ='SO 07 - Nádrž sediment, pláž'!J32 -> 0 | AY58: ='SO 07 - Nádrž sediment, pláž'!J33 -> 0 | AZ58: ='SO 07 - Nádrž sediment, pláž'!F30 -> 0 | BA58: ='SO 07 - Nádrž sediment, pláž'!F31 -> 0 | BB58: ='SO 07 - Nádrž sediment, pláž'!F32 -> 0 | BC58: ='SO 07 - Nádrž sediment, pláž'!F33 -> 0 | BD58: ='SO 07 - Nádrž sediment, pláž'!F34 -> 0 | BT58: 1 | BV58: IMPORT | BW58: {f80421cd-b747-4a85-a877-f254648e77db} | BX58: {adabfac9-71d8-4932-b311-466d6f5e57b5} | CM58: 2
A59: / | D59: SO 08 | J59: Bourací práce | AG59: ='SO 08 - Bourací práce'!J27 -> 0 | AN59: =SUM(AG59,AT59) -> 0 | AQ59: STA | AS59: 0 | AT59: =ROUND(SUM(AV59:AW59),2) -> 0 | AU59: ='SO 08 - Bourací práce'!P83 -> 2292.2805 | AV59: ='SO 08 - Bourací práce'!J30 -> 0 | AW59: ='SO 08 - Bourací práce'!J31 -> 0 | AX59: ='SO 08 - Bourací práce'!J32 -> 0 | AY59: ='SO 08 - Bourací práce'!J33 -> 0 | AZ59: ='SO 08 - Bourací práce'!F30 -> 0 | BA59: ='SO 08 - Bourací práce'!F31 -> 0 | BB59: ='SO 08 - Bourací práce'!F32 -> 0 | BC59: ='SO 08 - Bourací práce'!F33 -> 0 | BD59: ='SO 08 - Bourací práce'!F34 -> 0 | BT59: 1 | BV59: IMPORT | BW59: {14dee07d-c9dd-49ce-8283-72b3842d8abe} | BX59: {adabfac9-71d8-4932-b311-466d6f5e57b5} | CM59: 2
A60: / | D60: VON | J60: Vedlejší a ostatní náklady | AG60: ='VON - Vedlejší a ostatní ...'!J27 -> 0 | AN60: =SUM(AG60,AT60) -> 0 | AQ60: VON | AS60: 0 | AT60: =ROUND(SUM(AV60:AW60),2) -> 0 | AU60: ='VON - Vedlejší a ostatní ...'!P81 -> 0 | AV60: ='VON - Vedlejší a ostatní ...'!J30 -> 0 | AW60: ='VON - Vedlejší a ostatní ...'!J31 -> 0 | AX60: ='VON - Vedlejší a ostatní ...'!J32 -> 0 | AY60: ='VON - Vedlejší a ostatní ...'!J33 -> 0 | AZ60: ='VON - Vedlejší a ostatní ...'!F30 -> 0 | BA60: ='VON - Vedlejší a ostatní ...'!F31 -> 0 | BB60: ='VON - Vedlejší a ostatní ...'!F32 -> 0 | BC60: ='VON - Vedlejší a ostatní ...'!F33 -> 0 | BD60: ='VON - Vedlejší a ostatní ...'!F34 -> 0 | BT60: 1 | BV60: IMPORT | BW60: {2103ddbf-7014-47d8-ad23-ad283dbae7d4} | BX60: {adabfac9-71d8-4932-b311-466d6f5e57b5} | CM60: 2

Sheet SO 01a - Bezpečnostní přeliv
D1: List obsahuje: | F1: 1) Krycí list soupisu | G1: 2) Rekapitulace | J1: 3) Soupis prací | K1: Zpět na list: | L1: Rekapitulace stavby
L2: >> skryté sloupce << | AT2: {6d9d9edc-cde4-4ae4-b4df-421d40af0289}
AT3: 2
D4: KRYCÍ LIST SOUPISU | M4: v --- níže se nacházejí doplnkové a pomocné údaje k sestavám --- v | AT4: False
D6: Stavba:
E7: ='Rekapitulace stavby'!K6 -> Hradčanský rybník, oprava rybníka
D8: Objekt:
E9: SO 01a - Bezpečnostní přeliv
D11: KSO: | I11: CC-CZ:
D12: Místo: | I12: Datum:
D14: Zadavatel: | I14: IČ:
E15: MĚSTO RALSKA, Kuřívody 701, Ralsko, 471 24 Mimoň | I15: DIČ:
D17: Uchazeč: | I17: IČ: | J17: =IF('Rekapitulace stavby'!AN13="Vyplň údaj","",IF('Rekapitulace stavby'!AN13="","",'Rekapitulace stavby'!AN13))
E18: =IF('Rekapitulace stavby'!E14="Vyplň údaj","",IF('Rekapitulace stavby'!E14="","",'Rekapitulace stavby'!E14)) | I18: DIČ: | J18: =IF('Rekapitulace stavby'!AN14="Vyplň údaj","",IF('Rekapitulace stavby'!AN14="","",'Rekapitulace stavby'!AN14))
D20: Projektant: | I20: IČ:
E21: Vodohospodářské projekty s.r.o. | I21: DIČ:
D23: Poznámka:
E24: Stavební objekt SO 01 obsahuje výměry i pro SO 02
D27: Cena bez DPH | J27: =ROUND(J90,2) -> 0
F29: Základ daně | I29: Sazba daně | J29: Výše daně
D30: DPH | E30: základní | F30: =ROUND(SUM(BE90:BE361), 2) -> 0 | I30: 0.21 | J30: =ROUND(ROUND((SUM(BE90:BE361)), 2)*I30, 2) -> 0
E31: snížená | F31: =ROUND(SUM(BF90:BF361), 2) -> 0 | I31: 0.15 | J31: =ROUND(ROUND((SUM(BF90:BF361)), 2)*I31, 2) -> 0
E32: zákl. přenesená | F32: =ROUND(SUM(BG90:BG361), 2) -> 0 | I32: 0.21 | J32: 0
E33: sníž. přenesená | F33: =ROUND(SUM(BH90:BH361), 2) -> 0 | I33: 0.15 | J33: 0
E34: nulová | F34: =ROUND(SUM(BI90:BI361), 2) -> 0 | I34: 0 | J34: 0
D36: Cena s DPH | G36: v | H36: CZK | J36: =SUM(J27:J34) -> 0
C42: REKAPITULACE ČLENĚNÍ SOUPISU PRACÍ
C44: Stavba:
E45: =E7 -> Hradčanský rybník, oprava rybníka
C46: Objekt:
E47: =E9 -> SO 01a - Bezpečnostní přeliv
C49: Místo: | F49: =F12 | I49: Datum:
C51: Zadavatel: | F51: =E15 -> MĚSTO RALSKA, Kuřívody 701, Ralsko, 471 24 Mimoň | I51: Projektant:
C52: Uchazeč: | F52: =IF(E18="","",E18)
C54: Kód dílu - Popis | J54: Cena celkem [CZK]
C56: Náklady soupisu celkem | J56: =J90 -> 0 | AU56: -1
D57: HSV - Práce a dodávky HSV | J57: =J91 -> 0
D58: 1 - Zemní práce | J58: =J92 -> 0
D59: 2 - Zakládání | J59: =J156 -> 0
D60: 3 - Svislé a kompletní konstrukce | J60: =J170 -> 0
D61: 4 - Vodorovné konstrukce | J61: =J233 -> 0
D62: 5 - Komunikace pozemní | J62: =J268 -> 0
D63: 8 - Trubní vedení | J63: =J294 -> 0
D64: 9 - Ostatní konstrukce a práce-bourání | J64: =J299 -> 0
D65: 997 - Přesun sutě | J65: =J330 -> 0
D66: 998 - Přesun hmot | J66: =J338 -> 0
D67: PSV - Práce a dodávky PSV | J67: =J342 -> 0
D68: 767 - Konstrukce zámečnické | J68: =J343 -> 0
D69: M - Práce a dodávky M | J69: =J354 -> 0
D70: 23-M - Montáže potrubí | J70: =J355 -> 0
C77: SOUPIS PRACÍ
C79: Stavba:
E80: =E7 -> Hradčanský rybník, oprava rybníka
C81: Objekt:
E82: =E9 -> SO 01a - Bezpečnostní přeliv
C84: Místo: | F84: =F12 | I84: Datum:
C86: Zadavatel: | F86: =E15 -> MĚSTO RALSKA, Kuřívody 701, Ralsko, 471 24 Mimoň | I86: Projektant:
C87: Uchazeč: | F87: =IF(E18="","",E18)
C89: PČ | D89: Typ | E89: Kód | F89: Popis | G89: MJ | H89: Množství | I89: J.cena [CZK] | J89: Cena celkem [CZK] | K89: Cenová soustava | M89: Poznámka | N89: DPH | O89: J. Nh [h] | P89: Nh celkem [h] | Q89: J. hmotnost_x000D_ [t] | R89: Hmotnost_x000D_ celkem [t] | S89: J. suť [t] | T89: Suť Celkem [t]
C90: Náklady soupisu celkem | J90: =BK90 -> 0 | P90: =P91+P342+P354 -> 3534.9345 | R90: =R91+R342+R354 -> 1023.329 | T90: =T91+T342+T354 -> 157.40919 | AT90: D | AU90: -1 | BK90: =BK91+BK342+BK354 -> 0
D91: D | E91: HSV | F91: Práce a dodávky HSV | J91: =BK91 -> 0 | P91: =P92+P156+P170+P233+P268+P294+P299+P330+P338 -> 3451.8172 | R91: =R92+R156+R170+R233+R268+R294+R299+R330+R338 -> 1019.0014 | T91: =T92+T156+T170+T233+T268+T294+T299+T330+T338 -> 157.40919 | AR91: 1 | AT91: D | AU91: 0 | AY91: ROZPOCET | BK91: =BK92+BK156+BK170+BK233+BK268+BK294+BK299+BK330+BK338 -> 0
D92: D | E92: 1 | F92: Zemní práce | J92: =BK92 -> 0 | P92: =SUM(P93:P155) -> 530.82136 | R92: =SUM(R93:R155) -> 0.01448064 | T92: =SUM(T93:T155) -> 157.40919 | AR92: 1 | AT92: D | AU92: 1 | AY92: ROZPOCET | BK92: =SUM(BK93:BK155) -> 0
C93: 1 | D93: K | E93: 113107165R | F93: Odstranění podkladu pl přes 50 do 200 m2 z kameniva drceného tl 520 mm | G93: m2 | H93: 148.876 | J93: =ROUND(I93*H93,2) -> 0 | K93: R-položka | N93: základní | O93: 0.253 | P93: =O93*H93 -> 37.665628 | Q93: 0 | R93: =Q93*H93 -> 0 | S93: 0.78 | T93: =S93*H93 -> 116.12328 | AR93: 4 | AT93: K | AU93: 2 | AY93: ROZPOCET | BE93: =IF(N93="základní",J93,0) -> 0 | BF93: =IF(N93="snížená",J93,0) -> 0 | BG93: =IF(N93="zákl. přenesená",J93,0) -> 0 | BH93: =IF(N93="sníž. přenesená",J93,0) -> 0 | BI93: =IF(N93="nulová",J93,0) -> 0 | BJ93: 1 | BK93: =ROUND(I93*H93,2) -> 0 | BL93: 4 | BM93: -592701693
D94: PP | F94: Odstranění podkladů nebo krytů s přemístěním hmot na skládku na vzdálenost do 20 m nebo s naložením na dopravní prostředek v ploše jednotlivě přes 50 m2 do 200 m2 z kameniva hrubého drceného, o tl. vrstvy 520 mm | AT94: PP | AU94: 2
D95: PSC | F95: Poznámka k souboru cen:_x000D_ 1. Pro volbu cen z hlediska množství se uvažuje každá souvisle odstraňovaná plocha krytu nebo podkladu stejného druhu samostatně. Odstraňuje-li se několik vrstev vozovky najednou, jednotlivé vrstvy se oceňují každá samostatně. 2. U ploch menších než 50 m2 jsou ceny určeny pro ruční odstranění podkladu nebo krytu, u ploch větších než 50 m2 pro odstranění strojní. 3. Ceny a) –7111 až –7113, –7151 až -7153 a -7211 až -7213 lze použít i pro odstranění podkladů nebo krytů ze štěrkopísku, škváry, strusky nebo z mechanicky zpevněných zemin, b) –7121 až 7125, –7161 až -7165 a -7221 až -7225 lze použít i pro odstranění podkladů nebo krytů ze zemin stabilizovaných vápnem, c) –7130 až -7132, –7170 až -7172 a –7230 až -7232 lze použít i pro odstranění dlažeb uložených do betonového lože a dlažeb z mozaiky uložených do cementové malty nebo podkladu ze zemin stabilizovaných cementem. 4. Ceny lze použít i pro odstranění podkladů nebo krytů opatřených živičnými postřiky nebo nátěry. 5. Ceny odlišené podle tloušťky (např. do 100 mm, do 200 mm) jsou určeny vždy pro celou tloušťku jednotlivých konstrukcí. 6. V cenách nejsou započteny náklady na zarovnání styčných ploch betonových nebo živičných podkladů nebo krytů, které se oceňuje cenami souboru cen 919 73- Zarovnání styčné plochy části C 01 tohoto ceníku. Množství suti získané ze zarovnání styčných ploch podkladů nebo krytů se zvlášť nevykazuje. 7. Přemístění vybouraného materiálu na vzdálenost přes 3 m u cen –7111 až –7146 a přes 20 m u cen -7151 až –7246 se oceňuje cenami souborů cen 997 22-1 Vodorovná doprava suti. 8. Ceny -714 . , -718 . a –724 . nelze použít pro odstranění podkladu nebo krytu frézováním. | AT95: PSC | AU95: 2
D96: VV | F96: překop hráze - odstranění kce komunikace - podkladní vrstvy tl. 520 mm | AT96: VV | AU96: 2 | AV96: 1 | AW96: True | AX96: 0 | AY96: ROZPOCET
D97: VV | F97: 18,2*8,18 | H97: 148.876 | AT97: VV | AU97: 2 | AV97: 2 | AW97: True | AX97: 0 | AY97: ROZPOCET
D98: VV | F98: Součet | H98: 148.876 | AT98: VV | AU98: 2 | AV98: 4 | AW98: True | AX98: 1 | AY98: ROZPOCET
C99: 2 | D99: K | E99: 113154122 | F99: Frézování živičného krytu tl 40 mm pruh š 1 m pl do 500 m2 bez překážek v trase | G99: m2 | H99: 160.896 | J99: =ROUND(I99*H99,2) -> 0 | N99: základní | O99: 0.026 | P99: =O99*H99 -> 4.183296 | Q99: 4e-05 | R99: =Q99*H99 -> 0.00643584 | S99: 0.103 | T99: =S99*H99 -> 16.572288 | AR99: 4 | AT99: K | AU99: 2 | AY99: ROZPOCET | BE99: =IF(N99="základní",J99,0) -> 0 | BF99: =IF(N99="snížená",J99,0) -> 0 | BG99: =IF(N99="zákl. přenesená",J99,0) -> 0 | BH99: =IF(N99="sníž. přenesená",J99,0) -> 0 | BI99: =IF(N99="nulová",J99,0) -> 0 | BJ99: 1 | BK99: =ROUND(I99*H99,2) -> 0 | BL99: 4 | BM99: -1978811947
D100: PP | F100: Frézování živičného podkladu nebo krytu s naložením na dopravní prostředek plochy do 500 m2 bez překážek v trase pruhu šířky přes 0,5 m do 1 m, tloušťky vrstvy 40 mm | AT100: PP | AU100: 2
D101: PSC | F101: Poznámka k souboru cen:_x000D_ 1. V cenách jsou započteny i náklady na: a) vodu pro chlazení zubů frézy, b) opotřebování frézovacích nástrojů, c) naložení odfrézovaného materiálu na dopravní prostředek. 2. V cenách nejsou započteny náklady na: a) nutné ruční odstranění (vybourání) živičného krytu kolem překážek, které se oceňují cenami souboru cen 113 10-7 Odstranění podkladů nebo krytů této části katalogu, b) očištění povrchu odfrézované plochy, které se oceňují cenami souboru cen 938 90-9 Odstranění bláta, prachu z povrchu podkladu nebo krytu části C01 tohoto katalogu. 3. Množství měrných jednotek pro rozpočet určí projekt. Drobné překážky, např. vpusti, uzávěry, sloupy (plochy do 2 m2) se z celkové frézované plochy neodečítají. 4. Tloušťku frézované vrstvy určí projekt a měří se tloušťka jednotlivých záběrů v mm. 5. Cena s překážkami je určena v případech, kdy: a) na 200 m2 frézované plochy se vyskytne v průměru více než jedna vpusť nebo vstup inženýrských sítí, popř. stožár, vstupní ostrůvek apod., b) jsou-li podél frézované plochy osazeny obrubníky s výškovým rozdílem horní plochy obrubníku od frézované plochy větší než 250 mm. 6. Překážkami se rozumějí obrubníky nebo krajníky, pokud výškový rozdíl horní plochy obrubníku od frézované plochy je větší než 250 mm, vpusti nebo vstupy inženýrských sítí, stožáry, nástupní a ochranné ostrůvky apod. | AT101: PSC | AU101: 2
D102: VV | F102: překop hráze - odstranění kce komunikace - frézování asf střednězrnný tl. 40 mm | AT102: VV | AU102: 2 | AV102: 1 | AW102: True | AX102: 0 | AY102: ROZPOCET
D103: VV | F103: 8,38*19,2 | H103: 160.896 | AT103: VV | AU103: 2 | AV103: 2 | AW103: True | AX103: 0 | AY103: ROZPOCET
D104: VV | F104: Součet | H104: 160.896 | AT104: VV | AU104: 2 | AV104: 4 | AW104: True | AX104: 1 | AY104: ROZPOCET
C105: 3 | D105: K | E105: 113154123R | F105: Frézování živičného krytu tl 60 mm pruh š 1 m pl do 500 m2 bez překážek v trase | G105: m2 | H105: 160.896 | J105: =ROUND(I105*H105,2) -> 0 | K105: R-položka | N105: základní | O105: 0.028 | P105: =O105*H105 -> 4.505088 | Q105: 5e-05 | R105: =Q105*H105 -> 0.0080448 | S105: 0.1536 | T105: =S105*H105 -> 24.713626 | AR105: 4 | AT105: K | AU105: 2 | AY105: ROZPOCET | BE105: =IF(N105="základní",J105,0) -> 0 | BF105: =IF(N105="snížená",J105,0) -> 0 | BG105: =IF(N105="zákl. přenesená",J105,0) -> 0 | BH105: =IF(N105="sníž. přenesená",J105,0) -> 0 | BI105: =IF(N105="nulová",J105,0) -> 0 | BJ105: 1 | BK105: =ROUND(I105*H105,2) -> 0 | BL105: 4 | BM105: -476718273
D106: PP | F106: Frézování živičného podkladu nebo krytu s naložením na dopravní prostředek plochy do 500 m2 bez překážek v trase pruhu šířky přes 0,5 m do 1 m, tloušťky vrstvy 60 mm | AT106: PP | AU106: 2
D107: PSC | F107: Poznámka k souboru cen:_x000D_ 1. V cenách jsou započteny i náklady na: a) vodu pro chlazení zubů frézy, b) opotřebování frézovacích nástrojů, c) naložení odfrézovaného materiálu na dopravní prostředek. 2. V cenách nejsou započteny náklady na: a) nutné ruční odstranění (vybourání) živičného krytu kolem překážek, které se oceňují cenami souboru cen 113 10-7 Odstranění podkladů nebo krytů této části katalogu, b) očištění povrchu odfrézované plochy, které se oceňují cenami souboru cen 938 90-9 Odstranění bláta, prachu z povrchu podkladu nebo krytu části C01 tohoto katalogu. 3. Množství měrných jednotek pro rozpočet určí projekt. Drobné překážky, např. vpusti, uzávěry, sloupy (plochy do 2 m2) se z celkové frézované plochy neodečítají. 4. Tloušťku frézované vrstvy určí projekt a měří se tloušťka jednotlivých záběrů v mm. 5. Cena s překážkami je určena v případech, kdy: a) na 200 m2 frézované plochy se vyskytne v průměru více než jedna vpusť nebo vstup inženýrských sítí, popř. stožár, vstupní ostrůvek apod., b) jsou-li podél frézované plochy osazeny obrubníky s výškovým rozdílem horní plochy obrubníku od frézované plochy větší než 250 mm. 6. Překážkami se rozumějí obrubníky nebo krajníky, pokud výškový rozdíl horní plochy obrubníku od frézované plochy je větší než 250 mm, vpusti nebo vstupy inženýrských sítí, stožáry, nástupní a ochranné ostrůvky apod. | AT107: PSC | AU107: 2
D108: VV | F108: překop hráze - odstranění kce komunikace - frézování asf hrubozrnný tl. 60 mm | AT108: VV | AU108: 2 | AV108: 1 | AW108: True | AX108: 0 | AY108: ROZPOCET
D109: VV | F109: 8,38*19,2 | H109: 160.896 | AT109: VV | AU109: 2 | AV109: 2 | AW109: True | AX109: 0 | AY109: ROZPOCET
D110: VV | F110: Součet | H110: 160.896 | AT110: VV | AU110: 2 | AV110: 4 | AW110: True | AX110: 1 | AY110: ROZPOCET
C111: 4 | D111: K | E111: 11510000R | F111: Převedení vody, zahrázkování, čerpací jímka - štětová stěna | G111: kpl | H111: 1 | J111: =ROUND(I111*H111,2) -> 0 | K111: R-položka | N111: základní | O111: 0.6 | P111: =O111*H111 -> 0.6 | Q111: 0 | R111: =Q111*H111 -> 0 | S111: 0 | T111: =S111*H111 -> 0 | AR111: 4 | AT111: K | AU111: 2 | AY111: ROZPOCET | BE111: =IF(N111="základní",J111,0) -> 0 | BF111: =IF(N111="snížená",J111,0) -> 0 | BG111: =IF(N111="zákl. přenesená",J111,0) -> 0 | BH111: =IF(N111="sníž. přenesená",J111,0) -> 0 | BI111: =IF(N111="nulová",J111,0) -> 0 | BJ111: 1 | BK111: =ROUND(I111*H111,2) -> 0 | BL111: 4 | BM111: -286858622
D112: P | F112: Poznámka k položce: Položka obsahuje: - převedení potrubím DN 400. zřízení a odstranění, dl. 80 m - čerpání 30 dní 215 l/s - zahrázkování 30 m3, zřízení a odstranění, zemina vaužita z výkopu - čerpací jímka ze štětovnic, 2 x 2 m, výška 3 m, zřízení a odstranění | AT112: P | AU112: 2
D113: VV | F113: 1 | H113: 1 | AT113: VV | AU113: 2 | AV113: 2 | AW113: True | AX113: 1 | AY113: ROZPOCET
C114: 5 | D114: K | E114: 122201103 | F114: Odkopávky a prokopávky nezapažené v hornině tř. 3 objem do 5000 m3 | G114: m3 | H114: 1167.756 | J114: =ROUND(I114*H114,2) -> 0 | N114: základní | O114: 0.117 | P114: =O114*H114 -> 136.62745 | Q114: 0 | R114: =Q114*H114 -> 0 | S114: 0 | T114: =S114*H114 -> 0 | AR114: 4 | AT114: K | AU114: 2 | AY114: ROZPOCET | BE114: =IF(N114="základní",J114,0) -> 0 | BF114: =IF(N114="snížená",J114,0) -> 0 | BG114: =IF(N114="zákl. přenesená",J114,0) -> 0 | BH114: =IF(N114="sníž. přenesená",J114,0) -> 0 | BI114: =IF(N114="nulová",J114,0) -> 0 | BJ114: 1 | BK114: =ROUND(I114*H114,2) -> 0 | BL114: 4 | BM114: 1961509515
D115: PP | F115: Odkopávky a prokopávky nezapažené s přehozením výkopku na vzdálenost do 3 m nebo s naložením na dopravní prostředek v hornině tř. 3 přes 1 000 do 5 000 m3 | AT115: PP | AU115: 2
D116: PSC | F116: Poznámka k souboru cen:_x000D_ 1. Odkopávky a prokopávky v roubených prostorech se oceňují podle čl. 3116 Všeobecných podmínek tohoto katalogu. 2. Odkopávky a prokopávky ve stržích při lesnicko-technických melioracích (LTM) se oceňují cenami do 100 m3 pro jakýkoliv skutečný objem výkopu; ostatní odkopávky a prokopávky při LTM se oceňují při jakémkoliv objemu výkopu přes 100 m3 cenami přes 100 do 1 000 m3. 3. Ceny lze použít i pro vykopávky odpadových jam. 4. Ceny lze použít i pro sejmutí podorničí. Přitom se přihlíží k ustanovení čl. 3112 Všeobecných podmínek tohoto katalogu. | AT116: PSC | AU116: 2
D117: VV | F117: překop hráze - odstranění kce hráze - viz tabulka 1_01 | AT117: VV | AU117: 2 | AV117: 1 | AW117: True | AX117: 0 | AY117: ROZPOCET
D118: VV | F118: 1068"m3" | H118: 1068 | AT118: VV | AU118: 2 | AV118: 2 | AW118: True | AX118: 0 | AY118: ROZPOCET
D119: VV | F119: odtranění výkopu vedle komunikace | AT119: VV | AU119: 2 | AV119: 1 | AW119: True | AX119: 0 | AY119: ROZPOCET
D120: VV | F120: 8,38*0,62*19,2 | H120: 99.756 | AT120: VV | AU120: 2 | AV120: 2 | AW120: True | AX120: 0 | AY120: ROZPOCET
D121: VV | F121: Součet | H121: 1167.756 | AT121: VV | AU121: 2 | AV121: 4 | AW121: True | AX121: 1 | AY121: ROZPOCET
C122: 6 | D122: K | E122: 131201102 | F122: Hloubení jam nezapažených v hornině tř. 3 objemu do 1000 m3 | G122: m3 | H122: 235.782 | J122: =ROUND(I122*H122,2) -> 0 | N122: základní | O122: 0.467 | P122: =O122*H122 -> 110.11019 | Q122: 0 | R122: =Q122*H122 -> 0 | S122: 0 | T122: =S122*H122 -> 0 | AR122: 4 | AT122: K | AU122: 2 | AY122: ROZPOCET | BE122: =IF(N122="základní",J122,0) -> 0 | BF122: =IF(N122="snížená",J122,0) -> 0 | BG122: =IF(N122="zákl. přenesená",J122,0) -> 0 | BH122: =IF(N122="sníž. přenesená",J122,0) -> 0 | BI122: =IF(N122="nulová",J122,0) -> 0 | BJ122: 1 | BK122: =ROUND(I122*H122,2) -> 0 | BL122: 4 | BM122: 363905168
D123: PP | F123: Hloubení nezapažených jam a zářezů s urovnáním dna do předepsaného profilu a spádu v hornině tř. 3 přes 100 do 1 000 m3 | AT123: PP | AU123: 2
D124: PSC | F124: Poznámka k souboru cen:_x000D_ 1. Hloubení jam ve stržích a jam pro základy pro příčná a podélná zpevnění dna a břehů pod obrysem výkopu pro koryta vodotečí při lesnicko-technických melioracích (LTM) zejména vykopávky pro konstrukce těles, stupňů, boků, předprahů, prahů, podháněk, výhonů a pro základy zdí, dlažeb, rovnanin, plůtků a hatí se oceňují cenami příslušnými pro objem výkopů do 100 m3, i když skutečný objem výkopu je větší. 2. Ceny lze použít i pro hloubení nezapažených jam a zářezů pro podzemní vedení, jsou-li tyto práce prováděny z povrchu území. 3. Předepisuje-li projekt hloubit jámy popsané v pozn. č. 1 v hornině 5 až 7 bez použití trhavin, oceňuje se toto hloubení a) v suchu nebo v mokru cenami 138 40-1101, 138 50-1101 a 138 60-1101 Dolamování zapažených nebo nezapažených hloubených vykopávek; b) v tekoucí vodě při jakékoliv její rychlosti individuálně. 4. Hloubení nezapažených jam hloubky přes 16 m se oceňuje individuálně. 5. V cenách jsou započteny i náklady na případné nutné přemístění výkopku ve výkopišti a na přehození výkopku na přilehlém terénu na vzdálenost do 3 m od okraje jámy nebo naložení na dopravní prostředek. 6. Náklady na svislé přemístění výkopku nad 1 m hloubky se určí dle ustanovení článku č. 3161 všeobecných podmínek katalogu. | AT124: PSC | AU124: 2
D125: VV | F125: zemní práce hloubení - základy kce BP a požeráku a rampy | AT125: VV | AU125: 2 | AV125: 1 | AW125: True | AX125: 0 | AY125: ROZPOCET
D126: VV | F126: (120-28,9)*1,25 | H126: 113.875 | AT126: VV | AU126: 2 | AV126: 2 | AW126: True | AX126: 0 | AY126: ROZPOCET
D127: VV | F127: zemní práce hloubení - základy kce stabilizační prahy | AT127: VV | AU127: 2 | AV127: 1 | AW127: True | AX127: 0 | AY127: ROZPOCET
D128: VV | F128: 1,21*1,149*6,33+0,8*0,846*4,84+0,6*0,846*4,705 | H128: 14.465 | AT128: VV | AU128: 2 | AV128: 2 | AW128: True | AX128: 0 | AY128: ROZPOCET
D129: VV | F129: zemní práce hloubení pro spodní výpust | AT129: VV | AU129: 2 | AV129: 1 | AW129: True | AX129: 0 | AY129: ROZPOCET
D130: VV | F130: (12,691+4,385)*1,3*4,840 | H130: 107.442 | AT130: VV | AU130: 2 | AV130: 2 | AW130: True | AX130: 0 | AY130: ROZPOCET
...

Sheet SO 01b - Lávka
D1: List obsahuje: | F1: 1) Krycí list soupisu | G1: 2) Rekapitulace | J1: 3) Soupis prací | K1: Zpět na list: | L1: Rekapitulace stavby
L2: >> skryté sloupce << | AT2: {190abf37-f305-451d-a49f-80680e372db7}
AT3: 2
D4: KRYCÍ LIST SOUPISU | M4: v --- níže se nacházejí doplnkové a pomocné údaje k sestavám --- v | AT4: False
D6: Stavba:
E7: ='Rekapitulace stavby'!K6 -> Hradčanský rybník, oprava rybníka
D8: Objekt:
E9: SO 01b - Lávka
D11: KSO: | I11: CC-CZ:
D12: Místo: | I12: Datum:
D14: Zadavatel: | I14: IČ:
E15: MĚSTO RALSKA, Kuřívody 701, Ralsko, 471 24 Mimoň | I15: DIČ:
D17: Uchazeč: | I17: IČ: | J17: =IF('Rekapitulace stavby'!AN13="Vyplň údaj","",IF('Rekapitulace stavby'!AN13="","",'Rekapitulace stavby'!AN13))
E18: =IF('Rekapitulace stavby'!E14="Vyplň údaj","",IF('Rekapitulace stavby'!E14="","",'Rekapitulace stavby'!E14)) | I18: DIČ: | J18: =IF('Rekapitulace stavby'!AN14="Vyplň údaj","",IF('Rekapitulace stavby'!AN14="","",'Rekapitulace stavby'!AN14))
D20: Projektant: | I20: IČ:
I21: DIČ:
D23: Poznámka:
E24: Stavební objekt SO 01 obsahuje výměry i pro SO 02
D27: Cena bez DPH | J27: =ROUND(J83,2) -> 0
F29: Základ daně | I29: Sazba daně | J29: Výše daně
D30: DPH | E30: základní | F30: =ROUND(SUM(BE83:BE179), 2) -> 0 | I30: 0.21 | J30: =ROUND(ROUND((SUM(BE83:BE179)), 2)*I30, 2) -> 0
E31: snížená | F31: =ROUND(SUM(BF83:BF179), 2) -> 0 | I31: 0.15 | J31: =ROUND(ROUND((SUM(BF83:BF179)), 2)*I31, 2) -> 0
E32: zákl. přenesená | F32: =ROUND(SUM(BG83:BG179), 2) -> 0 | I32: 0.21 | J32: 0
E33: sníž. přenesená | F33: =ROUND(SUM(BH83:BH179), 2) -> 0 | I33: 0.15 | J33: 0
E34: nulová | F34: =ROUND(SUM(BI83:BI179), 2) -> 0 | I34: 0 | J34: 0
D36: Cena s DPH | G36: v | H36: CZK | J36: =SUM(J27:J34) -> 0
C42: REKAPITULACE ČLENĚNÍ SOUPISU PRACÍ
C44: Stavba:
E45: =E7 -> Hradčanský rybník, oprava rybníka
C46: Objekt:
E47: =E9 -> SO 01b - Lávka
C49: Místo: | F49: =F12 | I49: Datum: | J49: =IF(J12="","",J12)
C51: Zadavatel: | F51: =E15 -> MĚSTO RALSKA, Kuřívody 701, Ralsko, 471 24 Mimoň | I51: Projektant:
C52: Uchazeč: | F52: =IF(E18="","",E18)
C54: Kód dílu - Popis | J54: Cena celkem [CZK]
C56: Náklady soupisu celkem | J56: =J83 -> 0 | AU56: -1
D57: HSV - Práce a dodávky HSV | J57: =J84 -> 0
D58: 3 - Svislé a kompletní konstrukce | J58: =J85 -> 0
D59: 9 - Ostatní konstrukce a práce-bourání | J59: =J100 -> 0
D60: 998 - Přesun hmot | J60: =J107 -> 0
D61: PSV - Práce a dodávky PSV | J61: =J111 -> 0
D62: 762 - Konstrukce tesařské | J62: =J112 -> 0
D63: 767 - Konstrukce zámečnické | J63: =J164 -> 0
C70: SOUPIS PRACÍ
C72: Stavba:
E73: =E7 -> Hradčanský rybník, oprava rybníka
C74: Objekt:
E75: =E9 -> SO 01b - Lávka
C77: Místo: | F77: =F12 | I77: Datum: | J77: =IF(J12="","",J12)
C79: Zadavatel: | F79: =E15 -> MĚSTO RALSKA, Kuřívody 701, Ralsko, 471 24 Mimoň | I79: Projektant:
C80: Uchazeč: | F80: =IF(E18="","",E18)
C82: PČ | D82: Typ | E82: Kód | F82: Popis | G82: MJ | H82: Množství | I82: J.cena [CZK] | J82: Cena celkem [CZK] | K82: Cenová soustava | M82: Poznámka | N82: DPH | O82: J. Nh [h] | P82: Nh celkem [h] | Q82: J. hmotnost_x000D_ [t] | R82: Hmotnost_x000D_ celkem [t] | S82: J. suť [t] | T82: Suť Celkem [t]
C83: Náklady soupisu celkem | J83: =BK83 -> 0 | P83: =P84+P111 -> 1006.3243 | R83: =R84+R111 -> 2.525915 | T83: =T84+T111 -> 0 | AT83: D | AU83: -1 | BK83: =BK84+BK111 -> 0
D84: D | E84: HSV | F84: Práce a dodávky HSV | J84: =BK84 -> 0 | P84: =P85+P100+P107 -> 12.837006 | R84: =R85+R100+R107 -> 0.28672704 | T84: =T85+T100+T107 -> 0 | AR84: 1 | AT84: D | AU84: 0 | AY84: ROZPOCET | BK84: =BK85+BK100+BK107 -> 0
D85: D | E85: 3 | F85: Svislé a kompletní konstrukce | J85: =BK85 -> 0 | P85: =SUM(P86:P99) -> 9.7 | R85: =SUM(R86:R99) -> 0.2819744 | T85: =SUM(T86:T99) -> 0 | AR85: 1 | AT85: D | AU85: 1 | AY85: ROZPOCET | BK85: =SUM(BK86:BK99) -> 0
C86: 1 | D86: K | E86: 338170000R | F86: Montáž ocelových sloupků zábradlí | G86: kus | H86: 26 | J86: =ROUND(I86*H86,2) -> 0 | K86: R-položka | N86: základní | O86: 0.34 | P86: =O86*H86 -> 8.84 | Q86: 0 | R86: =Q86*H86 -> 0 | S86: 0 | T86: =S86*H86 -> 0 | AR86: 4 | AT86: K | AU86: 2 | AY86: ROZPOCET | BE86: =IF(N86="základní",J86,0) -> 0 | BF86: =IF(N86="snížená",J86,0) -> 0 | BG86: =IF(N86="zákl. přenesená",J86,0) -> 0 | BH86: =IF(N86="sníž. přenesená",J86,0) -> 0 | BI86: =IF(N86="nulová",J86,0) -> 0 | BJ86: 1 | BK86: =ROUND(I86*H86,2) -> 0 | BL86: 4 | BM86: 59818497
D87: VV | F87: 26"ks" "ocelové sloupky zábradlí 80x3 | H87: 26 | AT87: VV | AU87: 2 | AV87: 2 | AW87: True | AX87: 0 | AY87: ROZPOCET
D88: VV | F88: Součet | H88: 26 | AT88: VV | AU88: 2 | AV88: 4 | AW88: True | AX88: 1 | AY88: ROZPOCET
C89: 2 | D89: M | E89: 14011054R | F89: ocelový sloupek 80 x 3 mm vč. povrchové úpravy | G89: m | H89: 34.32 | J89: =ROUND(I89*H89,2) -> 0 | K89: R-položka | N89: základní | O89: 0 | P89: =O89*H89 -> 0 | Q89: 0.00592 | R89: =Q89*H89 -> 0.2031744 | S89: 0 | T89: =S89*H89 -> 0 | AR89: 8 | AT89: M | AU89: 2 | AY89: ROZPOCET | BE89: =IF(N89="základní",J89,0) -> 0 | BF89: =IF(N89="snížená",J89,0) -> 0 | BG89: =IF(N89="zákl. přenesená",J89,0) -> 0 | BH89: =IF(N89="sníž. přenesená",J89,0) -> 0 | BI89: =IF(N89="nulová",J89,0) -> 0 | BJ89: 1 | BK89: =ROUND(I89*H89,2) -> 0 | BL89: 4 | BM89: 407083174
D90: VV | F90: 26"ks"*1,32"m" "počet kusů * délka sloupku | H90: 34.32 | AT90: VV | AU90: 2 | AV90: 2 | AW90: True | AX90: 0 | AY90: ROZPOCET
D91: VV | F91: Součet | H91: 34.32 | AT91: VV | AU91: 2 | AV91: 4 | AW91: True | AX91: 1 | AY91: ROZPOCET
C92: 3 | D92: K | E92: 348101210 | F92: Osazení vrat a vrátek k oplocení na ocelové sloupky do 2 m2 | G92: kus | H92: 1 | J92: =ROUND(I92*H92,2) -> 0 | N92: základní | O92: 0.86 | P92: =O92*H92 -> 0.86 | Q92: 0 | R92: =Q92*H92 -> 0 | S92: 0 | T92: =S92*H92 -> 0 | AR92: 4 | AT92: K | AU92: 2 | AY92: ROZPOCET | BE92: =IF(N92="základní",J92,0) -> 0 | BF92: =IF(N92="snížená",J92,0) -> 0 | BG92: =IF(N92="zákl. přenesená",J92,0) -> 0 | BH92: =IF(N92="sníž. přenesená",J92,0) -> 0 | BI92: =IF(N92="nulová",J92,0) -> 0 | BJ92: 1 | BK92: =ROUND(I92*H92,2) -> 0 | BL92: 4 | BM92: -445971640
D93: PP | F93: Montáž vrat a vrátek k oplocení na sloupky ocelové, plochy jednotlivě do 2 m2 | AT93: PP | AU93: 2
D94: PSC | F94: Poznámka k souboru cen:_x000D_ 1. V cenách nejsou započteny náklady na dodávku vrat a vrátek; tyto se oceňují ve specifikaci. | AT94: PSC | AU94: 2
C95: 4 | D95: M | E95: 553R | F95: vrátka se zarážkou pro uchycení konstrukce výpusti, nerez ocel s dřevěnou výplní, 1210 x 1100 mm | G95: kus | H95: 1 | J95: =ROUND(I95*H95,2) -> 0 | K95: R-položka | N95: základní | O95: 0 | P95: =O95*H95 -> 0 | Q95: 0.0788 | R95: =Q95*H95 -> 0.0788 | S95: 0 | T95: =S95*H95 -> 0 | AR95: 8 | AT95: M | AU95: 2 | AY95: ROZPOCET | BE95: =IF(N95="základní",J95,0) -> 0 | BF95: =IF(N95="snížená",J95,0) -> 0 | BG95: =IF(N95="zákl. přenesená",J95,0) -> 0 | BH95: =IF(N95="sníž. přenesená",J95,0) -> 0 | BI95: =IF(N95="nulová",J95,0) -> 0 | BJ95: 1 | BK95: =ROUND(I95*H95,2) -> 0 | BL95: 4 | BM95: -714745518
D96: PP | F96: branka vchodová kovová 1200x940 mm | AT96: PP | AU96: 2
D97: VV | F97: výkres D.4.5 | AT97: VV | AU97: 2 | AV97: 1 | AW97: True | AX97: 0 | AY97: ROZPOCET
D98: VV | F98: 1"ks" | H98: 1 | AT98: VV | AU98: 2 | AV98: 2 | AW98: True | AX98: 0 | AY98: ROZPOCET
D99: VV | F99: Součet | H99: 1 | AT99: VV | AU99: 2 | AV99: 4 | AW99: True | AX99: 1 | AY99: ROZPOCET
D100: D | E100: 9 | F100: Ostatní konstrukce a práce-bourání | J100: =BK100 -> 0 | P100: =SUM(P101:P106) -> 3.04 | R100: =SUM(R101:R106) -> 0.00475264 | T100: =SUM(T101:T106) -> 0 | AR100: 1 | AT100: D | AU100: 1 | AY100: ROZPOCET | BK100: =SUM(BK101:BK106) -> 0
C101: 5 | D101: K | E101: 95396111R | F101: Kotvy chemickým tmelem M 16 hl 200 mm do betonu, ŽB nebo kamene s vyvrtáním otvoru | G101: kus | H101: 16 | J101: =ROUND(I101*H101,2) -> 0 | K101: R-položka | N101: základní | O101: 0.13 | P101: =O101*H101 -> 2.08 | Q101: 2.704e-05 | R101: =Q101*H101 -> 0.00043264 | S101: 0 | T101: =S101*H101 -> 0 | AR101: 4 | AT101: K | AU101: 2 | AY101: ROZPOCET | BE101: =IF(N101="základní",J101,0) -> 0 | BF101: =IF(N101="snížená",J101,0) -> 0 | BG101: =IF(N101="zákl. přenesená",J101,0) -> 0 | BH101: =IF(N101="sníž. přenesená",J101,0) -> 0 | BI101: =IF(N101="nulová",J101,0) -> 0 | BJ101: 1 | BK101: =ROUND(I101*H101,2) -> 0 | BL101: 4 | BM101: -1709159374
D102: PP | F102: Kotvy chemické s vyvrtáním otvoru do betonu, železobetonu nebo tvrdého kamene tmel, velikost M 16, hloubka 200 mm | AT102: PP | AU102: 2
D103: PSC | F103: Poznámka k souboru cen:_x000D_ 1. V cenách 953 96-11 a 953 96-12 jsou započteny i náklady na: a) rozměření, vrtání a spotřebu vrtáků. Pro velikost M 8 až M 30 jsou započteny náklady na vrtání příklepovými vrtáky, pro velikost M 33 až M 39 diamantovými korunkami, b) vyfoukání otvoru, přípravu kotev k uložení do otvorů, vyplnění kotevních otvorů tmelem nebo chemickou patronou včetně dodávky materiálu. 2. V cenách 953 96-51.. jsou započteny i náklady na dodání a zasunutí kotevního šroubu do otvoru vyplněného chemickým tmelem nebo patronou a dotažení matice. | AT103: PSC | AU103: 2
C104: 6 | D104: K | E104: 95396513R | F104: Kotevní šroub pro chemické kotvy M 16 dl 200 mm | G104: kus | H104: 16 | J104: =ROUND(I104*H104,2) -> 0 | K104: R-položka | N104: základní | O104: 0.06 | P104: =O104*H104 -> 0.96 | Q104: 0.00027 | R104: =Q104*H104 -> 0.00432 | S104: 0 | T104: =S104*H104 -> 0 | AR104: 4 | AT104: K | AU104: 2 | AY104: ROZPOCET | BE104: =IF(N104="základní",J104,0) -> 0 | BF104: =IF(N104="snížená",J104,0) -> 0 | BG104: =IF(N104="zákl. přenesená",J104,0) -> 0 | BH104: =IF(N104="sníž. přenesená",J104,0) -> 0 | BI104: =IF(N104="nulová",J104,0) -> 0 | BJ104: 1 | BK104: =ROUND(I104*H104,2) -> 0 | BL104: 4 | BM104: -1771897081
D105: PP | F105: Kotvy chemické s vyvrtáním otvoru kotevní šrouby pro chemické kotvy, velikost M 16, délka 200 mm | AT105: PP | AU105: 2
D106: PSC | F106: Poznámka k souboru cen:_x000D_ 1. V cenách 953 96-11 a 953 96-12 jsou započteny i náklady na: a) rozměření, vrtání a spotřebu vrtáků. Pro velikost M 8 až M 30 jsou započteny náklady na vrtání příklepovými vrtáky, pro velikost M 33 až M 39 diamantovými korunkami, b) vyfoukání otvoru, přípravu kotev k uložení do otvorů, vyplnění kotevních otvorů tmelem nebo chemickou patronou včetně dodávky materiálu. 2. V cenách 953 96-51.. jsou započteny i náklady na dodání a zasunutí kotevního šroubu do otvoru vyplněného chemickým tmelem nebo patronou a dotažení matice. | AT106: PSC | AU106: 2
D107: D | E107: 998 | F107: Přesun hmot | J107: =BK107 -> 0 | P107: =SUM(P108:P110) -> 0.097006 | R107: =SUM(R108:R110) -> 0 | T107: =SUM(T108:T110) -> 0 | AR107: 1 | AT107: D | AU107: 1 | AY107: ROZPOCET | BK107: =SUM(BK108:BK110) -> 0
C108: 7 | D108: K | E108: 998332011 | F108: Přesun hmot pro úpravy vodních toků a kanály | G108: t | H108: 0.287 | J108: =ROUND(I108*H108,2) -> 0 | N108: základní | O108: 0.338 | P108: =O108*H108 -> 0.097006 | Q108: 0 | R108: =Q108*H108 -> 0 | S108: 0 | T108: =S108*H108 -> 0 | AR108: 4 | AT108: K | AU108: 2 | AY108: ROZPOCET | BE108: =IF(N108="základní",J108,0) -> 0 | BF108: =IF(N108="snížená",J108,0) -> 0 | BG108: =IF(N108="zákl. přenesená",J108,0) -> 0 | BH108: =IF(N108="sníž. přenesená",J108,0) -> 0 | BI108: =IF(N108="nulová",J108,0) -> 0 | BJ108: 1 | BK108: =ROUND(I108*H108,2) -> 0 | BL108: 4 | BM108: -1692592901
D109: PP | F109: Přesun hmot pro úpravy vodních toků a kanály, hráze rybníků apod. dopravní vzdálenost do 500 m | AT109: PP | AU109: 2
D110: PSC | F110: Poznámka k souboru cen:_x000D_ 1. Ceny jsou určeny pro jakoukoliv konstrukčně-materiálovou charakteristiku. | AT110: PSC | AU110: 2
D111: D | E111: PSV | F111: Práce a dodávky PSV | J111: =BK111 -> 0 | P111: =P112+P164 -> 993.48725 | R111: =R112+R164 -> 2.239188 | T111: =T112+T164 -> 0 | AR111: 2 | AT111: D | AU111: 0 | AY111: ROZPOCET | BK111: =BK112+BK164 -> 0
D112: D | E112: 762 | F112: Konstrukce tesařské | J112: =BK112 -> 0 | P112: =SUM(P113:P163) -> 37.420141 | R112: =SUM(R113:R163) -> 1.82406 | T112: =SUM(T113:T163) -> 0 | AR112: 2 | AT112: D | AU112: 1 | AY112: ROZPOCET | BK112: =SUM(BK113:BK163) -> 0
C113: 8 | D113: K | E113: 76208312R | F113: Vakuo-tlaková impregnace řeziva proti dřevokaznému hmyzu, houbám, plísním a povětrnostním podmínkám (styk voda/vzduch), třída ohrožení 4. | G113: m3 | H113: 4 | J113: =ROUND(I113*H113,2) -> 0 | K113: R-položka | N113: základní | O113: 1.56 | P113: =O113*H113 -> 6.24 | Q113: 0.00189 | R113: =Q113*H113 -> 0.00756 | S113: 0 | T113: =S113*H113 -> 0 | AR113: 16 | AT113: K | AU113: 2 | AY113: ROZPOCET | BE113: =IF(N113="základní",J113,0) -> 0 | BF113: =IF(N113="snížená",J113,0) -> 0 | BG113: =IF(N113="zákl. přenesená",J113,0) -> 0 | BH113: =IF(N113="sníž. přenesená",J113,0) -> 0 | BI113: =IF(N113="nulová",J113,0) -> 0 | BJ113: 1 | BK113: =ROUND(I113*H113,2) -> 0 | BL113: 16 | BM113: 1684568576
D114: PP | F114: Vakuo-tlaková impregnace řeziva proti dřevokaznému hmyzu, houbám, plísním a povětrnostním podmínkám (styk voda/vzduch), třída ohrožení 4. | AT114: PP | AU114: 2
D115: VV | F115: DLUŽE | AT115: VV | AU115: 2 | AV115: 1 | AW115: True | AX115: 0 | AY115: ROZPOCET
D116: VV | F116: dubové dluže tl. 60 mm, výška celkem 4460 mm, délka 885 mm 1 ks výška 200 mm, 22 ks | AT116: VV | AU116: 2 | AV116: 1 | AW116: True | AX116: 0 | AY116: ROZPOCET
D117: VV | F117: 0,06*0,885*22"ks"*0,2 | H117: 0.234 | AT117: VV | AU117: 2 | AV117: 2 | AW117: True | AX117: 0 | AY117: ROZPOCET
D118: VV | F118: dubové dluže tl. 60 mm, výška celkem 4460 mm, délka 900 mm 1 ks výška 200 mm, 21 ks | AT118: VV | AU118: 2 | AV118: 1 | AW118: True | AX118: 0 | AY118: ROZPOCET
D119: VV | F119: 0,06*0,9*21"ks"*0,2 | H119: 0.227 | AT119: VV | AU119: 2 | AV119: 2 | AW119: True | AX119: 0 | AY119: ROZPOCET
D120: VV | F120: Mezisoučet | H120: 0.461 | AT120: VV | AU120: 2 | AV120: 3 | AW120: True | AX120: 0 | AY120: ROZPOCET
D121: VV | H121: 0 | AT121: VV | AU121: 2 | AV121: 2 | AW121: True | AX121: 0 | AY121: ROZPOCET
D122: VV | F122: KONSTRUKCE LÁVKY A PLOŠINY | AT122: VV | AU122: 2 | AV122: 1 | AW122: True | AX122: 0 | AY122: ROZPOCET
D123: VV | F123: dřevěné kulatiny madla d=80 mm délka 1,39 m, dřevo D30 | AT123: VV | AU123: 2 | AV123: 1 | AW123: True | AX123: 0 | AY123: ROZPOCET
D124: VV | F124: (PI*0,04*0,04*1,39)*16"ks" | H124: 0.112 | AT124: VV | AU124: 2 | AV124: 2 | AW124: True | AX124: 0 | AY124: ROZPOCET
D125: VV | F125: dřevěné kulatiny madla d=80 mm délka 1,0 m, dřevo D30 | AT125: VV | AU125: 2 | AV125: 1 | AW125: True | AX125: 0 | AY125: ROZPOCET
D126: VV | F126: (PI*0,04*0,04*1)*4"ks" | H126: 0.02 | AT126: VV | AU126: 2 | AV126: 2 | AW126: True | AX126: 0 | AY126: ROZPOCET
D127: VV | F127: dřevěné kulatiny madla d=80 mm délka 1,59 m, dřevo D30 | AT127: VV | AU127: 2 | AV127: 1 | AW127: True | AX127: 0 | AY127: ROZPOCET
D128: VV | F128: (PI*0,04*0,04*1,59)*4"ks" | H128: 0.032 | AT128: VV | AU128: 2 | AV128: 2 | AW128: True | AX128: 0 | AY128: ROZPOCET
D129: VV | F129: pochozí dřevěné trámce 200x100 mm délka 1,455 m, dřevo D30 | AT129: VV | AU129: 2 | AV129: 1 | AW129: True | AX129: 0 | AY129: ROZPOCET
D130: VV | F130: (0,2*0,1*1,455)*53"ks" | H130: 1.542 | AT130: VV | AU130: 2 | AV130: 2 | AW130: True | AX130: 0 | AY130: ROZPOCET
...

Sheet SO 03 - Hráz
D1: List obsahuje: | F1: 1) Krycí list soupisu | G1: 2) Rekapitulace | J1: 3) Soupis prací | K1: Zpět na list: | L1: Rekapitulace stavby
L2: >> skryté sloupce << | AT2: {7e0245d7-9d4e-4b07-ba13-3bc173468632}
AT3: 2
D4: KRYCÍ LIST SOUPISU | M4: v --- níže se nacházejí doplnkové a pomocné údaje k sestavám --- v | AT4: False
D6: Stavba:
E7: ='Rekapitulace stavby'!K6 -> Hradčanský rybník, oprava rybníka
D8: Objekt:
E9: SO 03 - Hráz
D11: KSO: | I11: CC-CZ:
D12: Místo: | I12: Datum:
D14: Zadavatel: | I14: IČ:
E15: MĚSTO RALSKA, Kuřívody 701, Ralsko, 471 24 Mimoň | I15: DIČ:
D17: Uchazeč: | I17: IČ: | J17: =IF('Rekapitulace stavby'!AN13="Vyplň údaj","",IF('Rekapitulace stavby'!AN13="","",'Rekapitulace stavby'!AN13))
E18: =IF('Rekapitulace stavby'!E14="Vyplň údaj","",IF('Rekapitulace stavby'!E14="","",'Rekapitulace stavby'!E14)) | I18: DIČ: | J18: =IF('Rekapitulace stavby'!AN14="Vyplň údaj","",IF('Rekapitulace stavby'!AN14="","",'Rekapitulace stavby'!AN14))
D20: Projektant: | I20: IČ:
E21: Vodohospodářské projekty s.r.o. | I21: DIČ:
D23: Poznámka:
D27: Cena bez DPH | J27: =ROUND(J84,2) -> 0
F29: Základ daně | I29: Sazba daně | J29: Výše daně
D30: DPH | E30: základní | F30: =ROUND(SUM(BE84:BE215), 2) -> 0 | I30: 0.21 | J30: =ROUND(ROUND((SUM(BE84:BE215)), 2)*I30, 2) -> 0
E31: snížená | F31: =ROUND(SUM(BF84:BF215), 2) -> 0 | I31: 0.15 | J31: =ROUND(ROUND((SUM(BF84:BF215)), 2)*I31, 2) -> 0
E32: zákl. přenesená | F32: =ROUND(SUM(BG84:BG215), 2) -> 0 | I32: 0.21 | J32: 0
E33: sníž. přenesená | F33: =ROUND(SUM(BH84:BH215), 2) -> 0 | I33: 0.15 | J33: 0
E34: nulová | F34: =ROUND(SUM(BI84:BI215), 2) -> 0 | I34: 0 | J34: 0
D36: Cena s DPH | G36: v | H36: CZK | J36: =SUM(J27:J34) -> 0
C42: REKAPITULACE ČLENĚNÍ SOUPISU PRACÍ
C44: Stavba:
E45: =E7 -> Hradčanský rybník, oprava rybníka
C46: Objekt:
E47: =E9 -> SO 03 - Hráz
C49: Místo: | F49: =F12 | I49: Datum: | J49: =IF(J12="","",J12)
C51: Zadavatel: | F51: =E15 -> MĚSTO RALSKA, Kuřívody 701, Ralsko, 471 24 Mimoň | I51: Projektant: | J51: =E21 -> Vodohospodářské projekty s.r.o.
C52: Uchazeč: | F52: =IF(E18="","",E18)
C54: Kód dílu - Popis | J54: Cena celkem [CZK]
C56: Náklady soupisu celkem | J56: =J84 -> 0 | AU56: -1
D57: HSV - Práce a dodávky HSV | J57: =J85 -> 0
D58: 1 - Zemní práce | J58: =J86 -> 0
D59: 3 - Svislé a kompletní konstrukce | J59: =J148 -> 0
D60: 4 - Vodorovné konstrukce | J60: =J159 -> 0
D61: 5 - Komunikace pozemní | J61: =J184 -> 0
D62: 998 - Přesun hmot | J62: =J190 -> 0
D63: PSV - Práce a dodávky PSV | J63: =J194 -> 0
D64: 762 - Konstrukce tesařské | J64: =J195 -> 0
C71: SOUPIS PRACÍ
C73: Stavba:
E74: =E7 -> Hradčanský rybník, oprava rybníka
C75: Objekt:
E76: =E9 -> SO 03 - Hráz
C78: Místo: | F78: =F12 | I78: Datum: | J78: =IF(J12="","",J12)
C80: Zadavatel: | F80: =E15 -> MĚSTO RALSKA, Kuřívody 701, Ralsko, 471 24 Mimoň | I80: Projektant:
C81: Uchazeč: | F81: =IF(E18="","",E18)
C83: PČ | D83: Typ | E83: Kód | F83: Popis | G83: MJ | H83: Množství | I83: J.cena [CZK] | J83: Cena celkem [CZK] | K83: Cenová soustava | M83: Poznámka | N83: DPH | O83: J. Nh [h] | P83: Nh celkem [h] | Q83: J. hmotnost_x000D_ [t] | R83: Hmotnost_x000D_ celkem [t] | S83: J. suť [t] | T83: Suť Celkem [t]
C84: Náklady soupisu celkem | J84: =BK84 -> 0 | P84: =P85+P194 -> 5197.1702 | R84: =R85+R194 -> 100.60841 | T84: =T85+T194 -> 0 | AT84: D | AU84: -1 | BK84: =BK85+BK194 -> 0
D85: D | E85: HSV | F85: Práce a dodávky HSV | J85: =BK85 -> 0 | P85: =P86+P148+P159+P184+P190 -> 5052.7692 | R85: =R86+R148+R159+R184+R190 -> 99.462937 | T85: =T86+T148+T159+T184+T190 -> 0 | AR85: 1 | AT85: D | AU85: 0 | AY85: ROZPOCET | BK85: =BK86+BK148+BK159+BK184+BK190 -> 0
D86: D | E86: 1 | F86: Zemní práce | J86: =BK86 -> 0 | P86: =SUM(P87:P147) -> 1112.9044 | R86: =SUM(R87:R147) -> 0.585892 | T86: =SUM(T87:T147) -> 0 | AR86: 1 | AT86: D | AU86: 1 | AY86: ROZPOCET | BK86: =SUM(BK87:BK147) -> 0
C87: 1 | D87: K | E87: 131201101 | F87: Hloubení jam nezapažených v hornině tř. 3 objemu do 100 m3 | G87: m3 | H87: 20.2 | J87: =ROUND(I87*H87,2) -> 0 | N87: základní | O87: 0.871 | P87: =O87*H87 -> 17.5942 | Q87: 0 | R87: =Q87*H87 -> 0 | S87: 0 | T87: =S87*H87 -> 0 | AR87: 4 | AT87: K | AU87: 2 | AY87: ROZPOCET | BE87: =IF(N87="základní",J87,0) -> 0 | BF87: =IF(N87="snížená",J87,0) -> 0 | BG87: =IF(N87="zákl. přenesená",J87,0) -> 0 | BH87: =IF(N87="sníž. přenesená",J87,0) -> 0 | BI87: =IF(N87="nulová",J87,0) -> 0 | BJ87: 1 | BK87: =ROUND(I87*H87,2) -> 0 | BL87: 4 | BM87: 862454617
D88: PP | F88: Hloubení nezapažených jam a zářezů s urovnáním dna do předepsaného profilu a spádu v hornině tř. 3 do 100 m3 | AT88: PP | AU88: 2
D89: PSC | F89: Poznámka k souboru cen:_x000D_ 1. Hloubení jam ve stržích a jam pro základy pro příčná a podélná zpevnění dna a břehů pod obrysem výkopu pro koryta vodotečí při lesnicko-technických melioracích (LTM) zejména vykopávky pro konstrukce těles, stupňů, boků, předprahů, prahů, podháněk, výhonů a pro základy zdí, dlažeb, rovnanin, plůtků a hatí se oceňují cenami příslušnými pro objem výkopů do 100 m3, i když skutečný objem výkopu je větší. 2. Ceny lze použít i pro hloubení nezapažených jam a zářezů pro podzemní vedení, jsou-li tyto práce prováděny z povrchu území. 3. Předepisuje-li projekt hloubit jámy popsané v pozn. č. 1 v hornině 5 až 7 bez použití trhavin, oceňuje se toto hloubení a) v suchu nebo v mokru cenami 138 40-1101, 138 50-1101 a 138 60-1101 Dolamování zapažených nebo nezapažených hloubených vykopávek; b) v tekoucí vodě při jakékoliv její rychlosti individuálně. 4. Hloubení nezapažených jam hloubky přes 16 m se oceňuje individuálně. 5. V cenách jsou započteny i náklady na případné nutné přemístění výkopku ve výkopišti a na přehození výkopku na přilehlém terénu na vzdálenost do 3 m od okraje jámy nebo naložení na dopravní prostředek. 6. Náklady na svislé přemístění výkopku nad 1 m hloubky se určí dle ustanovení článku č. 3161 všeobecných podmínek katalogu. | AT89: PSC | AU89: 2
D90: VV | F90: výkop pro patky | AT90: VV | AU90: 2 | AV90: 1 | AW90: True | AX90: 0 | AY90: ROZPOCET
D91: VV | F91: 20,2 | H91: 20.2 | AT91: VV | AU91: 2 | AV91: 2 | AW91: True | AX91: 0 | AY91: ROZPOCET
D92: VV | F92: Součet | H92: 20.2 | AT92: VV | AU92: 2 | AV92: 4 | AW92: True | AX92: 1 | AY92: ROZPOCET
C93: 2 | D93: K | E93: 162301151 | F93: Vodorovné přemístění výkopku/sypaniny z hornin tř. 5 až 7 do 500 m | G93: m3 | H93: 4575.2 | J93: =ROUND(I93*H93,2) -> 0 | N93: základní | O93: 0.055 | P93: =O93*H93 -> 251.636 | Q93: 0 | R93: =Q93*H93 -> 0 | S93: 0 | T93: =S93*H93 -> 0 | AR93: 4 | AT93: K | AU93: 2 | AY93: ROZPOCET | BE93: =IF(N93="základní",J93,0) -> 0 | BF93: =IF(N93="snížená",J93,0) -> 0 | BG93: =IF(N93="zákl. přenesená",J93,0) -> 0 | BH93: =IF(N93="sníž. přenesená",J93,0) -> 0 | BI93: =IF(N93="nulová",J93,0) -> 0 | BJ93: 1 | BK93: =ROUND(I93*H93,2) -> 0 | BL93: 4 | BM93: -1740088862
D94: PP | F94: Vodorovné přemístění výkopku nebo sypaniny po suchu na obvyklém dopravním prostředku, bez naložení výkopku, avšak se složením bez rozhrnutí z horniny tř. 5 až 7 na vzdálenost přes 50 do 500 m | AT94: PP | AU94: 2
D95: PSC | F95: Poznámka k souboru cen:_x000D_ 1. Ceny nelze použít, předepisuje-li projekt přemístit výkopek na místo nepřístupné obvyklým dopravním prostředkům; toto přemístění se oceňuje individuálně. 2. V cenách jsou započteny i náhrady za jízdu loženého vozidla v terénu ve výkopišti nebo na násypišti. 3. V cenách nejsou započteny náklady na rozhrnutí výkopku na násypišti; toto rozhrnutí se oceňuje cenami souboru cen 171 . 0- . . Uložení sypaniny do násypů a 171 20-1201Uložení sypaniny na skládky. 4. Je-li na dopravní dráze pro vodorovné přemístění nějaká překážka, pro kterou je nutno překládat výkopek z jednoho obvyklého dopravního prostředku na jiný obvyklý dopravní prostředek, oceňuje se toto lomené vodorovné přemístění výkopku v každém úseku samostatně příslušnou cenou tohoto souboru cen a překládání výkopku cenami souboru cen 167 10-3 . Nakládání neulehlého výkopku z hromad s ohledem na ustanovení pozn. číslo 5. 5. Přemísťuje-li se výkopek z dočasných skládek vzdálených do 50 m, neoceňuje se nakládání výkopku, i když se provádí. Toto ustanovení neplatí, vylučuje-li projekt použití dozeru. 6. V cenách vodorovného přemístění sypaniny nejsou započteny náklady na dodávku materiálu, tyto se oceňují ve specifikaci. | AT95: PSC | AU95: 2
D96: VV | F96: materiál vhodný pro zához | AT96: VV | AU96: 2 | AV96: 1 | AW96: True | AX96: 0 | AY96: ROZPOCET
D97: VV | F97: 4575,2"m3" | H97: 4575.2 | AT97: VV | AU97: 2 | AV97: 2 | AW97: True | AX97: 0 | AY97: ROZPOCET
D98: VV | F98: Součet | H98: 4575.2 | AT98: VV | AU98: 2 | AV98: 4 | AW98: True | AX98: 1 | AY98: ROZPOCET
C99: 3 | D99: K | E99: 16270110R | F99: Vod. přem. výkopku na skládku, včetně uložení bez poplatku dle platné legislativy | G99: m3 | H99: 20.2 | J99: =ROUND(I99*H99,2) -> 0 | K99: R-položka | N99: základní | O99: 0.083 | P99: =O99*H99 -> 1.6766 | Q99: 0 | R99: =Q99*H99 -> 0 | S99: 0 | T99: =S99*H99 -> 0 | AR99: 4 | AT99: K | AU99: 2 | AY99: ROZPOCET | BE99: =IF(N99="základní",J99,0) -> 0 | BF99: =IF(N99="snížená",J99,0) -> 0 | BG99: =IF(N99="zákl. přenesená",J99,0) -> 0 | BH99: =IF(N99="sníž. přenesená",J99,0) -> 0 | BI99: =IF(N99="nulová",J99,0) -> 0 | BJ99: 1 | BK99: =ROUND(I99*H99,2) -> 0 | BL99: 4 | BM99: 1317171256
D100: VV | F100: výkop pro patky | AT100: VV | AU100: 2 | AV100: 1 | AW100: True | AX100: 0 | AY100: ROZPOCET
D101: VV | F101: 20,2 | H101: 20.2 | AT101: VV | AU101: 2 | AV101: 2 | AW101: True | AX101: 0 | AY101: ROZPOCET
D102: VV | F102: Součet | H102: 20.2 | AT102: VV | AU102: 2 | AV102: 4 | AW102: True | AX102: 1 | AY102: ROZPOCET
C103: 4 | D103: K | E103: 167101152 | F103: Nakládání výkopku z hornin tř. 5 až 7 přes 100 m3 | G103: m3 | H103: 4575.2 | J103: =ROUND(I103*H103,2) -> 0 | N103: základní | O103: 0.142 | P103: =O103*H103 -> 649.6784 | Q103: 0 | R103: =Q103*H103 -> 0 | S103: 0 | T103: =S103*H103 -> 0 | AR103: 4 | AT103: K | AU103: 2 | AY103: ROZPOCET | BE103: =IF(N103="základní",J103,0) -> 0 | BF103: =IF(N103="snížená",J103,0) -> 0 | BG103: =IF(N103="zákl. přenesená",J103,0) -> 0 | BH103: =IF(N103="sníž. přenesená",J103,0) -> 0 | BI103: =IF(N103="nulová",J103,0) -> 0 | BJ103: 1 | BK103: =ROUND(I103*H103,2) -> 0 | BL103: 4 | BM103: 1001383174
D104: PP | F104: Nakládání, skládání a překládání neulehlého výkopku nebo sypaniny nakládání, množství přes 100 m3, z hornin tř. 5 až 7 | AT104: PP | AU104: 2
D105: PSC | F105: Poznámka k souboru cen:_x000D_ 1. Ceny -1101, -1151, -1102, -1152, -1103, -1153, jsou určeny pro nakládání, skládání a překládání na obvyklý nebo z obvyklého dopravního prostředku. Pro nakládání z lodi nebo na loď jsou určeny ceny -1105 a -1155. 2. Ceny -1105 a -1155 jsou určeny pro nakládání, překládání a vykládání na vzdálenost a) do 20 m vodorovně; vodorovná vzdálenost se měří od těžnice lodi k těžnici druhé lodi, nebo k těžišti hromady na břehu nebo k těžišti dopravního prostředku na suchu, b) do 4 m svisle; svislá vzdálenost se měří od pracovní hladiny vody k úrovni srovna- ného terénu v místě hromady nebo v místě dopravní plochy pro dopravní prostředek na suchu. Uvedenou svislou vzdálenost 4 m lze zvětšit, a to nejvýše do 6 m, jestliže je vodorovná vzdálenost uvedená v bodu a) kratší než 20 m nejméně o trojnásobek zvětšení výšky přes 4 m. 3. Množství měrných jednotek se určí v rostlém stavu horniny. | AT105: PSC | AU105: 2
D106: VV | F106: materiál vhodný pro zához | AT106: VV | AU106: 2 | AV106: 1 | AW106: True | AX106: 0 | AY106: ROZPOCET
D107: VV | F107: 4575,2"m3" | H107: 4575.2 | AT107: VV | AU107: 2 | AV107: 2 | AW107: True | AX107: 0 | AY107: ROZPOCET
D108: VV | F108: Součet | H108: 4575.2 | AT108: VV | AU108: 2 | AV108: 4 | AW108: True | AX108: 1 | AY108: ROZPOCET
C109: 5 | D109: K | E109: 181951102 | F109: Úprava pláně v hornině tř. 1 až 4 se zhutněním | G109: m2 | H109: 182.4 | J109: =ROUND(I109*H109,2) -> 0 | N109: základní | O109: 0.018 | P109: =O109*H109 -> 3.2832 | Q109: 0 | R109: =Q109*H109 -> 0 | S109: 0 | T109: =S109*H109 -> 0 | AR109: 4 | AT109: K | AU109: 2 | AY109: ROZPOCET | BE109: =IF(N109="základní",J109,0) -> 0 | BF109: =IF(N109="snížená",J109,0) -> 0 | BG109: =IF(N109="zákl. přenesená",J109,0) -> 0 | BH109: =IF(N109="sníž. přenesená",J109,0) -> 0 | BI109: =IF(N109="nulová",J109,0) -> 0 | BJ109: 1 | BK109: =ROUND(I109*H109,2) -> 0 | BL109: 4 | BM109: -1975605614
D110: PP | F110: Úprava pláně vyrovnáním výškových rozdílů v hornině tř. 1 až 4 se zhutněním | AT110: PP | AU110: 2
D111: PSC | F111: Poznámka k souboru cen:_x000D_ 1. Ceny jsou určeny pro urovnání všech nově zřizovaných ploch (v zářezech i na násypech) vodorovných nebo ve sklonu do 1:5 pod zpevnění ploch jakéhokoliv druhu, pod humusování, (ne však pro plochy zásypu rýh pro podzemní vedení), drnování apod. a dále, předepíše-li projekt urovnání pláně z jiného důvodu. 2. Ceny nelze použít pro urovnání lavic (berem) šířky do 3 m přerušujících svahy, pro urovnání dna silničních a železničních příkopů pro jakoukoliv šířku dna; toto urovnání se oceňuje cenami souboru cen 182 .0-1 Svahování. 3. Urovnání ploch ve sklonu přes 1 : 5 se oceňuje cenami souboru cen 182 . 0-11 Svahování trvalých svahů do projektovaných profilů. 4. Náklady na urovnání dna a stěn při čištění příkopů pozemních komunikací jsou započteny v cenách souborů cen 938 90-2 . Čištění příkopů komunikací v suchu nebo ve vodě části A02 Zemní práce pro objekty oborů 821 až 828. 5. Míru zhutnění určuje projekt. Ceny se zhutněním jsou určeny pro jakoukoliv míru zhutnění. | AT111: PSC | AU111: 2
C112: 6 | D112: K | E112: 182111111 | F112: Zpevnění svahu jutovou, kokosovou nebo plastovou rohoží do 1:1 | G112: m2 | H112: 182.4 | J112: =ROUND(I112*H112,2) -> 0 | N112: základní | O112: 0.5 | P112: =O112*H112 -> 91.2 | Q112: 0 | R112: =Q112*H112 -> 0 | S112: 0 | T112: =S112*H112 -> 0 | AR112: 4 | AT112: K | AU112: 2 | AY112: ROZPOCET | BE112: =IF(N112="základní",J112,0) -> 0 | BF112: =IF(N112="snížená",J112,0) -> 0 | BG112: =IF(N112="zákl. přenesená",J112,0) -> 0 | BH112: =IF(N112="sníž. přenesená",J112,0) -> 0 | BI112: =IF(N112="nulová",J112,0) -> 0 | BJ112: 1 | BK112: =ROUND(I112*H112,2) -> 0 | BL112: 4 | BM112: -1759475460
D113: PP | F113: Zpevnění svahu jutovou, kokosovou nebo plastovou rohoží na svahu přes 1:2 do 1:1 | AT113: PP | AU113: 2
D114: PSC | F114: Poznámka k souboru cen:_x000D_ 1. Množství jednotek se stanoví v m2 zpevněné plochy svahu před zpevněním. 2. V cenách nejsou započteny náklady na dodání rohože tyto náklady se oceňují ve specifikaci. | AT114: PSC | AU114: 2
D115: VV | F115: 1,2"m"*152"m" | H115: 182.4 | AT115: VV | AU115: 2 | AV115: 2 | AW115: True | AX115: 1 | AY115: ROZPOCET
C116: 7 | D116: M | E116: 61894010R | F116: síť kokosová s travním semenem | G116: m2 | H116: 126.63 | J116: =ROUND(I116*H116,2) -> 0 | K116: R-položka | N116: základní | O116: 0 | P116: =O116*H116 -> 0 | Q116: 0.0004 | R116: =Q116*H116 -> 0.050652 | S116: 0 | T116: =S116*H116 -> 0 | AR116: 8 | AT116: M | AU116: 2 | AY116: ROZPOCET | BE116: =IF(N116="základní",J116,0) -> 0 | BF116: =IF(N116="snížená",J116,0) -> 0 | BG116: =IF(N116="zákl. přenesená",J116,0) -> 0 | BH116: =IF(N116="sníž. přenesená",J116,0) -> 0 | BI116: =IF(N116="nulová",J116,0) -> 0 | BJ116: 1 | BK116: =ROUND(I116*H116,2) -> 0 | BL116: 4 | BM116: -646411688
D117: PP | F117: síť kokosová s travním semenem | AT117: PP | AU117: 2
D118: VV | F118: 1,5"m"*80,4"m" "1,5 m šířka rohože * délka hráze | H118: 120.6 | AT118: VV | AU118: 2 | AV118: 2 | AW118: True | AX118: 1 | AY118: ROZPOCET
D119: VV | F119: 120,6*1,05 'Přepočtené koeficientem množství | H119: 126.63 | AT119: VV | AU119: 2 | AV119: 2 | AW119: False | AX119: 1 | AY119: ROZPOCET
C120: 8 | D120: K | E120: 183101321 | F120: Jamky pro výsadbu s výměnou 100 % půdy zeminy tř 1 až 4 objem do 1 m3 v rovině a svahu do 1:5 | G120: kus | H120: 2 | J120: =ROUND(I120*H120,2) -> 0 | N120: základní | O120: 4.878 | P120: =O120*H120 -> 9.756 | Q120: 0 | R120: =Q120*H120 -> 0 | S120: 0 | T120: =S120*H120 -> 0 | AR120: 4 | AT120: K | AU120: 2 | AY120: ROZPOCET | BE120: =IF(N120="základní",J120,0) -> 0 | BF120: =IF(N120="snížená",J120,0) -> 0 | BG120: =IF(N120="zákl. přenesená",J120,0) -> 0 | BH120: =IF(N120="sníž. přenesená",J120,0) -> 0 | BI120: =IF(N120="nulová",J120,0) -> 0 | BJ120: 1 | BK120: =ROUND(I120*H120,2) -> 0 | BL120: 4 | BM120: -429684156
D121: PP | F121: Hloubení jamek pro vysazování rostlin v zemině tř.1 až 4 s výměnou půdy z 100% v rovině nebo na svahu do 1:5, objemu přes 0,40 do 1,00 m3 | AT121: PP | AU121: 2
D122: PSC | F122: Poznámka k souboru cen:_x000D_ 1. V cenách jsou započteny i náklady na případné naložení přebytečných výkopků na dopravní prostředek, odvoz na vzdálenost do 20 km a složení výkopků. 2. V cenách nejsou započteny náklady na: a) substrát, tyto náklady se oceňují ve specifikaci, b) uložení odpadu na skládku. 3. V cenách o sklonu svahu přes 1:1 jsou uvažovány podmínky pro svahy běžně schůdné; bez použití lezeckých technik. V případě použití lezeckých technik se tyto náklady oceňují individuálně. | AT122: PSC | AU122: 2
C123: 9 | D123: M | E123: 103715100 | F123: substrát zahradnický B 70 l bal.PE | G123: kus | H123: 14.286 | J123: =ROUND(I123*H123,2) -> 0 | N123: základní | O123: 0 | P123: =O123*H123 -> 0 | Q123: 0.025 | R123: =Q123*H123 -> 0.35715 | S123: 0 | T123: =S123*H123 -> 0 | AR123: 8 | AT123: M | AU123: 2 | AY123: ROZPOCET | BE123: =IF(N123="základní",J123,0) -> 0 | BF123: =IF(N123="snížená",J123,0) -> 0 | BG123: =IF(N123="zákl. přenesená",J123,0) -> 0 | BH123: =IF(N123="sníž. přenesená",J123,0) -> 0 | BI123: =IF(N123="nulová",J123,0) -> 0 | BJ123: 1 | BK123: =ROUND(I123*H123,2) -> 0 | BL123: 4 | BM123: 462902952
D124: PP | F124: substrát zahradnický B 70 l bal.PE | AT124: PP | AU124: 2
D125: VV | F125: 1000/70 | H125: 14.286 | AT125: VV | AU125: 2 | AV125: 2 | AW125: True | AX125: 1 | AY125: ROZPOCET
C126: 10 | D126: K | E126: 184102117 | F126: Výsadba dřeviny s balem D do 1 m do jamky se zalitím v rovině a svahu do 1:5 | G126: kus | H126: 4 | J126: =ROUND(I126*H126,2) -> 0 | N126: základní | O126: 5.742 | P126: =O126*H126 -> 22.968 | Q126: 0 | R126: =Q126*H126 -> 0 | S126: 0 | T126: =S126*H126 -> 0 | AR126: 4 | AT126: K | AU126: 2 | AY126: ROZPOCET | BE126: =IF(N126="základní",J126,0) -> 0 | BF126: =IF(N126="snížená",J126,0) -> 0 | BG126: =IF(N126="zákl. přenesená",J126,0) -> 0 | BH126: =IF(N126="sníž. přenesená",J126,0) -> 0 | BI126: =IF(N126="nulová",J126,0) -> 0 | BJ126: 1 | BK126: =ROUND(I126*H126,2) -> 0 | BL126: 4 | BM126: -990539247
D127: PP | F127: Výsadba dřeviny s balem do předem vyhloubené jamky se zalitím v rovině nebo na svahu do 1:5, při průměru balu přes 800 do 1000 mm | AT127: PP | AU127: 2
D128: PSC | F128: Poznámka k souboru cen:_x000D_ 1. Ceny lze použít i pro dřeviny pěstované v nádobách. 2. V cenách nejsou započteny náklady na vysazované dřeviny, tyto se oceňují ve specifikaci. 3. V cenách o sklonu svahu přes 1:1 jsou uvažovány podmínky pro svahy běžně schůdné; bez použití lezeckých technik. V případě použití lezeckých technik se tyto náklady oceňují individuálně. | AT128: PSC | AU128: 2
D129: VV | F129: Přesazení stromů ze stromořadí-provizorně po dobu překopu hráze, opětovné přesazení na původní místo | AT129: VV | AU129: 2 | AV129: 1 | AW129: True | AX129: 0 | AY129: ROZPOCET
D130: VV | F130: 2"ks"*2 | H130: 4 | AT130: VV | AU130: 2 | AV130: 2 | AW130: True | AX130: 0 | AY130: ROZPOCET
D131: VV | F131: Součet | H131: 4 | AT131: VV | AU131: 2 | AV131: 4 | AW131: True | AX131: 1 | AY131: ROZPOCET
...

Sheet SO 04 - Chodník
D1: List obsahuje: | F1: 1) Krycí list soupisu | G1: 2) Rekapitulace | J1: 3) Soupis prací | K1: Zpět na list: | L1: Rekapitulace stavby
L2: >> skryté sloupce << | AT2: {2c463dee-1fe0-4259-8258-779fc0713503}
AT3: 2
D4: KRYCÍ LIST SOUPISU | M4: v --- níže se nacházejí doplnkové a pomocné údaje k sestavám --- v | AT4: False
D6: Stavba:
E7: ='Rekapitulace stavby'!K6 -> Hradčanský rybník, oprava rybníka
D8: Objekt:
E9: SO 04 - Chodník
D11: KSO: | I11: CC-CZ:
D12: Místo: | I12: Datum:
D14: Zadavatel: | I14: IČ:
E15: MĚSTO RALSKA, Kuřívody 701, Ralsko, 471 24 Mimoň | I15: DIČ:
D17: Uchazeč: | I17: IČ: | J17: =IF('Rekapitulace stavby'!AN13="Vyplň údaj","",IF('Rekapitulace stavby'!AN13="","",'Rekapitulace stavby'!AN13))
E18: =IF('Rekapitulace stavby'!E14="Vyplň údaj","",IF('Rekapitulace stavby'!E14="","",'Rekapitulace stavby'!E14)) | I18: DIČ: | J18: =IF('Rekapitulace stavby'!AN14="Vyplň údaj","",IF('Rekapitulace stavby'!AN14="","",'Rekapitulace stavby'!AN14))
D20: Projektant: | I20: IČ:
I21: DIČ:
D23: Poznámka:
D27: Cena bez DPH | J27: =ROUND(J82,2) -> 0
F29: Základ daně | I29: Sazba daně | J29: Výše daně
D30: DPH | E30: základní | F30: =ROUND(SUM(BE82:BE124), 2) -> 0 | I30: 0.21 | J30: =ROUND(ROUND((SUM(BE82:BE124)), 2)*I30, 2) -> 0
E31: snížená | F31: =ROUND(SUM(BF82:BF124), 2) -> 0 | I31: 0.15 | J31: =ROUND(ROUND((SUM(BF82:BF124)), 2)*I31, 2) -> 0
E32: zákl. přenesená | F32: =ROUND(SUM(BG82:BG124), 2) -> 0 | I32: 0.21 | J32: 0
E33: sníž. přenesená | F33: =ROUND(SUM(BH82:BH124), 2) -> 0 | I33: 0.15 | J33: 0
E34: nulová | F34: =ROUND(SUM(BI82:BI124), 2) -> 0 | I34: 0 | J34: 0
D36: Cena s DPH | G36: v | H36: CZK | J36: =SUM(J27:J34) -> 0
C42: REKAPITULACE ČLENĚNÍ SOUPISU PRACÍ
C44: Stavba:
E45: =E7 -> Hradčanský rybník, oprava rybníka
C46: Objekt:
E47: =E9 -> SO 04 - Chodník
C49: Místo: | F49: =F12 | I49: Datum: | J49: =IF(J12="","",J12)
C51: Zadavatel: | F51: =E15 -> MĚSTO RALSKA, Kuřívody 701, Ralsko, 471 24 Mimoň | I51: Projektant:
C52: Uchazeč: | F52: =IF(E18="","",E18)
C54: Kód dílu - Popis | J54: Cena celkem [CZK]
C56: Náklady soupisu celkem | J56: =J82 -> 0 | AU56: -1
D57: HSV - Práce a dodávky HSV | J57: =J83 -> 0
D58: 1 - Zemní práce | J58: =J84 -> 0
D59: 4 - Vodorovné konstrukce | J59: =J88 -> 0
D60: 5 - Komunikace pozemní | J60: =J95 -> 0
D61: 9 - Ostatní konstrukce a práce, bourání | J61: =J111 -> 0
D62: 998 - Přesun hmot | J62: =J121 -> 0
C69: SOUPIS PRACÍ
C71: Stavba:
E72: =E7 -> Hradčanský rybník, oprava rybníka
C73: Objekt:
E74: =E9 -> SO 04 - Chodník
C76: Místo: | F76: =F12 | I76: Datum: | J76: =IF(J12="","",J12)
C78: Zadavatel: | F78: =E15 -> MĚSTO RALSKA, Kuřívody 701, Ralsko, 471 24 Mimoň | I78: Projektant:
C79: Uchazeč: | F79: =IF(E18="","",E18)
C81: PČ | D81: Typ | E81: Kód | F81: Popis | G81: MJ | H81: Množství | I81: J.cena [CZK] | J81: Cena celkem [CZK] | K81: Cenová soustava | M81: Poznámka | N81: DPH | O81: J. Nh [h] | P81: Nh celkem [h] | Q81: J. hmotnost_x000D_ [t] | R81: Hmotnost_x000D_ celkem [t] | S81: J. suť [t] | T81: Suť Celkem [t]
C82: Náklady soupisu celkem | J82: =BK82 -> 0 | P82: =P83 -> 188.72382 | R82: =R83 -> 74.548255 | T82: =T83 -> 0 | AT82: D | AU82: -1 | BK82: =BK83 -> 0
D83: D | E83: HSV | F83: Práce a dodávky HSV | J83: =BK83 -> 0 | P83: =P84+P88+P95+P111+P121 -> 188.72382 | R83: =R84+R88+R95+R111+R121 -> 74.548255 | T83: =T84+T88+T95+T111+T121 -> 0 | AR83: 1 | AT83: D | AU83: 0 | AY83: ROZPOCET | BK83: =BK84+BK88+BK95+BK111+BK121 -> 0
D84: D | E84: 1 | F84: Zemní práce | J84: =BK84 -> 0 | P84: =SUM(P85:P87) -> 4.0752 | R84: =SUM(R85:R87) -> 0 | T84: =SUM(T85:T87) -> 0 | AR84: 1 | AT84: D | AU84: 1 | AY84: ROZPOCET | BK84: =SUM(BK85:BK87) -> 0
C85: 1 | D85: K | E85: 181951102 | F85: Úprava pláně v hornině tř. 1 až 4 se zhutněním | G85: m2 | H85: 226.4 | J85: =ROUND(I85*H85,2) -> 0 | N85: základní | O85: 0.018 | P85: =O85*H85 -> 4.0752 | Q85: 0 | R85: =Q85*H85 -> 0 | S85: 0 | T85: =S85*H85 -> 0 | AR85: 4 | AT85: K | AU85: 2 | AY85: ROZPOCET | BE85: =IF(N85="základní",J85,0) -> 0 | BF85: =IF(N85="snížená",J85,0) -> 0 | BG85: =IF(N85="zákl. přenesená",J85,0) -> 0 | BH85: =IF(N85="sníž. přenesená",J85,0) -> 0 | BI85: =IF(N85="nulová",J85,0) -> 0 | BJ85: 1 | BK85: =ROUND(I85*H85,2) -> 0 | BL85: 4 | BM85: -1985041157
D86: PP | F86: Úprava pláně vyrovnáním výškových rozdílů v hornině tř. 1 až 4 se zhutněním | AT86: PP | AU86: 2
D87: PSC | F87: Poznámka k souboru cen:_x000D_ 1. Ceny jsou určeny pro urovnání všech nově zřizovaných ploch (v zářezech i na násypech) vodorovných nebo ve sklonu do 1:5 pod zpevnění ploch jakéhokoliv druhu, pod humusování, (ne však pro plochy zásypu rýh pro podzemní vedení), drnování apod. a dále, předepíše-li projekt urovnání pláně z jiného důvodu. 2. Ceny nelze použít pro urovnání lavic (berem) šířky do 3 m přerušujících svahy, pro urovnání dna silničních a železničních příkopů pro jakoukoliv šířku dna; toto urovnání se oceňuje cenami souboru cen 182 .0-1 Svahování. 3. Urovnání ploch ve sklonu přes 1 : 5 se oceňuje cenami souboru cen 182 . 0-11 Svahování trvalých svahů do projektovaných profilů. 4. Náklady na urovnání dna a stěn při čištění příkopů pozemních komunikací jsou započteny v cenách souborů cen 938 90-2 . Čištění příkopů komunikací v suchu nebo ve vodě části A02 Zemní práce pro objekty oborů 821 až 828. 5. Míru zhutnění určuje projekt. Ceny se zhutněním jsou určeny pro jakoukoliv míru zhutnění. | AT87: PSC | AU87: 2
D88: D | E88: 4 | F88: Vodorovné konstrukce | J88: =BK88 -> 0 | P88: =SUM(P89:P94) -> 14.9424 | R88: =SUM(R89:R94) -> 0 | T88: =SUM(T89:T94) -> 0 | AR88: 1 | AT88: D | AU88: 1 | AY88: ROZPOCET | BK88: =SUM(BK89:BK94) -> 0
C89: 2 | D89: K | E89: 45157977R | F89: Příplatek ZKD 10 mm tl nad 100 mm u podkladu nebo lože pod dlažbu z písku | G89: m2 | H89: 2490.4 | J89: =ROUND(I89*H89,2) -> 0 | K89: R-položka | N89: základní | O89: 0.006 | P89: =O89*H89 -> 14.9424 | Q89: 0 | R89: =Q89*H89 -> 0 | S89: 0 | T89: =S89*H89 -> 0 | AR89: 4 | AT89: K | AU89: 2 | AY89: ROZPOCET | BE89: =IF(N89="základní",J89,0) -> 0 | BF89: =IF(N89="snížená",J89,0) -> 0 | BG89: =IF(N89="zákl. přenesená",J89,0) -> 0 | BH89: =IF(N89="sníž. přenesená",J89,0) -> 0 | BI89: =IF(N89="nulová",J89,0) -> 0 | BJ89: 1 | BK89: =ROUND(I89*H89,2) -> 0 | BL89: 4 | BM89: -183078398
D90: PP | F90: Podklad nebo lože pod dlažbu (přídlažbu) Příplatek k cenám za každých dalších i započatých 10 mm tloušťky podkladu nebo lože přes 100 mm z kameniva těženého | AT90: PP | AU90: 2
D91: PSC | F91: Poznámka k souboru cen:_x000D_ 1. Ceny lze použít i pro podklad nebo lože pod dlažby silničních příkopů a kuželů. 2. Ceny nelze použít pro: a) lože rigolů dlážděných, které je započteno v cenách souborů cen 597 . 6- . 1 Rigol dlážděný, 597 17- . 1 Rigol krajnicový s kamennou obrubou a 597 16-1111 Rigol dlážděný z lomového kamene, b) podklad nebo lože pod dlažby (přídlažby) související s vodotečí, které se oceňují cenami části A 01 katalogu 832-1 Hráze a úpravy na tocích - úpravy toků a kanálů. 3. V cenách -7777 Podklad z prohozené zeminy, -9777 Příplatek za dalších 10 mm tloušťky z prohozené zeminy, -9779 Příplatek za sklon přes 1:5 z prohozené zeminy jsou započteny i náklady na prohození zeminy. 4. V cenách nejsou započteny náklady na: a) opatření zeminy a její přemístění k místu zabudování, které se oceňují podle ustanovení čl. 3111 Všeobecných podmínek části A 01 tohoto katalogu, b) úpravu pláně, která se oceňuje u silnic cenami části A 01, u dálnic cenami části A 02 katalogu 800-1 Zemní práce, c) odklizení odpadu po prohození zeminy, které se oceňuje cenami části A 01 katalogu 800-1 Zemní práce, d) svahování, které se oceňuje cenami části A 01 katalogu 800-1 Zemní práce. | AT91: PSC | AU91: 2
D92: VV | F92: podklad tl. 150 mm z písku pod zámkovou dlažbu, 40 mm je součástí pol. 59621111R, bez dodávky metriálu, využije se písek z SO 07 | AT92: VV | AU92: 2 | AV92: 1 | AW92: True | AX92: 0 | AY92: ROZPOCET
D93: VV | F93: 226,4"m2"*(15-4) | H93: 2490.4 | AT93: VV | AU93: 2 | AV93: 2 | AW93: True | AX93: 0 | AY93: ROZPOCET
D94: VV | F94: Součet | H94: 2490.4 | AT94: VV | AU94: 2 | AV94: 4 | AW94: True | AX94: 1 | AY94: ROZPOCET
D95: D | E95: 5 | F95: Komunikace pozemní | J95: =BK95 -> 0 | P95: =SUM(P96:P110) -> 119.992 | R95: =SUM(R96:R110) -> 48.5062 | T95: =SUM(T96:T110) -> 0 | AR95: 1 | AT95: D | AU95: 1 | AY95: ROZPOCET | BK95: =SUM(BK96:BK110) -> 0
C96: 3 | D96: K | E96: 59621111R | F96: Kladení zámkové dlažby komunikací pro pěší tl 60 mm skupiny A pl do 300 m2 | G96: m2 | H96: 226.4 | J96: =ROUND(I96*H96,2) -> 0 | K96: R-položka | N96: základní | O96: 0.53 | P96: =O96*H96 -> 119.992 | Q96: 0.08425 | R96: =Q96*H96 -> 19.0742 | S96: 0 | T96: =S96*H96 -> 0 | AR96: 4 | AT96: K | AU96: 2 | AY96: ROZPOCET | BE96: =IF(N96="základní",J96,0) -> 0 | BF96: =IF(N96="snížená",J96,0) -> 0 | BG96: =IF(N96="zákl. přenesená",J96,0) -> 0 | BH96: =IF(N96="sníž. přenesená",J96,0) -> 0 | BI96: =IF(N96="nulová",J96,0) -> 0 | BJ96: 1 | BK96: =ROUND(I96*H96,2) -> 0 | BL96: 4 | BM96: -755539502
D97: PP | F97: Kladení dlažby z betonových zámkových dlaždic komunikací pro pěší s ložem z písku(využije se písek z pláže z SO 07), s vyplněním spár s dvojitým hutněním, vibrováním a se smetením přebytečného materiálu na krajnici tl. 60 mm skupiny A, pro plochy přes 100 do 300 m2 | AT97: PP | AU97: 2
D98: PSC | F98: Poznámka k souboru cen:_x000D_ 1. Pro volbu cen dlažeb platí toto rozdělení: Skupina A: dlažby z prvků stejného tvaru, Skupina B: dlažby z prvků dvou a více tvarů nebo z obrazců o ploše jednotlivě do 100 m2, Skupina C: dlažby obloukovitých tvarů (oblouky, kruhy, apod.). 2. V cenách jsou započteny i náklady na dodání hmot pro lože a na dodání materiálu na výplň spár. 3. V cenách nejsou započteny náklady na dodání zámkové dlažby, které se oceňuje ve specifikaci; ztratné lze dohodnout u plochy a) do 100 m2 ve výši 3 %, b) přes 100 do 300 m2 ve výši 2 %, c) přes 300 m2 ve výši 1 %. 4. Část lože přesahující tloušťku 40 mm se oceňuje cenami souboru cen 451 . . -9 . Příplatek za každých dalších 10 mm tloušťky podkladu nebo lože. | AT98: PSC | AU98: 2
D99: P | F99: Poznámka k položce: doprava materiálu na stavbě je v rámci položky PH | AT99: P | AU99: 2
D100: VV | F100: s ložem z písku (využije se písek z pláže z SO 07), tj. bez dodávky materiálu pro lože | AT100: VV | AU100: 2 | AV100: 1 | AW100: True | AX100: 0 | AY100: ROZPOCET
D101: VV | F101: betonová zámková dlažba 100 x 100 x 60 mm antracit | AT101: VV | AU101: 2 | AV101: 1 | AW101: True | AX101: 0 | AY101: ROZPOCET
D102: VV | F102: 225"m2" | H102: 225 | AT102: VV | AU102: 2 | AV102: 2 | AW102: True | AX102: 0 | AY102: ROZPOCET
D103: VV | H103: 0 | AT103: VV | AU103: 2 | AV103: 2 | AW103: True | AX103: 0 | AY103: ROZPOCET
D104: VV | F104: betonová zámková dlažba reliéfní 100 x 100 x 60 mm přírodní | AT104: VV | AU104: 2 | AV104: 1 | AW104: True | AX104: 0 | AY104: ROZPOCET
D105: VV | F105: 1,4"m2" | H105: 1.4 | AT105: VV | AU105: 2 | AV105: 2 | AW105: True | AX105: 0 | AY105: ROZPOCET
D106: VV | F106: Součet | H106: 226.4 | AT106: VV | AU106: 2 | AV106: 4 | AW106: True | AX106: 1 | AY106: ROZPOCET
C107: 4 | D107: M | E107: 59245306R | F107: dlažba kostka 10x10x6 cm antarcit | G107: m2 | H107: 225 | J107: =ROUND(I107*H107,2) -> 0 | K107: R-položka | N107: základní | O107: 0 | P107: =O107*H107 -> 0 | Q107: 0.13 | R107: =Q107*H107 -> 29.25 | S107: 0 | T107: =S107*H107 -> 0 | AR107: 8 | AT107: M | AU107: 2 | AY107: ROZPOCET | BE107: =IF(N107="základní",J107,0) -> 0 | BF107: =IF(N107="snížená",J107,0) -> 0 | BG107: =IF(N107="zákl. přenesená",J107,0) -> 0 | BH107: =IF(N107="sníž. přenesená",J107,0) -> 0 | BI107: =IF(N107="nulová",J107,0) -> 0 | BJ107: 1 | BK107: =ROUND(I107*H107,2) -> 0 | BL107: 4 | BM107: 1356315264
D108: PP | F108: dlažba skladebná betonová základní 10x10x6 cm antracit | AT108: PP | AU108: 2
C109: 5 | D109: M | E109: 592453060 | F109: dlažba kostka reliéfní 10x10x6 cm přírodní | G109: m2 | H109: 1.4 | J109: =ROUND(I109*H109,2) -> 0 | N109: základní | O109: 0 | P109: =O109*H109 -> 0 | Q109: 0.13 | R109: =Q109*H109 -> 0.182 | S109: 0 | T109: =S109*H109 -> 0 | AR109: 8 | AT109: M | AU109: 2 | AY109: ROZPOCET | BE109: =IF(N109="základní",J109,0) -> 0 | BF109: =IF(N109="snížená",J109,0) -> 0 | BG109: =IF(N109="zákl. přenesená",J109,0) -> 0 | BH109: =IF(N109="sníž. přenesená",J109,0) -> 0 | BI109: =IF(N109="nulová",J109,0) -> 0 | BJ109: 1 | BK109: =ROUND(I109*H109,2) -> 0 | BL109: 4 | BM109: 104347029
D110: PP | F110: dlažba skladebná betonová základní 10x10x6 cm přírodní | AT110: PP | AU110: 2
D111: D | E111: 9 | F111: Ostatní konstrukce a práce, bourání | J111: =BK111 -> 0 | P111: =SUM(P112:P120) -> 24.517 | R111: =SUM(R112:R120) -> 26.042055 | T111: =SUM(T112:T120) -> 0 | AR111: 1 | AT111: D | AU111: 1 | AY111: ROZPOCET | BK111: =SUM(BK112:BK120) -> 0
C112: 6 | D112: K | E112: 916231212 | F112: Osazení chodníkového obrubníku betonového stojatého bez boční opěry do lože z betonu prostého | G112: m | H112: 4 | J112: =ROUND(I112*H112,2) -> 0 | N112: základní | O112: 0.18 | P112: =O112*H112 -> 0.72 | Q112: 0.09599 | R112: =Q112*H112 -> 0.38396 | S112: 0 | T112: =S112*H112 -> 0 | AR112: 4 | AT112: K | AU112: 2 | AY112: ROZPOCET | BE112: =IF(N112="základní",J112,0) -> 0 | BF112: =IF(N112="snížená",J112,0) -> 0 | BG112: =IF(N112="zákl. přenesená",J112,0) -> 0 | BH112: =IF(N112="sníž. přenesená",J112,0) -> 0 | BI112: =IF(N112="nulová",J112,0) -> 0 | BJ112: 1 | BK112: =ROUND(I112*H112,2) -> 0 | BL112: 4 | BM112: 1023621717
D113: PP | F113: Osazení chodníkového obrubníku betonového se zřízením lože, s vyplněním a zatřením spár cementovou maltou stojatého bez boční opěry, do lože z betonu prostého | AT113: PP | AU113: 2
D114: PSC | F114: Poznámka k souboru cen:_x000D_ 1. V cenách chodníkových obrubníků ležatých i stojatých jsou započteny pro osazení a) do lože z kameniva těženého i náklady na dodání hmot pro lože tl. 80 až 100 mm, b) do lože z betonu prostého i náklady na dodání hmot pro lože tl. 80 až 100 mm; v cenách -1113 a -1213 též náklady na zřízení bočních opěr. 2. Část lože z betonu prostého přesahující tl. 100 mm se oceňuje cenou 916 99-1121 Lože pod obrubníky, krajníky nebo obruby z dlažebních kostek. 3. V cenách nejsou započteny náklady na dodání obrubníků, tyto se oceňují ve specifikaci. | AT114: PSC | AU114: 2
C115: 7 | D115: M | E115: 592174150 | F115: obrubník betonový chodníkový ABO 13-10 100x10x25 cm | G115: kus | H115: 4 | J115: =ROUND(I115*H115,2) -> 0 | N115: základní | O115: 0 | P115: =O115*H115 -> 0 | Q115: 0.055 | R115: =Q115*H115 -> 0.22 | S115: 0 | T115: =S115*H115 -> 0 | AR115: 8 | AT115: M | AU115: 2 | AY115: ROZPOCET | BE115: =IF(N115="základní",J115,0) -> 0 | BF115: =IF(N115="snížená",J115,0) -> 0 | BG115: =IF(N115="zákl. přenesená",J115,0) -> 0 | BH115: =IF(N115="sníž. přenesená",J115,0) -> 0 | BI115: =IF(N115="nulová",J115,0) -> 0 | BJ115: 1 | BK115: =ROUND(I115*H115,2) -> 0 | BL115: 4 | BM115: 1183896492
D116: PP | F116: obrubník betonový chodníkový 100x10x25 cm | AT116: PP | AU116: 2
C117: 8 | D117: K | E117: 916331111 | F117: Osazení zahradního obrubníku betonového do lože z betonu bez boční opěry | G117: m | H117: 224.5 | J117: =ROUND(I117*H117,2) -> 0 | N117: základní | O117: 0.106 | P117: =O117*H117 -> 23.797 | Q117: 0.08531 | R117: =Q117*H117 -> 19.152095 | S117: 0 | T117: =S117*H117 -> 0 | AR117: 4 | AT117: K | AU117: 2 | AY117: ROZPOCET | BE117: =IF(N117="základní",J117,0) -> 0 | BF117: =IF(N117="snížená",J117,0) -> 0 | BG117: =IF(N117="zákl. přenesená",J117,0) -> 0 | BH117: =IF(N117="sníž. přenesená",J117,0) -> 0 | BI117: =IF(N117="nulová",J117,0) -> 0 | BJ117: 1 | BK117: =ROUND(I117*H117,2) -> 0 | BL117: 4 | BM117: 310440492
D118: PP | F118: Osazení zahradního obrubníku betonového s ložem tl. od 50 do 100 mm z betonu prostého tř. C 12/15 bez boční opěry | AT118: PP | AU118: 2
D119: PSC | F119: Poznámka k souboru cen:_x000D_ 1. V cenách jsou započteny i náklady na zalití a zatření spár cementovou maltou. 2. V cenách nejsou započteny náklady na dodání obrubníků; tyto se oceňují ve specifikaci. 3. Část lože přesahující tloušťku 100 mm lze ocenit cenou 916 99-1121 Lože pod obrubníky, krajníky nebo obruby z dlažebních kostek, katalogu 822-1. | AT119: PSC | AU119: 2
C120: 9 | D120: M | E120: 59217211R | F120: obrubník betonový zahradní 100 x 5 x 25 cm, antracit v barvě dlažby | G120: kus | H120: 224.5 | J120: =ROUND(I120*H120,2) -> 0 | N120: základní | O120: 0 | P120: =O120*H120 -> 0 | Q120: 0.028 | R120: =Q120*H120 -> 6.286 | S120: 0 | T120: =S120*H120 -> 0 | AR120: 8 | AT120: M | AU120: 2 | AY120: ROZPOCET | BE120: =IF(N120="základní",J120,0) -> 0 | BF120: =IF(N120="snížená",J120,0) -> 0 | BG120: =IF(N120="zákl. přenesená",J120,0) -> 0 | BH120: =IF(N120="sníž. přenesená",J120,0) -> 0 | BI120: =IF(N120="nulová",J120,0) -> 0 | BJ120: 1 | BK120: =ROUND(I120*H120,2) -> 0 | BL120: 4 | BM120: 2141725204
D121: D | E121: 998 | F121: Přesun hmot | J121: =BK121 -> 0 | P121: =SUM(P122:P124) -> 25.197224 | R121: =SUM(R122:R124) -> 0 | T121: =SUM(T122:T124) -> 0 | AR121: 1 | AT121: D | AU121: 1 | AY121: ROZPOCET | BK121: =SUM(BK122:BK124) -> 0
C122: 10 | D122: K | E122: 998332011 | F122: Přesun hmot pro úpravy vodních toků a kanály | G122: t | H122: 74.548 | J122: =ROUND(I122*H122,2) -> 0 | N122: základní | O122: 0.338 | P122: =O122*H122 -> 25.197224 | Q122: 0 | R122: =Q122*H122 -> 0 | S122: 0 | T122: =S122*H122 -> 0 | AR122: 4 | AT122: K | AU122: 2 | AY122: ROZPOCET | BE122: =IF(N122="základní",J122,0) -> 0 | BF122: =IF(N122="snížená",J122,0) -> 0 | BG122: =IF(N122="zákl. přenesená",J122,0) -> 0 | BH122: =IF(N122="sníž. přenesená",J122,0) -> 0 | BI122: =IF(N122="nulová",J122,0) -> 0 | BJ122: 1 | BK122: =ROUND(I122*H122,2) -> 0 | BL122: 4 | BM122: -921134225
D123: PP | F123: Přesun hmot pro úpravy vodních toků a kanály, hráze rybníků apod. dopravní vzdálenost do 500 m | AT123: PP | AU123: 2
D124: PSC | F124: Poznámka k souboru cen:_x000D_ 1. Ceny jsou určeny pro jakoukoliv konstrukčně-materiálovou charakteristiku. | AT124: PSC | AU124: 2

Sheet SO 05 - Objekty podhrází,...
D1: List obsahuje: | F1: 1) Krycí list soupisu | G1: 2) Rekapitulace | J1: 3) Soupis prací | K1: Zpět na list: | L1: Rekapitulace stavby
L2: >> skryté sloupce << | AT2: {8d3b50ef-6b1e-4be5-b31f-ac7297a33e79}
AT3: 2
D4: KRYCÍ LIST SOUPISU | M4: v --- níže se nacházejí doplnkové a pomocné údaje k sestavám --- v | AT4: False
D6: Stavba:
E7: ='Rekapitulace stavby'!K6 -> Hradčanský rybník, oprava rybníka
D8: Objekt:
E9: SO 05 - Objekty podhrází, odběrný objekt
D11: KSO: | I11: CC-CZ:
D12: Místo: | I12: Datum:
D14: Zadavatel: | I14: IČ:
E15: MĚSTO RALSKA, Kuřívody 701, Ralsko, 471 24 Mimoň | I15: DIČ:
D17: Uchazeč: | I17: IČ: | J17: =IF('Rekapitulace stavby'!AN13="Vyplň údaj","",IF('Rekapitulace stavby'!AN13="","",'Rekapitulace stavby'!AN13))
E18: =IF('Rekapitulace stavby'!E14="Vyplň údaj","",IF('Rekapitulace stavby'!E14="","",'Rekapitulace stavby'!E14)) | I18: DIČ: | J18: =IF('Rekapitulace stavby'!AN14="Vyplň údaj","",IF('Rekapitulace stavby'!AN14="","",'Rekapitulace stavby'!AN14))
D20: Projektant: | I20: IČ:
I21: DIČ:
D23: Poznámka:
D27: Cena bez DPH | J27: =ROUND(J89,2) -> 0
F29: Základ daně | I29: Sazba daně | J29: Výše daně
D30: DPH | E30: základní | F30: =ROUND(SUM(BE89:BE361), 2) -> 0 | I30: 0.21 | J30: =ROUND(ROUND((SUM(BE89:BE361)), 2)*I30, 2) -> 0
E31: snížená | F31: =ROUND(SUM(BF89:BF361), 2) -> 0 | I31: 0.15 | J31: =ROUND(ROUND((SUM(BF89:BF361)), 2)*I31, 2) -> 0
E32: zákl. přenesená | F32: =ROUND(SUM(BG89:BG361), 2) -> 0 | I32: 0.21 | J32: 0
E33: sníž. přenesená | F33: =ROUND(SUM(BH89:BH361), 2) -> 0 | I33: 0.15 | J33: 0
E34: nulová | F34: =ROUND(SUM(BI89:BI361), 2) -> 0 | I34: 0 | J34: 0
D36: Cena s DPH | G36: v | H36: CZK | J36: =SUM(J27:J34) -> 0
C42: REKAPITULACE ČLENĚNÍ SOUPISU PRACÍ
C44: Stavba:
E45: =E7 -> Hradčanský rybník, oprava rybníka
C46: Objekt:
E47: =E9 -> SO 05 - Objekty podhrází, odběrný objekt
C49: Místo: | F49: =F12 | I49: Datum: | J49: =IF(J12="","",J12)
C51: Zadavatel: | F51: =E15 -> MĚSTO RALSKA, Kuřívody 701, Ralsko, 471 24 Mimoň | I51: Projektant:
C52: Uchazeč: | F52: =IF(E18="","",E18)
C54: Kód dílu - Popis | J54: Cena celkem [CZK]
C56: Náklady soupisu celkem | J56: =J89 -> 0 | AU56: -1
D57: HSV - Práce a dodávky HSV | J57: =J90 -> 0
D58: 1 - Zemní práce | J58: =J91 -> 0
D59: 18 - Zemní práce - povrchové úpravy terénu | J59: =J209 -> 0
D60: 2 - Zakládání | J60: =J216 -> 0
D61: 3 - Svislé a kompletní konstrukce | J61: =J230 -> 0
D62: 4 - Vodorovné konstrukce | J62: =J250 -> 0
D63: 8 - Trubní vedení | J63: =J321 -> 0
D64: 9 - Ostatní konstrukce a práce, bourání | J64: =J326 -> 0
D65: 998 - Přesun hmot | J65: =J342 -> 0
D66: PSV - Práce a dodávky PSV | J66: =J346 -> 0
D67: 767 - Konstrukce zámečnické | J67: =J347 -> 0
D68: M - Práce a dodávky M | J68: =J354 -> 0
D69: 23-M - Montáže potrubí | J69: =J355 -> 0
C76: SOUPIS PRACÍ
C78: Stavba:
E79: =E7 -> Hradčanský rybník, oprava rybníka
C80: Objekt:
E81: =E9 -> SO 05 - Objekty podhrází, odběrný objekt
C83: Místo: | F83: =F12 | I83: Datum: | J83: =IF(J12="","",J12)
C85: Zadavatel: | F85: =E15 -> MĚSTO RALSKA, Kuřívody 701, Ralsko, 471 24 Mimoň | I85: Projektant:
C86: Uchazeč: | F86: =IF(E18="","",E18)
C88: PČ | D88: Typ | E88: Kód | F88: Popis | G88: MJ | H88: Množství | I88: J.cena [CZK] | J88: Cena celkem [CZK] | K88: Cenová soustava | M88: Poznámka | N88: DPH | O88: J. Nh [h] | P88: Nh celkem [h] | Q88: J. hmotnost_x000D_ [t] | R88: Hmotnost_x000D_ celkem [t] | S88: J. suť [t] | T88: Suť Celkem [t]
C89: Náklady soupisu celkem | J89: =BK89 -> 0 | P89: =P90+P346+P354 -> 1513.7232 | R89: =R90+R346+R354 -> 391.20037 | T89: =T90+T346+T354 -> 0 | AT89: D | AU89: -1 | BK89: =BK90+BK346+BK354 -> 0
D90: D | E90: HSV | F90: Práce a dodávky HSV | J90: =BK90 -> 0 | P90: =P91+P216+P230+P250+P321+P326+P342 -> 1498.6397 | R90: =R91+R216+R230+R250+R321+R326+R342 -> 390.52361 | T90: =T91+T216+T230+T250+T321+T326+T342 -> 0 | AR90: 1 | AT90: D | AU90: 0 | AY90: ROZPOCET | BK90: =BK91+BK216+BK230+BK250+BK321+BK326+BK342 -> 0
D91: D | E91: 1 | F91: Zemní práce | J91: =BK91 -> 0 | P91: =P92+SUM(P93:P209) -> 697.52527 | R91: =R92+SUM(R93:R209) -> 74.583274 | T91: =T92+SUM(T93:T209) -> 0 | AR91: 1 | AT91: D | AU91: 1 | AY91: ROZPOCET | BK91: =BK92+SUM(BK93:BK209) -> 0
C92: 1 | D92: K | E92: 111301111 | F92: Sejmutí drnu tl do 100 mm s přemístěním do 50 m nebo naložením na dopravní prostředek | G92: m2 | H92: 482.504 | J92: =ROUND(I92*H92,2) -> 0 | N92: základní | O92: 0.209 | P92: =O92*H92 -> 100.84334 | Q92: 0 | R92: =Q92*H92 -> 0 | S92: 0 | T92: =S92*H92 -> 0 | AR92: 4 | AT92: K | AU92: 2 | AY92: ROZPOCET | BE92: =IF(N92="základní",J92,0) -> 0 | BF92: =IF(N92="snížená",J92,0) -> 0 | BG92: =IF(N92="zákl. přenesená",J92,0) -> 0 | BH92: =IF(N92="sníž. přenesená",J92,0) -> 0 | BI92: =IF(N92="nulová",J92,0) -> 0 | BJ92: 1 | BK92: =ROUND(I92*H92,2) -> 0 | BL92: 4 | BM92: -100142950
D93: PP | F93: Sejmutí drnu tl. do 100 mm, v jakékoliv ploše | AT93: PP | AU93: 2
D94: PSC | F94: Poznámka k souboru cen:_x000D_ 1. V cenách jsou započteny i náklady na nařezání, vyrýpnutí, vyzvednutí, přemístění a složení sejmutého drnu na vzdálenost do 50 m nebo s naložením na dopravní prostředek. 2. V ceně nejsou započteny náklady na zálivku před sejmutím drnu. Pro tyto práce lze použít ceny části C02 souboru cen 185 80-43 Zalití rostlin vodou. 3. Ceny jsou určeny jen pro sejmutí drnu pro drnování. 4. Sejmutím drnu se rozumí sejmutí pláství nebo pásů drnu v takové jakosti, aby se jich mohlo použít pro další drnování. 5. Ceny nejsou určeny k pokládce travního drnu (koberce). Tyto práce se oceňují cenami souboru cen 181 4.-11 Založení trávníku 6. Ceny lze použít při zakládání záhonů pro výsadbu rostlin z důvodu snížení profilu terénu. | AT94: PSC | AU94: 2
D95: VV | F95: 257"m2" "přemístění a uložení v podhrází | H95: 257 | AT95: VV | AU95: 2 | AV95: 2 | AW95: True | AX95: 0 | AY95: ROZPOCET
D96: VV | H96: 0 | AT96: VV | AU96: 2 | AV96: 2 | AW96: True | AX96: 0 | AY96: ROZPOCET
D97: VV | F97: 9,6*23,49 "urovnání přírodního koryta | H97: 225.504 | AT97: VV | AU97: 2 | AV97: 2 | AW97: True | AX97: 0 | AY97: ROZPOCET
D98: VV | H98: 0 | AT98: VV | AU98: 2 | AV98: 2 | AW98: True | AX98: 0 | AY98: ROZPOCET
D99: VV | F99: Součet | H99: 482.504 | AT99: VV | AU99: 2 | AV99: 4 | AW99: True | AX99: 1 | AY99: ROZPOCET
C100: 2 | D100: K | E100: 11500110R | F100: Převedení vody pod výpustí, zahrázkování | G100: kpl | H100: 1 | J100: =ROUND(I100*H100,2) -> 0 | N100: základní | O100: 0.987 | P100: =O100*H100 -> 0.987 | Q100: 0.01797 | R100: =Q100*H100 -> 0.01797 | S100: 0 | T100: =S100*H100 -> 0 | AR100: 4 | AT100: K | AU100: 2 | AY100: ROZPOCET | BE100: =IF(N100="základní",J100,0) -> 0 | BF100: =IF(N100="snížená",J100,0) -> 0 | BG100: =IF(N100="zákl. přenesená",J100,0) -> 0 | BH100: =IF(N100="sníž. přenesená",J100,0) -> 0 | BI100: =IF(N100="nulová",J100,0) -> 0 | BJ100: 1 | BK100: =ROUND(I100*H100,2) -> 0 | BL100: 4 | BM100: -1252313211
D101: P | F101: Poznámka k položce: Převedení vody pod výpustí potrubím DN 500 dl. 20 m, zahrázkování 10 m3, zřízení a odstranění | AT101: P | AU101: 2
C102: 3 | D102: K | E102: 121101102 | F102: Sejmutí ornice s přemístěním na vzdálenost do 100 m | G102: m3 | H102: 72.376 | J102: =ROUND(I102*H102,2) -> 0 | N102: základní | O102: 0.021 | P102: =O102*H102 -> 1.519896 | Q102: 0 | R102: =Q102*H102 -> 0 | S102: 0 | T102: =S102*H102 -> 0 | AR102: 4 | AT102: K | AU102: 2 | AY102: ROZPOCET | BE102: =IF(N102="základní",J102,0) -> 0 | BF102: =IF(N102="snížená",J102,0) -> 0 | BG102: =IF(N102="zákl. přenesená",J102,0) -> 0 | BH102: =IF(N102="sníž. přenesená",J102,0) -> 0 | BI102: =IF(N102="nulová",J102,0) -> 0 | BJ102: 1 | BK102: =ROUND(I102*H102,2) -> 0 | BL102: 4 | BM102: 1688776914
D103: PP | F103: Sejmutí ornice nebo lesní půdy s vodorovným přemístěním na hromady v místě upotřebení nebo na dočasné či trvalé skládky se složením, na vzdálenost přes 50 do 100 m | AT103: PP | AU103: 2
D104: PSC | F104: Poznámka k souboru cen:_x000D_ 1. V cenách jsou započteny i náklady na příp. nutné naložení sejmuté ornice na dopravní prostředek. 2. V cenách nejsou započteny náklady na odstranění nevhodných přimísenin (kamenů, kořenů apod.); tyto práce se ocení individuálně. 3. Množství ornice odebírané ze skládek se do objemu vykopávek pro volbu cen podle množství nezapočítává. Ceny souboru cen 122 . 0-11 Odkopávky a prokopávky nezapažené, se volí pro ornici odebíranou z projektovaných dočasných skládek; a) na staveništi podle součtu objemu ze všech skládek, b) mimo staveniště podle objemu každé skládky zvlášť. 4. Uložení ornice na skládky se oceňuje podle ustanovení v poznámkách č. 1 a 2 k ceně 171 20-1201 Uložení sypaniny na skládky. Složení ornice na hromady v místě upotřebení se neoceňuje. 5. Odebírá-li se ornice z projektované dočasné skládky, oceňuje se její naložení a přemístění podle čl. 3172 Všeobecných podmínek tohoto katalogu. 6. Přemísťuje-li se ornice na vzdálenost větší něž 250 m, vzdálenost 50 m se pro určení vzdálenosti vodorovného přemístění neodečítá a ocení se sejmutí a přemístění bez ohledu na ustanovení pozn. č. 1 takto: a) sejmutí ornice na vzdálenost 50m cenou 121 10-1101; b) naložení příslušnou cenou souboru cen 167 10- . . c) vodorovné přemístění cenami souboru cen 162 . 0- . . Vodorovné přemístění výkopku. 7. Sejmutí podorničí se oceňuje cenami odkopávek s přihlédnutím k ustanovení čl. 3112 Všeobecných podmínek tohoto katalogu. | AT104: PSC | AU104: 2
D105: VV | F105: Loviště a odtokové koryto | AT105: VV | AU105: 2 | AV105: 1 | AW105: True | AX105: 0 | AY105: ROZPOCET
D106: VV | F106: sejmutí ornice tl. 15 cm | AT106: VV | AU106: 2 | AV106: 1 | AW106: True | AX106: 0 | AY106: ROZPOCET
D107: VV | F107: 257"m2"*0,15 | H107: 38.55 | AT107: VV | AU107: 2 | AV107: 2 | AW107: True | AX107: 0 | AY107: ROZPOCET
D108: VV | H108: 0 | AT108: VV | AU108: 2 | AV108: 2 | AW108: True | AX108: 0 | AY108: ROZPOCET
D109: VV | F109: urovnání přírodního koryta, sejmutí ornice v tl. 15 cm | AT109: VV | AU109: 2 | AV109: 1 | AW109: True | AX109: 0 | AY109: ROZPOCET
D110: VV | F110: 9,6*23,49*0,15 | H110: 33.826 | AT110: VV | AU110: 2 | AV110: 2 | AW110: True | AX110: 0 | AY110: ROZPOCET
D111: VV | F111: Součet | H111: 72.376 | AT111: VV | AU111: 2 | AV111: 4 | AW111: True | AX111: 1 | AY111: ROZPOCET
C112: 4 | D112: K | E112: 124103101 | F112: Vykopávky do 1000 m3 pro koryta vodotečí v hornině tř. 1 a 2 | G112: m3 | H112: 904.183 | J112: =ROUND(I112*H112,2) -> 0 | N112: základní | O112: 0.266 | P112: =O112*H112 -> 240.51268 | Q112: 0 | R112: =Q112*H112 -> 0 | S112: 0 | T112: =S112*H112 -> 0 | AR112: 4 | AT112: K | AU112: 2 | AY112: ROZPOCET | BE112: =IF(N112="základní",J112,0) -> 0 | BF112: =IF(N112="snížená",J112,0) -> 0 | BG112: =IF(N112="zákl. přenesená",J112,0) -> 0 | BH112: =IF(N112="sníž. přenesená",J112,0) -> 0 | BI112: =IF(N112="nulová",J112,0) -> 0 | BJ112: 1 | BK112: =ROUND(I112*H112,2) -> 0 | BL112: 4 | BM112: 96988342
D113: PP | F113: Vykopávky pro koryta vodotečí s přehozením výkopku na vzdálenost do 3 m nebo s naložením na dopravní prostředek v horninách tř. 1 a 2 do 1 000 m3 | AT113: PP | AU113: 2
D114: PSC | F114: Poznámka k souboru cen:_x000D_ 1. Ceny lze použít i pro nezapažené odkopávky a prokopávky při úpravě území kolem vodotečí vně svislých ploch proložených projektovanými břehovými čarami souvisejí-li tyto odkopávky a prokopávky s prováděnými vykopávkami pro koryta vodotečí. 2. Ceny nelze použít pro: a) vykopávky koryt vodotečí, které jsou dle projektu pod úrovní pracovní hladiny vody; tyto zemní práce se oceňují cenami souboru cen 127 . 0-11 Vykopávky pod vodou strojně části A 01 tohoto katalogu, b) vykopávky koryt vodotečí v prostorách s rozepřeným nebo vzepřeným pažením; tyto zemní práce se oceňují cenami souboru cen 131 . 0-12 Hloubení zapažených jam a zářezů části A 01 tohoto katalogu, štětová stěna vzepřená nebo rozepřená, se z hlediska ocenění považuje za vzepřené nebo rozepřené pažení; c) vykopávky pod obrysem výkopu pro koryta vodotečí (pro opěrné zdi, patky, soustřeďovací stavby apod.); tyto zemní práce se oceňují podle své povahy cenami souboru cen 131 . 0-11 Hloubení nezapažených jam, 131 . 0-12 Hloubení zapažených jam, 132 . 0-11 Hloubení rýh do 600 mm, 132 . 0-12 Hloubení rýh do 2000 mm, 132 . 0-14 Hloubená vykopávka pod základy ručně 133 . 0- . 0 Hloubení zapažených i nezapažených šachet části A01 tohoto katalogu, d) hloubení zatrubněných nebo zastropených koryt vodotečí; tyto práce se oceňují cenami souboru cen 123 . 0-21 Vykopávky zářezů se šikmými stěnami pro podzemní vedení části A 02 3. V cenách jsou započteny náklady na svislé přemístění výkopku do 4 m. Svislé přemístění z hloubky přes 4 m se oceňuje podle projektu (rampy, přehození apod.). 4. Předepisuje-li projekt rozprostřít výkopek získaný vykopávkou pro koryta vodotečí, oceňuje se toto rozprostření cenou 171 20-1101 Uložení sypaniny do nezhutněných násypů a vodorovné přemístění výkopku cenami souboru cen 162 .0-31 Vodorovné přemístění výkopku z rýh podzemních stěn části A 01 tohoto katalogu. 5. Pro volbu ceny je rozhodující součet vykopávek pro koryta vodotečí, oceňovaných cenami tohoto souboru cen, zatrubněných koryt vodotečí, oceňovaných podle pozn. č. 2 odst. d) i zapažených vykopávek oceňovaných podle pozn. č. 2 odst. b) tohoto souboru cen. | AT114: PSC | AU114: 2
D115: VV | F115: loviště odtokové koryto-úprava koryta-rozšíření | AT115: VV | AU115: 2 | AV115: 1 | AW115: True | AX115: 0 | AY115: ROZPOCET
D116: VV | F116: "loviště řez I vzdál. 10 m"10,67*10 | H116: 106.7 | AT116: VV | AU116: 2 | AV116: 2 | AW116: True | AX116: 0 | AY116: ROZPOCET
D117: VV | F117: "řez J vzdál. 5,6 m"((10,67+20,33)/2)*5,6 | H117: 86.8 | AT117: VV | AU117: 2 | AV117: 2 | AW117: True | AX117: 0 | AY117: ROZPOCET
D118: VV | F118: "řez K"((20,33+16,8)/2)*10,6 | H118: 196.789 | AT118: VV | AU118: 2 | AV118: 2 | AW118: True | AX118: 0 | AY118: ROZPOCET
D119: VV | F119: "poslední řez"16,8*23,5 | H119: 394.8 | AT119: VV | AU119: 2 | AV119: 2 | AW119: True | AX119: 0 | AY119: ROZPOCET
D120: VV | F120: Mezisoučet | H120: 785.089 | AT120: VV | AU120: 2 | AV120: 3 | AW120: True | AX120: 0 | AY120: ROZPOCET
D121: VV | H121: 0 | AT121: VV | AU121: 2 | AV121: 2 | AW121: True | AX121: 0 | AY121: ROZPOCET
D122: VV | F122: urovnání přírodního koryta 23,49 m, plynulé napojení na propustek | AT122: VV | AU122: 2 | AV122: 1 | AW122: True | AX122: 0 | AY122: ROZPOCET
D123: VV | F123: rozšíření koryta | AT123: VV | AU123: 2 | AV123: 1 | AW123: True | AX123: 0 | AY123: ROZPOCET
D124: VV | F124: 5,07*23,49 | H124: 119.094 | AT124: VV | AU124: 2 | AV124: 2 | AW124: True | AX124: 0 | AY124: ROZPOCET
D125: VV | F125: Mezisoučet | H125: 119.094 | AT125: VV | AU125: 2 | AV125: 3 | AW125: True | AX125: 0 | AY125: ROZPOCET
D126: VV | F126: Součet | H126: 904.183 | AT126: VV | AU126: 2 | AV126: 4 | AW126: True | AX126: 1 | AY126: ROZPOCET
C127: 5 | D127: K | E127: 131201101 | F127: Hloubení jam nezapažených v hornině tř. 3 objemu do 100 m3 | G127: m3 | H127: 8.477 | J127: =ROUND(I127*H127,2) -> 0 | N127: základní | O127: 0.871 | P127: =O127*H127 -> 7.383467 | Q127: 0 | R127: =Q127*H127 -> 0 | S127: 0 | T127: =S127*H127 -> 0 | AR127: 4 | AT127: K | AU127: 2 | AY127: ROZPOCET | BE127: =IF(N127="základní",J127,0) -> 0 | BF127: =IF(N127="snížená",J127,0) -> 0 | BG127: =IF(N127="zákl. přenesená",J127,0) -> 0 | BH127: =IF(N127="sníž. přenesená",J127,0) -> 0 | BI127: =IF(N127="nulová",J127,0) -> 0 | BJ127: 1 | BK127: =ROUND(I127*H127,2) -> 0 | BL127: 4 | BM127: 821190418
D128: PP | F128: Hloubení nezapažených jam a zářezů s urovnáním dna do předepsaného profilu a spádu v hornině tř. 3 do 100 m3 | AT128: PP | AU128: 2
D129: PSC | F129: Poznámka k souboru cen:_x000D_ 1. Hloubení jam ve stržích a jam pro základy pro příčná a podélná zpevnění dna a břehů pod obrysem výkopu pro koryta vodotečí při lesnicko-technických melioracích (LTM) zejména vykopávky pro konstrukce těles, stupňů, boků, předprahů, prahů, podháněk, výhonů a pro základy zdí, dlažeb, rovnanin, plůtků a hatí se oceňují cenami příslušnými pro objem výkopů do 100 m3, i když skutečný objem výkopu je větší. 2. Ceny lze použít i pro hloubení nezapažených jam a zářezů pro podzemní vedení, jsou-li tyto práce prováděny z povrchu území. 3. Předepisuje-li projekt hloubit jámy popsané v pozn. č. 1 v hornině 5 až 7 bez použití trhavin, oceňuje se toto hloubení a) v suchu nebo v mokru cenami 138 40-1101, 138 50-1101 a 138 60-1101 Dolamování zapažených nebo nezapažených hloubených vykopávek; b) v tekoucí vodě při jakékoliv její rychlosti individuálně. 4. Hloubení nezapažených jam hloubky přes 16 m se oceňuje individuálně. 5. V cenách jsou započteny i náklady na případné nutné přemístění výkopku ve výkopišti a na přehození výkopku na přilehlém terénu na vzdálenost do 3 m od okraje jámy nebo naložení na dopravní prostředek. 6. Náklady na svislé přemístění výkopku nad 1 m hloubky se určí dle ustanovení článku č. 3161 všeobecných podmínek katalogu. | AT129: PSC | AU129: 2
D130: VV | F130: hloubení základů pro stabilizační prahy | AT130: VV | AU130: 2 | AV130: 1 | AW130: True | AX130: 0 | AY130: ROZPOCET
D131: VV | F131: 0,6*0,8*4,9+0,6*0,8*3,6+0,6*0,8*9,16 | H131: 8.477 | AT131: VV | AU131: 2 | AV131: 2 | AW131: True | AX131: 0 | AY131: ROZPOCET
...

Sheet SO 06 - Biotechnická opat...
D1: List obsahuje: | F1: 1) Krycí list soupisu | G1: 2) Rekapitulace | J1: 3) Soupis prací | K1: Zpět na list: | L1: Rekapitulace stavby
L2: >> skryté sloupce << | AT2: {6aa73440-ce02-45dc-8af3-e605704266df}
AT3: 2
D4: KRYCÍ LIST SOUPISU | M4: v --- níže se nacházejí doplnkové a pomocné údaje k sestavám --- v | AT4: False
D6: Stavba:
E7: ='Rekapitulace stavby'!K6 -> Hradčanský rybník, oprava rybníka
D8: Objekt:
E9: SO 06 - Biotechnická opatření podhrází
D11: KSO: | I11: CC-CZ:
D12: Místo: | I12: Datum:
D14: Zadavatel: | I14: IČ:
E15: MĚSTO RALSKA, Kuřívody 701, Ralsko, 471 24 Mimoň | I15: DIČ:
D17: Uchazeč: | I17: IČ: | J17: =IF('Rekapitulace stavby'!AN13="Vyplň údaj","",IF('Rekapitulace stavby'!AN13="","",'Rekapitulace stavby'!AN13))
E18: =IF('Rekapitulace stavby'!E14="Vyplň údaj","",IF('Rekapitulace stavby'!E14="","",'Rekapitulace stavby'!E14)) | I18: DIČ: | J18: =IF('Rekapitulace stavby'!AN14="Vyplň údaj","",IF('Rekapitulace stavby'!AN14="","",'Rekapitulace stavby'!AN14))
D20: Projektant: | I20: IČ:
E21: Vodohospodářské projekty s.r.o. | I21: DIČ:
D23: Poznámka:
E24: Výměry vycházejí z výkresových příloh C.3
D27: Cena bez DPH | J27: =ROUND(J78,2) -> 0
F29: Základ daně | I29: Sazba daně | J29: Výše daně
D30: DPH | E30: základní | F30: =ROUND(SUM(BE78:BE97), 2) -> 0 | I30: 0.21 | J30: =ROUND(ROUND((SUM(BE78:BE97)), 2)*I30, 2) -> 0
E31: snížená | F31: =ROUND(SUM(BF78:BF97), 2) -> 0 | I31: 0.15 | J31: =ROUND(ROUND((SUM(BF78:BF97)), 2)*I31, 2) -> 0
E32: zákl. přenesená | F32: =ROUND(SUM(BG78:BG97), 2) -> 0 | I32: 0.21 | J32: 0
E33: sníž. přenesená | F33: =ROUND(SUM(BH78:BH97), 2) -> 0 | I33: 0.15 | J33: 0
E34: nulová | F34: =ROUND(SUM(BI78:BI97), 2) -> 0 | I34: 0 | J34: 0
D36: Cena s DPH | G36: v | H36: CZK | J36: =SUM(J27:J34) -> 0
C42: REKAPITULACE ČLENĚNÍ SOUPISU PRACÍ
C44: Stavba:
E45: =E7 -> Hradčanský rybník, oprava rybníka
C46: Objekt:
E47: =E9 -> SO 06 - Biotechnická opatření podhrází
C49: Místo: | F49: =F12 | I49: Datum: | J49: =IF(J12="","",J12)
C51: Zadavatel: | F51: =E15 -> MĚSTO RALSKA, Kuřívody 701, Ralsko, 471 24 Mimoň | I51: Projektant:
C52: Uchazeč: | F52: =IF(E18="","",E18)
C54: Kód dílu - Popis | J54: Cena celkem [CZK]
C56: Náklady soupisu celkem | J56: =J78 -> 0 | AU56: -1
D57: HSV - Práce a dodávky HSV | J57: =J79 -> 0
D58: 1 - Zemní práce | J58: =J80 -> 0
C65: SOUPIS PRACÍ
C67: Stavba:
E68: =E7 -> Hradčanský rybník, oprava rybníka
C69: Objekt:
E70: =E9 -> SO 06 - Biotechnická opatření podhrází
C72: Místo: | F72: =F12 | I72: Datum: | J72: =IF(J12="","",J12)
C74: Zadavatel: | F74: =E15 -> MĚSTO RALSKA, Kuřívody 701, Ralsko, 471 24 Mimoň | I74: Projektant:
C75: Uchazeč: | F75: =IF(E18="","",E18)
C77: PČ | D77: Typ | E77: Kód | F77: Popis | G77: MJ | H77: Množství | I77: J.cena [CZK] | J77: Cena celkem [CZK] | K77: Cenová soustava | M77: Poznámka | N77: DPH | O77: J. Nh [h] | P77: Nh celkem [h] | Q77: J. hmotnost_x000D_ [t] | R77: Hmotnost_x000D_ celkem [t] | S77: J. suť [t] | T77: Suť Celkem [t]
C78: Náklady soupisu celkem | J78: =BK78 -> 0 | P78: =P79 -> 123.76476 | R78: =R79 -> 0 | T78: =T79 -> 0 | AT78: D | AU78: -1 | BK78: =BK79 -> 0
D79: D | E79: HSV | F79: Práce a dodávky HSV | J79: =BK79 -> 0 | P79: =P80 -> 123.76476 | R79: =R80 -> 0 | T79: =T80 -> 0 | AR79: 1 | AT79: D | AU79: 0 | AY79: ROZPOCET | BK79: =BK80 -> 0
D80: D | E80: 1 | F80: Zemní práce | J80: =BK80 -> 0 | P80: =SUM(P81:P97) -> 123.76476 | R80: =SUM(R81:R97) -> 0 | T80: =SUM(T81:T97) -> 0 | AR80: 1 | AT80: D | AU80: 1 | AY80: ROZPOCET | BK80: =SUM(BK81:BK97) -> 0
C81: 1 | D81: K | E81: 124203101 | F81: Vykopávky do 1000 m3 pro koryta vodotečí v hornině tř. 3 | G81: m3 | H81: 202.23 | J81: =ROUND(I81*H81,2) -> 0 | N81: základní | O81: 0.529 | P81: =O81*H81 -> 106.97967 | Q81: 0 | R81: =Q81*H81 -> 0 | S81: 0 | T81: =S81*H81 -> 0 | AR81: 4 | AT81: K | AU81: 2 | AY81: ROZPOCET | BE81: =IF(N81="základní",J81,0) -> 0 | BF81: =IF(N81="snížená",J81,0) -> 0 | BG81: =IF(N81="zákl. přenesená",J81,0) -> 0 | BH81: =IF(N81="sníž. přenesená",J81,0) -> 0 | BI81: =IF(N81="nulová",J81,0) -> 0 | BJ81: 1 | BK81: =ROUND(I81*H81,2) -> 0 | BL81: 4 | BM81: -1463131766
D82: PP | F82: Vykopávky pro koryta vodotečí s přehozením výkopku na vzdálenost do 3 m nebo s naložením na dopravní prostředek v hornině tř. 3 do 1 000 m3 | AT82: PP | AU82: 2
D83: PSC | F83: Poznámka k souboru cen:_x000D_ 1. Ceny lze použít i pro nezapažené odkopávky a prokopávky při úpravě území kolem vodotečí vně svislých ploch proložených projektovanými břehovými čarami souvisejí-li tyto odkopávky a prokopávky s prováděnými vykopávkami pro koryta vodotečí. 2. Ceny nelze použít pro: a) vykopávky koryt vodotečí, které jsou dle projektu pod úrovní pracovní hladiny vody; tyto zemní práce se oceňují cenami souboru cen 127 . 0-11 Vykopávky pod vodou strojně části A 01 tohoto katalogu, b) vykopávky koryt vodotečí v prostorách s rozepřeným nebo vzepřeným pažením; tyto zemní práce se oceňují cenami souboru cen 131 . 0-12 Hloubení zapažených jam a zářezů části A 01 tohoto katalogu, štětová stěna vzepřená nebo rozepřená, se z hlediska ocenění považuje za vzepřené nebo rozepřené pažení; c) vykopávky pod obrysem výkopu pro koryta vodotečí (pro opěrné zdi, patky, soustřeďovací stavby apod.); tyto zemní práce se oceňují podle své povahy cenami souboru cen 131 . 0-11 Hloubení nezapažených jam, 131 . 0-12 Hloubení zapažených jam, 132 . 0-11 Hloubení rýh do 600 mm, 132 . 0-12 Hloubení rýh do 2000 mm, 132 . 0-14 Hloubená vykopávka pod základy ručně 133 . 0- . 0 Hloubení zapažených i nezapažených šachet části A01 tohoto katalogu, d) hloubení zatrubněných nebo zastropených koryt vodotečí; tyto práce se oceňují cenami souboru cen 123 . 0-21 Vykopávky zářezů se šikmými stěnami pro podzemní vedení části A 02 3. V cenách jsou započteny náklady na svislé přemístění výkopku do 4 m. Svislé přemístění z hloubky přes 4 m se oceňuje podle projektu (rampy, přehození apod.). 4. Předepisuje-li projekt rozprostřít výkopek získaný vykopávkou pro koryta vodotečí, oceňuje se toto rozprostření cenou 171 20-1101 Uložení sypaniny do nezhutněných násypů a vodorovné přemístění výkopku cenami souboru cen 162 .0-31 Vodorovné přemístění výkopku z rýh podzemních stěn části A 01 tohoto katalogu. 5. Pro volbu ceny je rozhodující součet vykopávek pro koryta vodotečí, oceňovaných cenami tohoto souboru cen, zatrubněných koryt vodotečí, oceňovaných podle pozn. č. 2 odst. d) i zapažených vykopávek oceňovaných podle pozn. č. 2 odst. b) tohoto souboru cen. | AT83: PSC | AU83: 2
D84: VV | F84: prohloubení strouhy | AT84: VV | AU84: 2 | AV84: 1 | AW84: True | AX84: 0 | AY84: ROZPOCET
D85: VV | F85: 0,35"m2"*129"m" "plocha strouhy * délka strouhy | H85: 45.15 | AT85: VV | AU85: 2 | AV85: 2 | AW85: True | AX85: 0 | AY85: ROZPOCET
D86: VV | H86: 0 | AT86: VV | AU86: 2 | AV86: 2 | AW86: True | AX86: 0 | AY86: ROZPOCET
D87: VV | F87: prohloubení tůně | AT87: VV | AU87: 2 | AV87: 1 | AW87: True | AX87: 0 | AY87: ROZPOCET
D88: VV | F88: 56,55+100,53 | H88: 157.08 | AT88: VV | AU88: 2 | AV88: 2 | AW88: True | AX88: 0 | AY88: ROZPOCET
D89: VV | H89: 0 | AT89: VV | AU89: 2 | AV89: 2 | AW89: True | AX89: 0 | AY89: ROZPOCET
D90: VV | F90: Součet | H90: 202.23 | AT90: VV | AU90: 2 | AV90: 4 | AW90: True | AX90: 1 | AY90: ROZPOCET
C91: 2 | D91: K | E91: 16270110R | F91: Vod. přem. výkopku na skládku, včetně uložení bez poplatku dle platné legislativy | G91: m3 | H91: 202.23 | J91: =ROUND(I91*H91,2) -> 0 | K91: R-položka | N91: základní | O91: 0.083 | P91: =O91*H91 -> 16.78509 | Q91: 0 | R91: =Q91*H91 -> 0 | S91: 0 | T91: =S91*H91 -> 0 | AR91: 4 | AT91: K | AU91: 2 | AY91: ROZPOCET | BE91: =IF(N91="základní",J91,0) -> 0 | BF91: =IF(N91="snížená",J91,0) -> 0 | BG91: =IF(N91="zákl. přenesená",J91,0) -> 0 | BH91: =IF(N91="sníž. přenesená",J91,0) -> 0 | BI91: =IF(N91="nulová",J91,0) -> 0 | BJ91: 1 | BK91: =ROUND(I91*H91,2) -> 0 | BL91: 4 | BM91: 1509235798
D92: VV | F92: prohloubení strouhy | AT92: VV | AU92: 2 | AV92: 1 | AW92: True | AX92: 0 | AY92: ROZPOCET
D93: VV | F93: 0,35"m2"*129"m" "plocha strouhy * délka strouhy | H93: 45.15 | AT93: VV | AU93: 2 | AV93: 2 | AW93: True | AX93: 0 | AY93: ROZPOCET
D94: VV | H94: 0 | AT94: VV | AU94: 2 | AV94: 2 | AW94: True | AX94: 0 | AY94: ROZPOCET
D95: VV | F95: prohloubení tůně | AT95: VV | AU95: 2 | AV95: 1 | AW95: True | AX95: 0 | AY95: ROZPOCET
D96: VV | F96: 56,55+100,53 | H96: 157.08 | AT96: VV | AU96: 2 | AV96: 2 | AW96: True | AX96: 0 | AY96: ROZPOCET
D97: VV | F97: Součet | H97: 202.23 | AT97: VV | AU97: 2 | AV97: 4 | AW97: True | AX97: 1 | AY97: ROZPOCET

Sheet SO 07 - Nádrž sediment, pláž
D1: List obsahuje: | F1: 1) Krycí list soupisu | G1: 2) Rekapitulace | J1: 3) Soupis prací | K1: Zpět na list: | L1: Rekapitulace stavby
L2: >> skryté sloupce << | AT2: {f80421cd-b747-4a85-a877-f254648e77db}
AT3: 2
D4: KRYCÍ LIST SOUPISU | M4: v --- níže se nacházejí doplnkové a pomocné údaje k sestavám --- v | AT4: False
D6: Stavba:
E7: ='Rekapitulace stavby'!K6 -> Hradčanský rybník, oprava rybníka
D8: Objekt:
E9: SO 07 - Nádrž sediment, pláž
D11: KSO: | I11: CC-CZ:
D12: Místo: | I12: Datum:
D14: Zadavatel: | I14: IČ:
E15: MĚSTO RALSKA, Kuřívody 701, Ralsko, 471 24 Mimoň | I15: DIČ:
D17: Uchazeč: | I17: IČ: | J17: =IF('Rekapitulace stavby'!AN13="Vyplň údaj","",IF('Rekapitulace stavby'!AN13="","",'Rekapitulace stavby'!AN13))
E18: =IF('Rekapitulace stavby'!E14="Vyplň údaj","",IF('Rekapitulace stavby'!E14="","",'Rekapitulace stavby'!E14)) | I18: DIČ: | J18: =IF('Rekapitulace stavby'!AN14="Vyplň údaj","",IF('Rekapitulace stavby'!AN14="","",'Rekapitulace stavby'!AN14))
D20: Projektant: | I20: IČ:
I21: DIČ:
D23: Poznámka:
E24: Výměry vycházejí z výkresových příloh C.6, C.7
D27: Cena bez DPH | J27: =ROUND(J79,2) -> 0
F29: Základ daně | I29: Sazba daně | J29: Výše daně
D30: DPH | E30: základní | F30: =ROUND(SUM(BE79:BE165), 2) -> 0 | I30: 0.21 | J30: =ROUND(ROUND((SUM(BE79:BE165)), 2)*I30, 2) -> 0
E31: snížená | F31: =ROUND(SUM(BF79:BF165), 2) -> 0 | I31: 0.15 | J31: =ROUND(ROUND((SUM(BF79:BF165)), 2)*I31, 2) -> 0
E32: zákl. přenesená | F32: =ROUND(SUM(BG79:BG165), 2) -> 0 | I32: 0.21 | J32: 0
E33: sníž. přenesená | F33: =ROUND(SUM(BH79:BH165), 2) -> 0 | I33: 0.15 | J33: 0
E34: nulová | F34: =ROUND(SUM(BI79:BI165), 2) -> 0 | I34: 0 | J34: 0
D36: Cena s DPH | G36: v | H36: CZK | J36: =SUM(J27:J34) -> 0
C42: REKAPITULACE ČLENĚNÍ SOUPISU PRACÍ
C44: Stavba:
E45: =E7 -> Hradčanský rybník, oprava rybníka
C46: Objekt:
E47: =E9 -> SO 07 - Nádrž sediment, pláž
C49: Místo: | F49: =F12 | I49: Datum: | J49: =IF(J12="","",J12)
C51: Zadavatel: | F51: =E15 -> MĚSTO RALSKA, Kuřívody 701, Ralsko, 471 24 Mimoň | I51: Projektant:
C52: Uchazeč: | F52: =IF(E18="","",E18)
C54: Kód dílu - Popis | J54: Cena celkem [CZK]
C56: Náklady soupisu celkem | J56: =J79 -> 0 | AU56: -1
D57: HSV - Práce a dodávky HSV | J57: =J80 -> 0
D58: A - SEDIMENT | J58: =J81 -> 0
D59: B - PLÁŽ | J59: =J118 -> 0
C66: SOUPIS PRACÍ
C68: Stavba:
E69: =E7 -> Hradčanský rybník, oprava rybníka
C70: Objekt:
E71: =E9 -> SO 07 - Nádrž sediment, pláž
C73: Místo: | F73: =F12 | I73: Datum: | J73: =IF(J12="","",J12)
C75: Zadavatel: | F75: =E15 -> MĚSTO RALSKA, Kuřívody 701, Ralsko, 471 24 Mimoň | I75: Projektant:
C76: Uchazeč: | F76: =IF(E18="","",E18)
C78: PČ | D78: Typ | E78: Kód | F78: Popis | G78: MJ | H78: Množství | I78: J.cena [CZK] | J78: Cena celkem [CZK] | K78: Cenová soustava | M78: Poznámka | N78: DPH | O78: J. Nh [h] | P78: Nh celkem [h] | Q78: J. hmotnost_x000D_ [t] | R78: Hmotnost_x000D_ celkem [t] | S78: J. suť [t] | T78: Suť Celkem [t]
C79: Náklady soupisu celkem | J79: =BK79 -> 0 | P79: =P80 -> 18250.158 | R79: =R80 -> 0 | T79: =T80 -> 360 | AT79: D | AU79: -1 | BK79: =BK80 -> 0
D80: D | E80: HSV | F80: Práce a dodávky HSV | J80: =BK80 -> 0 | P80: =P81+P118 -> 18250.158 | R80: =R81+R118 -> 0 | T80: =T81+T118 -> 360 | AR80: 1 | AT80: D | AU80: 0 | AY80: ROZPOCET | BK80: =BK81+BK118 -> 0
D81: D | E81: A | F81: SEDIMENT | J81: =BK81 -> 0 | P81: =SUM(P82:P117) -> 16923.885 | R81: =SUM(R82:R117) -> 0 | T81: =SUM(T82:T117) -> 360 | AR81: 1 | AT81: D | AU81: 1 | AY81: ROZPOCET | BK81: =SUM(BK82:BK117) -> 0
C82: 1 | D82: K | E82: 122703601 | F82: Odstranění nánosů při únosnosti dna přes 0,15 do 40 kPa | G82: m3 | H82: 19482 | J82: =ROUND(I82*H82,2) -> 0 | N82: základní | O82: 0.234 | P82: =O82*H82 -> 4558.788 | Q82: 0 | R82: =Q82*H82 -> 0 | S82: 0 | T82: =S82*H82 -> 0 | AR82: 4 | AT82: K | AU82: 2 | AY82: ROZPOCET | BE82: =IF(N82="základní",J82,0) -> 0 | BF82: =IF(N82="snížená",J82,0) -> 0 | BG82: =IF(N82="zákl. přenesená",J82,0) -> 0 | BH82: =IF(N82="sníž. přenesená",J82,0) -> 0 | BI82: =IF(N82="nulová",J82,0) -> 0 | BJ82: 1 | BK82: =ROUND(I82*H82,2) -> 0 | BL82: 4 | BM82: -315839416
D83: PP | F83: Odstranění nánosů z vypuštěných vodních nádrží nebo rybníků s uložením do hromad na vzdálenost do 20 m ve výkopišti při únosnosti dna přes 15 kPa do 40 kPa | AT83: PP | AU83: 2
D84: PSC | F84: Poznámka k souboru cen:_x000D_ 1. Ceny nelze použít: a) pro odstraňování nánosu z nádrží se zpevněnými stěnami a dnem; b) předepisuje-li projekt ponechání části vrstvy nánosu na dně. 2. V cenách nejsou započteny náklady na provedení a udržování odvodňovacích příkopů; tyto práce, jsou-li projektem předepsány, se oceňují cenami souboru cen 125 70-33 Čištění melioračních kanálů. 3. Množství měrných jednotek se určí v m3 nánosu v rostlém stavu. 4. Vodorovné přemístění nánosu přes 20 m těžními stroji, které vyvozují malý specifický tlak na nános se oceňuje cenami souboru cen 162 25-3 . Vodorovné přemístění nánosu z vodních nádrží nebo rybníků. | AT84: PSC | AU84: 2
D85: VV | F85: odstranění sedimentů, viz tabulka 1_07 | AT85: VV | AU85: 2 | AV85: 1 | AW85: True | AX85: 0 | AY85: ROZPOCET
D86: VV | F86: 19482"m3" | H86: 19482 | AT86: VV | AU86: 2 | AV86: 2 | AW86: True | AX86: 0 | AY86: ROZPOCET
D87: VV | F87: Součet | H87: 19482 | AT87: VV | AU87: 2 | AV87: 4 | AW87: True | AX87: 1 | AY87: ROZPOCET
C88: 2 | D88: K | E88: 162601101 | F88: Vodorovné přemístění do 4000 m výkopku/sypaniny z horniny tř. 1 až 4 | G88: m3 | H88: 18554.286 | J88: =ROUND(I88*H88,2) -> 0 | N88: základní | O88: 0.058 | P88: =O88*H88 -> 1076.1486 | Q88: 0 | R88: =Q88*H88 -> 0 | S88: 0 | T88: =S88*H88 -> 0 | AR88: 4 | AT88: K | AU88: 2 | AY88: ROZPOCET | BE88: =IF(N88="základní",J88,0) -> 0 | BF88: =IF(N88="snížená",J88,0) -> 0 | BG88: =IF(N88="zákl. přenesená",J88,0) -> 0 | BH88: =IF(N88="sníž. přenesená",J88,0) -> 0 | BI88: =IF(N88="nulová",J88,0) -> 0 | BJ88: 1 | BK88: =ROUND(I88*H88,2) -> 0 | BL88: 4 | BM88: -1725132005
D89: PP | F89: Vodorovné přemístění výkopku nebo sypaniny po suchu na obvyklém dopravním prostředku, bez naložení výkopku, avšak se složením bez rozhrnutí z horniny tř. 1 až 4 na vzdálenost přes 3 000 do 4 000 m | AT89: PP | AU89: 2
D90: PSC | F90: Poznámka k souboru cen:_x000D_ 1. Ceny nelze použít, předepisuje-li projekt přemístit výkopek na místo nepřístupné obvyklým dopravním prostředkům; toto přemístění se oceňuje individuálně. 2. V cenách jsou započteny i náhrady za jízdu loženého vozidla v terénu ve výkopišti nebo na násypišti. 3. V cenách nejsou započteny náklady na rozhrnutí výkopku na násypišti; toto rozhrnutí se oceňuje cenami souboru cen 171 . 0- . . Uložení sypaniny do násypů a 171 20-1201Uložení sypaniny na skládky. 4. Je-li na dopravní dráze pro vodorovné přemístění nějaká překážka, pro kterou je nutno překládat výkopek z jednoho obvyklého dopravního prostředku na jiný obvyklý dopravní prostředek, oceňuje se toto lomené vodorovné přemístění výkopku v každém úseku samostatně příslušnou cenou tohoto souboru cen a překládání výkopku cenami souboru cen 167 10-3 . Nakládání neulehlého výkopku z hromad s ohledem na ustanovení pozn. číslo 5. 5. Přemísťuje-li se výkopek z dočasných skládek vzdálených do 50 m, neoceňuje se nakládání výkopku, i když se provádí. Toto ustanovení neplatí, vylučuje-li projekt použití dozeru. 6. V cenách vodorovného přemístění sypaniny nejsou započteny náklady na dodávku materiálu, tyto se oceňují ve specifikaci. | AT90: PSC | AU90: 2
D91: VV | F91: vod. přem. sedimentů na mezideponii, výkres C.6 | AT91: VV | AU91: 2 | AV91: 1 | AW91: True | AX91: 0 | AY91: ROZPOCET
D92: VV | F92: 19482"m3"/1,05 | H92: 18554.286 | AT92: VV | AU92: 2 | AV92: 2 | AW92: True | AX92: 0 | AY92: ROZPOCET
D93: VV | F93: Součet | H93: 18554.286 | AT93: VV | AU93: 2 | AV93: 4 | AW93: True | AX93: 1 | AY93: ROZPOCET
C94: 3 | D94: K | E94: 166101101 | F94: Přehození neulehlého výkopku z horniny tř. 1 až 4 | G94: m3 | H94: 28000 | J94: =ROUND(I94*H94,2) -> 0 | N94: základní | O94: 0.31 | P94: =O94*H94 -> 8680 | Q94: 0 | R94: =Q94*H94 -> 0 | S94: 0 | T94: =S94*H94 -> 0 | AR94: 4 | AT94: K | AU94: 2 | AY94: ROZPOCET | BE94: =IF(N94="základní",J94,0) -> 0 | BF94: =IF(N94="snížená",J94,0) -> 0 | BG94: =IF(N94="zákl. přenesená",J94,0) -> 0 | BH94: =IF(N94="sníž. přenesená",J94,0) -> 0 | BI94: =IF(N94="nulová",J94,0) -> 0 | BJ94: 1 | BK94: =ROUND(I94*H94,2) -> 0 | BL94: 4 | BM94: -334682880
D95: PP | F95: Přehození neulehlého výkopku z horniny tř. 1 až 4 | AT95: PP | AU95: 2
D96: VV | F96: vícenásobné přehození sedimentu (4x) | AT96: VV | AU96: 2 | AV96: 1 | AW96: True | AX96: 0 | AY96: ROZPOCET
D97: VV | F97: 7000"m3"*4 | H97: 28000 | AT97: VV | AU97: 2 | AV97: 2 | AW97: True | AX97: 0 | AY97: ROZPOCET
D98: VV | F98: Součet | H98: 28000 | AT98: VV | AU98: 2 | AV98: 4 | AW98: True | AX98: 1 | AY98: ROZPOCET
C99: 4 | D99: K | E99: 167101102 | F99: Nakládání výkopku z hornin tř. 1 až 4 přes 100 m3 | G99: m3 | H99: 18554.286 | J99: =ROUND(I99*H99,2) -> 0 | N99: základní | O99: 0.097 | P99: =O99*H99 -> 1799.7657 | Q99: 0 | R99: =Q99*H99 -> 0 | S99: 0 | T99: =S99*H99 -> 0 | AR99: 4 | AT99: K | AU99: 2 | AY99: ROZPOCET | BE99: =IF(N99="základní",J99,0) -> 0 | BF99: =IF(N99="snížená",J99,0) -> 0 | BG99: =IF(N99="zákl. přenesená",J99,0) -> 0 | BH99: =IF(N99="sníž. přenesená",J99,0) -> 0 | BI99: =IF(N99="nulová",J99,0) -> 0 | BJ99: 1 | BK99: =ROUND(I99*H99,2) -> 0 | BL99: 4 | BM99: 1931195901
D100: PP | F100: Nakládání, skládání a překládání neulehlého výkopku nebo sypaniny nakládání, množství přes 100 m3, z hornin tř. 1 až 4 | AT100: PP | AU100: 2
D101: PSC | F101: Poznámka k souboru cen:_x000D_ 1. Ceny -1101, -1151, -1102, -1152, -1103, -1153, jsou určeny pro nakládání, skládání a překládání na obvyklý nebo z obvyklého dopravního prostředku. Pro nakládání z lodi nebo na loď jsou určeny ceny -1105 a -1155. 2. Ceny -1105 a -1155 jsou určeny pro nakládání, překládání a vykládání na vzdálenost a) do 20 m vodorovně; vodorovná vzdálenost se měří od těžnice lodi k těžnici druhé lodi, nebo k těžišti hromady na břehu nebo k těžišti dopravního prostředku na suchu, b) do 4 m svisle; svislá vzdálenost se měří od pracovní hladiny vody k úrovni srovna- ného terénu v místě hromady nebo v místě dopravní plochy pro dopravní prostředek na suchu. Uvedenou svislou vzdálenost 4 m lze zvětšit, a to nejvýše do 6 m, jestliže je vodorovná vzdálenost uvedená v bodu a) kratší než 20 m nejméně o trojnásobek zvětšení výšky přes 4 m. 3. Množství měrných jednotek se určí v rostlém stavu horniny. | AT101: PSC | AU101: 2
D102: VV | F102: naložení sedimentů v ploše rybníka | AT102: VV | AU102: 2 | AV102: 1 | AW102: True | AX102: 0 | AY102: ROZPOCET
D103: VV | F103: 19482"m3"/1,05"koeficient zvodnění" "sediment bude odvodněn jen částečně | H103: 18554.286 | AT103: VV | AU103: 2 | AV103: 2 | AW103: True | AX103: 0 | AY103: ROZPOCET
D104: VV | F104: Součet | H104: 18554.286 | AT104: VV | AU104: 2 | AV104: 4 | AW104: True | AX104: 1 | AY104: ROZPOCET
C105: 5 | D105: K | E105: 171201101 | F105: Uložení sypaniny do násypů nezhutněných | G105: m3 | H105: 18554.29 | J105: =ROUND(I105*H105,2) -> 0 | N105: základní | O105: 0.031 | P105: =O105*H105 -> 575.18299 | Q105: 0 | R105: =Q105*H105 -> 0 | S105: 0 | T105: =S105*H105 -> 0 | AR105: 4 | AT105: K | AU105: 2 | AY105: ROZPOCET | BE105: =IF(N105="základní",J105,0) -> 0 | BF105: =IF(N105="snížená",J105,0) -> 0 | BG105: =IF(N105="zákl. přenesená",J105,0) -> 0 | BH105: =IF(N105="sníž. přenesená",J105,0) -> 0 | BI105: =IF(N105="nulová",J105,0) -> 0 | BJ105: 1 | BK105: =ROUND(I105*H105,2) -> 0 | BL105: 4 | BM105: 528821119
D106: PP | F106: Uložení sypaniny do násypů s rozprostřením sypaniny ve vrstvách a s hrubým urovnáním nezhutněných z jakýchkoliv hornin | AT106: PP | AU106: 2
D107: PSC | F107: Poznámka k souboru cen:_x000D_ 1. Ceny lze použít i pro sypaniny odebírané z hald, pro hlušinu apod. 2. Cenu 20-1101 lze použít i pro: a) rozprostření zbylého výkopu na místě po zásypu jam a rýh pro podzemní vedení a zářezů pro podzemní vedení; toto množství se určí v m3 uloženého výkopku, měřeného v rostlém stavu, b) uložení výkopku do násypů pod vodou. 3. Ceny lze použít i pro uložení sypaniny s předepsaným zhutněním na trvalé skládky, do koryt vodotečí a do prohlubní terénu. 4. Cenu 10-1131 lze použít i pro ukládání sypaniny z hornin nesoudržných i soudržných společně bez možnosti jejich roztřídění. 5. Ceny -1121 a -1131 lze použít jen tehdy, jestliže objem násypů, oceňovaných těmito cenami, měřený podle ustanovení čl. 3571 Všeobecných podmínek katalogu nepřesáhne 100 000 m3na objektu. Násypy, jejichž součet objemů přesáhne 100 000 m3 na objektu, se ocení individuálně. 6. Ceny jsou určeny pro míru zhutnění určenou projektem: a) pro ceny -1101 až -1105 v % výsledku zkoušky PS, b) pro ceny -1111 a -1112 relativní ulehlostí I(d), c) pro ceny -1121 a -1131 stanovením technologie. 7. Ceny nelze použít: a) pro uložení sypaniny do hrází; uložení netříděné sypaniny do hrází se oceňuje cenami souboru cen 171 uložení netříděných sypanin do hrází části A 03, případně cenovými normativy podle části A 31, b) pro uložení sypaniny do ochranných valů nebo těch jejich částí, jejichž šířka je menší než 3 m. Toto uložení se oceňuje cenami souboru cen 175 10-11 Obsyp objektů. 8. Cena 20-1101 neplatí pro uložení výkopku nebo ornice při vykopávkách pro podzemní vedení podél hrany výkopu, z něhož byl výkopek získán a to ani tehdy, jestliže se výkopek po vyhození z výkopiště na povrch území ještě dále přemísťuje na hromady . podél výkopu. 9. Horninami soudržnými se rozumějí takové horniny, u nichž zdrojem pevnosti jsou molekulární a chemické vazby mezi částicemi horniny. Jde o horniny, které jsou schopny plastických deformací. 10. Horninami nesoudržnými se rozumějí horniny, u nichž hlavním zdrojem pevnosti ve smyku je pouze tření mezi jednotlivými oddělenými pevnými částicemi horniny. 11. Horninami sypkými se rozumějí horniny III. skupiny podle ČSN 72 1002 se zrnem do 125 mm. Množství zrn velikosti přes 125 mm může být nejvýše 5 % objemu. 12. Horninami kamenitými se rozumějí nestmelené úlomkovité horniny skalní a sypké se zrny přes 125 mm. Množství zrn velikosti přes 125 mm musí být vyšší než 5 % objemu. 13. Ceny pro uložení soudržných hornin lze použít, jestliže jejich přirozená vlhkost při ukládání do násypu není vyšší než 2 % optimální vlhkosti dle zkoušky PS na neredukovaný materiál. Je-li vlhkost při ukládání sypaniny do násypu vyšší, ocení se uložení sypaniny individuálně. 14. Zajišťuje-li se předepsané zhutnění násypu přesypáním podle čl. 120 ČSN 73 3050, ocení se odstranění přesypané části cenami 122 . 0-71 Odkopávky nebo prokopávky při pozemkových úpravách | AT107: PSC | AU107: 2
D108: VV | F108: srovnání sedimentu do figur na mezideponii | AT108: VV | AU108: 2 | AV108: 1 | AW108: True | AX108: 0 | AY108: ROZPOCET
D109: VV | F109: 18554,29"m3" | H109: 18554.29 | AT109: VV | AU109: 2 | AV109: 2 | AW109: True | AX109: 0 | AY109: ROZPOCET
D110: VV | F110: Součet | H110: 18554.29 | AT110: VV | AU110: 2 | AV110: 4 | AW110: True | AX110: 1 | AY110: ROZPOCET
C111: 6 | D111: K | E111: 938908411 | F111: Čištění vozovek splachováním vodou | G111: m2 | H111: 18000 | J111: =ROUND(I111*H111,2) -> 0 | N111: základní | O111: 0.013 | P111: =O111*H111 -> 234 | Q111: 0 | R111: =Q111*H111 -> 0 | S111: 0.02 | T111: =S111*H111 -> 360 | AR111: 4 | AT111: K | AU111: 2 | AY111: ROZPOCET | BE111: =IF(N111="základní",J111,0) -> 0 | BF111: =IF(N111="snížená",J111,0) -> 0 | BG111: =IF(N111="zákl. přenesená",J111,0) -> 0 | BH111: =IF(N111="sníž. přenesená",J111,0) -> 0 | BI111: =IF(N111="nulová",J111,0) -> 0 | BJ111: 1 | BK111: =ROUND(I111*H111,2) -> 0 | BL111: 4 | BM111: -1153657650
D112: PP | F112: Čištění vozovek splachováním vodou povrchu podkladu nebo krytu živičného, betonového nebo dlážděného | AT112: PP | AU112: 2
D113: PSC | F113: Poznámka k souboru cen:_x000D_ 1. Ceny jsou určeny pro očištění: a) povrchu stávající vozovky, b) povrchu rozestavěné trvalé vozovky, předepíše-li projekt užívat nově zřizovanou vozovku po dobu výstavby ještě před zřízením konečného závěrečného krytu. 2. V cenách nejsou započteny náklady na vodorovnou dopravu odstraněného materiálu, která se oceňuje cenami souboru cen 997 22-15 Vodorovná doprava suti. | AT113: PSC | AU113: 2
D114: VV | F114: ČIŠTĚNÍ VOZOVKY PO TRASE ODVOZU SEDIMENTU | AT114: VV | AU114: 2 | AV114: 1 | AW114: True | AX114: 0 | AY114: ROZPOCET
D115: VV | F115: trasa pro čištění 4 km - šířka vozovky 4,5 m | AT115: VV | AU115: 2 | AV115: 1 | AW115: True | AX115: 0 | AY115: ROZPOCET
D116: VV | F116: 4000"m"*4,5"m" | H116: 18000 | AT116: VV | AU116: 2 | AV116: 2 | AW116: True | AX116: 0 | AY116: ROZPOCET
D117: VV | F117: Součet | H117: 18000 | AT117: VV | AU117: 2 | AV117: 4 | AW117: True | AX117: 1 | AY117: ROZPOCET
D118: D | E118: B | F118: PLÁŽ | J118: =BK118 -> 0 | P118: =SUM(P119:P165) -> 1326.2731 | R118: =SUM(R119:R165) -> 0 | T118: =SUM(T119:T165) -> 0 | AR118: 1 | AT118: D | AU118: 1 | AY118: ROZPOCET | BK118: =SUM(BK119:BK165) -> 0
C119: 7 | D119: K | E119: 122101103 | F119: Odkopávky a prokopávky nezapažené v hornině tř. 1 a 2 objem do 5000 m3 | G119: m3 | H119: 1396.4 | J119: =ROUND(I119*H119,2) -> 0 | N119: základní | O119: 0.078 | P119: =O119*H119 -> 108.9192 | Q119: 0 | R119: =Q119*H119 -> 0 | S119: 0 | T119: =S119*H119 -> 0 | AR119: 4 | AT119: K | AU119: 2 | AY119: ROZPOCET | BE119: =IF(N119="základní",J119,0) -> 0 | BF119: =IF(N119="snížená",J119,0) -> 0 | BG119: =IF(N119="zákl. přenesená",J119,0) -> 0 | BH119: =IF(N119="sníž. přenesená",J119,0) -> 0 | BI119: =IF(N119="nulová",J119,0) -> 0 | BJ119: 1 | BK119: =ROUND(I119*H119,2) -> 0 | BL119: 4 | BM119: 895124197
D120: PP | F120: Odkopávky a prokopávky nezapažené s přehozením výkopku na vzdálenost do 3 m nebo s naložením na dopravní prostředek v horninách tř. 1 a 2 přes 1 000 do 5 000 m3 | AT120: PP | AU120: 2
D121: PSC | F121: Poznámka k souboru cen:_x000D_ 1. Odkopávky a prokopávky v roubených prostorech se oceňují podle čl. 3116 Všeobecných podmínek tohoto katalogu. 2. Odkopávky a prokopávky ve stržích při lesnicko-technických melioracích (LTM) se oceňují cenami do 100 m3 pro jakýkoliv skutečný objem výkopu; ostatní odkopávky a prokopávky při LTM se oceňují při jakémkoliv objemu výkopu přes 100 m3 cenami přes 100 do 1 000 m3. 3. Ceny lze použít i pro vykopávky odpadových jam. 4. Ceny lze použít i pro sejmutí podorničí. Přitom se přihlíží k ustanovení čl. 3112 Všeobecných podmínek tohoto katalogu. | AT121: PSC | AU121: 2
D122: VV | F122: odkopávka písku | AT122: VV | AU122: 2 | AV122: 1 | AW122: True | AX122: 0 | AY122: ROZPOCET
D123: VV | F123: 2700"m2"*0,5"m" "písek do hloubky tl. 0,5 m | H123: 1350 | AT123: VV | AU123: 2 | AV123: 2 | AW123: True | AX123: 0 | AY123: ROZPOCET
D124: VV | F124: 232"m2"*0,2"m" "pod hladinou tl. 0,2 m | H124: 46.4 | AT124: VV | AU124: 2 | AV124: 2 | AW124: True | AX124: 0 | AY124: ROZPOCET
D125: VV | F125: Součet | H125: 1396.4 | AT125: VV | AU125: 2 | AV125: 4 | AW125: True | AX125: 1 | AY125: ROZPOCET
C126: 8 | D126: K | E126: 162301101 | F126: Vodorovné přemístění do 500 m výkopku/sypaniny z horniny tř. 1 až 4 | G126: m3 | H126: 217.88 | J126: =ROUND(I126*H126,2) -> 0 | N126: základní | O126: 0.044 | P126: =O126*H126 -> 9.58672 | Q126: 0 | R126: =Q126*H126 -> 0 | S126: 0 | T126: =S126*H126 -> 0 | AR126: 4 | AT126: K | AU126: 2 | AY126: ROZPOCET | BE126: =IF(N126="základní",J126,0) -> 0 | BF126: =IF(N126="snížená",J126,0) -> 0 | BG126: =IF(N126="zákl. přenesená",J126,0) -> 0 | BH126: =IF(N126="sníž. přenesená",J126,0) -> 0 | BI126: =IF(N126="nulová",J126,0) -> 0 | BJ126: 1 | BK126: =ROUND(I126*H126,2) -> 0 | BL126: 4 | BM126: 1084996230
D127: PP | F127: Vodorovné přemístění výkopku nebo sypaniny po suchu na obvyklém dopravním prostředku, bez naložení výkopku, avšak se složením bez rozhrnutí z horniny tř. 1 až 4 na vzdálenost přes 50 do 500 m | AT127: PP | AU127: 2
D128: PSC | F128: Poznámka k souboru cen:_x000D_ 1. Ceny nelze použít, předepisuje-li projekt přemístit výkopek na místo nepřístupné obvyklým dopravním prostředkům; toto přemístění se oceňuje individuálně. 2. V cenách jsou započteny i náhrady za jízdu loženého vozidla v terénu ve výkopišti nebo na násypišti. 3. V cenách nejsou započteny náklady na rozhrnutí výkopku na násypišti; toto rozhrnutí se oceňuje cenami souboru cen 171 . 0- . . Uložení sypaniny do násypů a 171 20-1201Uložení sypaniny na skládky. 4. Je-li na dopravní dráze pro vodorovné přemístění nějaká překážka, pro kterou je nutno překládat výkopek z jednoho obvyklého dopravního prostředku na jiný obvyklý dopravní prostředek, oceňuje se toto lomené vodorovné přemístění výkopku v každém úseku samostatně příslušnou cenou tohoto souboru cen a překládání výkopku cenami souboru cen 167 10-3 . Nakládání neulehlého výkopku z hromad s ohledem na ustanovení pozn. číslo 5. 5. Přemísťuje-li se výkopek z dočasných skládek vzdálených do 50 m, neoceňuje se nakládání výkopku, i když se provádí. Toto ustanovení neplatí, vylučuje-li projekt použití dozeru. 6. V cenách vodorovného přemístění sypaniny nejsou započteny náklady na dodávku materiálu, tyto se oceňují ve specifikaci. | AT128: PSC | AU128: 2
D129: VV | F129: vod. přem. na mezideponii - písek do podsypu pod chodník v SO 03 | AT129: VV | AU129: 2 | AV129: 1 | AW129: True | AX129: 0 | AY129: ROZPOCET
D130: VV | F130: 183,92"m3" | H130: 183.92 | AT130: VV | AU130: 2 | AV130: 2 | AW130: True | AX130: 0 | AY130: ROZPOCET
...

Sheet SO 08 - Bourací práce
D1: List obsahuje: | F1: 1) Krycí list soupisu | G1: 2) Rekapitulace | J1: 3) Soupis prací | K1: Zpět na list: | L1: Rekapitulace stavby
L2: >> skryté sloupce << | AT2: {14dee07d-c9dd-49ce-8283-72b3842d8abe}
AT3: 2
D4: KRYCÍ LIST SOUPISU | M4: v --- níže se nacházejí doplnkové a pomocné údaje k sestavám --- v | AT4: False
D6: Stavba:
E7: ='Rekapitulace stavby'!K6 -> Hradčanský rybník, oprava rybníka
D8: Objekt:
E9: SO 08 - Bourací práce
D11: KSO: | I11: CC-CZ:
D12: Místo: | I12: Datum:
D14: Zadavatel: | I14: IČ:
E15: MĚSTO RALSKA, Kuřívody 701, Ralsko, 471 24 Mimoň | I15: DIČ:
D17: Uchazeč: | I17: IČ: | J17: =IF('Rekapitulace stavby'!AN13="Vyplň údaj","",IF('Rekapitulace stavby'!AN13="","",'Rekapitulace stavby'!AN13))
E18: =IF('Rekapitulace stavby'!E14="Vyplň údaj","",IF('Rekapitulace stavby'!E14="","",'Rekapitulace stavby'!E14)) | I18: DIČ: | J18: =IF('Rekapitulace stavby'!AN14="Vyplň údaj","",IF('Rekapitulace stavby'!AN14="","",'Rekapitulace stavby'!AN14))
D20: Projektant: | I20: IČ:
I21: DIČ:
D23: Poznámka:
D27: Cena bez DPH | J27: =ROUND(J83,2) -> 0
F29: Základ daně | I29: Sazba daně | J29: Výše daně
D30: DPH | E30: základní | F30: =ROUND(SUM(BE83:BE169), 2) -> 0 | I30: 0.21 | J30: =ROUND(ROUND((SUM(BE83:BE169)), 2)*I30, 2) -> 0
E31: snížená | F31: =ROUND(SUM(BF83:BF169), 2) -> 0 | I31: 0.15 | J31: =ROUND(ROUND((SUM(BF83:BF169)), 2)*I31, 2) -> 0
E32: zákl. přenesená | F32: =ROUND(SUM(BG83:BG169), 2) -> 0 | I32: 0.21 | J32: 0
E33: sníž. přenesená | F33: =ROUND(SUM(BH83:BH169), 2) -> 0 | I33: 0.15 | J33: 0
E34: nulová | F34: =ROUND(SUM(BI83:BI169), 2) -> 0 | I34: 0 | J34: 0
D36: Cena s DPH | G36: v | H36: CZK | J36: =SUM(J27:J34) -> 0
C42: REKAPITULACE ČLENĚNÍ SOUPISU PRACÍ
C44: Stavba:
E45: =E7 -> Hradčanský rybník, oprava rybníka
C46: Objekt:
E47: =E9 -> SO 08 - Bourací práce
C49: Místo: | F49: =F12 | I49: Datum: | J49: =IF(J12="","",J12)
C51: Zadavatel: | F51: =E15 -> MĚSTO RALSKA, Kuřívody 701, Ralsko, 471 24 Mimoň | I51: Projektant:
C52: Uchazeč: | F52: =IF(E18="","",E18)
C54: Kód dílu - Popis | J54: Cena celkem [CZK]
C56: Náklady soupisu celkem | J56: =J83 -> 0 | AU56: -1
D57: HSV - Práce a dodávky HSV | J57: =J84 -> 0
D58: 1 - Zemní práce | J58: =J85 -> 0
D59: 3 - Svislé a kompletní konstrukce | J59: =J107 -> 0
D60: 9 - Ostatní konstrukce a práce, bourání | J60: =J116 -> 0
D61: 96 - Bourání konstrukcí | J61: =J150 -> 0
D62: 997 - Přesun sutě | J62: =J160 -> 0
D63: 998 - Přesun hmot | J63: =J167 -> 0
C70: SOUPIS PRACÍ
C72: Stavba:
E73: =E7 -> Hradčanský rybník, oprava rybníka
C74: Objekt:
E75: =E9 -> SO 08 - Bourací práce
C77: Místo: | F77: =F12 | I77: Datum: | J77: =IF(J12="","",J12)
C79: Zadavatel: | F79: =E15 -> MĚSTO RALSKA, Kuřívody 701, Ralsko, 471 24 Mimoň | I79: Projektant:
C80: Uchazeč: | F80: =IF(E18="","",E18)
C82: PČ | D82: Typ | E82: Kód | F82: Popis | G82: MJ | H82: Množství | I82: J.cena [CZK] | J82: Cena celkem [CZK] | K82: Cenová soustava | M82: Poznámka | N82: DPH | O82: J. Nh [h] | P82: Nh celkem [h] | Q82: J. hmotnost_x000D_ [t] | R82: Hmotnost_x000D_ celkem [t] | S82: J. suť [t] | T82: Suť Celkem [t]
C83: Náklady soupisu celkem | J83: =BK83 -> 0 | P83: =P84 -> 2292.2805 | R83: =R84 -> 6.061824 | T83: =T84 -> 445.30304 | AT83: D | AU83: -1 | BK83: =BK84 -> 0
D84: D | E84: HSV | F84: Práce a dodávky HSV | J84: =BK84 -> 0 | P84: =P85+P107+P116+P160+P167 -> 2292.2805 | R84: =R85+R107+R116+R160+R167 -> 6.061824 | T84: =T85+T107+T116+T160+T167 -> 445.30304 | AR84: 1 | AT84: D | AU84: 0 | AY84: ROZPOCET | BK84: =BK85+BK107+BK116+BK160+BK167 -> 0
D85: D | E85: 1 | F85: Zemní práce | J85: =BK85 -> 0 | P85: =SUM(P86:P106) -> 120.30967 | R85: =SUM(R86:R106) -> 0 | T85: =SUM(T86:T106) -> 1.93648 | AR85: 1 | AT85: D | AU85: 1 | AY85: ROZPOCET | BK85: =SUM(BK86:BK106) -> 0
C86: 1 | D86: K | E86: 114203103 | F86: Rozebrání dlažeb z lomového kamene nebo betonových tvárnic do cementové malty | G86: m3 | H86: 0.784 | J86: =ROUND(I86*H86,2) -> 0 | N86: základní | O86: 3.925 | P86: =O86*H86 -> 3.0772 | Q86: 0 | R86: =Q86*H86 -> 0 | S86: 2.47 | T86: =S86*H86 -> 1.93648 | AR86: 4 | AT86: K | AU86: 2 | AY86: ROZPOCET | BE86: =IF(N86="základní",J86,0) -> 0 | BF86: =IF(N86="snížená",J86,0) -> 0 | BG86: =IF(N86="zákl. přenesená",J86,0) -> 0 | BH86: =IF(N86="sníž. přenesená",J86,0) -> 0 | BI86: =IF(N86="nulová",J86,0) -> 0 | BJ86: 1 | BK86: =ROUND(I86*H86,2) -> 0 | BL86: 4 | BM86: -600662511
D87: PP | F87: Rozebrání dlažeb nebo záhozů s naložením na dopravní prostředek dlažeb z lomového kamene nebo betonových tvárnic do cementové malty se spárami zalitými cementovou maltou | AT87: PP | AU87: 2
D88: VV | F88: Přelivná hrana z kamenné dlažby délka 2,15 m | AT88: VV | AU88: 2 | AV88: 1 | AW88: True | AX88: 0 | AY88: ROZPOCET
D89: VV | F89: 0,56"m2"*1,4 | H89: 0.784 | AT89: VV | AU89: 2 | AV89: 2 | AW89: True | AX89: 1 | AY89: ROZPOCET
C90: 2 | D90: K | E90: 13130R | F90: Odstranění jílové těsnění u přelivu MVE plocha | G90: m3 | H90: 28 | J90: =ROUND(I90*H90,2) -> 0 | K90: R-položka | N90: základní | O90: 3.925 | P90: =O90*H90 -> 109.9 | Q90: 0 | R90: =Q90*H90 -> 0 | S90: 0 | T90: =S90*H90 -> 0 | AR90: 4 | AT90: K | AU90: 2 | AY90: ROZPOCET | BE90: =IF(N90="základní",J90,0) -> 0 | BF90: =IF(N90="snížená",J90,0) -> 0 | BG90: =IF(N90="zákl. přenesená",J90,0) -> 0 | BH90: =IF(N90="sníž. přenesená",J90,0) -> 0 | BI90: =IF(N90="nulová",J90,0) -> 0 | BJ90: 1 | BK90: =ROUND(I90*H90,2) -> 0 | BL90: 4 | BM90: -2098751996
D91: VV | F91: jílové těsnění u přelivu MVE plocha 4 m2* 7 m délka | AT91: VV | AU91: 2 | AV91: 1 | AW91: True | AX91: 0 | AY91: ROZPOCET
D92: VV | F92: 4 "m2"* 7 "m" | H92: 28 | AT92: VV | AU92: 2 | AV92: 2 | AW92: True | AX92: 0 | AY92: ROZPOCET
D93: VV | F93: Součet | H93: 28 | AT93: VV | AU93: 2 | AV93: 4 | AW93: True | AX93: 1 | AY93: ROZPOCET
C94: 3 | D94: K | E94: 16270110R | F94: Vod. přem. výkopku na skládku, včetně uložení bez poplatku dle platné legislativy | G94: m3 | H94: 28 | J94: =ROUND(I94*H94,2) -> 0 | K94: R-položka | N94: základní | O94: 0.083 | P94: =O94*H94 -> 2.324 | Q94: 0 | R94: =Q94*H94 -> 0 | S94: 0 | T94: =S94*H94 -> 0 | AR94: 4 | AT94: K | AU94: 2 | AY94: ROZPOCET | BE94: =IF(N94="základní",J94,0) -> 0 | BF94: =IF(N94="snížená",J94,0) -> 0 | BG94: =IF(N94="zákl. přenesená",J94,0) -> 0 | BH94: =IF(N94="sníž. přenesená",J94,0) -> 0 | BI94: =IF(N94="nulová",J94,0) -> 0 | BJ94: 1 | BK94: =ROUND(I94*H94,2) -> 0 | BL94: 4 | BM94: -615731192
D95: VV | F95: jílové těsnění | AT95: VV | AU95: 2 | AV95: 1 | AW95: True | AX95: 0 | AY95: ROZPOCET
D96: VV | F96: 28 | H96: 28 | AT96: VV | AU96: 2 | AV96: 2 | AW96: True | AX96: 0 | AY96: ROZPOCET
D97: VV | F97: Součet | H97: 28 | AT97: VV | AU97: 2 | AV97: 4 | AW97: True | AX97: 1 | AY97: ROZPOCET
C98: 4 | D98: K | E98: 17410R | F98: Zaplavení popílkovým stabilizátem | G98: m3 | H98: 60.343 | J98: =ROUND(I98*H98,2) -> 0 | K98: R-položka | N98: základní | O98: 0.083 | P98: =O98*H98 -> 5.008469 | Q98: 0 | R98: =Q98*H98 -> 0 | S98: 0 | T98: =S98*H98 -> 0 | AR98: 4 | AT98: K | AU98: 2 | AY98: ROZPOCET | BE98: =IF(N98="základní",J98,0) -> 0 | BF98: =IF(N98="snížená",J98,0) -> 0 | BG98: =IF(N98="zákl. přenesená",J98,0) -> 0 | BH98: =IF(N98="sníž. přenesená",J98,0) -> 0 | BI98: =IF(N98="nulová",J98,0) -> 0 | BJ98: 1 | BK98: =ROUND(I98*H98,2) -> 0 | BL98: 4 | BM98: -1301795574
D99: VV | F99: Zaplavení mezikruží DN 800 a DN 500 popílkovým stabilizátem | AT99: VV | AU99: 2 | AV99: 1 | AW99: True | AX99: 0 | AY99: ROZPOCET
D100: VV | F100: (3,14*0,2*0,2*26)-(3,14*0,08*0,08*26) | H100: 2.743 | AT100: VV | AU100: 2 | AV100: 2 | AW100: True | AX100: 0 | AY100: ROZPOCET
D101: VV | H101: 0 | AT101: VV | AU101: 2 | AV101: 2 | AW101: True | AX101: 0 | AY101: ROZPOCET
D102: VV | F102: Klenutý propustek z kamene šířka=1,2m, výšky 1=m budevyplněn popílkovým stabilizátem | AT102: VV | AU102: 2 | AV102: 1 | AW102: True | AX102: 0 | AY102: ROZPOCET
D103: VV | F103: 1,2*2*12 | H103: 28.8 | AT103: VV | AU103: 2 | AV103: 2 | AW103: True | AX103: 0 | AY103: ROZPOCET
D104: VV | F104: Klenutý propustek z kamene šířka=1,2m, výšky 1=m budevyplněn popílkovým stabilizátem | AT104: VV | AU104: 2 | AV104: 1 | AW104: True | AX104: 0 | AY104: ROZPOCET
D105: VV | F105: 1,2*2*12 | H105: 28.8 | AT105: VV | AU105: 2 | AV105: 2 | AW105: True | AX105: 0 | AY105: ROZPOCET
D106: VV | F106: Součet | H106: 60.343 | AT106: VV | AU106: 2 | AV106: 4 | AW106: True | AX106: 1 | AY106: ROZPOCET
D107: D | E107: 3 | F107: Svislé a kompletní konstrukce | J107: =BK107 -> 0 | P107: =SUM(P108:P115) -> 0.23904 | R107: =SUM(R108:R115) -> 6.061824 | T107: =SUM(T108:T115) -> 0 | AR107: 1 | AT107: D | AU107: 1 | AY107: ROZPOCET | BK107: =SUM(BK108:BK115) -> 0
C108: 5 | D108: K | E108: 312R.1 | F108: Zazdění otvoru z tvárnic tl 0,3 m, montáž a dodávka | G108: m3 | H108: 2.88 | J108: =ROUND(I108*H108,2) -> 0 | K108: R-položka | N108: základní | O108: 0.083 | P108: =O108*H108 -> 0.23904 | Q108: 2.1048 | R108: =Q108*H108 -> 6.061824 | S108: 0 | T108: =S108*H108 -> 0 | AR108: 4 | AT108: K | AU108: 2 | AY108: ROZPOCET | BE108: =IF(N108="základní",J108,0) -> 0 | BF108: =IF(N108="snížená",J108,0) -> 0 | BG108: =IF(N108="zákl. přenesená",J108,0) -> 0 | BH108: =IF(N108="sníž. přenesená",J108,0) -> 0 | BI108: =IF(N108="nulová",J108,0) -> 0 | BJ108: 1 | BK108: =ROUND(I108*H108,2) -> 0 | BL108: 4 | BM108: 1467587674
D109: VV | F109: Klenutý propustek šířka=1,2m, výšky 1=m- zazdění | AT109: VV | AU109: 2 | AV109: 1 | AW109: True | AX109: 0 | AY109: ROZPOCET
D110: VV | F110: 1,2"m2"*0,3*2 | H110: 0.72 | AT110: VV | AU110: 2 | AV110: 2 | AW110: True | AX110: 0 | AY110: ROZPOCET
D111: VV | F111: Klenutý propustek šířka=1,2m, výšky 1=m- zazdění | AT111: VV | AU111: 2 | AV111: 1 | AW111: True | AX111: 0 | AY111: ROZPOCET
D112: VV | F112: 1,2"m2"*0,3*2 | H112: 0.72 | AT112: VV | AU112: 2 | AV112: 2 | AW112: True | AX112: 0 | AY112: ROZPOCET
D113: VV | F113: zazdění otvoru z tvárnic tl 0,3m plocha 1,2 x 1,0 m *2 * 2 propustky | AT113: VV | AU113: 2 | AV113: 1 | AW113: True | AX113: 0 | AY113: ROZPOCET
D114: VV | F114: 1,2*1*2*2*0,3 | H114: 1.44 | AT114: VV | AU114: 2 | AV114: 2 | AW114: True | AX114: 0 | AY114: ROZPOCET
D115: VV | F115: Součet | H115: 2.88 | AT115: VV | AU115: 2 | AV115: 4 | AW115: True | AX115: 1 | AY115: ROZPOCET
D116: D | E116: 9 | F116: Ostatní konstrukce a práce, bourání | J116: =BK116 -> 0 | P116: =P117+SUM(P118:P150) -> 2114.0201 | R116: =R117+SUM(R118:R150) -> 0 | T116: =T117+SUM(T118:T150) -> 443.36656 | AR116: 1 | AT116: D | AU116: 1 | AY116: ROZPOCET | BK116: =BK117+SUM(BK118:BK150) -> 0
C117: 6 | D117: K | E117: 961055111 | F117: Bourání základů ze ŽB | G117: m3 | H117: 119.373 | J117: =ROUND(I117*H117,2) -> 0 | N117: základní | O117: 13.301 | P117: =O117*H117 -> 1587.7803 | Q117: 0 | R117: =Q117*H117 -> 0 | S117: 2.4 | T117: =S117*H117 -> 286.4952 | AR117: 4 | AT117: K | AU117: 2 | AY117: ROZPOCET | BE117: =IF(N117="základní",J117,0) -> 0 | BF117: =IF(N117="snížená",J117,0) -> 0 | BG117: =IF(N117="zákl. přenesená",J117,0) -> 0 | BH117: =IF(N117="sníž. přenesená",J117,0) -> 0 | BI117: =IF(N117="nulová",J117,0) -> 0 | BJ117: 1 | BK117: =ROUND(I117*H117,2) -> 0 | BL117: 4 | BM117: 2146883731
D118: PP | F118: Bourání základů z betonu železového | AT118: PP | AU118: 2
D119: VV | F119: Betonová kce přelivu - plocha zdí 8,4, výška 3,5 m | AT119: VV | AU119: 2 | AV119: 1 | AW119: True | AX119: 0 | AY119: ROZPOCET
D120: VV | F120: 8,4"m2"*3,5 | H120: 29.4 | AT120: VV | AU120: 2 | AV120: 2 | AW120: True | AX120: 0 | AY120: ROZPOCET
D121: VV | F121: Svislý betonový stupěň výšky 2,4m, š=1,85, tl=0,5m | AT121: VV | AU121: 2 | AV121: 1 | AW121: True | AX121: 0 | AY121: ROZPOCET
D122: VV | F122: 2,4*1,85*0,5 | H122: 2.22 | AT122: VV | AU122: 2 | AV122: 2 | AW122: True | AX122: 0 | AY122: ROZPOCET
D123: VV | F123: Betonové schodiště délka 1,6 m, výška 3 m | AT123: VV | AU123: 2 | AV123: 1 | AW123: True | AX123: 0 | AY123: ROZPOCET
D124: VV | F124: 15*1,4*0,3*0,3 | H124: 1.89 | AT124: VV | AU124: 2 | AV124: 2 | AW124: True | AX124: 0 | AY124: ROZPOCET
D125: VV | F125: Betonový objekt loviště dno - šířka ve dně 1,5m, tl. zdí=0,3 m, délka 9,85, zdi 2 +čela | AT125: VV | AU125: 2 | AV125: 1 | AW125: True | AX125: 0 | AY125: ROZPOCET
D126: VV | F126: 9,85*1,5*3+2*9,85-2,04*0,3+13,22*1,4+0,82*0,5+0,5*1,5*0,7 | H126: 82.856 | AT126: VV | AU126: 2 | AV126: 2 | AW126: True | AX126: 0 | AY126: ROZPOCET
D127: VV | F127: Betonový objekt lovistě zpevněný odtok délka, šířka, hloubka | AT127: VV | AU127: 2 | AV127: 1 | AW127: True | AX127: 0 | AY127: ROZPOCET
D128: VV | F128: 5,22*0,8*1,4*0,3+5,22*0,8*0,3 | H128: 3.007 | AT128: VV | AU128: 2 | AV128: 2 | AW128: True | AX128: 0 | AY128: ROZPOCET
D129: VV | F129: Součet | H129: 119.373 | AT129: VV | AU129: 2 | AV129: 4 | AW129: True | AX129: 1 | AY129: ROZPOCET
C130: 7 | D130: K | E130: 962052211 | F130: Bourání zdiva nadzákladového ze ŽB přes 1 m3 | G130: m3 | H130: 52.878 | J130: =ROUND(I130*H130,2) -> 0 | N130: základní | O130: 8.5 | P130: =O130*H130 -> 449.463 | Q130: 0 | R130: =Q130*H130 -> 0 | S130: 2.4 | T130: =S130*H130 -> 126.9072 | AR130: 4 | AT130: K | AU130: 2 | AY130: ROZPOCET | BE130: =IF(N130="základní",J130,0) -> 0 | BF130: =IF(N130="snížená",J130,0) -> 0 | BG130: =IF(N130="zákl. přenesená",J130,0) -> 0 | BH130: =IF(N130="sníž. přenesená",J130,0) -> 0 | BI130: =IF(N130="nulová",J130,0) -> 0 | BJ130: 1 | BK130: =ROUND(I130*H130,2) -> 0 | BL130: 4 | BM130: -196279254
D131: PP | F131: Bourání zdiva železobetonového nadzákladového, objemu přes 1 m3 | AT131: PP | AU131: 2
...

Sheet VON - Vedlejší a ostatní ...
D1: List obsahuje: | F1: 1) Krycí list soupisu | G1: 2) Rekapitulace | J1: 3) Soupis prací | K1: Zpět na list: | L1: Rekapitulace stavby
L2: >> skryté sloupce << | AT2: {2103ddbf-7014-47d8-ad23-ad283dbae7d4}
AT3: 2
D4: KRYCÍ LIST SOUPISU | M4: v --- níže se nacházejí doplnkové a pomocné údaje k sestavám --- v | AT4: False
D6: Stavba:
E7: ='Rekapitulace stavby'!K6 -> Hradčanský rybník, oprava rybníka
D8: Objekt:
E9: VON - Vedlejší a ostatní náklady
D11: KSO: | I11: CC-CZ:
D12: Místo: | I12: Datum:
D14: Zadavatel: | I14: IČ:
E15: MĚSTO RALSKA, Kuřívody 701, Ralsko, 471 24 Mimoň | I15: DIČ:
D17: Uchazeč: | I17: IČ: | J17: =IF('Rekapitulace stavby'!AN13="Vyplň údaj","",IF('Rekapitulace stavby'!AN13="","",'Rekapitulace stavby'!AN13))
E18: =IF('Rekapitulace stavby'!E14="Vyplň údaj","",IF('Rekapitulace stavby'!E14="","",'Rekapitulace stavby'!E14)) | I18: DIČ: | J18: =IF('Rekapitulace stavby'!AN14="Vyplň údaj","",IF('Rekapitulace stavby'!AN14="","",'Rekapitulace stavby'!AN14))
D20: Projektant: | I20: IČ:
I21: DIČ:
D23: Poznámka:
D27: Cena bez DPH | J27: =ROUND(J81,2) -> 0
F29: Základ daně | I29: Sazba daně | J29: Výše daně
D30: DPH | E30: základní | F30: =ROUND(SUM(BE81:BE111), 2) -> 0 | I30: 0.21 | J30: =ROUND(ROUND((SUM(BE81:BE111)), 2)*I30, 2) -> 0
E31: snížená | F31: =ROUND(SUM(BF81:BF111), 2) -> 0 | I31: 0.15 | J31: =ROUND(ROUND((SUM(BF81:BF111)), 2)*I31, 2) -> 0
E32: zákl. přenesená | F32: =ROUND(SUM(BG81:BG111), 2) -> 0 | I32: 0.21 | J32: 0
E33: sníž. přenesená | F33: =ROUND(SUM(BH81:BH111), 2) -> 0 | I33: 0.15 | J33: 0
E34: nulová | F34: =ROUND(SUM(BI81:BI111), 2) -> 0 | I34: 0 | J34: 0
D36: Cena s DPH | G36: v | H36: CZK | J36: =SUM(J27:J34) -> 0
C42: REKAPITULACE ČLENĚNÍ SOUPISU PRACÍ
C44: Stavba:
E45: =E7 -> Hradčanský rybník, oprava rybníka
C46: Objekt:
E47: =E9 -> VON - Vedlejší a ostatní náklady
C49: Místo: | F49: =F12 | I49: Datum: | J49: =IF(J12="","",J12)
C51: Zadavatel: | F51: =E15 -> MĚSTO RALSKA, Kuřívody 701, Ralsko, 471 24 Mimoň | I51: Projektant:
C52: Uchazeč: | F52: =IF(E18="","",E18)
C54: Kód dílu - Popis | J54: Cena celkem [CZK]
C56: Náklady soupisu celkem | J56: =J81 -> 0 | AU56: -1
D57: VRN - Vedlejší rozpočtové náklady | J57: =J82 -> 0
D58: VRN1 - Průzkumné, geodetické a projektové práce | J58: =J83 -> 0
D59: VRN2 - Příprava staveniště | J59: =J91 -> 0
D60: VRN3 - Zařízení staveniště | J60: =J93 -> 0
D61: VRN5 - Finanční náklady | J61: =J110 -> 0
C68: SOUPIS PRACÍ
C70: Stavba:
E71: =E7 -> Hradčanský rybník, oprava rybníka
C72: Objekt:
E73: =E9 -> VON - Vedlejší a ostatní náklady
C75: Místo: | F75: =F12 | I75: Datum: | J75: =IF(J12="","",J12)
C77: Zadavatel: | F77: =E15 -> MĚSTO RALSKA, Kuřívody 701, Ralsko, 471 24 Mimoň | I77: Projektant:
C78: Uchazeč: | F78: =IF(E18="","",E18)
C80: PČ | D80: Typ | E80: Kód | F80: Popis | G80: MJ | H80: Množství | I80: J.cena [CZK] | J80: Cena celkem [CZK] | K80: Cenová soustava | M80: Poznámka | N80: DPH | O80: J. Nh [h] | P80: Nh celkem [h] | Q80: J. hmotnost_x000D_ [t] | R80: Hmotnost_x000D_ celkem [t] | S80: J. suť [t] | T80: Suť Celkem [t]
C81: Náklady soupisu celkem | J81: =BK81 -> 0 | P81: =P82 -> 0 | R81: =R82 -> 0 | T81: =T82 -> 0 | AT81: D | AU81: -1 | BK81: =BK82 -> 0
D82: D | E82: VRN | F82: Vedlejší rozpočtové náklady | J82: =BK82 -> 0 | P82: =P83+P91+P93+P110 -> 0 | R82: =R83+R91+R93+R110 -> 0 | T82: =T83+T91+T93+T110 -> 0 | AR82: 5 | AT82: D | AU82: 0 | AY82: ROZPOCET | BK82: =BK83+BK91+BK93+BK110 -> 0
D83: D | E83: VRN1 | F83: Průzkumné, geodetické a projektové práce | J83: =BK83 -> 0 | P83: =SUM(P84:P90) -> 0 | R83: =SUM(R84:R90) -> 0 | T83: =SUM(T84:T90) -> 0 | AR83: 5 | AT83: D | AU83: 1 | AY83: ROZPOCET | BK83: =SUM(BK84:BK90) -> 0
C84: 1 | D84: K | E84: 01110300R | F84: Geotechnik - základová spára | G84: kpl | H84: 1 | J84: =ROUND(I84*H84,2) -> 0 | N84: základní | O84: 0 | P84: =O84*H84 -> 0 | Q84: 0 | R84: =Q84*H84 -> 0 | S84: 0 | T84: =S84*H84 -> 0 | AR84: 1024 | AT84: K | AU84: 2 | AY84: ROZPOCET | BE84: =IF(N84="základní",J84,0) -> 0 | BF84: =IF(N84="snížená",J84,0) -> 0 | BG84: =IF(N84="zákl. přenesená",J84,0) -> 0 | BH84: =IF(N84="sníž. přenesená",J84,0) -> 0 | BI84: =IF(N84="nulová",J84,0) -> 0 | BJ84: 1 | BK84: =ROUND(I84*H84,2) -> 0 | BL84: 1024 | BM84: 1143964568
C85: 2 | D85: K | E85: 01110301R | F85: Zajištění průzkumu objektů MVE - doporučený způsob odstranění | G85: hod | H85: 92 | J85: =ROUND(I85*H85,2) -> 0 | N85: základní | O85: 0 | P85: =O85*H85 -> 0 | Q85: 0 | R85: =Q85*H85 -> 0 | S85: 0 | T85: =S85*H85 -> 0 | AR85: 1024 | AT85: K | AU85: 2 | AY85: ROZPOCET | BE85: =IF(N85="základní",J85,0) -> 0 | BF85: =IF(N85="snížená",J85,0) -> 0 | BG85: =IF(N85="zákl. přenesená",J85,0) -> 0 | BH85: =IF(N85="sníž. přenesená",J85,0) -> 0 | BI85: =IF(N85="nulová",J85,0) -> 0 | BJ85: 1 | BK85: =ROUND(I85*H85,2) -> 0 | BL85: 1024 | BM85: -550316937
C86: 3 | D86: K | E86: 011314000 | F86: Archeologický dohled | G86: kpl | H86: 1 | J86: =ROUND(I86*H86,2) -> 0 | N86: základní | O86: 0 | P86: =O86*H86 -> 0 | Q86: 0 | R86: =Q86*H86 -> 0 | S86: 0 | T86: =S86*H86 -> 0 | AR86: 1024 | AT86: K | AU86: 2 | AY86: ROZPOCET | BE86: =IF(N86="základní",J86,0) -> 0 | BF86: =IF(N86="snížená",J86,0) -> 0 | BG86: =IF(N86="zákl. přenesená",J86,0) -> 0 | BH86: =IF(N86="sníž. přenesená",J86,0) -> 0 | BI86: =IF(N86="nulová",J86,0) -> 0 | BJ86: 1 | BK86: =ROUND(I86*H86,2) -> 0 | BL86: 1024 | BM86: -1924012295
C87: 4 | D87: K | E87: 011514000 | F87: Statické posouzení stávajícího mostku před stavbou a po ní | G87: kpl | H87: 1 | J87: =ROUND(I87*H87,2) -> 0 | N87: základní | O87: 0 | P87: =O87*H87 -> 0 | Q87: 0 | R87: =Q87*H87 -> 0 | S87: 0 | T87: =S87*H87 -> 0 | AR87: 1024 | AT87: K | AU87: 2 | AY87: ROZPOCET | BE87: =IF(N87="základní",J87,0) -> 0 | BF87: =IF(N87="snížená",J87,0) -> 0 | BG87: =IF(N87="zákl. přenesená",J87,0) -> 0 | BH87: =IF(N87="sníž. přenesená",J87,0) -> 0 | BI87: =IF(N87="nulová",J87,0) -> 0 | BJ87: 1 | BK87: =ROUND(I87*H87,2) -> 0 | BL87: 1024 | BM87: -2115594906
C88: 5 | D88: K | E88: 012103000 | F88: Geodetické zaměření skuteč stavu | G88: m | H88: 800 | J88: =ROUND(I88*H88,2) -> 0 | N88: základní | O88: 0 | P88: =O88*H88 -> 0 | Q88: 0 | R88: =Q88*H88 -> 0 | S88: 0 | T88: =S88*H88 -> 0 | AR88: 1024 | AT88: K | AU88: 2 | AY88: ROZPOCET | BE88: =IF(N88="základní",J88,0) -> 0 | BF88: =IF(N88="snížená",J88,0) -> 0 | BG88: =IF(N88="zákl. přenesená",J88,0) -> 0 | BH88: =IF(N88="sníž. přenesená",J88,0) -> 0 | BI88: =IF(N88="nulová",J88,0) -> 0 | BJ88: 1 | BK88: =ROUND(I88*H88,2) -> 0 | BL88: 1024 | BM88: -2101293292
C89: 6 | D89: K | E89: 01210300R | F89: Vytýčení stavby | G89: bod | H89: 150 | J89: =ROUND(I89*H89,2) -> 0 | N89: základní | O89: 0 | P89: =O89*H89 -> 0 | Q89: 0 | R89: =Q89*H89 -> 0 | S89: 0 | T89: =S89*H89 -> 0 | AR89: 1024 | AT89: K | AU89: 2 | AY89: ROZPOCET | BE89: =IF(N89="základní",J89,0) -> 0 | BF89: =IF(N89="snížená",J89,0) -> 0 | BG89: =IF(N89="zákl. přenesená",J89,0) -> 0 | BH89: =IF(N89="sníž. přenesená",J89,0) -> 0 | BI89: =IF(N89="nulová",J89,0) -> 0 | BJ89: 1 | BK89: =ROUND(I89*H89,2) -> 0 | BL89: 1024 | BM89: -1102037129
C90: 7 | D90: K | E90: 01320300R | F90: Dokumentace dílenská | G90: kpl | H90: 1 | J90: =ROUND(I90*H90,2) -> 0 | N90: základní | O90: 0 | P90: =O90*H90 -> 0 | Q90: 0 | R90: =Q90*H90 -> 0 | S90: 0 | T90: =S90*H90 -> 0 | AR90: 1024 | AT90: K | AU90: 2 | AY90: ROZPOCET | BE90: =IF(N90="základní",J90,0) -> 0 | BF90: =IF(N90="snížená",J90,0) -> 0 | BG90: =IF(N90="zákl. přenesená",J90,0) -> 0 | BH90: =IF(N90="sníž. přenesená",J90,0) -> 0 | BI90: =IF(N90="nulová",J90,0) -> 0 | BJ90: 1 | BK90: =ROUND(I90*H90,2) -> 0 | BL90: 1024 | BM90: -123852604
D91: D | E91: VRN2 | F91: Příprava staveniště | J91: =BK91 -> 0 | P91: =P92 -> 0 | R91: =R92 -> 0 | T91: =T92 -> 0 | AR91: 5 | AT91: D | AU91: 1 | AY91: ROZPOCET | BK91: =BK92 -> 0
C92: 8 | D92: K | E92: 02120300R | F92: Biologický dohled, posouzení a transfer škeble | G92: kpl | H92: 1 | J92: =ROUND(I92*H92,2) -> 0 | N92: základní | O92: 0 | P92: =O92*H92 -> 0 | Q92: 0 | R92: =Q92*H92 -> 0 | S92: 0 | T92: =S92*H92 -> 0 | AR92: 1024 | AT92: K | AU92: 2 | AY92: ROZPOCET | BE92: =IF(N92="základní",J92,0) -> 0 | BF92: =IF(N92="snížená",J92,0) -> 0 | BG92: =IF(N92="zákl. přenesená",J92,0) -> 0 | BH92: =IF(N92="sníž. přenesená",J92,0) -> 0 | BI92: =IF(N92="nulová",J92,0) -> 0 | BJ92: 1 | BK92: =ROUND(I92*H92,2) -> 0 | BL92: 1024 | BM92: 1940023215
D93: D | E93: VRN3 | F93: Zařízení staveniště | J93: =BK93 -> 0 | P93: =SUM(P94:P109) -> 0 | R93: =SUM(R94:R109) -> 0 | T93: =SUM(T94:T109) -> 0 | AR93: 5 | AT93: D | AU93: 1 | AY93: ROZPOCET | BK93: =SUM(BK94:BK109) -> 0
C94: 9 | D94: K | E94: 03210300R | F94: Náklady na stavební buňky, elektřinu, WC atd. | G94: kpl | H94: 1 | J94: =ROUND(I94*H94,2) -> 0 | N94: základní | O94: 0 | P94: =O94*H94 -> 0 | Q94: 0 | R94: =Q94*H94 -> 0 | S94: 0 | T94: =S94*H94 -> 0 | AR94: 1024 | AT94: K | AU94: 2 | AY94: ROZPOCET | BE94: =IF(N94="základní",J94,0) -> 0 | BF94: =IF(N94="snížená",J94,0) -> 0 | BG94: =IF(N94="zákl. přenesená",J94,0) -> 0 | BH94: =IF(N94="sníž. přenesená",J94,0) -> 0 | BI94: =IF(N94="nulová",J94,0) -> 0 | BJ94: 1 | BK94: =ROUND(I94*H94,2) -> 0 | BL94: 1024 | BM94: 227905120
D95: PP | F95: Zařízení staveniště vybavení staveniště náklady na stavební buňky, elektřinu, WC atd. | AT95: PP | AU95: 2
C96: 10 | D96: K | E96: 03210301R | F96: Mobilní kancelář pro investora se základním vybavením | G96: kpl | H96: 1 | J96: =ROUND(I96*H96,2) -> 0 | N96: základní | O96: 0 | P96: =O96*H96 -> 0 | Q96: 0 | R96: =Q96*H96 -> 0 | S96: 0 | T96: =S96*H96 -> 0 | AR96: 1024 | AT96: K | AU96: 2 | AY96: ROZPOCET | BE96: =IF(N96="základní",J96,0) -> 0 | BF96: =IF(N96="snížená",J96,0) -> 0 | BG96: =IF(N96="zákl. přenesená",J96,0) -> 0 | BH96: =IF(N96="sníž. přenesená",J96,0) -> 0 | BI96: =IF(N96="nulová",J96,0) -> 0 | BJ96: 1 | BK96: =ROUND(I96*H96,2) -> 0 | BL96: 1024 | BM96: -603945397
D97: PP | F97: Mobilní kancelář pro investora se základním vybavením - stůl, 8 x židle, police, skříň, el. zásuvka, teplomet | AT97: PP | AU97: 2
C98: 11 | D98: K | E98: 032403000 | F98: Příjezdové plochy v podhrází | G98: kpl | H98: 1 | J98: =ROUND(I98*H98,2) -> 0 | N98: základní | O98: 0 | P98: =O98*H98 -> 0 | Q98: 0 | R98: =Q98*H98 -> 0 | S98: 0 | T98: =S98*H98 -> 0 | AR98: 1024 | AT98: K | AU98: 2 | AY98: ROZPOCET | BE98: =IF(N98="základní",J98,0) -> 0 | BF98: =IF(N98="snížená",J98,0) -> 0 | BG98: =IF(N98="zákl. přenesená",J98,0) -> 0 | BH98: =IF(N98="sníž. přenesená",J98,0) -> 0 | BI98: =IF(N98="nulová",J98,0) -> 0 | BJ98: 1 | BK98: =ROUND(I98*H98,2) -> 0 | BL98: 1024 | BM98: 1893090781
D99: P | F99: Poznámka k položce: plocha 120 m2 - odstranění ornice, geotextilie, štěrk 32*63, tam a zpět | AT99: P | AU99: 2
C100: 12 | D100: K | E100: 03240300R | F100: Objízdná trasa pro nákladní dopravu | G100: kpl | H100: 1 | J100: =ROUND(I100*H100,2) -> 0 | N100: základní | O100: 0 | P100: =O100*H100 -> 0 | Q100: 0 | R100: =Q100*H100 -> 0 | S100: 0 | T100: =S100*H100 -> 0 | AR100: 1024 | AT100: K | AU100: 2 | AY100: ROZPOCET | BE100: =IF(N100="základní",J100,0) -> 0 | BF100: =IF(N100="snížená",J100,0) -> 0 | BG100: =IF(N100="zákl. přenesená",J100,0) -> 0 | BH100: =IF(N100="sníž. přenesená",J100,0) -> 0 | BI100: =IF(N100="nulová",J100,0) -> 0 | BJ100: 1 | BK100: =ROUND(I100*H100,2) -> 0 | BL100: 1024 | BM100: -332325
D101: PP | F101: Objízdná trasa pro nákladní dopravu - zajistí zhotovitel včetně projektu a projednání v aktuálním čase | AT101: PP | AU101: 2
C102: 13 | D102: K | E102: 03240301R | F102: Provizorní panelový sjezd | G102: kpl | H102: 1 | J102: =ROUND(I102*H102,2) -> 0 | N102: základní | O102: 0 | P102: =O102*H102 -> 0 | Q102: 0 | R102: =Q102*H102 -> 0 | S102: 0 | T102: =S102*H102 -> 0 | AR102: 1024 | AT102: K | AU102: 2 | AY102: ROZPOCET | BE102: =IF(N102="základní",J102,0) -> 0 | BF102: =IF(N102="snížená",J102,0) -> 0 | BG102: =IF(N102="zákl. přenesená",J102,0) -> 0 | BH102: =IF(N102="sníž. přenesená",J102,0) -> 0 | BI102: =IF(N102="nulová",J102,0) -> 0 | BJ102: 1 | BK102: =ROUND(I102*H102,2) -> 0 | BL102: 1024 | BM102: -2100774473
D103: PP | F103: Provizorní panelový sjezd z pláže do rybníka (šířky 3 m, délka 130 m) s obracištěm v rybníku o ploše 180 m2 (20x9 m) | AT103: PP | AU103: 2
C104: 14 | D104: K | E104: 034103000 | F104: Oplocení staveniště | G104: kpl | H104: 1 | J104: =ROUND(I104*H104,2) -> 0 | N104: základní | O104: 0 | P104: =O104*H104 -> 0 | Q104: 0 | R104: =Q104*H104 -> 0 | S104: 0 | T104: =S104*H104 -> 0 | AR104: 1024 | AT104: K | AU104: 2 | AY104: ROZPOCET | BE104: =IF(N104="základní",J104,0) -> 0 | BF104: =IF(N104="snížená",J104,0) -> 0 | BG104: =IF(N104="zákl. přenesená",J104,0) -> 0 | BH104: =IF(N104="sníž. přenesená",J104,0) -> 0 | BI104: =IF(N104="nulová",J104,0) -> 0 | BJ104: 1 | BK104: =ROUND(I104*H104,2) -> 0 | BL104: 1024 | BM104: 1964959196
D105: PP | F105: Zařízení staveniště zabezpečení staveniště oplocení staveniště | AT105: PP | AU105: 2
C106: 15 | D106: K | E106: 034403000 | F106: Dopravní značení v obci, pronájem semaforů | G106: kpl | H106: 1 | J106: =ROUND(I106*H106,2) -> 0 | N106: základní | O106: 0 | P106: =O106*H106 -> 0 | Q106: 0 | R106: =Q106*H106 -> 0 | S106: 0 | T106: =S106*H106 -> 0 | AR106: 1024 | AT106: K | AU106: 2 | AY106: ROZPOCET | BE106: =IF(N106="základní",J106,0) -> 0 | BF106: =IF(N106="snížená",J106,0) -> 0 | BG106: =IF(N106="zákl. přenesená",J106,0) -> 0 | BH106: =IF(N106="sníž. přenesená",J106,0) -> 0 | BI106: =IF(N106="nulová",J106,0) -> 0 | BJ106: 1 | BK106: =ROUND(I106*H106,2) -> 0 | BL106: 1024 | BM106: 1122665966
D107: P | F107: Poznámka k položce: viz příloha C.5 | AT107: P | AU107: 2
C108: 16 | D108: K | E108: 03450300R.1 | F108: Bilboard | G108: kus | H108: 1 | J108: =ROUND(I108*H108,2) -> 0 | N108: základní | O108: 0 | P108: =O108*H108 -> 0 | Q108: 0 | R108: =Q108*H108 -> 0 | S108: 0 | T108: =S108*H108 -> 0 | AR108: 1024 | AT108: K | AU108: 2 | AY108: ROZPOCET | BE108: =IF(N108="základní",J108,0) -> 0 | BF108: =IF(N108="snížená",J108,0) -> 0 | BG108: =IF(N108="zákl. přenesená",J108,0) -> 0 | BH108: =IF(N108="sníž. přenesená",J108,0) -> 0 | BI108: =IF(N108="nulová",J108,0) -> 0 | BJ108: 1 | BK108: =ROUND(I108*H108,2) -> 0 | BL108: 1024 | BM108: -1741299365
C109: 17 | D109: K | E109: 03450300R.2 | F109: Pamětní deska | G109: kus | H109: 1 | J109: =ROUND(I109*H109,2) -> 0 | N109: základní | O109: 0 | P109: =O109*H109 -> 0 | Q109: 0 | R109: =Q109*H109 -> 0 | S109: 0 | T109: =S109*H109 -> 0 | AR109: 1024 | AT109: K | AU109: 2 | AY109: ROZPOCET | BE109: =IF(N109="základní",J109,0) -> 0 | BF109: =IF(N109="snížená",J109,0) -> 0 | BG109: =IF(N109="zákl. přenesená",J109,0) -> 0 | BH109: =IF(N109="sníž. přenesená",J109,0) -> 0 | BI109: =IF(N109="nulová",J109,0) -> 0 | BJ109: 1 | BK109: =ROUND(I109*H109,2) -> 0 | BL109: 1024 | BM109: -530697364
D110: D | E110: VRN5 | F110: Finanční náklady | J110: =BK110 -> 0 | P110: =P111 -> 0 | R110: =R111 -> 0 | T110: =T111 -> 0 | AR110: 5 | AT110: D | AU110: 1 | AY110: ROZPOCET | BK110: =BK111 -> 0
C111: 18 | D111: K | E111: 05200200R | F111: Rezerva na neočekávané změny založení objektu a likvidace stávajících objektů | G111: kpl | H111: 1 | J111: =ROUND(I111*H111,2) -> 0 | N111: základní | O111: 0 | P111: =O111*H111 -> 0 | Q111: 0 | R111: =Q111*H111 -> 0 | S111: 0 | T111: =S111*H111 -> 0 | AR111: 1024 | AT111: K | AU111: 2 | AY111: ROZPOCET | BE111: =IF(N111="základní",J111,0) -> 0 | BF111: =IF(N111="snížená",J111,0) -> 0 | BG111: =IF(N111="zákl. přenesená",J111,0) -> 0 | BH111: =IF(N111="sníž. přenesená",J111,0) -> 0 | BI111: =IF(N111="nulová",J111,0) -> 0 | BJ111: 1 | BK111: =ROUND(I111*H111,2) -> 0 | BL111: 1024 | BM111: 1600532670

Sheet Pokyny pro vyplnění
C3: Struktura údajů, formát souboru a metodika pro zpracování
C4: Struktura
C6: Soubor je složen ze záložky Rekapitulace stavby a záložek s názvem soupisu prací pro jednotlivé objekty ve formátu XLSX. Každá ze záložek přitom obsahuje
C7: ještě samostatné sestavy vymezené orámovaním a nadpisem sestavy.
C9: Rekapitulace stavby obsahuje sestavu Rekapitulace stavby a Rekapitulace objektů stavby a soupisů prací.
D10: V sestavě Rekapitulace stavby jsou uvedeny informace identifikující předmět veřejné zakázky na stavební práce, KSO, CC-CZ, CZ-CPV, CZ-CPA a rekapitulaci
D11: celkové nabídkové ceny uchazeče.
D13: V sestavě Rekapitulace objektů stavby a soupisů prací je uvedena rekapitulace stavebních objektů, inženýrských objektů, provozních souborů,
D14: vedlejších a ostatních nákladů a ostatních nákladů s rekapitulací nabídkové ceny za jednotlivé soupisy prací. Na základě údaje Typ je možné
D15: identifikovat, zda se jedná o objekt nebo soupis prací pro daný objekt:
E16: STA | F16: Stavební objekt pozemní
E17: ING | F17: Stavební objekt inženýrský
E18: PRO | F18: Provozní soubor
E19: VON | F19: Vedlejší a ostatní náklady
E20: OST | F20: Ostatní
E21: Soupis | F21: Soupis prací pro daný typ objektu
C23: Soupis prací pro jednotlivé objekty obsahuje sestavy Krycí list soupisu, Rekapitulace členění soupisu prací, Soupis prací. Za soupis prací může být považován
C24: i objekt stavby v případě, že neobsahuje podřízenou zakázku.
D25: Krycí list soupisu obsahuje rekapitulaci informací o předmětu veřejné zakázky ze sestavy Rekapitulace stavby, informaci o zařazení objektu do KSO,
D26: CC-CZ, CZ-CPV, CZ-CPA a rekapitulaci celkové nabídkové ceny uchazeče za aktuální soupis prací.
D28: Rekapitulace členění soupisu prací obsahuje rekapitulaci soupisu prací ve všech úrovních členění soupisu tak, jak byla tato členění použita (např.
D29: stavební díly, funkční díly, případně jiné členění) s rekapitulací nabídkové ceny.
D31: Soupis prací obsahuje položky veškerých stavebních nebo montážních prací, dodávek materiálů a služeb nezbytných pro zhotovení stavebního objektu,
D32: inženýrského objektu, provozního souboru, vedlejších a ostatních nákladů.
D33: Pro položky soupisu prací se zobrazují následující informace:
E34: PČ | G34: Pořadové číslo položky v aktuálním soupisu
E35: TYP | G35: Typ položky: K - konstrukce, M - materiál, PP - plný popis, PSC - poznámka k souboru cen, P - poznámka k položce, VV - výkaz výměr
E36: Kód | G36: Kód položky
E37: Popis | G37: Zkrácený popis položky
E38: MJ | G38: Měrná jednotka položky
E39: Množství | G39: Množství v měrné jednotce
E40: J.cena | G40: Jednotková cena položky. Zadaní může obsahovat namísto J.ceny sloupce J.materiál a J.montáž, jejichž součet definuje
G41: J.cenu položky.
E42: Cena celkem | G42: Celková cena položky daná jako součin množství a j.ceny
E43: Cenová soustava | G43: Příslušnost položky do cenové soustavy
D45: Ke každé položce soupisu prací se na samostatných řádcích může zobrazovat:
E46: Plný popis položky
E47: Poznámka k souboru cen a poznámka zadavatele
E48: Výkaz výměr
D49: Pokud je k řádku výkazu výměr evidovaný údaj ve sloupci Kód, jedná se o definovaný odkaz, na který se může odvolávat výkaz výměr z jiné položky.
C50: Metodika pro zpracování
C52: Jednotlivé sestavy jsou v souboru provázány. Editovatelné pole jsou zvýrazněny žlutým podbarvením, ostatní pole neslouží k editaci a nesmí být jakkoliv
C53: modifikovány.
C55: Uchazeč je pro podání nabídky povinen vyplnit žlutě podbarvená pole:
D56: Pole Uchazeč v sestavě Rekapitulace stavby - zde uchazeč vyplní svůj název (název subjektu)
D57: Pole IČ a DIČ v sestavě Rekapitulace stavby - zde uchazeč vyplní svoje IČ a DIČ
D58: Datum v sestavě Rekapitulace stavby - zde uchazeč vyplní datum vytvoření nabídky
D59: J.cena = jednotková cena v sestavě Soupis prací o maximálním počtu desetinných míst uvedených v poli
D60: - pokud sestavy soupisů prací obsahují pole J.cena, musí být všechna tato pole vyplněna nenulovými kladnými číslicemi
D61: Poznámka - nepovinný údaj pro položku soupisu
D63: V případě, že sestavy soupisů prací neobsahují pole J.cena, potom ve všech soupisech prací obsahují pole:
D64: - J.materiál - jednotková cena materiálu
D65: - J.montáž - jednotková cena montáže
D66: Uchazeč je v tomto případě povinen vyplnit všechna pole J.materiál a pole J.montáž nenulovými kladnými číslicemi. V případech, kdy položka
D67: neobsahuje žádný materiál je přípustné, aby pole J.materiál bylo vyplněno nulou. V případech, kdy položka neobsahuje žádnou montáž je přípustné,
D68: aby pole J.montáž bylo vyplněno nulou. Není však přípustné, aby obě pole - J.materiál, J.Montáž byly u jedné položky vyplněny nulou.
C73: Rekapitulace stavby
C74: Název | F74: Povinný | H74: Popis | I74: Typ | J74: Max. počet
C75: atributu | F75: (A/N) | J75: znaků
C77: Kód | F77: A | H77: Kód stavby | I77: String | J77: 20
C78: Stavba | F78: A | H78: Název stavby | I78: String | J78: 120
C79: Místo | F79: N | H79: Místo stavby | I79: String | J79: 50
C80: Datum | F80: A | H80: Datum vykonaného exportu | I80: Date
C81: KSO | F81: N | H81: Klasifikace stavebního objektu | I81: String | J81: 15
C82: CC-CZ | F82: N | H82: Klasifikace stavbeních děl | I82: String | J82: 15
C83: CZ-CPV | F83: N | H83: Společný slovník pro veřejné zakázky | I83: String | J83: 20
C84: CZ-CPA | F84: N | H84: Klasifikace produkce podle činností | I84: String | J84: 20
C85: Zadavatel | F85: N | H85: Zadavatel zadaní | I85: String | J85: 50
C86: IČ | F86: N | H86: IČ zadavatele zadaní | I86: String | J86: 20
C87: DIČ | F87: N | H87: DIČ zadavatele zadaní | I87: String | J87: 20
C88: Uchazeč | F88: N | H88: Uchazeč veřejné zakázky | I88: String | J88: 50
C89: Projektant | F89: N | H89: Projektant | I89: String | J89: 50
C90: Poznámka | F90: N | H90: Poznámka k zadání | I90: String | J90: 255
C91: Sazba DPH | F91: A | H91: Rekapitulace sazeb DPH u položek soupisů | I91: eGSazbaDph
C92: Základna DPH | F92: A | H92: Základna DPH určena součtem celkové ceny z položek soupisů | I92: Double
C93: Hodnota DPH | F93: A | H93: Hodnota DPH | I93: Double
C94: Cena bez DPH | F94: A | H94: Celková cena bez DPH za celou stavbu. Sčítává se ze všech listů. | I94: Double
C95: Cena s DPH | F95: A | H95: Celková cena s DPH za celou stavbu | I95: Double
C100: Rekapitulace objektů stavby a soupisů prací
C101: Název | F101: Povinný | H101: Popis | I101: Typ | J101: Max. počet
C102: atributu | F102: (A/N) | J102: znaků
C104: Kód | F104: A | H104: Přebírá se z Rekapitulace stavby | I104: String | J104: 20
C105: Stavba | F105: A | H105: Přebírá se z Rekapitulace stavby | I105: String | J105: 120
C106: Místo | F106: N | H106: Přebírá se z Rekapitulace stavby | I106: String | J106: 50
C107: Datum | F107: A | H107: Přebírá se z Rekapitulace stavby | I107: Date
C108: Zadavatel | F108: N | H108: Přebírá se z Rekapitulace stavby | I108: String | J108: 50
C109: Projektant | F109: N | H109: Přebírá se z Rekapitulace stavby | I109: String | J109: 50
C110: Uchazeč | F110: N | H110: Přebírá se z Rekapitulace stavby | I110: String | J110: 50
C111: Kód | F111: A | H111: Kód objektu | I111: String | J111: 20
C112: Objektu, Soupis prací | F112: A | H112: Název objektu | I112: String | J112: 120
C113: Cena bez DPH | F113: A | H113: Cena bez DPH za daný objekt | I113: Double
C114: Cena s DPH | F114: A | H114: Cena spolu s DPH za daný objekt | I114: Double
C115: Typ | F115: A | H115: Typ zakázky | I115: eGTypZakazky
C120: Krycí list soupisu
C121: Název | F121: Povinný | H121: Popis | I121: Typ | J121: Max. počet
C122: atributu | F122: (A/N) | J122: znaků
C124: Stavba | F124: A | H124: Přebírá se z Rekapitulace stavby | I124: String | J124: 120
C125: Objekt | F125: A | H125: Kód a název objektu | I125: String | J125: 20 + 120
C126: Soupis | F126: A | H126: Kód a název soupisu | I126: String | J126: 20 + 120
C127: KSO | F127: N | H127: Klasifikace stavebního objektu | I127: String | J127: 15
...
