Workbook

Sheet Rekapitulace stavby
A1: Export VZ | D1: List obsahuje: | K1: 1) Rekapitulace stavby | W1: 2) Rekapitulace objektů stavby a soupisů prací | BA1: 3.0 | BB1: ZAMOK | BT1: False | BU1: False | BV1: {b16fc6cf-573f-4d86-9f4d-ab5c1c5f791c}
BS2: 0,01 | BT2: 21
BS3: 0,01 | BT3: 15
D4: REKAPITULACE STAVBY | AS4: v --- níže se nacházejí doplnkové a pomocné údaje k sestavám --- v | BE4: Návod na vyplnění | BS4: 0,001
D5: Kód: | K5: 20171115 | BE5: Měnit lze pouze buňky se žlutým podbarvením!_x000D_ _x000D_ 1) v Rekapitulaci stavby vyplňte údaje o Uchazeči (přenesou se do ostatních sestav i v jiných listech)_x000D_ _x000D_ 2) na vybraných listech vyplňte v sestavě Soupis prací ceny u položek_x000D_ _x000D_ Podrobnosti k vyplnění naleznete na poslední záložce s Pokyny pro vyplnění | BS5: 0,01
D6: Stavba: | K6: Vodovodní řad Boreček | BS6: 0,01
D7: KSO: | AK7: CC-CZ: | BS7: 0,01
D8: Místo: | K8: Mimoň | AK8: Datum: | AN8: 15. 11. 2017 | BS8: 0,01
BS9: 0,01
D10: Zadavatel: | AK10: IČ: | BS10: 0,01
E11: Město Ralsko | AK11: DIČ: | BS11: 0,01
BS12: 0,01
D13: Uchazeč: | AK13: IČ: | AN13: Vyplň údaj | BS13: 0,01
E14: Vyplň údaj | AK14: DIČ: | AN14: Vyplň údaj | BS14: 0,01
BS15: False
D16: Projektant: | AK16: IČ: | BS16: False
E17: Jan Alexa | AK17: DIČ: | BS17: True
BS18: 0,01
D19: Poznámka: | BS19: 0,01
BS20: False
D23: Cena bez DPH | AK23: =ROUND(AG51,2) -> 0
L25: Sazba daně | W25: Základ daně | AK25: Výše daně
D26: DPH | F26: základní | L26: 0.21 | W26: =ROUND(AZ51,2) -> 0 | AK26: =ROUND(AV51,2) -> 0
F27: snížená | L27: 0.15 | W27: =ROUND(BA51,2) -> 0 | AK27: =ROUND(AW51,2) -> 0
F28: zákl. přenesená | L28: 0.21 | W28: =ROUND(BB51,2) -> 0 | AK28: 0
F29: sníž. přenesená | L29: 0.15 | W29: =ROUND(BC51,2) -> 0 | AK29: 0
F30: nulová | L30: 0 | W30: =ROUND(BD51,2) -> 0 | AK30: 0
D32: Cena s DPH | T32: v | X32: CZK | AK32: =SUM(AK23:AK30) -> 0
C39: REKAPITULACE OBJEKTŮ STAVBY A SOUPISŮ PRACÍ
C41: Kód: | L41: =K5 -> 20171115
C42: Stavba: | L42: =K6 -> Vodovodní řad Boreček
C44: Místo: | L44: =IF(K8="","",K8) -> Mimoň | AI44: Datum: | AM44: =IF(AN8= "","",AN8) -> 15. 11. 2017
C46: Zadavatel: | L46: =IF(E11= "","",E11) -> Město Ralsko | AI46: Projektant: | AM46: =IF(E17="","",E17) -> Jan Alexa | AS46: Informatívní údaje z listů zakázek
C47: Uchazeč: | L47: =IF(E14= "Vyplň údaj","",E14)
C49: Kód | I49: Objekt, Soupis prací | AG49: Cena bez DPH [CZK] | AN49: Cena s DPH [CZK] | AQ49: Typ | AS49: z toho Ostat._x000D_ náklady [CZK] | AT49: DPH [CZK] | AU49: Normohodiny [h] | AV49: DPH základní [CZK] | AW49: DPH snížená [CZK] | AX49: DPH základní přenesená_x000D_ [CZK] | AY49: DPH snížená přenesená_x000D_ [CZK] | AZ49: Základna_x000D_ DPH základní | BA49: Základna_x000D_ DPH snížená | BB49: Základna_x000D_ DPH zákl. přenesená | BC49: Základna_x000D_ DPH sníž. přenesená | BD49: Základna_x000D_ DPH nulová
C51: Náklady stavby celkem | AG51: =ROUND(AG52,2) -> 0 | AN51: =SUM(AG51,AT51) -> 0 | AS51: =ROUND(AS52,2) -> 0 | AT51: =ROUND(SUM(AV51:AW51),2) -> 0 | AU51: =ROUND(AU52,5) -> 0 | AV51: =ROUND(AZ51*L26,2) -> 0 | AW51: =ROUND(BA51*L27,2) -> 0 | AX51: =ROUND(BB51*L26,2) -> 0 | AY51: =ROUND(BC51*L27,2) -> 0 | AZ51: =ROUND(AZ52,2) -> 0 | BA51: =ROUND(BA52,2) -> 0 | BB51: =ROUND(BB52,2) -> 0 | BC51: =ROUND(BC52,2) -> 0 | BD51: =ROUND(BD52,2) -> 0 | BS51: D | BT51: 0 | BV51: IMPORT | BW51: {b16fc6cf-573f-4d86-9f4d-ab5c1c5f791c} | BX51: {00000000-0000-0000-0000-000000000000}
A52: / | D52: 20171115 | J52: Vodovodní řad Boreček | AG52: ='20171115 - Vodovodní řad ...'!J25 -> 0 | AN52: =SUM(AG52,AT52) -> 0 | AQ52: STA | AS52: 0 | AT52: =ROUND(SUM(AV52:AW52),2) -> 0 | AU52: ='20171115 - Vodovodní řad ...'!P83 -> 0 | AV52: ='20171115 - Vodovodní řad ...'!J28 -> 0 | AW52: ='20171115 - Vodovodní řad ...'!J29 -> 0 | AX52: ='20171115 - Vodovodní řad ...'!J30 -> 0 | AY52: ='20171115 - Vodovodní řad ...'!J31 -> 0 | AZ52: ='20171115 - Vodovodní řad ...'!F28 -> 0 | BA52: ='20171115 - Vodovodní řad ...'!F29 -> 0 | BB52: ='20171115 - Vodovodní řad ...'!F30 -> 0 | BC52: ='20171115 - Vodovodní řad ...'!F31 -> 0 | BD52: ='20171115 - Vodovodní řad ...'!F32 -> 0 | BT52: 1 | BU52: ###NOINSERT### | BV52: IMPORT | BW52: {b16fc6cf-573f-4d86-9f4d-ab5c1c5f791c} | BX52: {00000000-0000-0000-0000-000000000000}

Sheet 20171115 - Vodovodní řad ...
D1: List obsahuje: | F1: 1) Krycí list soupisu | G1: 2) Rekapitulace | J1: 3) Soupis prací | K1: Zpět na list: | L1: Rekapitulace stavby
AT2: {b16fc6cf-573f-4d86-9f4d-ab5c1c5f791c}
AT3: 2
D4: KRYCÍ LIST SOUPISU | M4: v --- níže se nacházejí doplnkové a pomocné údaje k sestavám --- v | AT4: False
D6: Stavba:
E7: Vodovodní řad Boreček
D9: KSO: | I9: CC-CZ:
D10: Místo: | F10: Mimoň | I10: Datum: | J10: ='Rekapitulace stavby'!AN8 -> 15. 11. 2017
D12: Zadavatel: | I12: IČ:
E13: Město Ralsko | I13: DIČ:
D15: Uchazeč: | I15: IČ: | J15: =IF('Rekapitulace stavby'!AN13="Vyplň údaj","",IF('Rekapitulace stavby'!AN13="","",'Rekapitulace stavby'!AN13))
E16: =IF('Rekapitulace stavby'!E14="Vyplň údaj","",IF('Rekapitulace stavby'!E14="","",'Rekapitulace stavby'!E14)) | I16: DIČ: | J16: =IF('Rekapitulace stavby'!AN14="Vyplň údaj","",IF('Rekapitulace stavby'!AN14="","",'Rekapitulace stavby'!AN14))
D18: Projektant: | I18: IČ:
E19: Jan Alexa | I19: DIČ:
D21: Poznámka:
D25: Cena bez DPH | J25: =ROUND(J83,2) -> 0
F27: Základ daně | I27: Sazba daně | J27: Výše daně
D28: DPH | E28: základní | F28: =ROUND(SUM(BE83:BE336), 2) -> 0 | I28: 0.21 | J28: =ROUND(ROUND((SUM(BE83:BE336)), 2)*I28, 2) -> 0
E29: snížená | F29: =ROUND(SUM(BF83:BF336), 2) -> 0 | I29: 0.15 | J29: =ROUND(ROUND((SUM(BF83:BF336)), 2)*I29, 2) -> 0
E30: zákl. přenesená | F30: =ROUND(SUM(BG83:BG336), 2) -> 0 | I30: 0.21 | J30: 0
E31: sníž. přenesená | F31: =ROUND(SUM(BH83:BH336), 2) -> 0 | I31: 0.15 | J31: 0
E32: nulová | F32: =ROUND(SUM(BI83:BI336), 2) -> 0 | I32: 0 | J32: 0
D34: Cena s DPH | G34: v | H34: CZK | J34: =SUM(J25:J32) -> 0
C40: REKAPITULACE ČLENĚNÍ SOUPISU PRACÍ
C42: Stavba:
E43: =E7 -> Vodovodní řad Boreček
C45: Místo: | F45: =F10 -> Mimoň | I45: Datum: | J45: =IF(J10="","",J10) -> 15. 11. 2017
C47: Zadavatel: | F47: =E13 -> Město Ralsko | I47: Projektant: | J47: =E19 -> Jan Alexa
C48: Uchazeč: | F48: =IF(E16="","",E16)
C50: Kód dílu - Popis | J50: Cena celkem [CZK]
C52: Náklady soupisu celkem | J52: =J83 -> 0 | AU52: -1
D53: HSV - Práce a dodávky HSV | J53: =J84 -> 0
D54: 1 - Zemní práce | J54: =J85 -> 0
D55: 2 - Zakládání | J55: =J125 -> 0
D56: 3 - Svislé a kompletní konstrukce | J56: =J132 -> 0
D57: 6 - Úpravy povrchů, podlahy a osazování výplní | J57: =J145 -> 0
D58: 8 - Trubní vedení | J58: =J149 -> 0
D59: 9 - Ostatní konstrukce a práce, bourání | J59: =J301 -> 0
D60: 998 - Přesun hmot | J60: =J306 -> 0
D61: PSV - Práce a dodávky PSV | J61: =J309 -> 0
...

Sheet Pokyny pro vyplnění
C3: Struktura údajů, formát souboru a metodika pro zpracování
C4: Struktura
C6: Soubor je složen ze záložky Rekapitulace stavby a záložek s názvem soupisu prací pro jednotlivé objekty ve formátu XLSX. Každá ze záložek přitom obsahuje
C7: ještě samostatné sestavy vymezené orámovaním a nadpisem sestavy.
C9: Rekapitulace stavby obsahuje sestavu Rekapitulace stavby a Rekapitulace objektů stavby a soupisů prací.
D10: V sestavě Rekapitulace stavby jsou uvedeny informace identifikující předmět veřejné zakázky na stavební práce, KSO, CC-CZ, CZ-CPV, CZ-CPA a rekapitulaci
D11: celkové nabídkové ceny uchazeče.
D13: V sestavě Rekapitulace objektů stavby a soupisů prací je uvedena rekapitulace stavebních objektů, inženýrských objektů, provozních souborů,
D14: vedlejších a ostatních nákladů a ostatních nákladů s rekapitulací nabídkové ceny za jednotlivé soupisy prací. Na základě údaje Typ je možné
D15: identifikovat, zda se jedná o objekt nebo soupis prací pro daný objekt:
E16: STA | F16: Stavební objekt pozemní
E17: ING | F17: Stavební objekt inženýrský
E18: PRO | F18: Provozní soubor
E19: VON | F19: Vedlejší a ostatní náklady
E20: OST | F20: Ostatní
E21: Soupis | F21: Soupis prací pro daný typ objektu
C23: Soupis prací pro jednotlivé objekty obsahuje sestavy Krycí list soupisu, Rekapitulace členění soupisu prací, Soupis prací. Za soupis prací může být považován
C24: i objekt stavby v případě, že neobsahuje podřízenou zakázku.
D25: Krycí list soupisu obsahuje rekapitulaci informací o předmětu veřejné zakázky ze sestavy Rekapitulace stavby, informaci o zařazení objektu do KSO,
D26: CC-CZ, CZ-CPV, CZ-CPA a rekapitulaci celkové nabídkové ceny uchazeče za aktuální soupis prací.
D28: Rekapitulace členění soupisu prací obsahuje rekapitulaci soupisu prací ve všech úrovních členění soupisu tak, jak byla tato členění použita (např.
D29: stavební díly, funkční díly, případně jiné členění) s rekapitulací nabídkové ceny.
D31: Soupis prací obsahuje položky veškerých stavebních nebo montážních prací, dodávek materiálů a služeb nezbytných pro zhotovení stavebního objektu,
D32: inženýrského objektu, provozního souboru, vedlejších a ostatních nákladů.
D33: Pro položky soupisu prací se zobrazují následující informace:
E34: PČ | G34: Pořadové číslo položky v aktuálním soupisu
E35: TYP | G35: Typ položky: K - konstrukce, M - materiál, PP - plný popis, PSC - poznámka k souboru cen, P - poznámka k položce, VV - výkaz výměr
E36: Kód | G36: Kód položky
E37: Popis | G37: Zkrácený popis položky
E38: MJ | G38: Měrná jednotka položky
E39: Množství | G39: Množství v měrné jednotce
E40: J.cena | G40: Jednotková cena položky. Zadaní může obsahovat namísto J.ceny sloupce J.materiál a J.montáž, jejichž součet definuje
G41: J.cenu položky.
E42: Cena celkem | G42: Celková cena položky daná jako součin množství a j.ceny
E43: Cenová soustava | G43: Příslušnost položky do cenové soustavy
D45: Ke každé položce soupisu prací se na samostatných řádcích může zobrazovat:
E46: Plný popis položky
E47: Poznámka k souboru cen a poznámka zadavatele
E48: Výkaz výměr
D49: Pokud je k řádku výkazu výměr evidovaný údaj ve sloupci Kód, jedná se o definovaný odkaz, na který se může odvolávat výkaz výměr z jiné položky.
...
