Workbook

Sheet Rekapitulace stavby
A1: Export VZ | D1: List obsahuje: | K1: 1) Rekapitulace stavby | W1: 2) Rekapitulace objektů stavby a soupisů prací | BA1: 3.0 | BB1: ZAMOK | BT1: False | BU1: False | BV1: {b16fc6cf-573f-4d86-9f4d-ab5c1c5f791c}
BS2: 0,01 | BT2: 21
BS3: 0,01 | BT3: 15
D4: REKAPITULACE STAVBY | AS4: v --- níže se nacházejí doplnkové a pomocné údaje k sestavám --- v | BE4: Návod na vyplnění | BS4: 0,001
D5: Kód: | K5: 20171115 | BE5: Měnit lze pouze buňky se žlutým podbarvením!_x000D_ _x000D_ 1) v Rekapitulaci stavby vyplňte údaje o Uchazeči (přenesou se do ostatních sestav i v jiných listech)_x000D_ _x000D_ 2) na vybraných listech vyplňte v sestavě Soupis prací ceny u položek_x000D_ _x000D_ Podrobnosti k vyplnění naleznete na poslední záložce s Pokyny pro vyplnění | BS5: 0,01
D6: Stavba: | K6: Vodovodní řad Boreček | BS6: 0,01
D7: KSO: | AK7: CC-CZ: | BS7: 0,01
D8: Místo: | K8: Mimoň | AK8: Datum: | AN8: 15. 11. 2017 | BS8: 0,01
BS9: 0,01
D10: Zadavatel: | AK10: IČ: | BS10: 0,01
E11: Město Ralsko | AK11: DIČ: | BS11: 0,01
BS12: 0,01
D13: Uchazeč: | AK13: IČ: | AN13: Vyplň údaj | BS13: 0,01
E14: Vyplň údaj | AK14: DIČ: | AN14: Vyplň údaj | BS14: 0,01
BS15: False
D16: Projektant: | AK16: IČ: | BS16: False
E17: Jan Alexa | AK17: DIČ: | BS17: True
BS18: 0,01
D19: Poznámka: | BS19: 0,01
BS20: False
D23: Cena bez DPH | AK23: =ROUND(AG51,2) -> 0
L25: Sazba daně | W25: Základ daně | AK25: Výše daně
D26: DPH | F26: základní | L26: 0.21 | W26: =ROUND(AZ51,2) -> 0 | AK26: =ROUND(AV51,2) -> 0
F27: snížená | L27: 0.15 | W27: =ROUND(BA51,2) -> 0 | AK27: =ROUND(AW51,2) -> 0
F28: zákl. přenesená | L28: 0.21 | W28: =ROUND(BB51,2) -> 0 | AK28: 0
F29: sníž. přenesená | L29: 0.15 | W29: =ROUND(BC51,2) -> 0 | AK29: 0
F30: nulová | L30: 0 | W30: =ROUND(BD51,2) -> 0 | AK30: 0
D32: Cena s DPH | T32: v | X32: CZK | AK32: =SUM(AK23:AK30) -> 0
C39: REKAPITULACE OBJEKTŮ STAVBY A SOUPISŮ PRACÍ
C41: Kód: | L41: =K5 -> 20171115
C42: Stavba: | L42: =K6 -> Vodovodní řad Boreček
C44: Místo: | L44: =IF(K8="","",K8) -> Mimoň | AI44: Datum: | AM44: =IF(AN8= "","",AN8) -> 15. 11. 2017
C46: Zadavatel: | L46: =IF(E11= "","",E11) -> Město Ralsko | AI46: Projektant: | AM46: =IF(E17="","",E17) -> Jan Alexa | AS46: Informatívní údaje z listů zakázek
C47: Uchazeč: | L47: =IF(E14= "Vyplň údaj","",E14)
C49: Kód | I49: Objekt, Soupis prací | AG49: Cena bez DPH [CZK] | AN49: Cena s DPH [CZK] | AQ49: Typ | AS49: z toho Ostat._x000D_ náklady [CZK] | AT49: DPH [CZK] | AU49: Normohodiny [h] | AV49: DPH základní [CZK] | AW49: DPH snížená [CZK] | AX49: DPH základní přenesená_x000D_ [CZK] | AY49: DPH snížená přenesená_x000D_ [CZK] | AZ49: Základna_x000D_ DPH základní | BA49: Základna_x000D_ DPH snížená | BB49: Základna_x000D_ DPH zákl. přenesená | BC49: Základna_x000D_ DPH sníž. přenesená | BD49: Základna_x000D_ DPH nulová
C51: Náklady stavby celkem | AG51: =ROUND(AG52,2) -> 0 | AN51: =SUM(AG51,AT51) -> 0 | AS51: =ROUND(AS52,2) -> 0 | AT51: =ROUND(SUM(AV51:AW51),2) -> 0 | AU51: =ROUND(AU52,5) -> 0 | AV51: =ROUND(AZ51*L26,2) -> 0 | AW51: =ROUND(BA51*L27,2) -> 0 | AX51: =ROUND(BB51*L26,2) -> 0 | AY51: =ROUND(BC51*L27,2) -> 0 | AZ51: =ROUND(AZ52,2) -> 0 | BA51: =ROUND(BA52,2) -> 0 | BB51: =ROUND(BB52,2) -> 0 | BC51: =ROUND(BC52,2) -> 0 | BD51: =ROUND(BD52,2) -> 0 | BS51: D | BT51: 0 | BV51: IMPORT | BW51: {b16fc6cf-573f-4d86-9f4d-ab5c1c5f791c} | BX51: {00000000-0000-0000-0000-000000000000}
A52: / | D52: 20171115 | J52: Vodovodní řad Boreček | AG52: ='20171115 - Vodovodní řad ...'!J25 -> 0 | AN52: =SUM(AG52,AT52) -> 0 | AQ52: STA | AS52: 0 | AT52: =ROUND(SUM(AV52:AW52),2) -> 0 | AU52: ='20171115 - Vodovodní řad ...'!P83 -> 0 | AV52: ='20171115 - Vodovodní řad ...'!J28 -> 0 | AW52: ='20171115 - Vodovodní řad ...'!J29 -> 0 | AX52: ='20171115 - Vodovodní řad ...'!J30 -> 0 | AY52: ='20171115 - Vodovodní řad ...'!J31 -> 0 | AZ52: ='20171115 - Vodovodní řad ...'!F28 -> 0 | BA52: ='20171115 - Vodovodní řad ...'!F29 -> 0 | BB52: ='20171115 - Vodovodní řad ...'!F30 -> 0 | BC52: ='20171115 - Vodovodní řad ...'!F31 -> 0 | BD52: ='20171115 - Vodovodní řad ...'!F32 -> 0 | BT52: 1 | BU52: ###NOINSERT### | BV52: IMPORT | BW52: {b16fc6cf-573f-4d86-9f4d-ab5c1c5f791c} | BX52: {00000000-0000-0000-0000-000000000000}

Sheet 20171115 - Vodovodní řad ...
D1: List obsahuje: | F1: 1) Krycí list soupisu | G1: 2) Rekapitulace | J1: 3) Soupis prací | K1: Zpět na list: | L1: Rekapitulace stavby
AT2: {b16fc6cf-573f-4d86-9f4d-ab5c1c5f791c}
AT3: 2
D4: KRYCÍ LIST SOUPISU | M4: v --- níže se nacházejí doplnkové a pomocné údaje k sestavám --- v | AT4: False
D6: Stavba:
E7: Vodovodní řad Boreček
D9: KSO: | I9: CC-CZ:
D10: Místo: | F10: Mimoň | I10: Datum: | J10: ='Rekapitulace stavby'!AN8 -> 15. 11. 2017
D12: Zadavatel: | I12: IČ:
E13: Město Ralsko | I13: DIČ:
D15: Uchazeč: | I15: IČ: | J15: =IF('Rekapitulace stavby'!AN13="Vyplň údaj","",IF('Rekapitulace stavby'!AN13="","",'Rekapitulace stavby'!AN13))
E16: =IF('Rekapitulace stavby'!E14="Vyplň údaj","",IF('Rekapitulace stavby'!E14="","",'Rekapitulace stavby'!E14)) | I16: DIČ: | J16: =IF('Rekapitulace stavby'!AN14="Vyplň údaj","",IF('Rekapitulace stavby'!AN14="","",'Rekapitulace stavby'!AN14))
D18: Projektant: | I18: IČ:
E19: Jan Alexa | I19: DIČ:
D21: Poznámka:
D25: Cena bez DPH | J25: =ROUND(J83,2) -> 0
F27: Základ daně | I27: Sazba daně | J27: Výše daně
D28: DPH | E28: základní | F28: =ROUND(SUM(BE83:BE336), 2) -> 0 | I28: 0.21 | J28: =ROUND(ROUND((SUM(BE83:BE336)), 2)*I28, 2) -> 0
E29: snížená | F29: =ROUND(SUM(BF83:BF336), 2) -> 0 | I29: 0.15 | J29: =ROUND(ROUND((SUM(BF83:BF336)), 2)*I29, 2) -> 0
E30: zákl. přenesená | F30: =ROUND(SUM(BG83:BG336), 2) -> 0 | I30: 0.21 | J30: 0
E31: sníž. přenesená | F31: =ROUND(SUM(BH83:BH336), 2) -> 0 | I31: 0.15 | J31: 0
E32: nulová | F32: =ROUND(SUM(BI83:BI336), 2) -> 0 | I32: 0 | J32: 0
D34: Cena s DPH | G34: v | H34: CZK | J34: =SUM(J25:J32) -> 0
C40: REKAPITULACE ČLENĚNÍ SOUPISU PRACÍ
C42: Stavba:
E43: =E7 -> Vodovodní řad Boreček
C45: Místo: | F45: =F10 -> Mimoň | I45: Datum: | J45: =IF(J10="","",J10) -> 15. 11. 2017
C47: Zadavatel: | F47: =E13 -> Město Ralsko | I47: Projektant: | J47: =E19 -> Jan Alexa
C48: Uchazeč: | F48: =IF(E16="","",E16)
C50: Kód dílu - Popis | J50: Cena celkem [CZK]
C52: Náklady soupisu celkem | J52: =J83 -> 0 | AU52: -1
D53: HSV - Práce a dodávky HSV | J53: =J84 -> 0
D54: 1 - Zemní práce | J54: =J85 -> 0
D55: 2 - Zakládání | J55: =J125 -> 0
D56: 3 - Svislé a kompletní konstrukce | J56: =J132 -> 0
D57: 6 - Úpravy povrchů, podlahy a osazování výplní | J57: =J145 -> 0
D58: 8 - Trubní vedení | J58: =J149 -> 0
D59: 9 - Ostatní konstrukce a práce, bourání | J59: =J301 -> 0
D60: 998 - Přesun hmot | J60: =J306 -> 0
D61: PSV - Práce a dodávky PSV | J61: =J309 -> 0
D62: 711 - Izolace proti vodě, vlhkosti a plynům | J62: =J310 -> 0
D63: VRN - Vedlejší rozpočtové náklady | J63: =J322 -> 0
D64: VRN1 - Průzkumné, geodetické a projektové práce | J64: =J323 -> 0
D65: VRN3 - Zařízení staveniště | J65: =J332 -> 0
C72: SOUPIS PRACÍ
C74: Stavba:
E75: =E7 -> Vodovodní řad Boreček
C77: Místo: | F77: =F10 -> Mimoň | I77: Datum: | J77: =IF(J10="","",J10) -> 15. 11. 2017
C79: Zadavatel: | F79: =E13 -> Město Ralsko | I79: Projektant: | J79: =E19 -> Jan Alexa
C80: Uchazeč: | F80: =IF(E16="","",E16)
C82: PČ | D82: Typ | E82: Kód | F82: Popis | G82: MJ | H82: Množství | I82: J.cena [CZK] | J82: Cena celkem [CZK] | K82: Cenová soustava | M82: Poznámka | N82: DPH | O82: J. Nh [h] | P82: Nh celkem [h] | Q82: J. hmotnost_x000D_ [t] | R82: Hmotnost_x000D_ celkem [t] | S82: J. suť [t] | T82: Suť Celkem [t]
C83: Náklady soupisu celkem | J83: =BK83 -> 0 | P83: =P84+P309+P322 -> 0 | R83: =R84+R309+R322 -> 33.710315 | T83: =T84+T309+T322 -> 0 | AT83: D | AU83: -1 | BK83: =BK84+BK309+BK322 -> 0
D84: D | E84: HSV | F84: Práce a dodávky HSV | J84: =BK84 -> 0 | P84: =P85+P125+P132+P145+P149+P301+P306 -> 0 | R84: =R85+R125+R132+R145+R149+R301+R306 -> 33.681313 | T84: =T85+T125+T132+T145+T149+T301+T306 -> 0 | AR84: 1 | AT84: D | AU84: 0 | AY84: ROZPOCET | BK84: =BK85+BK125+BK132+BK145+BK149+BK301+BK306 -> 0
D85: D | E85: 1 | F85: Zemní práce | J85: =BK85 -> 0 | P85: =SUM(P86:P124) -> 0 | R85: =SUM(R86:R124) -> 8.7653927 | T85: =SUM(T86:T124) -> 0 | AR85: 1 | AT85: D | AU85: 1 | AY85: ROZPOCET | BK85: =SUM(BK86:BK124) -> 0
C86: 1 | D86: K | E86: 133201101 | F86: Hloubení šachet v hornině tř. 3 objemu do 100 m3 | G86: m3 | H86: 707.976 | J86: =ROUND(I86*H86,2) -> 0 | K86: CS ÚRS 2018 01 | N86: základní | P86: =O86*H86 -> 0 | Q86: 0 | R86: =Q86*H86 -> 0 | S86: 0 | T86: =S86*H86 -> 0 | AR86: 4 | AT86: K | AU86: 2 | AY86: ROZPOCET | BE86: =IF(N86="základní",J86,0) -> 0 | BF86: =IF(N86="snížená",J86,0) -> 0 | BG86: =IF(N86="zákl. přenesená",J86,0) -> 0 | BH86: =IF(N86="sníž. přenesená",J86,0) -> 0 | BI86: =IF(N86="nulová",J86,0) -> 0 | BJ86: 1 | BK86: =ROUND(I86*H86,2) -> 0 | BL86: 4 | BM86: 291824811
D87: PP | F87: Hloubení zapažených i nezapažených šachet s případným nutným přemístěním výkopku ve výkopišti v hornině tř. 3 do 100 m3 | AT87: PP | AU87: 2
D88: VV | F88: 2*2*1,8*95"startovací jámy | H88: 684 | AT88: VV | AU88: 2 | AV88: 2 | AW88: True | AX88: 0 | AY88: ROZPOCET
D89: VV | F89: 2,4*3,7*2,7"šachta | H89: 23.976 | AT89: VV | AU89: 2 | AV89: 2 | AW89: True | AX89: 0 | AY89: ROZPOCET
D90: VV | F90: Součet | H90: 707.976 | AT90: VV | AU90: 2 | AV90: 4 | AW90: True | AX90: 1 | AY90: ROZPOCET
C91: 2 | D91: K | E91: 141721111 | F91: Řízený zemní protlak hloubky do 6 m vnějšího průměru do 63 mm v hornině tř 1 až 4 | G91: m | H91: 505 | J91: =ROUND(I91*H91,2) -> 0 | K91: CS ÚRS 2018 01 | N91: základní | P91: =O91*H91 -> 0 | Q91: 0 | R91: =Q91*H91 -> 0 | S91: 0 | T91: =S91*H91 -> 0 | AR91: 4 | AT91: K | AU91: 2 | AY91: ROZPOCET | BE91: =IF(N91="základní",J91,0) -> 0 | BF91: =IF(N91="snížená",J91,0) -> 0 | BG91: =IF(N91="zákl. přenesená",J91,0) -> 0 | BH91: =IF(N91="sníž. přenesená",J91,0) -> 0 | BI91: =IF(N91="nulová",J91,0) -> 0 | BJ91: 1 | BK91: =ROUND(I91*H91,2) -> 0 | BL91: 4 | BM91: 144453855
D92: PP | F92: Řízený zemní protlak v hornině tř. 1 až 4, včetně protlačení trub v hloubce do 6 m vnějšího průměru vrtu do 63 mm | AT92: PP | AU92: 2
C93: 3 | D93: M | E93: 286135270 | F93: potrubí třívrstvé PE100 RC-Wavin TS PE 100 RC+ DOQ, SDR11 63x5,80 , 12 m | G93: m | H93: 520.15 | J93: =ROUND(I93*H93,2) -> 0 | K93: CS ÚRS 2018 01 | N93: základní | P93: =O93*H93 -> 0 | Q93: 0.00106 | R93: =Q93*H93 -> 0.551359 | S93: 0 | T93: =S93*H93 -> 0 | AR93: 8 | AT93: M | AU93: 2 | AY93: ROZPOCET | BE93: =IF(N93="základní",J93,0) -> 0 | BF93: =IF(N93="snížená",J93,0) -> 0 | BG93: =IF(N93="zákl. přenesená",J93,0) -> 0 | BH93: =IF(N93="sníž. přenesená",J93,0) -> 0 | BI93: =IF(N93="nulová",J93,0) -> 0 | BJ93: 1 | BK93: =ROUND(I93*H93,2) -> 0 | BL93: 4 | BM93: -1241825756
D94: PP | F94: potrubí třívrstvé PE100 RC SDR11 63x5,80 , 12 m | AT94: PP | AU94: 2
D95: VV | F95: 505*1,03 'Přepočtené koeficientem množství | H95: 520.15 | AT95: VV | AU95: 2 | AV95: 2 | AW95: False | AX95: 1 | AY95: ROZPOCET
C96: 4 | D96: K | E96: 141721112 | F96: Řízený zemní protlak hloubky do 6 m vnějšího průměru do 90 mm v hornině tř 1 až 4 | G96: m | H96: 972 | J96: =ROUND(I96*H96,2) -> 0 | K96: CS ÚRS 2018 01 | N96: základní | P96: =O96*H96 -> 0 | Q96: 0 | R96: =Q96*H96 -> 0 | S96: 0 | T96: =S96*H96 -> 0 | AR96: 4 | AT96: K | AU96: 2 | AY96: ROZPOCET | BE96: =IF(N96="základní",J96,0) -> 0 | BF96: =IF(N96="snížená",J96,0) -> 0 | BG96: =IF(N96="zákl. přenesená",J96,0) -> 0 | BH96: =IF(N96="sníž. přenesená",J96,0) -> 0 | BI96: =IF(N96="nulová",J96,0) -> 0 | BJ96: 1 | BK96: =ROUND(I96*H96,2) -> 0 | BL96: 4 | BM96: -1580405944
D97: PP | F97: Řízený zemní protlak v hornině tř. 1 až 4, včetně protlačení trub v hloubce do 6 m vnějšího průměru vrtu přes 63 do 90 mm | AT97: PP | AU97: 2
C98: 5 | D98: M | E98: 286135100 | F98: potrubí třívrstvé PE100 RC-Wavin TS PE 100 RC+ DOQ,SDR11, 90x8.2 , 100 m | G98: m | H98: 1001.16 | J98: =ROUND(I98*H98,2) -> 0 | K98: CS ÚRS 2018 01 | N98: základní | P98: =O98*H98 -> 0 | Q98: 0.00318 | R98: =Q98*H98 -> 3.1836888 | S98: 0 | T98: =S98*H98 -> 0 | AR98: 8 | AT98: M | AU98: 2 | AY98: ROZPOCET | BE98: =IF(N98="základní",J98,0) -> 0 | BF98: =IF(N98="snížená",J98,0) -> 0 | BG98: =IF(N98="zákl. přenesená",J98,0) -> 0 | BH98: =IF(N98="sníž. přenesená",J98,0) -> 0 | BI98: =IF(N98="nulová",J98,0) -> 0 | BJ98: 1 | BK98: =ROUND(I98*H98,2) -> 0 | BL98: 4 | BM98: -777776639
D99: PP | F99: potrubí třívrstvé PE100 RC SDR11, 90x8.2 , 100 m | AT99: PP | AU99: 2
D100: VV | F100: 972*1,03 'Přepočtené koeficientem množství | H100: 1001.16 | AT100: VV | AU100: 2 | AV100: 2 | AW100: False | AX100: 1 | AY100: ROZPOCET
C101: 6 | D101: K | E101: 141721113 | F101: Řízený zemní protlak hloubky do 6 m vnějšího průměru do 110 mm v hornině tř 1 až 4 | G101: m | H101: 1262 | J101: =ROUND(I101*H101,2) -> 0 | K101: CS ÚRS 2018 01 | N101: základní | P101: =O101*H101 -> 0 | Q101: 0 | R101: =Q101*H101 -> 0 | S101: 0 | T101: =S101*H101 -> 0 | AR101: 4 | AT101: K | AU101: 2 | AY101: ROZPOCET | BE101: =IF(N101="základní",J101,0) -> 0 | BF101: =IF(N101="snížená",J101,0) -> 0 | BG101: =IF(N101="zákl. přenesená",J101,0) -> 0 | BH101: =IF(N101="sníž. přenesená",J101,0) -> 0 | BI101: =IF(N101="nulová",J101,0) -> 0 | BJ101: 1 | BK101: =ROUND(I101*H101,2) -> 0 | BL101: 4 | BM101: -494555226
D102: PP | F102: Řízený zemní protlak v hornině tř. 1 až 4, včetně protlačení trub v hloubce do 6 m vnějšího průměru vrtu přes 90 do 110 mm | AT102: PP | AU102: 2
D103: VV | F103: 1262 | H103: 1262 | AT103: VV | AU103: 2 | AV103: 2 | AW103: True | AX103: 1 | AY103: ROZPOCET
C104: 7 | D104: M | E104: 286135110 | F104: potrubí třívrstvé PE100 RC-Wavin TS PE 100 RC+ DOQ, SDR11,110x10,0 , 100 m | G104: m | H104: 1299.86 | J104: =ROUND(I104*H104,2) -> 0 | K104: CS ÚRS 2018 01 | N104: základní | P104: =O104*H104 -> 0 | Q104: 0.00318 | R104: =Q104*H104 -> 4.1335548 | S104: 0 | T104: =S104*H104 -> 0 | AR104: 8 | AT104: M | AU104: 2 | AY104: ROZPOCET | BE104: =IF(N104="základní",J104,0) -> 0 | BF104: =IF(N104="snížená",J104,0) -> 0 | BG104: =IF(N104="zákl. přenesená",J104,0) -> 0 | BH104: =IF(N104="sníž. přenesená",J104,0) -> 0 | BI104: =IF(N104="nulová",J104,0) -> 0 | BJ104: 1 | BK104: =ROUND(I104*H104,2) -> 0 | BL104: 4 | BM104: 2074623529
D105: PP | F105: potrubí třívrstvé PE100 RC SDR11,110x10,0 , 100 m | AT105: PP | AU105: 2
D106: VV | F106: 1262*1,03 'Přepočtené koeficientem množství | H106: 1299.86 | AT106: VV | AU106: 2 | AV106: 2 | AW106: False | AX106: 1 | AY106: ROZPOCET
C107: 8 | D107: K | E107: 141721116 | F107: Řízený zemní protlak hloubky do 6 m vnějšího průměru do 225 mm v hornině tř 1 až 4 | G107: m | H107: 83 | J107: =ROUND(I107*H107,2) -> 0 | K107: CS ÚRS 2018 01 | N107: základní | P107: =O107*H107 -> 0 | Q107: 0 | R107: =Q107*H107 -> 0 | S107: 0 | T107: =S107*H107 -> 0 | AR107: 4 | AT107: K | AU107: 2 | AY107: ROZPOCET | BE107: =IF(N107="základní",J107,0) -> 0 | BF107: =IF(N107="snížená",J107,0) -> 0 | BG107: =IF(N107="zákl. přenesená",J107,0) -> 0 | BH107: =IF(N107="sníž. přenesená",J107,0) -> 0 | BI107: =IF(N107="nulová",J107,0) -> 0 | BJ107: 1 | BK107: =ROUND(I107*H107,2) -> 0 | BL107: 4 | BM107: 1027551891
D108: PP | F108: Řízený zemní protlak v hornině tř. 1 až 4, včetně protlačení trub v hloubce do 6 m vnějšího průměru vrtu přes 160 do 225 mm | AT108: PP | AU108: 2
C109: 9 | D109: M | E109: 286135360 | F109: potrubí třívrstvé PE100 RC-Wavin TS PE 100 RC+ DOQ, SDR11, 200x18,2 , 12 m | G109: m | H109: 85.49 | J109: =ROUND(I109*H109,2) -> 0 | K109: CS ÚRS 2018 01 | N109: základní | P109: =O109*H109 -> 0 | Q109: 0.01049 | R109: =Q109*H109 -> 0.8967901 | S109: 0 | T109: =S109*H109 -> 0 | AR109: 8 | AT109: M | AU109: 2 | AY109: ROZPOCET | BE109: =IF(N109="základní",J109,0) -> 0 | BF109: =IF(N109="snížená",J109,0) -> 0 | BG109: =IF(N109="zákl. přenesená",J109,0) -> 0 | BH109: =IF(N109="sníž. přenesená",J109,0) -> 0 | BI109: =IF(N109="nulová",J109,0) -> 0 | BJ109: 1 | BK109: =ROUND(I109*H109,2) -> 0 | BL109: 4 | BM109: -8378300
D110: PP | F110: potrubí třívrstvé PE100 RC SDR11, 200x18,2 , 12 m | AT110: PP | AU110: 2
D111: VV | F111: 83*1,03 'Přepočtené koeficientem množství | H111: 85.49 | AT111: VV | AU111: 2 | AV111: 2 | AW111: False | AX111: 1 | AY111: ROZPOCET
C112: 10 | D112: K | E112: 162701105 | F112: Vodorovné přemístění do 10000 m výkopku/sypaniny z horniny tř. 1 až 4 | G112: m3 | H112: 5.4 | J112: =ROUND(I112*H112,2) -> 0 | K112: CS ÚRS 2018 01 | N112: základní | P112: =O112*H112 -> 0 | Q112: 0 | R112: =Q112*H112 -> 0 | S112: 0 | T112: =S112*H112 -> 0 | AR112: 4 | AT112: K | AU112: 2 | AY112: ROZPOCET | BE112: =IF(N112="základní",J112,0) -> 0 | BF112: =IF(N112="snížená",J112,0) -> 0 | BG112: =IF(N112="zákl. přenesená",J112,0) -> 0 | BH112: =IF(N112="sníž. přenesená",J112,0) -> 0 | BI112: =IF(N112="nulová",J112,0) -> 0 | BJ112: 1 | BK112: =ROUND(I112*H112,2) -> 0 | BL112: 4 | BM112: 698677655
D113: PP | F113: Vodorovné přemístění výkopku nebo sypaniny po suchu na obvyklém dopravním prostředku, bez naložení výkopku, avšak se složením bez rozhrnutí z horniny tř. 1 až 4 na vzdálenost přes 9 000 do 10 000 m | AT113: PP | AU113: 2
C114: 11 | D114: K | E114: 171201201 | F114: Uložení sypaniny na skládky | G114: m3 | H114: 5.4 | J114: =ROUND(I114*H114,2) -> 0 | K114: CS ÚRS 2018 01 | N114: základní | P114: =O114*H114 -> 0 | Q114: 0 | R114: =Q114*H114 -> 0 | S114: 0 | T114: =S114*H114 -> 0 | AR114: 4 | AT114: K | AU114: 2 | AY114: ROZPOCET | BE114: =IF(N114="základní",J114,0) -> 0 | BF114: =IF(N114="snížená",J114,0) -> 0 | BG114: =IF(N114="zákl. přenesená",J114,0) -> 0 | BH114: =IF(N114="sníž. přenesená",J114,0) -> 0 | BI114: =IF(N114="nulová",J114,0) -> 0 | BJ114: 1 | BK114: =ROUND(I114*H114,2) -> 0 | BL114: 4 | BM114: 1629375650
D115: PP | F115: Uložení sypaniny na skládky | AT115: PP | AU115: 2
D116: VV | F116: 707,976-702,576 | H116: 5.4 | AT116: VV | AU116: 2 | AV116: 2 | AW116: True | AX116: 1 | AY116: ROZPOCET
C117: 12 | D117: K | E117: 171201211 | F117: Poplatek za uložení odpadu ze sypaniny na skládce (skládkovné) | G117: t | H117: 9.72 | J117: =ROUND(I117*H117,2) -> 0 | K117: CS ÚRS 2018 01 | N117: základní | P117: =O117*H117 -> 0 | Q117: 0 | R117: =Q117*H117 -> 0 | S117: 0 | T117: =S117*H117 -> 0 | AR117: 4 | AT117: K | AU117: 2 | AY117: ROZPOCET | BE117: =IF(N117="základní",J117,0) -> 0 | BF117: =IF(N117="snížená",J117,0) -> 0 | BG117: =IF(N117="zákl. přenesená",J117,0) -> 0 | BH117: =IF(N117="sníž. přenesená",J117,0) -> 0 | BI117: =IF(N117="nulová",J117,0) -> 0 | BJ117: 1 | BK117: =ROUND(I117*H117,2) -> 0 | BL117: 4 | BM117: -1921512246
D118: PP | F118: Uložení sypaniny poplatek za uložení sypaniny na skládce (skládkovné) | AT118: PP | AU118: 2
D119: VV | F119: 5,4*1,8 'Přepočtené koeficientem množství | H119: 9.72 | AT119: VV | AU119: 2 | AV119: 2 | AW119: False | AX119: 1 | AY119: ROZPOCET
C120: 13 | D120: K | E120: 174101101 | F120: Zásyp jam, šachet rýh nebo kolem objektů sypaninou se zhutněním | G120: m3 | H120: 702.576 | J120: =ROUND(I120*H120,2) -> 0 | K120: CS ÚRS 2018 01 | N120: základní | P120: =O120*H120 -> 0 | Q120: 0 | R120: =Q120*H120 -> 0 | S120: 0 | T120: =S120*H120 -> 0 | AR120: 4 | AT120: K | AU120: 2 | AY120: ROZPOCET | BE120: =IF(N120="základní",J120,0) -> 0 | BF120: =IF(N120="snížená",J120,0) -> 0 | BG120: =IF(N120="zákl. přenesená",J120,0) -> 0 | BH120: =IF(N120="sníž. přenesená",J120,0) -> 0 | BI120: =IF(N120="nulová",J120,0) -> 0 | BJ120: 1 | BK120: =ROUND(I120*H120,2) -> 0 | BL120: 4 | BM120: -1898664195
D121: PP | F121: Zásyp sypaninou z jakékoliv horniny s uložením výkopku ve vrstvách se zhutněním jam, šachet, rýh nebo kolem objektů v těchto vykopávkách | AT121: PP | AU121: 2
D122: VV | F122: 2*2*1,8*95"startovací jámy | H122: 684 | AT122: VV | AU122: 2 | AV122: 2 | AW122: True | AX122: 0 | AY122: ROZPOCET
D123: VV | F123: 2,4*3,7*2,7-1,2*2,5*1,8"šachta | H123: 18.576 | AT123: VV | AU123: 2 | AV123: 2 | AW123: True | AX123: 0 | AY123: ROZPOCET
D124: VV | F124: Součet | H124: 702.576 | AT124: VV | AU124: 2 | AV124: 4 | AW124: True | AX124: 1 | AY124: ROZPOCET
D125: D | E125: 2 | F125: Zakládání | J125: =BK125 -> 0 | P125: =SUM(P126:P131) -> 0 | R125: =SUM(R126:R131) -> 2.4654721 | T125: =SUM(T126:T131) -> 0 | AR125: 1 | AT125: D | AU125: 1 | AY125: ROZPOCET | BK125: =SUM(BK126:BK131) -> 0
C126: 14 | D126: K | E126: 273326251 | F126: Základové desky ze ŽB pro prostředí s mrazovými cykly tř. C 35/45 | G126: m3 | H126: 0.928 | J126: =ROUND(I126*H126,2) -> 0 | K126: CS ÚRS 2018 01 | N126: základní | P126: =O126*H126 -> 0 | Q126: 2.55178 | R126: =Q126*H126 -> 2.3680518 | S126: 0 | T126: =S126*H126 -> 0 | AR126: 4 | AT126: K | AU126: 2 | AY126: ROZPOCET | BE126: =IF(N126="základní",J126,0) -> 0 | BF126: =IF(N126="snížená",J126,0) -> 0 | BG126: =IF(N126="zákl. přenesená",J126,0) -> 0 | BH126: =IF(N126="sníž. přenesená",J126,0) -> 0 | BI126: =IF(N126="nulová",J126,0) -> 0 | BJ126: 1 | BK126: =ROUND(I126*H126,2) -> 0 | BL126: 4 | BM126: -1060846773
D127: PP | F127: Základy z betonu železového desky z betonu pro prostředí s mrazovými cykly tř. C 35/45 | AT127: PP | AU127: 2
D128: VV | F128: 2,9*1,6*0,2 | H128: 0.928 | AT128: VV | AU128: 2 | AV128: 2 | AW128: True | AX128: 1 | AY128: ROZPOCET
C129: 15 | D129: K | E129: 273366006 | F129: Výztuž základových desek z betonářské oceli 10 505 | G129: t | H129: 0.093 | J129: =ROUND(I129*H129,2) -> 0 | K129: CS ÚRS 2018 01 | N129: základní | P129: =O129*H129 -> 0 | Q129: 1.04753 | R129: =Q129*H129 -> 0.09742029 | S129: 0 | T129: =S129*H129 -> 0 | AR129: 4 | AT129: K | AU129: 2 | AY129: ROZPOCET | BE129: =IF(N129="základní",J129,0) -> 0 | BF129: =IF(N129="snížená",J129,0) -> 0 | BG129: =IF(N129="zákl. přenesená",J129,0) -> 0 | BH129: =IF(N129="sníž. přenesená",J129,0) -> 0 | BI129: =IF(N129="nulová",J129,0) -> 0 | BJ129: 1 | BK129: =ROUND(I129*H129,2) -> 0 | BL129: 4 | BM129: -802550726
D130: PP | F130: Výztuž základů desek z oceli 10 505 (R) nebo BSt 500 | AT130: PP | AU130: 2
D131: VV | F131: 0,928*0,1 | H131: 0.093 | AT131: VV | AU131: 2 | AV131: 2 | AW131: True | AX131: 1 | AY131: ROZPOCET
...

Sheet Pokyny pro vyplnění
C3: Struktura údajů, formát souboru a metodika pro zpracování
C4: Struktura
C6: Soubor je složen ze záložky Rekapitulace stavby a záložek s názvem soupisu prací pro jednotlivé objekty ve formátu XLSX. Každá ze záložek přitom obsahuje
C7: ještě samostatné sestavy vymezené orámovaním a nadpisem sestavy.
C9: Rekapitulace stavby obsahuje sestavu Rekapitulace stavby a Rekapitulace objektů stavby a soupisů prací.
D10: V sestavě Rekapitulace stavby jsou uvedeny informace identifikující předmět veřejné zakázky na stavební práce, KSO, CC-CZ, CZ-CPV, CZ-CPA a rekapitulaci
D11: celkové nabídkové ceny uchazeče.
D13: V sestavě Rekapitulace objektů stavby a soupisů prací je uvedena rekapitulace stavebních objektů, inženýrských objektů, provozních souborů,
D14: vedlejších a ostatních nákladů a ostatních nákladů s rekapitulací nabídkové ceny za jednotlivé soupisy prací. Na základě údaje Typ je možné
D15: identifikovat, zda se jedná o objekt nebo soupis prací pro daný objekt:
E16: STA | F16: Stavební objekt pozemní
E17: ING | F17: Stavební objekt inženýrský
E18: PRO | F18: Provozní soubor
E19: VON | F19: Vedlejší a ostatní náklady
E20: OST | F20: Ostatní
E21: Soupis | F21: Soupis prací pro daný typ objektu
C23: Soupis prací pro jednotlivé objekty obsahuje sestavy Krycí list soupisu, Rekapitulace členění soupisu prací, Soupis prací. Za soupis prací může být považován
C24: i objekt stavby v případě, že neobsahuje podřízenou zakázku.
D25: Krycí list soupisu obsahuje rekapitulaci informací o předmětu veřejné zakázky ze sestavy Rekapitulace stavby, informaci o zařazení objektu do KSO,
D26: CC-CZ, CZ-CPV, CZ-CPA a rekapitulaci celkové nabídkové ceny uchazeče za aktuální soupis prací.
D28: Rekapitulace členění soupisu prací obsahuje rekapitulaci soupisu prací ve všech úrovních členění soupisu tak, jak byla tato členění použita (např.
D29: stavební díly, funkční díly, případně jiné členění) s rekapitulací nabídkové ceny.
D31: Soupis prací obsahuje položky veškerých stavebních nebo montážních prací, dodávek materiálů a služeb nezbytných pro zhotovení stavebního objektu,
D32: inženýrského objektu, provozního souboru, vedlejších a ostatních nákladů.
D33: Pro položky soupisu prací se zobrazují následující informace:
E34: PČ | G34: Pořadové číslo položky v aktuálním soupisu
E35: TYP | G35: Typ položky: K - konstrukce, M - materiál, PP - plný popis, PSC - poznámka k souboru cen, P - poznámka k položce, VV - výkaz výměr
E36: Kód | G36: Kód položky
E37: Popis | G37: Zkrácený popis položky
E38: MJ | G38: Měrná jednotka položky
E39: Množství | G39: Množství v měrné jednotce
E40: J.cena | G40: Jednotková cena položky. Zadaní může obsahovat namísto J.ceny sloupce J.materiál a J.montáž, jejichž součet definuje
G41: J.cenu položky.
E42: Cena celkem | G42: Celková cena položky daná jako součin množství a j.ceny
E43: Cenová soustava | G43: Příslušnost položky do cenové soustavy
D45: Ke každé položce soupisu prací se na samostatných řádcích může zobrazovat:
E46: Plný popis položky
E47: Poznámka k souboru cen a poznámka zadavatele
E48: Výkaz výměr
D49: Pokud je k řádku výkazu výměr evidovaný údaj ve sloupci Kód, jedná se o definovaný odkaz, na který se může odvolávat výkaz výměr z jiné položky.
C50: Metodika pro zpracování
C52: Jednotlivé sestavy jsou v souboru provázány. Editovatelné pole jsou zvýrazněny žlutým podbarvením, ostatní pole neslouží k editaci a nesmí být jakkoliv
C53: modifikovány.
C55: Uchazeč je pro podání nabídky povinen vyplnit žlutě podbarvená pole:
D56: Pole Uchazeč v sestavě Rekapitulace stavby - zde uchazeč vyplní svůj název (název subjektu)
D57: Pole IČ a DIČ v sestavě Rekapitulace stavby - zde uchazeč vyplní svoje IČ a DIČ
D58: Datum v sestavě Rekapitulace stavby - zde uchazeč vyplní datum vytvoření nabídky
D59: J.cena = jednotková cena v sestavě Soupis prací o maximálním počtu desetinných míst uvedených v poli
D60: - pokud sestavy soupisů prací obsahují pole J.cena, musí být všechna tato pole vyplněna nenulovými kladnými číslicemi
D61: Poznámka - nepovinný údaj pro položku soupisu
D63: V případě, že sestavy soupisů prací neobsahují pole J.cena, potom ve všech soupisech prací obsahují pole:
D64: - J.materiál - jednotková cena materiálu
D65: - J.montáž - jednotková cena montáže
D66: Uchazeč je v tomto případě povinen vyplnit všechna pole J.materiál a pole J.montáž nenulovými kladnými číslicemi. V případech, kdy položka
D67: neobsahuje žádný materiál je přípustné, aby pole J.materiál bylo vyplněno nulou. V případech, kdy položka neobsahuje žádnou montáž je přípustné,
D68: aby pole J.montáž bylo vyplněno nulou. Není však přípustné, aby obě pole - J.materiál, J.Montáž byly u jedné položky vyplněny nulou.
C73: Rekapitulace stavby
C74: Název | F74: Povinný | H74: Popis | I74: Typ | J74: Max. počet
C75: atributu | F75: (A/N) | J75: znaků
C77: Kód | F77: A | H77: Kód stavby | I77: String | J77: 20
C78: Stavba | F78: A | H78: Název stavby | I78: String | J78: 120
C79: Místo | F79: N | H79: Místo stavby | I79: String | J79: 50
C80: Datum | F80: A | H80: Datum vykonaného exportu | I80: Date
C81: KSO | F81: N | H81: Klasifikace stavebního objektu | I81: String | J81: 15
C82: CC-CZ | F82: N | H82: Klasifikace stavbeních děl | I82: String | J82: 15
C83: CZ-CPV | F83: N | H83: Společný slovník pro veřejné zakázky | I83: String | J83: 20
C84: CZ-CPA | F84: N | H84: Klasifikace produkce podle činností | I84: String | J84: 20
C85: Zadavatel | F85: N | H85: Zadavatel zadaní | I85: String | J85: 50
C86: IČ | F86: N | H86: IČ zadavatele zadaní | I86: String | J86: 20
C87: DIČ | F87: N | H87: DIČ zadavatele zadaní | I87: String | J87: 20
C88: Uchazeč | F88: N | H88: Uchazeč veřejné zakázky | I88: String | J88: 50
C89: Projektant | F89: N | H89: Projektant | I89: String | J89: 50
C90: Poznámka | F90: N | H90: Poznámka k zadání | I90: String | J90: 255
C91: Sazba DPH | F91: A | H91: Rekapitulace sazeb DPH u položek soupisů | I91: eGSazbaDph
C92: Základna DPH | F92: A | H92: Základna DPH určena součtem celkové ceny z položek soupisů | I92: Double
C93: Hodnota DPH | F93: A | H93: Hodnota DPH | I93: Double
C94: Cena bez DPH | F94: A | H94: Celková cena bez DPH za celou stavbu. Sčítává se ze všech listů. | I94: Double
C95: Cena s DPH | F95: A | H95: Celková cena s DPH za celou stavbu | I95: Double
C100: Rekapitulace objektů stavby a soupisů prací
C101: Název | F101: Povinný | H101: Popis | I101: Typ | J101: Max. počet
C102: atributu | F102: (A/N) | J102: znaků
C104: Kód | F104: A | H104: Přebírá se z Rekapitulace stavby | I104: String | J104: 20
C105: Stavba | F105: A | H105: Přebírá se z Rekapitulace stavby | I105: String | J105: 120
C106: Místo | F106: N | H106: Přebírá se z Rekapitulace stavby | I106: String | J106: 50
C107: Datum | F107: A | H107: Přebírá se z Rekapitulace stavby | I107: Date
C108: Zadavatel | F108: N | H108: Přebírá se z Rekapitulace stavby | I108: String | J108: 50
C109: Projektant | F109: N | H109: Přebírá se z Rekapitulace stavby | I109: String | J109: 50
C110: Uchazeč | F110: N | H110: Přebírá se z Rekapitulace stavby | I110: String | J110: 50
C111: Kód | F111: A | H111: Kód objektu | I111: String | J111: 20
C112: Objektu, Soupis prací | F112: A | H112: Název objektu | I112: String | J112: 120
C113: Cena bez DPH | F113: A | H113: Cena bez DPH za daný objekt | I113: Double
C114: Cena s DPH | F114: A | H114: Cena spolu s DPH za daný objekt | I114: Double
C115: Typ | F115: A | H115: Typ zakázky | I115: eGTypZakazky
C120: Krycí list soupisu
C121: Název | F121: Povinný | H121: Popis | I121: Typ | J121: Max. počet
C122: atributu | F122: (A/N) | J122: znaků
C124: Stavba | F124: A | H124: Přebírá se z Rekapitulace stavby | I124: String | J124: 120
C125: Objekt | F125: A | H125: Kód a název objektu | I125: String | J125: 20 + 120
C126: Soupis | F126: A | H126: Kód a název soupisu | I126: String | J126: 20 + 120
C127: KSO | F127: N | H127: Klasifikace stavebního objektu | I127: String | J127: 15
...
