Workbook

Sheet Krycí list+Pokyny
A1: SOUPIS PRACÍ - KRYCÍ LIST
A2: Stavba: Zvýšení kapacity předškolního vzdělávání ve městě Ralsko
A3: Část: Rekapitulace nákladů na stavbu
A4: Místo: Město Ralsko, část Kuřívody, p.p.č.5, 15/2, 15/4 a 15/5 v k.ú. Kuřívody
A5: Objednatel: Město Ralsko, Kuřívody 701, 471 24 Ralsko
A6: Zhotovitel:
A8: JKSO: 801 31 8 1
A9: Zpracoval:
A10: Datum:
B11: POKYNY PRO VYPLNĚNÍ SOUPISU PRACÍ :
B12: S položkami uvedenými ve výkazech, výkresech a technické zprávě platí veškeré s nimi spojené práce, které jsou
B13: zapotřebí pro provedení kompletní dodávky, a to i když nejsou zvlášť uvedeny ve výkazech výměr. To znamená, že
B14: veškeré položky patrné z výkazů, výkresů a technických zpráv je třeba v nabídkové ceně ocenit jako komplexně
B15: vykonané práce vč.materiálů, nářadí a strojů nutných k práci, přestože nejsou ve výkazech vypsány zvlášť.
B17: Zpracovatel nabídkového rozpočtu ručí za správnou provázanost jednotlivých vzorců a součtů.
B18: Při zpracovávání nabídkového rozpočtu nelze měnit popis položek, počet položek, ani jejich jednotlivá množství.
B20: Vyplňují se pouze modře označené buňky.
A22: 1.1. - ARCHITEKTONICKO-STAVEBNÍ ŘEŠENÍ | C22: =SUM(C23:C41) -> 0
A23: 1 | B23: Přípravné a zemní práce | C23: ='Stavební část'!G12 -> 0
A24: 2 | B24: Základy, zvláštní zakládání, zpevňování hornin | C24: ='Stavební část'!G72 -> 0
A25: 3 | B25: Svislé konstrukce | C25: ='Stavební část'!G135 -> 0
A26: 4 | B26: Vodorovné konstrukce | C26: ='Stavební část'!G170 -> 0
A27: 5 | B27: Komunikace | C27: ='Stavební část'!G215 -> 0
A28: 6 | B28: Úprava povrchů, podlahy a osazování výplní otvorů | C28: ='Stavební část'!G231 -> 0
A29: 9 | B29: Ostatní konstrukce a práce, bourání, přesun hmot | C29: ='Stavební část'!G423 -> 0
A30: 711 | B30: Izolace proti vodě | C30: ='Stavební část'!G533 -> 0
A31: 713 | B31: Izolace tepelné | C31: ='Stavební část'!G554 -> 0
A32: 762 | B32: Konstrukce tesařské | C32: ='Stavební část'!G604 -> 0
A33: 763 | B33: Dřevostavby | C33: ='Stavební část'!G626 -> 0
A34: 764 | B34: Konstrukce klempířské | C34: ='Stavební část'!G649 -> 0
A35: 765 | B35: Krytiny tvrdé | C35: ='Stavební část'!G660 -> 0
A36: 766 | B36: Konstrukce truhlářské | C36: ='Stavební část'!G686 -> 0
A37: 767 | B37: Konstrukce kovové doplňkové stavební | C37: ='Stavební část'!G705 -> 0
A38: 771 | B38: Podlahy z dlaždic | C38: ='Stavební část'!G713 -> 0
A39: 776 | B39: Podlahy povlakové | C39: ='Stavební část'!G820 -> 0
A40: 781 | B40: Obklady keramické | C40: ='Stavební část'!G897 -> 0
A41: 784 | B41: Malby | C41: ='Stavební část'!G1041 -> 0
A42: 1.3. - ZDRAVOTECHNIKA | C42: =SUM(C43:C46) -> 0
A43: 721-1 | B43: Kanalizace | C43: =Zdravotechnika!G12 -> 0
A44: 721-2 | B44: Odvedení dešťových vod | C44: =Zdravotechnika!G76 -> 0
A45: 722-1 | B45: Napojení vodovodu | C45: =Zdravotechnika!G96 -> 0
A46: 722-2 | B46: Vnitřní vodovod | C46: =Zdravotechnika!G140 -> 0
A47: 1.4. - ELEKTROINSTALACE - SILNOPROUD | C47: =SUM(C48:C54) -> 0
A48: 21-1 | B48: Dodávky zařízení | C48: =Silnoproud!G12 -> 0
A49: 21-2 | B49: Materiál elektromontážní | C49: =Silnoproud!G24 -> 0
A50: 21-3 | B50: Materiál zemní | C50: =Silnoproud!G102 -> 0
A51: 21-4 | B51: Elektromontáže | C51: =Silnoproud!G109 -> 0
A52: 21-5 | B52: Zemní práce | C52: =Silnoproud!G157 -> 0
A53: 21-6 | B53: Ostatní náklady | C53: =Silnoproud!G170 -> 0
A54: 21-7 | B54: Ostatní | C54: =Silnoproud!G191 -> 0
A55: 1.5. - ELEKTRONICKÉ KOMUNIKACE - oceněno v části Vedlejší výdaje stavby | C55: =SUM(C56:C61) -> 0
A56: 21-1 | B56: Materiál elektromontážní | C56: =Slaboproud!G13 -> 0
A57: 21-2 | B57: Materiál zemní + stavební | C57: =Slaboproud!G50 -> 0
A58: 21-3 | B58: Elektromontáže | C58: =Slaboproud!G53 -> 0
A59: 21-4 | B59: Zemní práce | C59: =Slaboproud!G79 -> 0
A60: 21-5 | B60: Ostatní náklady | C60: =Slaboproud!G86 -> 0
A61: 21-6 | B61: Ostatní | C61: =Slaboproud!G90 -> 0
A62: 1.6. - VYTÁPĚNÍ | C62: =SUM(C63:C66) -> 0
A63: 730-1 | B63: Podlahové vytápění | C63: =Vytápění!G12 -> 0
A64: 730-2 | B64: Potrubí měděné vč. tvarovek, redukcí, návarků, šroubení a kotvení potrubí | C64: =Vytápění!G25 -> 0
A65: 730-3 | B65: Izolace na potrubí | C65: =Vytápění!G29 -> 0
A66: 730-4 | B66: Montáž+ostatní | C66: =Vytápění!G33 -> 0
A67: 1.7. - VZDUCHOTECHNIKA | C67: =SUM(C68:C70) -> 0
A68: 24-1 | B68: VZT 1 - Pavilon A | C68: =Vzduchotechnika!G12 -> 0
A69: 24-2 | B69: VZT 2 - Pavilon B + C | C69: =Vzduchotechnika!G32 -> 0
A70: 24-3 | B70: Ostatní | C70: =Vzduchotechnika!G54 -> 0
A71: VNITŘNÍ VYBAVENÍ | C71: =SUM(C72:C75) -> 0
A72: 766-1 | B72: Nábytek a doplňky | C72: ='Vnitřní vybavení'!G12 -> 0
A73: 766-2 | B73: IT a elektro | C73: ='Vnitřní vybavení'!G67 -> 0
A74: 766-3 | B74: Kompenzační pomůcky | C74: ='Vnitřní vybavení'!G80 -> 0
A75: 766-4 | B75: Vnitřní vybavení nezpůsobilé | C75: ='Vnitřní vybavení'!G86 -> 0
A76: SADOVÉ ÚPRAVY, HERNÍ PRVKY A MOBILIÁŘ | C76: =SUM(C77:C78) -> 0
A77: 1 | B77: Sadové úpravy | C77: ='Sadové úpravy'!G12 -> 0
A78: 2 | B78: Herní prvky a mobiliář | C78: ='Sadové úpravy'!G81 -> 0
A79: POVINNÁ PUBLICITA | C79: =SUM(C80:C80) -> 0
A80: 767-1 | B80: Konstrukce kovové doplňkové stavební | C80: ='Povinná publicita'!G12 -> 0
A81: VEDLEJŠÍ VÝDAJE STAVBY | C81: =SUM(C82:C93) -> 0
A82: 5 | B82: Komunikace -z části 1.1 Architektonicko-stavební řešení | C82: ='Vedlejší výdaje stavby'!G14 -> 0
A83: 9 | B83: Ostatní konstrukce a práce, bourání, přesun hmot -z části 1.1 Arch.-stavební řešení | C83: ='Vedlejší výdaje stavby'!G28 -> 0
A84: 21-1 | B84: Dodávky zařízení -svítidla -z části 1.4 Elektroinstalace-silnoproud | C84: ='Vedlejší výdaje stavby'!G34 -> 0
A85: 21-2 | B85: Materiál elektromontážní -svítidla -z části 1.4 Elektroinstalace-silnoproud | C85: ='Vedlejší výdaje stavby'!G45 -> 0
A86: 21-4 | B86: Elektromontáže -svítidla -z části 1.4 Elektroinstalace-silnoproud | C86: ='Vedlejší výdaje stavby'!G53 -> 0
A87: 21-6 | B87: Ostatní náklady -svítidla -z části 1.4 Elektroinstalace-silnoproud | C87: ='Vedlejší výdaje stavby'!G65 -> 0
A88: 21-1 | B88: Materiál elektromontážní -z části 1.5 Elektronické komunikace | C88: ='Vedlejší výdaje stavby'!G85 -> 0
A89: 21-2 | B89: Materiál zemní + stavební -z části 1.5 Elektronické komunikace | C89: ='Vedlejší výdaje stavby'!G122 -> 0
A90: 21-3 | B90: Elektromontáže -z části 1.5 Elektronické komunikace | C90: ='Vedlejší výdaje stavby'!G125 -> 0
A91: 21-4 | B91: Zemní práce -z části 1.5 Elektronické komunikace | C91: ='Vedlejší výdaje stavby'!G151 -> 0
A92: 21-5 | B92: Ostatní náklady -z části 1.5 Elektronické komunikace | C92: ='Vedlejší výdaje stavby'!G158 -> 0
A93: 21-6 | B93: Ostatní -z části 1.5 Elektronické komunikace | C93: ='Vedlejší výdaje stavby'!G162 -> 0
A95: VRN - VEDLEJŠÍ A OSTATNÍ NÁKLADY | C95: =SUM(C96:C96) -> 0
A96: 99 | B96: Ostatní práce | C96: =VRN!G11 -> 0
A99: CELKOVÉ NÁKLADY NA STAVBU - BEZ DPH | C99: =C22+C42+C47+C55+C62+C67+C71+C76+C79+C81+C95 -> 0
A102: DPH 21 % | C102: =C99/100*21 -> 0
A106: CELKOVÉ NÁKLADY NA STAVBU - VČETNĚ DPH | C106: =C99+C102 -> 0

Sheet Rekapitulace
A1: SOUPIS PRACÍ - REKAPITULACE
A2: Stavba: Zvýšení kapacity předškolního vzdělávání ve městě Ralsko | E2: JKSO: 801 31 8 1
A3: Část: Rekapitulace nákladů na stavbu | E3: Zpracoval:
A4: Místo: Město Ralsko, část Kuřívody, p.p.č.5, 15/2, 15/4 a 15/5 v k.ú. Kuřívody | E4: Datum:
A5: Objednatel: Město Ralsko, Kuřívody 701, 471 24 Ralsko
A6: Zhotovitel:
B8: ZÁKLADNÍ ROZPOČTOVÉ NÁKLADY NA STAVBU
A9: 001 | B9: z toho: | C9: 1 | D9: PŘÍPRAVNÉ A ZEMNÍ PRÁCE | E9: ='Stavební část'!G12 -> 0
A10: 002 | C10: 2 | D10: ZÁKLADY, ZVLÁŠTNÍ ZAKLÁDÁNÍ, ZPEVŇOVÁNÍ HORNIN | E10: ='Stavební část'!G72 -> 0
A11: 003 | C11: 3 | D11: SVISLÉ KONSTRUKCE | E11: ='Stavební část'!G135 -> 0
A12: 004 | C12: 4 | D12: VODOROVNÉ KONSTRUKCE | E12: ='Stavební část'!G170 -> 0
A13: 005 | C13: 5 | D13: KOMUNIKACE | E13: ='Stavební část'!G215 -> 0
A14: 006 | C14: 6 | D14: ÚPRAVY POVRCHŮ,PODLAHY A OSAZOVÁNÍ VÝPLNÍ OTVORŮ | E14: ='Stavební část'!G231 -> 0
A15: 007 | C15: 9 | D15: OSTATNÍ KONSTRUKCE A PRÁCE, PŘESUN HMOT | E15: ='Stavební část'!G423 -> 0
A16: 008 | C16: 711 | D16: IZOLACE PROTI VODĚ | E16: ='Stavební část'!G533 -> 0
A17: 009 | C17: 713 | D17: IZOLACE TEPELNÉ | E17: ='Stavební část'!G554 -> 0
A18: 010 | C18: 762 | D18: KONSTRUKCE TESAŘSKÉ | E18: ='Stavební část'!G604 -> 0
A19: 011 | C19: 763 | D19: DŘEVOSTAVBY | E19: ='Stavební část'!G626 -> 0
A20: 012 | C20: 720 | D20: ZDRAVOTECHNIKA -samostatný list | E20: =Zdravotechnika!G10 -> 0
A21: 013 | C21: 730 | D21: VYTÁPĚNÍ -samostatný list | E21: =Vytápění!G10 -> 0
A22: 014 | C22: 764 | D22: KONSTRUKCE KLEMPÍŘSKÉ | E22: ='Stavební část'!G649 -> 0
A23: 015 | C23: 765 | D23: KRYTINY TVRDÉ | E23: ='Stavební část'!G660 -> 0
A24: 016 | C24: 766 | D24: KONSTRUKCE TRUHLÁŘSKÉ | E24: ='Stavební část'!G686 -> 0
A25: 017 | C25: 766-1 | D25: VNITŘNÍ VYBAVENÍ -samostatný list | E25: ='Vnitřní vybavení'!G10 -> 0
A26: 018 | C26: 767 | D26: KONSTRUKCE KOVOVÉ DOPLŇKOVÉ STAVEBNÍ | E26: ='Stavební část'!G705 -> 0
A27: 019 | C27: 767-1 | D27: POVINNÁ PUBLICITA -samostatný list | E27: ='Povinná publicita'!G10 -> 0
A28: 020 | C28: 771 | D28: PODLAHY Z DLAŽDIC | E28: ='Stavební část'!G713 -> 0
A29: 021 | C29: 776 | D29: PODLAHY POVLAKOVÉ | E29: ='Stavební část'!G820 -> 0
A30: 022 | C30: 781 | D30: OBKLADY KERAMICKÉ | E30: ='Stavební část'!G897 -> 0
A31: 023 | C31: 784 | D31: MALBY | E31: ='Stavební část'!G1041 -> 0
A32: 024 | C32: M-21 | D32: ELEKTROINSTALACE-SILNOPROUD | E32: =Silnoproud!G10 -> 0
A33: 025 | C33: M-22 | D33: ELEKTROINSTALACE-SLABOPROUD -oceněno ve VVS | E33: =Slaboproud!G11 -> 0
A34: 026 | C34: M-24 | D34: MONTÁŽE VZDUCHOTECHNICKÝCH ZAŘÍZENÍ -samost.list | E34: =Vzduchotechnika!G10 -> 0
C35: 42370 | D35: SADOVÉ ÚPRAVY, HERNÍ PRVKY A MOBILIÁŘ | E35: ='Sadové úpravy'!G10 -> 0
A36: 027 | C36: OST | D36: VEDLEJŠÍ VÝDAJE STAVBY | E36: ='Vedlejší výdaje stavby'!G10 -> 0
B37: ZÁKLADNÍ ROZPOČTOVÉ NÁKLADY NA STAVBU - CELKEM BEZ DPH | E37: =SUM(E9:E36) -> 0
B39: VRN-VEDLEJŠÍ A OSTATNÍ NÁKLADY
A40: 028 | B40: M99 | C40: VEDLEJŠÍ NÁKLADY -samostatný list | E40: =VRN!G10 -> 0
B41: VRN-VEDLEJŠÍ A OSTATNÍ NÁKLADY NA STAVBU - CELKEM BEZ DPH | E41: =SUM(E40) -> 0
B43: CELKOVÉ NÁKLADY NA STAVBU BEZ DPH | E43: =E37+E41 -> 0

Sheet VRN
A1: SOUPIS PRACÍ
A2: Stavba: Zvýšení kapacity předškolního vzdělávání ve městě Ralsko | E2: JKSO: 801 31 8 1
A3: Část: Vedlejší a ostatní náklady | E3: Zpracoval:
A4: Místo: Město Ralsko, část Kuřívody, p.p.č.5, 15/2, 15/4 a 15/5 v k.ú. Kuřívody | E4: Datum:
A5: Objednatel: Město Ralsko, Kuřívody 701, 471 24 Ralsko
A6: Zhotovitel:
A7: P.Č. | B7: Kód položky | C7: Popis | D7: MJ | E7: Množství celkem | F7: Cena jednotková | G7: Cena celkem
A8: 1 | B8: 2 | C8: 3 | D8: 4 | E8: 5 | F8: 6 | G8: 7
C10: VRN-Vedlejší a ostatní náklady -celkem | G10: =G11 -> 0
B11: 99 | C11: Ostatní práce | G11: =SUM(G12:G20) -> 0
A12: 001 | B12: 005 12-1001.R | C12: Pronájem zařízení staveniště staveništní buňky,osvětlení.. | D12: měs. | E12: 10 | G12: =E12*F12 -> 0
A13: 002 | B13: 005 12-1002.R | C13: Ostraha staveniště | D13: měs. | E13: 4 | G13: =E13*F13 -> 0
A14: 003 | B14: 005 12-1003.R | C14: Čištění komunikací, úklid | D14: měs. | E14: 5 | G14: =E14*F14 -> 0
A15: 004 | B15: 005 12-1004.R | C15: Dočasná staveništní přípojka kanalizace | D15: kus | E15: 1 | G15: =E15*F15 -> 0
A16: 005 | B16: 005 12-1005.R | C16: Dočasná staveništní přípojka elektro | D16: kus | E16: 1 | G16: =E16*F16 -> 0
A17: 006 | B17: 005 12-1006.R | C17: Dočasná staveništní přípojka vody | D17: kus | E17: 1 | G17: =E17*F17 -> 0
A18: 007 | B18: 005 24-1010.R | C18: Dokumentace skutečného provedení stavby -mimo profesí | D18: kus | E18: 1 | G18: =E18*F18 -> 0
A19: 008 | B19: 005 24-1020.R | C19: Geodetické zaměření skutečného provedení | D19: kus | E19: 1 | G19: =E19*F19 -> 0
A20: 009 | B20: 005 28-1010.R | C20: Staveništní informační tabule | D20: kus | E20: 1 | G20: =E20*F20 -> 0

Sheet Stavební část
A1: SOUPIS PRACÍ
A2: Stavba: Zvýšení kapacity předškolního vzdělávání ve městě Ralsko | E2: JKSO: 801 31 8 1
A3: Část: Architektonicko-stavební řešení | E3: Zpracoval:
A4: Místo: Město Ralsko, část Kuřívody, p.p.č.5, 15/2, 15/4 a 15/5 v k.ú. Kuřívody | E4: Datum:
A5: Objednatel: Město Ralsko, Kuřívody 701, 471 24 Ralsko
A6: Zhotovitel:
A7: P.Č. | B7: Kód položky | C7: Popis | D7: MJ | E7: Množství celkem | F7: Cena jednotková | G7: Cena celkem | H7: Hmotnost jednotková | I7: Hmotnost celkem
A8: 1 | B8: 2 | C8: 3 | D8: 4 | E8: 5 | F8: 6 | G8: 7 | H8: 9 | I8: 10
C10: Architektonicko-stavební řešení -celkem | G10: =G11+G532 -> 0
B11: HSV | C11: Práce a dodávky HSV | G11: =G12+G72+G135+G170+G215+G231+G423 -> 0
B12: 1 | C12: Přípravné a zemní práce | G12: =SUM(G13:G71) -> 0
A13: 001 | B13: 101101111R01 | C13: Vytýčení a zajištění stáv.inž.sítí | D13: kus | E13: 1 | G13: =E13*F13 -> 0 | H13: 0 | I13: =E13*H13 -> 0
A14: 002 | B14: 119001401RA1 | C14: Křížení přeložek kanalizace,vody,elektro | D14: kus | E14: 3 | G14: =E14*F14 -> 0 | H14: 0 | I14: =E14*H14 -> 0
A15: 003 | B15: 119001421R00 | C15: Dočasné zajištění kabelů-CETIN | D15: m | E15: 30.5 | G15: =E15*F15 -> 0 | H15: 0 | I15: =E15*H15 -> 0
C16: výměra: 25,00+4,00+1,50 | D16: m | E16: 30.5
A17: 004 | B17: 119001421RA1 | C17: Ochrana stáv.kabelu silničními panely do písk.lože | D17: kus | E17: 1 | G17: =E17*F17 -> 0 | H17: 0 | I17: =E17*H17 -> 0
A18: 005 | B18: 121101102R00 | C18: Sejmutí ornice s přemíst.do 100 m a pro zpět.použ.vč.převrstvení | D18: m3 | E18: =E22 -> 154.704 | G18: =E18*F18 -> 0 | H18: 0 | I18: =E18*H18 -> 0
C19: [27,30x27,30)-(11,10x11,10)+(4,50x4,50)+(11,40x1,00)]x0,20=
C20: =(745,29-123,21+20,25+11,40)x0,20=130,746 | D20: m3 | E20: 130.746
C21: (12,10x9,90)x0,20=23,958 | D21: m3 | E21: 23.958
C22: celkem | D22: m3 | E22: =SUM(E20:E21) -> 154.704
A23: 006 | B23: 122301101R00 | C23: Odkopávky nezapaž.v hor.4 do 100m3 | D23: m3 | E23: =E26 -> 111.281 | G23: =E23*F23 -> 0 | H23: 0 | I23: =E23*H23 -> 0
C24: [27,30x27,30)-(11,10x11,10)]x0,15=(745,29-123,21)x0,15=93,312 | D24: m3 | E24: 93.312
C25: (12,10x9,90)x0,15=17,969 | D25: m3 | E25: 17.969
C26: celkem | D26: m3 | E26: =SUM(E24:E25) -> 111.281
A27: 007 | B27: 122301109R00 | C27: Příplatek za lepivost -odkopávky v hor.4 | D27: m3 | E27: =E28 -> 111.281 | G27: =E27*F27 -> 0 | H27: 0 | I27: =E27*H27 -> 0
C28: výměra: 111,281 | D28: m3 | E28: =E26 -> 111.281
A29: 008 | B29: 132201101R00 | C29: Hloubení rýh 60 cm v hornině 3 do 100 m3 | D29: m3 | E29: =E35 -> 80.795 | G29: =E29*F29 -> 0 | H29: 0 | I29: =E29*H29 -> 0
C30: [(25,30+24,30)x2+12,25+2,029+2,65+1,60+0,45+3,025]x0,50x0,75=
C31: =(121,204x0,50x0,75)=45,452 | D31: m3 | E31: 45.452
C32: [(13,20+13,05)x2+(8,18+4,00)x2+(5,15+5,16)x4]x0,40x0,41=
C33: =(118,10x0,40x0,41)=19,368 | D33: m3 | E33: 19.368
C34: (12,40+8,90)x2x0,50x0,75=15,975 | D34: m3 | E34: 15.975
C35: celkem | D35: m3 | E35: =SUM(E30:E34) -> 80.795
A36: 009 | B36: 132301109R00 | C36: Příplatek za lepivost -hloubení rýh 60 cm v hornině 3 | D36: m3 | E36: =E37 -> 80.795 | G36: =E36*F36 -> 0 | H36: 0 | I36: =E36*H36 -> 0
C37: výměra: 80,57 | D37: m3 | E37: =E35 -> 80.795
A38: 010 | B38: 133201101R00 | C38: Hloubení šachet v hornině 3 do 100 m3 | D38: m3 | E38: =E39 -> 3.11 | G38: =E38*F38 -> 0 | H38: 0 | I38: =E38*H38 -> 0
C39: (1,20x1,60x1,62)=3,11 | D39: m3 | E39: 3.11
A40: 011 | B40: 133201109R00 | C40: Příplatek za lepivost -hloubení šachet v hor.3 | D40: m3 | E40: =E41 -> 3.11 | G40: =E40*F40 -> 0 | H40: 0 | I40: =E40*H40 -> 0
C41: výměra: 3,11 | D41: m3 | E41: =E39 -> 3.11
A42: 012 | B42: 162201102R10 | C42: Vodorovné přemístění výkopku z hor.1-4 do 50 m -deponie výkopku | D42: m3 | E42: =E46 -> 195.186 | G42: =E42*F42 -> 0 | H42: 0 | I42: =E42*H42 -> 0
C43: odkopávky: 111,281 | D43: m3 | E43: =E26 -> 111.281
C44: hloubení rýh: 80,795 | D44: m3 | E44: =E35 -> 80.795
C45: hloubení šachet: 3,11 | D45: m3 | E45: =E41 -> 3.11
C46: celkem | D46: m3 | E46: =SUM(E43:E45) -> 195.186
A47: 013 | B47: 162201102R20 | C47: Vodorovné přemístění výkopku z hor.1-4 do 50 m - z deponie - zásyp | D47: m3 | E47: =E48 -> 4.242 | G47: =E47*F47 -> 0 | H47: 0 | I47: =E47*H47 -> 0
C48: výměra: 4,242 | D48: m3 | E48: =E68 -> 4.242
A49: 014 | B49: 162701105R20 | C49: Vodorovné přemístění výkopku z hor.1-4 do 10000 m na skládku | D49: m3 | E49: =E55 -> 94.632 | G49: =E49*F49 -> 0
C50: výkopek: 195,186 | D50: m3 | E50: =E46 -> 195.186
C51: objem štěrkopísku: 19,326 | D51: m3 | E51: -19.326
C52: objem základů betonových: 50,077 | D52: m3 | E52: -50.077
C53: objem základů z tvárnic: 26,909 | D53: m3 | E53: -26.909
C54: zásyp: 45,452-26,665-14,545=4,242 | D54: m3 | E54: -4.242
C55: celkem | D55: m3 | E55: =SUM(E50:E54) -> 94.632
A56: 015 | B56: 167101102R00 | C56: Nakládání výkopku nad 100m3 hor.1-4 -odvoz na deponii | D56: m3 | E56: =E57 -> 195.186 | G56: =E56*F56 -> 0 | H56: 0 | I56: =E56*H56 -> 0
C57: výměra: 195,186 | D57: m3 | E57: =E42 -> 195.186
A58: 016 | B58: 167101102R00 | C58: Nakládání výkopku nad 100m3 hor.1-4 -z deponie pro zásypy | D58: m3 | E58: =E59 -> 4.242 | G58: =E58*F58 -> 0 | H58: 0 | I58: =E58*H58 -> 0
C59: výměra: 4,242 | D59: m3 | E59: =E48 -> 4.242
A60: 017 | B60: 167101102R00 | C60: Nakládání výkopku nad 100m3 hor.1-4 -z deponie na skládku | D60: m3 | E60: =E61 -> 94.632 | G60: =E60*F60 -> 0 | H60: 0 | I60: =E60*H60 -> 0
C61: výměra: 94,632 | D61: m3 | E61: =E55 -> 94.632
A62: 018 | B62: 171201201R10 | C62: Uložení sypaniny na deponii -modelace na výšku přes 2 m | D62: m3 | E62: =E63 -> 195.186 | G62: =E62*F62 -> 0 | H62: 0 | I62: =E62*H62 -> 0
C63: materiál z výkopů: 195,186 | D63: m3 | E63: =E42 -> 195.186
A64: 019 | B64: 171201201R00 | C64: Uložení sypaniny na skládku | D64: m3 | E64: =E65 -> 94.632 | G64: =E64*F64 -> 0 | H64: 0 | I64: =E64*H64 -> 0
C65: materiál z výkopů: 94,632 | D65: m3 | E65: =E55 -> 94.632
A66: 020 | B66: 174101101R00 | C66: Zásyp,násyp jam, rýh, šachet výkopkem se zhutněním po vrstvách | D66: m3 | E66: =E68 -> 4.242 | G66: =E66*F66 -> 0 | H66: 0 | I66: =E66*H66 -> 0
C67: zásyp: 45,452-26,665-14,545=4,242 | D67: m3 | E67: 4.242
C68: celkem | D68: m3 | E68: =SUM(E67) -> 4.242
A69: 021 | B69: 184102100RA1 | C69: Přesazení stromu -kompletní provedení | D69: kus | E69: 1 | G69: =E69*F69 -> 0 | H69: 0 | I69: =E69*H69 -> 0
A70: 022 | B70: 199101101R00 | C70: Poplatek za skládku výkopku-skládkovné | D70: t | E70: =E71 -> 165.606 | G70: =E70*F70 -> 0 | H70: 0 | I70: =E70*H70 -> 0
C71: výměra: 94,632x1,75=165,606 | D71: t | E71: =E55*1.75 -> 165.606
B72: 2 | C72: Základy, zvláštní zakládání, zpevňování hornin | G72: =SUM(G73:G134) -> 0
A73: 023 | B73: 212710110RA1 | C73: Odvětrání radonu-horizont.perfor.potrubí DN 80mm ozn.T1 | D73: m | E73: =E74 -> 104 | G73: =E73*F73 -> 0 | H73: 0.005 | I73: =E73*H73 -> 0.52
C74: (6,00x12)+(10,00+6,00)x2=104,00 | D74: m | E74: 104
A75: 024 | B75: 212710110RA2 | C75: Odvětrání radonu-horizont.plynotěsné potrubí ozn.T2 | D75: m | E75: =E76 -> 34 | G75: =E75*F75 -> 0 | H75: 0.005 | I75: =E75*H75 -> 0.17
C76: (17,00x2)=34,00 | D76: m | E76: 34
A77: 025 | B77: 212710110RA3 | C77: Odvětrání radonu-vertikální plynotěs.potrubí ozn.T3+turbínka | D77: kus | E77: 1 | G77: =E77*F77 -> 0 | H77: 0.01 | I77: =E77*H77 -> 0.01
C78: 7,50m+turbínka
A79: 026 | B79: 271541113RT1 | C79: Štěrkopískový podsyp hutněný po vrstvách na Edef=40MPa | D79: m3 | E79: =E85 -> 81.355 | G79: =E79*F79 -> 0 | H79: 1.94 | I79: =E79*H79 -> 157.8287
C80: [5,31x4,31)x4+(5,31x4,18)x2+(5,25x4,31)x4+(5,25x4,18)x2+
C81: +(3,80x3,80)/2x2+(8,18+4,20)x4,18/2x2+(9,47+8,18)x4,31/2x2+
C82: +(3,42x4,56)+(2,20+0,60)x1,80/2]x0,15=(91,544+44,392+90,51+43,89+
C83: +14,44+51,748+76,072+15,595+1,188)x0,15=(429,379x0,15)=64,407 | D83: m3 | E83: 64.407
C84: [(12,40x9,90)-(3,37x2,90)]x0,15=16,948 | D84: m3 | E84: 16.948
C85: celkem | D85: m3 | E85: =SUM(E80:E84) -> 81.355
A86: 027 | B86: 271571112R00 | C86: Polštář základu ze štěrkopísku netříděného | D86: m3 | E86: =E92 -> 19.371 | G86: =E86*F86 -> 0 | H86: 1.93971 | I86: =E86*H86 -> 37.574122
C87: [(25,30+24,30)x2+12,25+2,029+2,65+1,60+0,45+3,025]x0,50x0,15=
C88: =(121,204x0,50x0,15)=9,09 | D88: m3 | E88: 9.09
C89: [(13,20+13,05)x2+(8,18+4,00)x2+(5,15+5,16)x4]x0,40x0,30=
C90: =(118,10x0,40x0,15)=7,086 | D90: m3 | E90: 7.086
C91: (12,40+8,90)x2x0,50x0,15=3,195 | D91: m3 | E91: 3.195
C92: celkem | D92: m3 | E92: =SUM(E87:E91) -> 19.371
A93: 028 | B93: 273313611R00 | C93: Podkladní beton.mazanina C16/20 | D93: m3 | E93: =E99 -> 27.019 | G93: =E93*F93 -> 0 | H93: 2.41693 | I93: =E93*H93 -> 65.303032
C94: [5,31x4,31)x4+(5,31x4,18)x2+(5,25x4,31)x4+(5,25x4,18)x2+
C95: +(3,80x3,80)/2x2+(8,18+4,20)x4,18/2x2+(9,47+8,18)x4,31/2x2+
C96: +(3,42x4,56)+(2,20+0,60)x1,80/2]x0,05=(91,544+44,392+90,51+43,89+
C97: +14,44+51,748+76,072+15,595+1,188)x0,05=(429,379x0,05)=21,469 | D97: m3 | E97: 21.469
C98: [(12,40x9,90)-(3,37x2,90)]x0,05=5,55 | D98: m3 | E98: 5.55
C99: celkem | D99: m3 | E99: =SUM(E94:E98) -> 27.019
A100: 029 | B100: 273313621R00 | C100: Beton základových desek C20/25 | D100: m3 | E100: =E103 -> 81.669 | G100: =E100*F100 -> 0 | H100: 2.44622 | I100: =E100*H100 -> 199.78034
C101: [(25,10x25,10)-(11,10x11,10)]x0,15=(630,01-123,21)x0,15=76,02 | D101: m3 | E101: 76.02
...

Sheet Zdravotechnika
A1: SOUPIS PRACÍ
A2: Stavba: Zvýšení kapacity předškolního vzdělávání ve městě Ralsko | E2: JKSO: 801 31 8 1
A3: Část: Zdravotechnika | E3: Zpracoval:
A4: Místo: Město Ralsko, část Kuřívody, p.p.č.5, 15/2, 15/4 a 15/5 v k.ú. Kuřívody | E4: Datum:
A5: Objednatel: Město Ralsko, Kuřívody 701, 471 24 Ralsko
A6: Zhotovitel:
A7: P.Č. | B7: Kód položky | C7: Popis | D7: MJ | E7: Množství celkem | F7: Cena jednotková | G7: Cena celkem
A8: 1 | B8: 2 | C8: 3 | D8: 4 | E8: 5 | F8: 6 | G8: 7
C10: Zdravotechnika -celkem | G10: =G11 -> 0
B11: PSV | C11: Práce a dodávky PSV | G11: =G12+G76+G96+G140 -> 0
B12: 721-1 | C12: Kanalizace | G12: =G13+G18+G27+G32+G47+G56+G59 -> 0
C13: Ležaté potrubí pod podlahou - KG systém | G13: =SUM(G15:G17) -> 0
C14: Dodávka a montáž odpadního potrubí z plastových trub KG systém - materiál PVC-U (neměkčený polyvinylchlorid - PVC) (SN 4) pro gravitační kanalizaci v zemi, vč. tvarovek, pískového podsypu,obsypu, zásypu, zemních prací (hloubka výkopu maximálně 1,6 m, zasypání rýhy potrubí dle skladby uvedené v PD, šířka výkopu 0,5 m, zemina třídy číslo 3), navrácení podkladního betonu (C 15/20 tl. 150 mm) a tlakových zkoušek.
A15: 001 | B15: 721-1-PC-1 | C15: DN 110 | D15: m | E15: 31 | G15: =E15*F15 -> 0
A16: 002 | B16: 721-1-PC-2 | C16: DN 125 | D16: m | E16: 46 | G16: =E16*F16 -> 0
C18: Odpadní a přípojovací potrubí - HT systém | G18: =SUM(G20:G26) -> 0
C19: Dodávka a montáž odpadního potrubí z plastových trub HT odhlučněný kanalizační systém PP (18 dB) pro stoupací, připojovací, větrací potrubí a odvod kondenzátu od VZT, vč. tvarovek, objímek, závěsů, kotvících bodů a tlakových zkoušek
A20: 003 | B20: 721-1-PC-3 | C20: DN 40 x 1,8 mm | D20: m | E20: 17 | G20: =E20*F20 -> 0
A21: 004 | B21: 721-1-PC-4 | C21: DN 50 x 1,8 mm | D21: m | E21: 12 | G21: =E21*F21 -> 0
A22: 005 | B22: 721-1-PC-5 | C22: DN 75 x 1,9 mm | D22: m | E22: 4 | G22: =E22*F22 -> 0
A23: 006 | B23: 721-1-PC-6 | C23: DN 100 x 2,7 mm | D23: m | E23: 28 | G23: =E23*F23 -> 0
A24: 007 | B24: 721-1-PC-7 | C24: DN 125 | D24: m | E24: 25 | G24: =E24*F24 -> 0
A25: 008 | B25: 721-1-PC-8 | C25: DN 150 | D25: m | E25: 12 | G25: =E25*F25 -> 0
C27: Protipožární manžeta | G27: =SUM(G29:G31) -> 0
C28: Dodávka a montáž požárně ochranné manžety s odolností EI 60-120 (minimálně 45 min) pro prostup hořlavého kanalizačního potrubí stěnami a stropy.
A29: 009 | B29: 721-1-PC-9 | C29: DN 100 | D29: kus | E29: 6 | G29: =E29*F29 -> 0
A30: 010 | B30: 721-1-PC-10 | C30: DN 125 | D30: kus | E30: 4 | G30: =E30*F30 -> 0
C32: Vybavení kanalizace | G32: =SUM(G34:G46) -> 0
C33: Dodávka a montáž instalačních armatur včetně příslušného vybavení uvedeného v popisu.
A34: 011 | B34: 721-1-PC-11 | C34: Vyvedení a upevnění odpadních výpustek D 40 | D34: kus | E34: 8 | G34: =E34*F34 -> 0
A35: 012 | B35: 721-1-PC-12 | C35: Vyvedení a upevnění odpadních výpustek D 50 | D35: kus | E35: 21 | G35: =E35*F35 -> 0
A36: 013 | B36: 721-1-PC-13 | C36: Vyvedení a upevnění odpadních výpustek D 75 | D36: kus | E36: 2 | G36: =E36*F36 -> 0
A37: 014 | B37: 721-1-PC-14 | C37: Vyvedení a upevnění odpadních výpustek D 100 | D37: kus | E37: 9 | G37: =E37*F37 -> 0
A38: 015 | B38: 721-1-PC-15 | C38: Čistící kus DN 75 | D38: kus | E38: 2 | G38: =E38*F38 -> 0
A39: 016 | B39: 721-1-PC-16 | C39: Čistící kus DN 110 | D39: kus | E39: 6 | G39: =E39*F39 -> 0
A40: 017 | B40: 721-1-PC-17 | C40: Čistící kus DN 125 | D40: kus | E40: 3 | G40: =E40*F40 -> 0
A41: 018 | B41: 721-1-PC-18 | C41: Krycí dvířka 300x150 mm | D41: kus | E41: 8 | G41: =E41*F41 -> 0
A42: 019 | B42: 721-1-PC-19 | C42: Zátka DN 75 | D42: kus | E42: 2 | G42: =E42*F42 -> 0
A43: 020 | B43: 721-1-PC-20 | C43: Zátka DN 100 | D43: kus | E43: 4 | G43: =E43*F43 -> 0
A44: 021 | B44: 721-1-PC-21 | C44: Přivzdušňovací ventil DN 100 | D44: kus | E44: 1 | G44: =E44*F44 -> 0
A45: 022 | B45: 721-1-PC-22 | C45: Ventilační hlavice pro odvětrání kanalizace nad střechou DN 100 | D45: kus | E45: 3 | G45: =E45*F45 -> 0
C47: Instalační prefabrikáty (zařizovací předměty) | G47: =SUM(G49:G55) -> 0
C48: Dodávka a montáž Instalační prefabrikátů včetně příslušného vybavení uvedeného v popisu.
A49: 023 | B49: U | C49: Umyvadlo keramické 550x420x190 mm s otvorem pro baterii a instalační sadou, keramický kryt na sifon s instalační sadou, umyvadlový sifon 32 mm chromovaný. | D49: kus | E49: 20 | G49: =E49*F49 -> 0
A50: 024 | B50: WC | C50: Závěsný klozet keramický 360x530x400 mm, hluboké splachování, duroplastové sedátko s poklopem a antibakteriální úpravou, se zpomalovacím mechanizmem, ocelové úchyty, podomítkový instalační modul se samonosným ocelovým rámem výšky 1120 mm se šikmým odtokem + splachovací tlačítko. | D50: kus | E50: 15 | G50: =E50*F50 -> 0
A51: 025 | B51: PV | C51: Podlahová vpusť do keramické dlažby DN 75 s vodorovným odtokem, izolačním límcem a zápachovým uzávěrem, výškově nastavitelný nástavec, nerezový rámeček 121x 121mm a vtoková mřížka z nerezové oceli 115 x 115mm, včetně stavebního ochranného krytu rámečku. | D51: kus | E51: 8 | G51: =E51*F51 -> 0
A52: 026 | B52: VÝL | C52: Výlevka keramická závěsná 425x500x450 mm s plastovou sklopnou mřížkou, instalační sada. Předstěnový instalační modul se samonosným ocelovým rámem výšky 1480 mm se šikmým odtokem + splachovací nádržka a tlačítko + vývod pro baterii. | D52: kus | E52: 3 | G52: =E52*F52 -> 0
A53: 027 | B53: D | C53: Dřez pro mytí nádobí (2x dřez + 1x dvojdřez) -součást kuch.linek | D53: kus | E53: 4 | F53: 0 | G53: =E53*F53 -> 0
A54: 028 | B54: S | C54: Sprchová vanička-kabina | D54: kus | E54: 2 | G54: =E54*F54 -> 0
C56: Stavební práce | G56: =SUM(G57:G57) -> 0
A57: 029 | B57: 721-1-PC-23 | C57: Ostatní přípomocné a zednické práce | D57: hod | E57: 50 | G57: =E57*F57 -> 0
C59: Ostatní | G59: =SUM(G60:G71) -> 0
A60: 030 | B60: 721-1-PC-24 | C60: Přeložka kanalizační stoky plast.potrubí PVC DN 300 | D60: m | E60: 58 | G60: =E60*F60 -> 0
A61: 031 | B61: 721-1-PC-25 | C61: Betonové šachty pr.1000mm, plast.poklop | D61: kus | E61: 6 | G61: =E61*F61 -> 0
A62: 032 | B62: 721-1-PC-26 | C62: Kanalizační přípojka PVC DN 200 | D62: m | E62: 2 | G62: =E62*F62 -> 0
A63: 033 | B63: 721-1-PC-27 | C63: Tlaková zkouška vnitřní potrubí do DN 200 | D63: m | E63: =SUM(E15:E26) -> 175 | G63: =E63*F63 -> 0
A64: 034 | B64: 721-1-PC-28 | C64: Pročištění potrubí do DN 200 | D64: m | E64: =E63 -> 175 | G64: =E64*F64 -> 0
A65: 035 | B65: 721-1-PC-29 | C65: Dokumentace skutečného provedení | D65: kus | E65: 1 | G65: =E65*F65 -> 0
A66: 036 | B66: 721-1-PC-30 | C66: Napojení na stávající kanalizaci | D66: kus | E66: 2 | G66: =E66*F66 -> 0
A67: 037 | B67: 721-1-PC-31 | C67: Zkouška těsnosti kanalizačního potrubí do DN 200 | D67: m | E67: =E63 -> 175 | G67: =E67*F67 -> 0
A68: 038 | B68: 721-1-PC-32 | C68: Koordinace | D68: kus | E68: 1 | G68: =E68*F68 -> 0
A69: 039 | B69: 721-1-PC-33 | C69: Doprava | D69: kus | E69: 1 | G69: =E69*F69 -> 0
A70: 040 | B70: 721-1-PC-34 | C70: Přesun hmot | D70: kus | E70: 1 | G70: =E70*F70 -> 0
C72: Poznámky:
C73: Z důvodu rozsahu těchto prací a nedokonalé znalosti skutečného stavu stavební i profesní části je nutno počítat s případnými doplňujícími pracemi ve stavební i profesní části!!!
C74: Pokud je v tomto dokumentu uveden název výrobku, jde pouze o specifikaci požadovaného standartu, který musí být dodržen. Je tedy možno použít výrobek s jiným názvem a označením, který ale splní požadovaný standart.
B76: 721-2 | C76: Odvedení dešťových vod | G76: =G77+G80+G83+G88+G91 -> 0
C77: Potrubí - KG systém | G77: =SUM(G78:G79) -> 0
C78: Dodávka a montáž odpadního potrubí z plastových trub KG systém - materiál PVC-U (neměkčený polyvinylchlorid - PVC) (SN 4) pro gravitační kanalizaci v zemi,vč.tvarovek, pískového podsypu,obsypu, zásypu, zemních prací (hloubka výkopu max.2,5 m,zasypání rýhy potrubí dle skladby uvedené v PD,š.výkopu 0,8 m,zemina tř.4 a tlak.zkoušek.
A79: 041 | B79: 721-2-PC-1 | C79: do DN 200 | D79: m | E79: 123 | G79: =E79*F79 -> 0
C80: Kanalizační šachty | G80: =SUM(G81:G82) -> 0
C81: Dodávka a montáž pro areálovou kanalizaci v zemi, vč.obetonování,zem.prací, pískového podsypu a obsypu a zkoušek.
A82: 042 | B82: 721-2-PC-2 | C82: Plastová šachta Ø 600 mm s litinovým poklopem 3t | D82: kus | E82: 1 | G82: =E82*F82 -> 0
C83: Zemní práce | G83: =SUM(G84:G87) -> 0
C84: Zemní práce zahrnují eventuelní čerpání vody, hloubení rýh (hl.výkopů 100-250 cm, zemina tř.4), pažení, obetonování potrubí a zasypání rýhy potrubí dle skladby uvedené v PD, navrácení povrchu (betonové dlažby, asfaltové vozovky a zatravnění) do původního stavu.
A85: 043 | B85: 721-2-PC-3 | C85: Výkop rýhy š. 0,8 m | D85: m | E85: 123 | G85: =E85*F85 -> 0
A86: 044 | B86: 721-2-PC-4 | C86: Zemní výstražná fólie | D86: m | E86: 123 | G86: =E86*F86 -> 0
A87: 045 | B87: 721-2-PC-5 | C87: Montážní jáma pro systém vsakovacích bloků, včetně pažení | D87: kus | E87: 1 | G87: =E87*F87 -> 0
C88: Instalační prefabrikáty (zařizovací předměty) | G88: =SUM(G89:G90) -> 0
C89: Dodávka a montáž Instalační prefabrikátů včetně příslušného vybavení uvedeného v popisu a PD.
A90: 046 | B90: 721-2-PC-6 | C90: Systém vsakovacích bloků | D90: kus | E90: 1 | G90: =E90*F90 -> 0
C91: Ostatní | G91: =SUM(G92:G94) -> 0
A92: 047 | B92: 721-2-PC-7 | C92: Tlaková zkouška vmitřní potrubí do DN 200 | D92: m | E92: 123 | G92: =E92*F92 -> 0
A93: 048 | B93: 721-2-PC-8 | C93: Pročištění potrubí do DN 200 | D93: m | E93: 123 | G93: =E93*F93 -> 0
A94: 049 | B94: 721-2-PC-9 | C94: Zkouška těsnosti kanalizačního potrubí do DN 200 | D94: m | E94: 123 | G94: =E94*F94 -> 0
B96: 722-1 | C96: Napojení vodovodu | G96: =G97+G101+G105+G108+G129 -> 0
C97: Zemní práce | G97: =SUM(G98:G100) -> 0
C98: Zemní práce zahrnují eventuelní čerpání vody, hloubení rýh, pažení (hl.výkopů 100-180 cm), obetonování potrubí a zasypání rýhy potrubí dle skladby uvedené v PD, navrácení stávajícího povrchu do původního stavu
A99: 050 | B99: 722-1-PC-1 | C99: Výkop rýhy š. 0,8 m | D99: m | E99: 106 | G99: =E99*F99 -> 0
A100: 051 | B100: 722-1-PC-2 | C100: Zemní výstražná fólie | D100: m | E100: 106 | G100: =E100*F100 -> 0
C101: Potrubí areálového vodovodu lPE | G101: =SUM(G102:G104) -> 0
C102: Dodávka a montáž plastového vodovodního potrubí z vysokohustotního lineárního polyetylénu PE 100 SDR 11 se svařovanými spoji pro vnější tlakové rozvody vody, vč.tvarovek, obetonování tvarovek betonem, obsypu trub pískem, objímek, závěsů, kotvících bodů a tlakových zkoušek.
A103: 052 | B103: 722-1-PC-3 | C103: Potrubí PE 100, 90*5,4 mm SDR 17, PN 10 | D103: m | E103: 80 | G103: =E103*F103 -> 0
A104: 053 | C104: Potrubí PE 100, 63*5,8 mm SDR 17, PN 10 | D104: m | E104: 32 | G104: =E104*F104 -> 0
C105: Chránička potrubí areálového vodovodu | G105: =SUM(G106:G107) -> 0
C106: Dodávka a montáž plastového potrubí z PE-HD SDR 11, vč.utěsnění a obetonování prostupu.
A107: 054 | B107: 722-1-PC-4 | C107: PE 100 SDR 11 dn 75×5,8 mm | D107: m | E107: 1 | G107: =E107*F107 -> 0
C108: Armatury | G108: =SUM(G109:G128) -> 0
A109: 055 | B109: 722-1-PC-5 | C109: Elektrokoleno DN 90-30° 2x | D109: kus | E109: 1 | G109: =E109*F109 -> 0
C110: Elektrokoleno DN 90-45° 4x
...

Sheet Silnoproud
A1: SOUPIS PRACÍ
A2: Stavba: Zvýšení kapacity předškolního vzdělávání ve městě Ralsko | E2: JKSO: 801 31 8 1
A3: Část: Elektroinstalace-silnoproud | E3: Zpracoval:
A4: Místo: Město Ralsko, část Kuřívody, p.p.č.5, 15/2, 15/4 a 15/5 v k.ú. Kuřívody | E4: Datum:
A5: Objednatel: Město Ralsko, Kuřívody 701, 471 24 Ralsko
A6: Zhotovitel:
A7: P.Č. | B7: Kód položky | C7: Popis | D7: MJ | E7: Množství celkem | F7: Cena jednotková | G7: Cena celkem
A8: 1 | B8: 2 | C8: 3 | D8: 4 | E8: 5 | F8: 6 | G8: 7
C10: Elektroinstalace-silnoproud | G10: =G11 -> 0
B11: M | C11: Montáže | G11: =G12+G24+G102+G109+G157+G170+G191 -> 0
B12: 21-1 | C12: Dodávky zařízení | G12: =SUM(G13:G23) -> 0
A13: 001 | B13: 731221 | C13: rozvaděč RH1.1 | D13: kus | E13: 1 | G13: =E13*F13 -> 0
A14: 002 | B14: 509131 | C14: B ISRAC4KO4V160/ND1050I3 35W | D14: kus | E14: 50 | F14: 0 | G14: =E14*F14 -> 0 | H14: oceněno v listu "Vedlejší výdaje stavby"
A15: 003 | B15: 509102 | C15: G LLL2RMKO4V1/1400ND 40W | D15: kus | E15: 38 | F15: 0 | G15: =E15*F15 -> 0 | H15: oceněno v listu "Vedlejší výdaje stavby"
A16: 004 | B16: 513515 | C16: H svítidlo záři OP E IP40/T8 24255 | D16: kus | E16: 14 | F16: 0 | G16: =E16*F16 -> 0 | H16: oceněno v listu "Vedlejší výdaje stavby"
A17: 005 | B17: 523175 | C17: svítidlo záři PC E/1F/IP66/T8 90356 | D17: kus | E17: 3 | F17: 0 | G17: =E17*F17 -> 0 | H17: oceněno v listu "Vedlejší výdaje stavby"
A18: 006 | B18: 523366 | C18: SVITIDLO PC ET5 IP66 /90760/ | D18: kus | E18: 3 | F18: 0 | G18: =E18*F18 -> 0 | H18: oceněno v listu "Vedlejší výdaje stavby"
A19: 007 | B19: 513301 | C19: svítidlo záři 113W (118W) pod linku | D19: kus | E19: 1 | F19: 0 | G19: =E19*F19 -> 0 | H19: oceněno v listu "Vedlejší výdaje stavby"
A20: 008 | B20: 509101 | C20: F BRSB4KO375V2/ND | D20: kus | E20: 17 | F20: 0 | G20: =E20*F20 -> 0 | H20: oceněno v listu "Vedlejší výdaje stavby"
A21: 009 | B21: 511502 | C21: svít žár IN-12U7/264 E27 IP43 pr350 41421 | D21: kus | E21: 3 | F21: 0 | G21: =E21*F21 -> 0 | H21: oceněno v listu "Vedlejší výdaje stavby"
A22: 010 | B22: 552431 | C22: nouzové svítidlo LED-Em/IP65 3hod | D22: kus | E22: 20 | F22: 0 | G22: =E22*F22 -> 0 | H22: oceněno v listu "Vedlejší výdaje stavby"
A23: 011 | B23: 521024 | C23: 1x26 LED 4000K IP65 | D23: kus | E23: 4 | F23: 0 | G23: =E23*F23 -> 0 | H23: oceněno v listu "Vedlejší výdaje stavby"
B24: 21-2 | C24: Materiál elektromontážní | G24: =SUM(G25:G101) -> 0
A25: 012 | B25: 435166 | C25: jistič PL7 3pól/ch.B/10kA 50A | D25: kus | E25: 1 | G25: =E25*F25 -> 0
A26: 013 | B26: 101210 | C26: kabel CYKY 4x16 | D26: m | E26: 55 | G26: =E26*F26 -> 0
A27: 014 | B27: 101106 | C27: kabel CYKY 3x2,5 | D27: m | E27: 55 | G27: =E27*F27 -> 0
A28: 015 | B28: 209404 | C28: kabel F/UTP Cat.5 4x2x08 pro venkovní použití | D28: m | E28: 80 | G28: =E28*F28 -> 0
B29: 420350 | C29: SESTAVA zásuvka 16A/250Vstř Time bezŠr clonky | E29: 50
A30: 016 | B30: 420280 | C30: strojek zásuv 16A/250Vstř 5519E-A02357 bezŠr clonk | D30: kus | E30: 50 | G30: =E30*F30 -> 0
A31: 017 | B31: 420391 | C31: rámeček pro 1 přístroj Time 3901F-A00110 | D31: kus | E31: 50 | G31: =E31*F31 -> 0
B32: 420353 | C32: SESTAVA zásuvka 16A/250Vstř Time chráněná bezŠr | E32: 6
A33: 018 | B33: 420284 | C33: strojek zásuv 16A/250Vstř 5599E-A02357 chrán bezŠr | D33: kus | E33: 6 | G33: =E33*F33 -> 0
A34: 019 | B34: 420391 | C34: rámeček pro 1 přístroj Time 3901F-A00110 | D34: kus | E34: 6 | G34: =E34*F34 -> 0
A35: 020 | B35: 420355 | C35: 2-zásuvka 16A/250Vstř Time 5513F-C02357 bezŠr | D35: kus | E35: 11 | G35: =E35*F35 -> 0
B36: 410361 | C36: SESTAVA spínač 1pól Time 10A/250Vstř řaz.1So | E36: 25
A37: 021 | B37: 409820 | C37: spínač/strojek 10A/250Vstř 3558-A01340 řaz. 1,1So | D37: kus | E37: 25 | G37: =E37*F37 -> 0
A38: 022 | B38: 409900 | C38: doutnavka orientační 3916-12221 | D38: kus | E38: 25 | G38: =E38*F38 -> 0
A39: 023 | B39: 410303 | C39: kryt spín 3558E-A00653 pro ř.1So,6So,S,1/0So,S,7So | D39: kus | E39: 25 | G39: =E39*F39 -> 0
A40: 024 | B40: 420391 | C40: rámeček pro 1 přístroj Time 3901F-A00110 | D40: kus | E40: 25 | G40: =E40*F40 -> 0
B41: 410370 | C41: SESTAVA přepín sériový Time 10A/250Vstř řaz.5 | E41: 8
A42: 025 | B42: 409826 | C42: přepínač/strojek 10A/250Vstř 3558-A05340 řazení 5 | D42: kus | E42: 8 | G42: =E42*F42 -> 0
A43: 026 | B43: 410302 | C43: kryt spín dělený 3558E-A00652 pro ř.5,6+6,1/0+1/0 | D43: kus | E43: 8 | G43: =E43*F43 -> 0
A44: 027 | B44: 420391 | C44: rámeček pro 1 přístroj Time 3901F-A00110 | D44: kus | E44: 8 | G44: =E44*F44 -> 0
B45: 410372 | C45: SESTAVA přepín střídavý Time 10A/250Vstř ř.6So | E45: 12
A46: 028 | B46: 409822 | C46: přepínač/strojek 10A/250Vstř 3558-A06340 řaz.6,6So | D46: kus | E46: 12 | G46: =E46*F46 -> 0
A47: 029 | B47: 409900 | C47: doutnavka orientační 3916-12221 | D47: kus | E47: 12 | G47: =E47*F47 -> 0
A48: 030 | B48: 410303 | C48: kryt spín 3558E-A00653 pro ř.1So,6So,S,1/0So,S,7So | D48: kus | E48: 12 | G48: =E48*F48 -> 0
A49: 031 | B49: 420391 | C49: rámeček pro 1 přístroj Time 3901F-A00110 | D49: kus | E49: 12 | G49: =E49*F49 -> 0
B50: 410381 | C50: SESTAVA ovlad zapín Time 10A/250Vstř řaz.1/0So | E50: 4
A51: 032 | B51: 409828 | C51: ovladač/strojek 10A/250Vstř 3558-A91342 ř.1/0,S,So | D51: kus | E51: 4 | G51: =E51*F51 -> 0
A52: 033 | B52: 409900 | C52: doutnavka orientační 3916-12221 | D52: kus | E52: 4 | G52: =E52*F52 -> 0
A53: 034 | B53: 410303 | C53: kryt spín 3558E-A00653 pro ř.1So,6So,S,1/0So,S,7So | D53: kus | E53: 4 | G53: =E53*F53 -> 0
A54: 035 | B54: 420391 | C54: rámeček pro 1 přístroj Time 3901F-A00110 | D54: kus | E54: 4 | G54: =E54*F54 -> 0
B55: 420941 | C55: SESTAVA zásuvka 16A/250Vstř Time IP44 | E55: 4
A56: 036 | B56: 420911 | C56: strojek zásuvka 16A/250Vstř 5518E-A02999 IP44 | D56: kus | E56: 4 | G56: =E56*F56 -> 0
A57: 037 | B57: 420951 | C57: rámeček pro 1přístroj Time 3901F-A00941 IP44 bílá | D57: kus | E57: 4 | G57: =E57*F57 -> 0
A58: 038 | B58: 410930 | C58: SESTAVA přepínač 10A/250Vstř řazení6 IP44 Time | E58: 2 | G58: =E58*F58 -> 0
A59: 039 | B59: 410910 | C59: strojek přepínač 10A/250Vstř 3558E-A06940 ř.6 IP44 | D59: kus | E59: 2 | G59: =E59*F59 -> 0
A60: 040 | B60: 420951 | C60: rámeček pro 1přístroj Time 3901F-A00941 IP44 bílá | D60: kus | E60: 2 | G60: =E60*F60 -> 0
A61: 041 | B61: 413207 | C61: spínač TOTAL STOP v prosklené skříňce | D61: kus | E61: 1 | G61: =E61*F61 -> 0
A62: 042 | B62: 592126 | C62: zářivka lineární T8 pr26mm/L1200mm/G13 36W | D62: kus | E62: 22 | F62: 0 | G62: =E62*F62 -> 0 | H62: oceněno v listu "Vedlejší výdaje stavby"
A63: 043 | B63: 592126 | C63: zářivka lineární T8 pr26mm/L1200mm/G13 36W | D63: kus | E63: 6 | F63: 0 | G63: =E63*F63 -> 0 | H63: oceněno v listu "Vedlejší výdaje stavby"
A64: 044 | B64: 523366 | C64: svítidlo záři 235 /IP44/T5 | D64: kus | E64: 2 | F64: 0 | G64: =E64*F64 -> 0 | H64: oceněno v listu "Vedlejší výdaje stavby"
A65: 045 | B65: 592154 | C65: zářivka lineární T5 HE pr16mm/L1449mm/G5 35W | D65: kus | E65: 4 | F65: 0 | G65: =E65*F65 -> 0 | H65: oceněno v listu "Vedlejší výdaje stavby"
A66: 046 | B66: 592154 | C66: zářivka lineární T5 HE pr16mm/L1449mm/G5 35W | D66: kus | E66: 6 | F66: 0 | G66: =E66*F66 -> 0 | H66: oceněno v listu "Vedlejší výdaje stavby"
A67: 047 | B67: 592123 | C67: zářivka lineární T8 pr26mm/L590mm/G13 18W | D67: kus | E67: 1 | F67: 0 | G67: =E67*F67 -> 0 | H67: oceněno v listu "Vedlejší výdaje stavby"
A68: 048 | B68: 591121 | C68: žárovka E27 220V/do 100W | D68: kus | E68: 3 | F68: 0 | G68: =E68*F68 -> 0 | H68: oceněno v listu "Vedlejší výdaje stavby"
A69: 049 | B69: 101105 | C69: kabel CYKY 3Cx1,5 | D69: kus | E69: 480 | G69: =E69*F69 -> 0
A70: 050 | B70: 101106 | C70: kabel CYKY 3x2,5 | D70: kus | E70: 490 | G70: =E70*F70 -> 0
A71: 051 | B71: 101105 | C71: kabel CYKY 3Ax1,5 | D71: kus | E71: 160 | G71: =E71*F71 -> 0
A72: 052 | B72: 101305 | C72: kabel CYKY 5x1,5 | D72: kus | E72: 250 | G72: =E72*F72 -> 0
A73: 053 | B73: 171108 | C73: vodič CY 6 /H07V-U/ | D73: kus | E73: 160 | G73: =E73*F73 -> 0
A74: 054 | B74: 311331 | C74: skříň rozvodná KT250 vč svorkovnice HOP | D74: kus | E74: 1 | G74: =E74*F74 -> 0
A75: 055 | B75: 295001 | C75: vedení FeZn 30/4 (0,96kg/m) | D75: m | E75: 140 | G75: =E75*F75 -> 0
A76: 056 | B76: 295601 | C76: drát AlMgSi pr.8mm polotvrdý 0,135kg/m | D76: kus | E76: 280 | G76: =E76*F76 -> 0
A77: 057 | B77: 295334 | C77: podpěra vedení pod tašky PV12 150mm FeZn | D77: kus | E77: 190 | G77: =E77*F77 -> 0
A78: 058 | B78: 295322 | C78: podpěra vedení do zdiva hmoždi PV17 8/100mm FeZn | D78: kus | E78: 55 | G78: =E78*F78 -> 0
A79: 059 | B79: 295612 | C79: jímací tyč hladká JR1,5 AlMgSi pr.19/1500mm | D79: kus | E79: 3 | G79: =E79*F79 -> 0
A80: 060 | B80: 295251 | C80: ochranná stříška jímače OSH FeZn horní | D80: kus | E80: 2 | G80: =E80*F80 -> 0
... A101: 081 | B101: 199111 | C101: nosič svazků GRIP OBO 2031/10,... | D101: kus | E101: 200 | G101: =E101*F101 -> 0
B102: 21-3 | C102: Materiál zemní | G102: =SUM(G103:G108) -> 0
A103: 082 | B103: 46114 | C103: písek kopaný 0-2mm | D103: m3 | E103: 2.5 | G103: =E103*F103 -> 0
A104: 083 | B104: 46171 | C104: cihla betonová 29/14/6,5 | D104: kus | E104: 350 | G104: =E104*F104 -> 0
A105: 084 | B105: 46383 | C105: výstražná fólie šířka 0,34m | D105: m | E105: 25 | G105: =E105*F105 -> 0
A106: 085 | B106: 46383 | C106: výstražná fólie šířka 0,34m | D106: m | E106: 25 | G106: =E106*F106 -> 0
A107: 086 | B107: 46511 | C107: roura korugovaná KOPODUR KD09050 pr.50/41mm | D107: m | E107: 50 | G107: =E107*F107 -> 0
A108: 087 | B108: 46521 | C108: /roura korugovaná 09050/ spojka 02050 | D108: kus | E108: 8 | G108: =E108*F108 -> 0
B109: 21-4 | C109: Elektromontáže | G109: =SUM(G110:G156) -> 0
A110: 088 | B110: 210120452 | C110: jistič vč.zapojení 3pól/63A | D110: kus | E110: 1 | G110: =E110*F110 -> 0
A111: 089 | B111: 210810081 | C111: kabel Cu(-1kV CYKY) volně uložený do 3x35/4x25 | D111: m | E111: 55 | G111: =E111*F111 -> 0
A112: 090 | B112: 210810008 | C112: kabel(-CYKY) volně uložený do 3x6/4x4/7x2,5 | D112: m | E112: 55 | G112: =E112*F112 -> 0
A113: 091 | B113: 210950341 | C113: vodič/kabel v trubce jednotková hmotnost do 0,4kg | D113: m | E113: 80 | G113: =E113*F113 -> 0
A114: 092 | B114: 210190053 | C114: rozvaděč RH1.1 | D114: kus | E114: 1 | G114: =E114*F114 -> 0
A115: 093 | B115: 210111012 | C115: zásuvka domovní zapuštěná vč.zapojení průběžně | D115: kus | E115: 50 | G115: =E115*F115 -> 0
A116: 094 | B116: 210111012 | C116: zásuvka domovní zapuštěná vč.zapojení průběžně | D116: kus | E116: 6 | G116: =E116*F116 -> 0
A117: 095 | B117: 210111012 | C117: zásuvka domovní zapuštěná vč.zapojení průběžně | D117: kus | E117: 11 | G117: =E117*F117 -> 0
A118: 096 | B118: 210110048 | C118: spínač zapuštěný vč.zapojení 1pólový+orient./ř.1So | D118: kus | E118: 25 | G118: =E118*F118 -> 0
A119: 097 | B119: 210110043 | C119: přepínač zapuštěný vč.zapojení sériový/řazení 5-5A | D119: kus | E119: 8 | G119: =E119*F119 -> 0
A120: 098 | B120: 210110045 | C120: přepínač zapuštěný vč.zapojení střídavý/řazení 6 | D120: kus | E120: 12 | G120: =E120*F120 -> 0
A121: 099 | B121: 210110063 | C121: ovladač zapuštěný vč.zapojení tlačítkový/ř.1/0 So | D121: kus | E121: 4 | G121: =E121*F121 -> 0
...

Sheet Slaboproud
A1: SOUPIS PRACÍ
A2: Stavba: Zvýšení kapacity předškolního vzdělávání ve městě Ralsko | E2: JKSO: 801 31 8 1
A3: Část: Elektronické komunikace | E3: Zpracoval:
A4: Místo: Město Ralsko, část Kuřívody, p.p.č.5, 15/2, 15/4 a 15/5 v k.ú. Kuřívody | E4: Datum:
A5: Objednatel: Město Ralsko, Kuřívody 701, 471 24 Ralsko
A6: Zhotovitel:
A7: P.Č. | B7: Kód položky | C7: Popis | D7: MJ | E7: Množství celkem | F7: Cena jednotková | G7: Cena celkem
A8: 1 | B8: 2 | C8: 3 | D8: 4 | E8: 5 | F8: 6 | G8: 7
B10: Pozn.: Součást listu "Vedlejší výdaje stavby" - zde proto neoceněno.
C11: Elektronické komunikace | G11: =G12 -> 0
B12: M | C12: Montáže | G12: =G13+G50+G53+G79+G86+G90 -> 0
B13: 21-1 | C13: Materiál elektromontážní | G13: =SUM(G14:G49) -> 0
A14: 001 | B14: 205307 | C14: kabel TCEPKPFLE 24x3x0,8 | D14: m | E14: 150 | F14: 0 | G14: =E14*F14 -> 0
A15: 002 | B15: 205303 | C15: kabel TCEPKPFLE 4x3x0,8 | D15: m | E15: 120 | F15: 0 | G15: =E15*F15 -> 0
A16: 003 | B16: 200305 | C16: kabel opticky do trubky 6-8 vlákno | D16: m | E16: 150 | F16: 0 | G16: =E16*F16 -> 0
A17: 004 | B17: 200305 | C17: kabel opticky do trubky 6-8 vlákno | D17: m | E17: 120 | F17: 0 | G17: =E17*F17 -> 0
A18: 005 | B18: 209403 | C18: kabel U/UTP Cat.5e 3x2x0.5 plášť šedý dat zás | D18: m | E18: 915 | F18: 0 | G18: =E18*F18 -> 0
A19: 006 | B19: 209385 | C19: VF koaxiální kabel VCCOD 75-6.6 TV | D19: m | E19: 150 | F19: 0 | G19: =E19*F19 -> 0
A20: 007 | B20: 321123 | C20: trubka ohebná PVC monoflex 1420 TV | D20: m | E20: 150 | F20: 0 | G20: =E20*F20 -> 0
A21: 008 | B21: 321122 | C21: trubka ohebna PVC monoflex 1416 Dat zás | D21: m | E21: 200 | F21: 0 | G21: =E21*F21 -> 0
A22: 009 | B22: 209385 | C22: VF koaxiální kabel VCCJY 75-4,8 KAMERY | D22: m | E22: 200 | F22: 0 | G22: =E22*F22 -> 0
A23: 010 | B23: 101105 | C23: kabel CYKY 3x1,5 KAMERY | D23: m | E23: 200 | F23: 0 | G23: =E23*F23 -> 0
B24: 420384 | C24: SESTAVA zásuvka komunikační Time 2xRJ45-8 | E24: 18
A25: 011 | B25: 420204 | C25: zásuvka komunik ModularJack RJ45-8Cat.5e 1208.10 | D25: kus | E25: 36 | F25: 0 | G25: =E25*F25 -> 0
A26: 012 | B26: 420216 | C26: nosná maska pro 2xZásuvka ModularJack 5014E-B01018 | D26: kus | E26: 18 | F26: 0 | G26: =E26*F26 -> 0
A27: 013 | B27: 420297 | C27: kryt zásuvky komunikační 5014E-A00100 | D27: kus | E27: 18 | F27: 0 | G27: =E27*F27 -> 0
A28: 014 | B28: 420391 | C28: rámeček pro 1 přístroj Time 3901F-A00110 | D28: kus | E28: 18 | F28: 0 | G28: =E28*F28 -> 0
B29: 420365 | C29: SESTAVA zásuvka TV+R+SAT Time 5011-A3303 koncová | E29: 6
A30: 015 | B30: 420034 | C30: strojek zásuvky TV+R+SAT 5011-A3303 (EU3303) konc | D30: kus | E30: 6 | F30: 0 | G30: =E30*F30 -> 0
B31: 420312 | C31: SESTAVA zásuvka TV+R Element 5011-A3607 průběžná | E31: 6
A32: 016 | B32: 420391 | C32: rámeček pro 1 přístroj Time 3901F-A00110 | D32: kus | E32: 6 | F32: 0 | G32: =E32*F32 -> 0
A33: 017 | B33: 420284 | C33: AVM553 venkovní 2MPX IP kamera (1920x1080) s WDR,ZOOM objektiv 2.8-12mm, inteligentní IR LED | D33: kus | E33: 9 | F33: 0 | G33: =E33*F33 -> 0
A34: 018 | B34: 420391 | C34: instalace videokamer | D34: kus | E34: 9 | F34: 0 | G34: =E34*F34 -> 0
A35: 019 | B35: 420284 | C35: AVH516 síťový Real-Time NVR videorekordér pro 16 IP-kamer, 2MPX/HD/Full HD/1080p, Push Messa | D35: kus | E35: 1 | F35: 0 | G35: =E35*F35 -> 0
A36: 020 | B36: 457315 | C36: video tablo čtecí vč přísluš.(dle tech.zpravy) | D36: kus | E36: 1 | F36: 0 | G36: =E36*F36 -> 0
A37: 021 | B37: 457315 | C37: tablo 1 video | D37: kus | E37: 1 | F37: 0 | G37: =E37*F37 -> 0
A38: 022 | B38: 457315 | C38: tablo 2 video | D38: kus | E38: 1 | F38: 0 | G38: =E38*F38 -> 0
A39: 023 | B39: 456111 | C39: snímač pohybu PIR JS-20 | D39: kus | E39: 18 | F39: 0 | G39: =E39*F39 -> 0
A40: 024 | B40: 456111 | C40: magnetický kontakt | D40: kus | E40: 3 | F40: 0 | G40: =E40*F40 -> 0
A41: 025 | B41: 456111 | C41: autonomní kouřový hlásič | D41: kus | E41: 6 | F41: 0 | G41: =E41*F41 -> 0
A42: 026 | B42: 456111 | C42: vnitřní siréna | D42: kus | E42: 3 | F42: 0 | G42: =E42*F42 -> 0
A43: 027 | B43: 204211 | C43: kabel SYKFY 3x2x0,5 | D43: m | E43: 250 | F43: 0 | G43: =E43*F43 -> 0
... A49: 033 | B49: 456111 | C49: protipožární ochrana prostupů | D49: kus | E49: 1 | F49: 0 | G49: =E49*F49 -> 0
B50: 21-2 | C50: Materiál zemní + stavební | G50: =SUM(G51:G52) -> 0
A51: 034 | B51: 46383 | C51: výstražná fólie šířka 0,34m | D51: m | E51: 50 | F51: 0 | G51: =E51*F51 -> 0
A52: 035 | B52: 46511 | C52: roura optického kabelu a IT roz HDPE AS100 06050 | D52: m | E52: 200 | F52: 0 | G52: =E52*F52 -> 0
B53: 21-3 | C53: Elektromontáže | G53: =SUM(G54:G78) -> 0
A54: 036 | B54: 210950322 | C54: kabel pevně uložený jednotková hmotnost do 0,63kg | D54: m | E54: 150 | F54: 0 | G54: =E54*F54 -> 0
A55: 037 | B55: 210950321 | C55: kabel pevně uložený jednotková hmotnost do 0,4kg | D55: m | E55: 120 | F55: 0 | G55: =E55*F55 -> 0
A56: 038 | B56: 210850127 | C56: kabel TCEKY/TCEKE pevně uložený do 12P1 | D56: m | E56: 150 | F56: 0 | G56: =E56*F56 -> 0
A57: 039 | B57: 210850127 | C57: kabel TCEKY/TCEKE pevně uložený do 12P1 | D57: m | E57: 120 | F57: 0 | G57: =E57*F57 -> 0
A58: 040 | B58: 210950341 | C58: vodič/kabel v trubce jednotková hmotnost do 0,4kg | D58: m | E58: 915 | F58: 0 | G58: =E58*F58 -> 0
A59: 041 | B59: 210803501 | C59: kabel koaxiální volně uložený | D59: m | E59: 150 | F59: 0 | G59: =E59*F59 -> 0
A60: 042 | B60: 210010003 | C60: trubka plast ohebná,pod omítkou,typ 2323/pr.23 | D60: m | E60: 150 | F60: 0 | G60: =E60*F60 -> 0
A61: 043 | B61: 210010002 | C61: trubka plast ohebná,pod omítkou,typ 2316/pr.16 | D61: m | E61: 200 | F61: 0 | G61: =E61*F61 -> 0
A62: 044 | B62: 210803501 | C62: kabel koaxiální volně uložený | D62: m | E62: 200 | F62: 0 | G62: =E62*F62 -> 0
A63: 045 | B63: 210810008 | C63: kabel(-CYKY) volně uložený do 3x6/4x4/7x2,5 | D63: m | E63: 200 | F63: 0 | G63: =E63*F63 -> 0
A64: 046 | B64: 210111312 | C64: zásuvka domovní sdělovací 2násobná vč.zapojení | D64: kus | E64: 18 | F64: 0 | G64: =E64*F64 -> 0
A65: 047 | B65: 210111311 | C65: zásuvka domovní sdělovací 1násobná vč.zapojení | D65: kus | E65: 6 | F65: 0 | G65: =E65*F65 -> 0
... A78: 060 | B78: 210140652 | C78: přepěťové ochrany | D78: kus | E78: 1 | F78: 0 | G78: =E78*F78 -> 0
B79: 21-4 | C79: Zemní práce | G79: =SUM(G80:G85) -> 0
A80: 061 | B80: 460200165 | C80: výkop kabel.rýhy šířka 35/hloubka 80cm tz.II/ko1.2 | D80: m | E80: 50 | F80: 0 | G80: =E80*F80 -> 0
A81: 062 | B81: 460490012 | C81: výstražná fólie šířka nad 30cm | D81: m | E81: 50 | F81: 0 | G81: =E81*F81 -> 0
A82: 063 | B82: 460510031 | C82: kabelový prostup z ohebné roury plast pr.110mm | D82: m | E82: 200 | F82: 0 | G82: =E82*F82 -> 0
A83: 064 | B83: 460560165 | C83: zához kabelové rýhy šířka 35/hloubka 80cm tz.II | D83: m | E83: 50 | F83: 0 | G83: =E83*F83 -> 0
A84: 065 | B84: 460600001 | C84: odvoz zeminy do 10km vč.poplatku za skládku | D84: m3 | E84: 0.3 | F84: 0 | G84: =E84*F84 -> 0
A85: 066 | B85: 460620015 | C85: provizorní úprava terénu třída zeminy II | D85: m2 | E85: 17.5 | F85: 0 | G85: =E85*F85 -> 0
B86: 21-5 | C86: Ostatní náklady | G86: =SUM(G87:G89) -> 0
A87: 067 | B87: 219002611 | C87: vytvoření rýhy hl.do 30mm/š.do 30mm | D87: m | E87: 200 | F87: 0 | G87: =E87*F87 -> 0
A88: 068 | B88: 219002621 | C88: vytvoření rýhy hl.do 50mm/š.do 70mm | D88: m | E88: 100 | F88: 0 | G88: =E88*F88 -> 0
A89: 069 | B89: 219002213 | C89: vytvoření rýhy do 100x100x100mm | D89: ks | E89: 25 | F89: 0 | G89: =E89*F89 -> 0
B90: 21-6 | C90: Ostatní | G90: =SUM(G91:G97) -> 0
A91: 070 | B91: 21-6-001 | C91: Materiál podružný | D91: % | E91: 3 | F91: =G13/100 -> 0 | G91: =E91*F91 -> 0
A92: 071 | B92: 21-6-002 | C92: PPV pro elektromontáže | D92: % | E92: 6 | F92: =(G53+G13)/100 -> 0 | G92: =E92*F92 -> 0
A93: 072 | B93: 21-6-003 | C93: PPV pro zemní práce | D93: % | E93: 5 | F93: =(G79+G50)/100 -> 0 | G93: =E93*F93 -> 0
A94: 073 | B94: 21-6-004 | C94: Kompletační činnost | D94: kus | E94: 1 | F94: 0 | G94: =E94*F94 -> 0
A95: 074 | B95: 21-6-005 | C95: Revize | D95: kus | E95: 1 | F95: 0 | G95: =E95*F95 -> 0
A96: 075 | B96: 21-6-006 | C96: Komplexní zkoušky | D96: kus | E96: 1 | F96: 0 | G96: =E96*F96 -> 0
A97: 076 | B97: 21-6-007 | C97: Geodetické práce,vytyčení,vyjádř | D97: kus | E97: 1 | F97: 0 | G97: =E97*F97 -> 0

Sheet Vytápění
A1: SOUPIS PRACÍ
A2: Stavba: Zvýšení kapacity předškolního vzdělávání ve městě Ralsko | E2: JKSO: 801 31 8 1
A3: Část: Vytápění | E3: Zpracoval:
A4: Místo: Město Ralsko, část Kuřívody, p.p.č.5, 15/2, 15/4 a 15/5 v k.ú. Kuřívody | E4: Datum:
A5: Objednatel: Město Ralsko, Kuřívody 701, 471 24 Ralsko
A6: Zhotovitel:
A7: P.Č. | B7: Kód položky | C7: Popis | D7: MJ | E7: Množství celkem | F7: Cena jednotková | G7: Cena celkem
A8: 1 | B8: 2 | C8: 3 | D8: 4 | E8: 5 | F8: 6 | G8: 7
C10: Vytápění -celkem | G10: =G11 -> 0
B11: PSV | C11: Práce a dodávky PSV | G11: =G12+G25+G29+G33 -> 0
B12: 730-1 | C12: Podlahové vytápění | G12: =SUM(G13:G24) -> 0
A13: 001 | B13: 730-1-001 | C13: Potrubí PEX 16x2 s protikyslíkovou zabranou (bez prořezu) 16x2 | D13: m | E13: 2425.06 | G13: =E13*F13 -> 0
A14: 002 | B14: 730-1-002 | C14: Ochraná trubka PVC na potrubí (bez prořezu) | D14: m | E14: 192 | G14: =E14*F14 -> 0
A15: 003 | B15: 730-1-003 | C15: Dilatační okrajová páska tl. 10mm | D15: m | E15: 583.7 | G15: =E15*F15 -> 0
A16: 004 | B16: 730-1-004 | C16: Dilatační pásy v ploše se stojánkem tl. 10mm | D16: m | E16: 78 | G16: =E16*F16 -> 0
C17: Zkompletovaný rozdělovač pro podlah.vytápění vč.odvzdušnění, vypouštění,uzav.armatury,
C18: držáku pro uchycení,teploměrů, průtokoměrů, skříň pod omítku
A19: 005 | B19: 730-1-005 | C19: R3 5 okruhů podlahového vytápění | D19: kus | E19: 1 | G19: =E19*F19 -> 0
A20: 006 | B20: 730-1-006 | C20: R1,2,4 9 okruhů podlahového vytápění | D20: kus | E20: 1 | G20: =E20*F20 -> 0
A21: 007 | B21: 730-1-007 | C21: VV25 Dozbrojení rozdělovačů- vyvaž.ventil DN25(1“) | D21: kus | E21: 4 | G21: =E21*F21 -> 0
A22: 008 | B22: 730-1-008 | C22: Stabilizátor tepelné izolace | D22: kus | E22: 2653 | G22: =E22*F22 -> 0
A23: 009 | B23: 730-1-009 | C23: Příchytka potrubí | D23: kus | E23: 5093 | G23: =E23*F23 -> 0
A24: 010 | B24: 730-1-010 | C24: Reflexní folie | D24: m2 | E24: 636.76 | G24: =E24*F24 -> 0
B25: 730-2 | C25: Potrubí měděné vč. tvarovek, redukcí, návarků, šroubení a kotvení potrubí | G25: =SUM(G26:G28) -> 0
C26: Potrubí měděné polotvrdé spojované měkkým pájením, vč. tvarovek, redukcí, návarků a kotvení potrubí
A27: 011 | B27: 730-2-001 | C27: Cu 22,0x1,0 mm | D27: m | E27: 84 | G27: =E27*F27 -> 0
A28: 012 | B28: 730-2-002 | C28: Cu 28,0x1,5 mm | D28: m | E28: 24 | G28: =E28*F28 -> 0
B29: 730-3 | C29: Izolace na potrubí | G29: =SUM(G30:G32) -> 0
C30: Izolace termoizolační trubicí z pěnového polyetylenu, laminovaná zesílenou hliníkovou fólií, λ=0,038 W/mK.
A31: 013 | B31: 730-3-001 | C31: Izolace tl. 25 mm + polep AL fólií na potrubí DN 22,0x1,0 mm | D31: m | E31: 84 | G31: =E31*F31 -> 0
A32: 014 | B32: 730-3-002 | C32: Izolace tl. 25 mm + polep AL fólií na potrubí DN 28,0x1,5 mm | D32: m | E32: 24 | G32: =E32*F32 -> 0
B33: 730-4 | C33: Montáž+ostatní | G33: =SUM(G34:G45) -> 0
A34: 015 | B34: 730-4-001 | C34: Montáž, pomocný a doplňující materiál, revize | D34: kus | E34: 1 | G34: =E34*F34 -> 0
A35: 016 | B35: 730-4-002 | C35: Přípojka teplovodu | D35: m | E35: 10 | G35: =E35*F35 -> 0
A36: 017 | B36: 730-4-003 | C36: Směšovací stanice vč.regulace a regul.ventilů | D36: kus | E36: 1 | G36: =E36*F36 -> 0
A37: 018 | B37: 730-4-004 | C37: Stavební přípomoce | D37: hod. | E37: 50 | G37: =E37*F37 -> 0
A38: 019 | B38: 730-4-005 | C38: Tříkolové, hydraulické vyregulování systému | D38: hod. | E38: 16 | G38: =E38*F38 -> 0
A39: 020 | B39: 730-4-006 | C39: Topná zkouška celého zařízení 72 hodin | D39: kus | E39: 1 | G39: =E39*F39 -> 0
A40: 021 | B40: 730-4-007 | C40: Zaškolení obsluhy, provozní řád | D40: hod. | E40: 4 | G40: =E40*F40 -> 0
A41: 022 | B41: 730-4-008 | C41: Proplach soustavy | D41: kus | E41: 1 | G41: =E41*F41 -> 0
A42: 023 | B42: 730-4-009 | C42: Doprava | D42: kus | E42: 1 | G42: =E42*F42 -> 0
A43: 024 | B43: 730-4-010 | C43: Přesun hmot | D43: kus | E43: 1 | G43: =E43*F43 -> 0
A44: 025 | B44: 730-4-011 | C44: Dokumentace skutečného provedení (3x výtisk + digitálně) | D44: kus | E44: 1 | G44: =E44*F44 -> 0
A45: 026 | B45: 730-4-012 | C45: Koordinace | D45: kus | E45: 1 | G45: =E45*F45 -> 0

Sheet Vzduchotechnika
A1: SOUPIS PRACÍ
A2: Stavba: Zvýšení kapacity předškolního vzdělávání ve městě Ralsko | E2: JKSO: 801 31 8 1
A3: Část: Vzduchotechnika | E3: Zpracoval:
A4: Místo: Město Ralsko, část Kuřívody, p.p.č.5, 15/2, 15/4 a 15/5 v k.ú. Kuřívody | E4: Datum:
A5: Objednatel: Město Ralsko, Kuřívody 701, 471 24 Ralsko
A6: Zhotovitel:
A7: P.Č. | B7: Kód položky | C7: Popis | D7: MJ | E7: Množství celkem | F7: Cena jednotková | G7: Cena celkem
A8: 1 | B8: 2 | C8: 3 | D8: 4 | E8: 5 | F8: 6 | G8: 7
C10: Vzduchotechnika -celkem | G10: =G11 -> 0
B11: M | C11: Montáže | G11: =G12+G32+G54 -> 0
B12: 24-1 | C12: VZT 1 - Pavilon A | G12: =SUM(G13:G31) -> 0
A13: 001 | B13: 42370 | C13: Kompaktní větrací jednotka s rekuperací tepla max.vzduchový výkon - přívod 1070 m3/h (250 Pa); odvod 1070 m3/h (250 Pa) el. příkon pro dimenzování - přívod 0,78 kW (230 V); odvod 0,78 kW (230 V) včetně bypassové klapky; včetně digitální regulace odvod kondenzátu do nejbližšího odpadu 2xØ32 mm, stojaté provedení, hmotnost 333 kg | D13: kus | E13: 1 | G13: =E13*F13 -> 0
A14: 002 | B14: 42401 | C14: Tlumič hluku do kruhového potrubí - Ø 315 mm | D14: kus | E14: 2 | G14: =E14*F14 -> 0
A15: 003 | B15: 42430 | C15: Talířový ventil - odvodní - Ø 160 mm | D15: kus | E15: 2 | G15: =E15*F15 -> 0
A16: 004 | B16: 42461 | C16: Talířový ventil - odvodní - Ø 100 mm | D16: kus | E16: 16 | G16: =E16*F16 -> 0
A17: 005 | B17: 42491 | C17: Vyústka komfortní - dvouřadá přívodní - 400x75 mm | D17: kus | E17: 6 | G17: =E17*F17 -> 0
A18: 006 | B18: 42522 | C18: Vyústka komfortní - dvouřadá přívodní - 300x75 mm | D18: kus | E18: 4 | G18: =E18*F18 -> 0
A19: 007 | B19: 42552 | C19: Regulační klapka ruční - kruhová - Ø 315 mm | D19: kus | E19: 1 | G19: =E19*F19 -> 0
A20: 008 | B20: 42583 | C20: Regulační klapka ruční - kruhová - Ø 200 mm | D20: kus | E20: 1 | G20: =E20*F20 -> 0
A21: 009 | B21: 42614 | C21: Protidešťová žaluzie - 450x450 mm | D21: kus | E21: 1 | G21: =E21*F21 -> 0
A22: 010 | B22: 42644 | C22: Žaluziová klapka - 300x300 mm | D22: kus | E22: 1 | G22: =E22*F22 -> 0
A23: 011 | B23: 42675 | C23: Dveřní mřížka min. průřezu 450x80 mm | D23: kus | E23: 1 | G23: =E23*F23 -> 0
A24: 012 | C24: Čtyřhranné potrubí do obvodu 1200 mm vč. tvarovek | D24: m | E24: 8 | G24: =E24*F24 -> 0
A25: 013 | C25: Kruhové ocelové potrubí vč. tvarovek - Ø 315 mm | D25: m | E25: 33 | G25: =E25*F25 -> 0
A26: 014 | C26: Kruhové ocelové potrubí vč. tvarovek - Ø 200 mm | D26: m | E26: 18 | G26: =E26*F26 -> 0
A27: 015 | C27: Kruhové ocelové potrubí vč. tvarovek - Ø 160 mm | D27: m | E27: 20 | G27: =E27*F27 -> 0
A28: 016 | C28: Kruhové ocelové potrubí vč. tvarovek - Ø 100 mm | D28: m | E28: 13 | G28: =E28*F28 -> 0
A29: 017 | C29: Tepelná izolace pro vzduchotechniku - izolační pásy tl. 25 mm | D29: m2 | E29: 5 | G29: =E29*F29 -> 0
A30: 018 | C30: Montážní a závěsový materiál | D30: kg | E30: 40 | G30: =E30*F30 -> 0
A31: 019 | C31: Spojovací a těsnící materiál | D31: kg | E31: 15 | G31: =E31*F31 -> 0
B32: 24-2 | C32: VZT 2 - Pavilon B+C | G32: =SUM(G33:G53) -> 0
A33: 020 | B33: 42371 | C33: Kompaktní větrací jednotka s rekuperací tepla max.vzduchový výkon - přívod 1180 m3/h (250 Pa); odvod 1180 m3/h (250 Pa) el. příkon pro dimenzování - přívod 0,78 kW (230 V); odvod 0,78 kW (230 V) včetně bypassové klapky; včetně digitální regulace odvod kondenzátu do nejbližšího odpadu 2xØ32 mm, stojaté provedení, hmotnost 333 kg | D33: kus | E33: 1 | G33: =E33*F33 -> 0
A34: 021 | B34: 42402 | C34: Tlumič hluku do kruhového potrubí - Ø 250 mm | D34: kus | E34: 4 | G34: =E34*F34 -> 0
A35: 022 | B35: 42431 | C35: Talířový ventil - odvodní - Ø 160 mm | D35: kus | E35: 3 | G35: =E35*F35 -> 0
A36: 023 | B36: 42462 | C36: Talířový ventil - odvodní - Ø 100 mm | D36: kus | E36: 15 | G36: =E36*F36 -> 0
A37: 024 | B37: 42492 | C37: Vyústka komfortní - dvouřadá přívodní - 400x75 mm | D37: kus | E37: 6 | G37: =E37*F37 -> 0
A38: 025 | B38: 42523 | C38: Vyústka komfortní - dvouřadá přívodní - 300x75 mm | D38: kus | E38: 6 | G38: =E38*F38 -> 0
A39: 026 | B39: 42553 | C39: Regulační klapka ruční - kruhová - Ø 250 mm | D39: kus | E39: 1 | G39: =E39*F39 -> 0
A40: 027 | B40: 42584 | C40: Regulační klapka ruční - kruhová - Ø 200 mm | D40: kus | E40: 2 | G40: =E40*F40 -> 0
A41: 028 | B41: 42615 | C41: Požární klapka kruhová Ø 200 mm - ruční a teplotní - odolnost dle PBŘ | D41: kus | E41: 2 | G41: =E41*F41 -> 0
A42: 029 | B42: 42645 | C42: Protidešťová žaluzie - 450x450 mm | D42: kus | E42: 1 | G42: =E42*F42 -> 0
A43: 030 | B43: 42676 | C43: Žaluziová klapka - 300x300 mm | D43: kus | E43: 1 | G43: =E43*F43 -> 0
A44: 031 | B44: 42706 | C44: Dveřní mřížka min. průřezu 450x80 mm | D44: kus | E44: 4 | G44: =E44*F44 -> 0
A45: 032 | C45: Čtyřhranné potrubí do obvodu 1200 mm vč. tvarovek | D45: m | E45: 10 | G45: =E45*F45 -> 0
A46: 033 | C46: Kruhové ocelové potrubí vč. tvarovek - Ø 315 mm | D46: m | E46: 3 | G46: =E46*F46 -> 0
A47: 034 | C47: Kruhové ocelové potrubí vč. tvarovek - Ø 250 mm | E47: 25 | G47: =E47*F47 -> 0
A48: 035 | C48: Kruhové ocelové potrubí vč. tvarovek - Ø 200 mm | D48: m | E48: 33 | G48: =E48*F48 -> 0
A49: 036 | C49: Kruhové ocelové potrubí vč. tvarovek - Ø 160 mm | D49: m | E49: 20 | G49: =E49*F49 -> 0
A50: 037 | C50: Kruhové ocelové potrubí vč. tvarovek - Ø 100 mm | D50: m | E50: 5 | G50: =E50*F50 -> 0
A51: 038 | C51: Tepelná izolace pro vzduchotechniku - izolační pásy tl. 25 mm | D51: m2 | E51: 4.5 | G51: =E51*F51 -> 0
A52: 039 | C52: Montážní a závěsový materiál | D52: kg | E52: 35 | G52: =E52*F52 -> 0
A53: 040 | C53: Spojovací a těsnící materiál | D53: kg | E53: 15 | G53: =E53*F53 -> 0
B54: 24-3 | C54: Ostatní | G54: =SUM(G55:G59) -> 0
A55: 041 | B55: 24-3-001 | C55: Montáž VZT zařízení | D55: hod | E55: 30 | G55: =E55*F55 -> 0
A56: 042 | B56: 24-3-002 | C56: M+R | D56: Kč | E56: 1 | G56: =E56*F56 -> 0
A57: 043 | B57: 24-3-003 | C57: Doprava veškerého zařízení | D57: kus | E57: 1 | G57: =E57*F57 -> 0
A58: 044 | B58: 24-3-004 | C58: Seřízení a zaregulování VZT rozvodů a koncových prvků | D58: hod | E58: 18 | G58: =E58*F58 -> 0
A59: 045 | B59: 24-3-005 | C59: Protokoly, revize, zkoušky | D59: kus | E59: 1 | G59: =E59*F59 -> 0

Sheet Vnitřní vybavení
A1: SOUPIS PRACÍ
A2: Stavba: Zvýšení kapacity předškolního vzdělávání ve městě Ralsko | E2: JKSO: 801 31 8 1
A3: Část: Vnitřní vybavení | E3: Zpracoval:
A4: Místo: Město Ralsko, část Kuřívody, p.p.č.5, 15/2, 15/4 a 15/5 v k.ú. Kuřívody | E4: Datum:
A5: Objednatel: Město Ralsko, Kuřívody 701, 471 24 Ralsko
A6: Zhotovitel:
A7: P.Č. | B7: Kód položky | C7: Popis | D7: MJ | E7: Množství celkem | F7: Cena jednotková | G7: Cena celkem
A8: 1 | B8: 2 | C8: 3 | D8: 4 | E8: 5 | F8: 6 | G8: 7
C10: Vnitřní vybavení -celkem | G10: =G11 -> 0
B11: PSV | C11: Práce a dodávky PSV | G11: =G12+G67+G80+G86 -> 0
B12: 766-1 | C12: Nábytek a doplňky | G12: =SUM(G13:G66) -> 0
A13: 001 | B13: PC-766-1-1 | C13: Kuchyňská linka (výdejny, přípravna) | D13: kus | E13: 4 | G13: =E13*F13 -> 0
A14: 002 | B14: PC-766-1-2 | C14: Kancelářský stůl s kontejnerem s přídavným samostatným stolem umístěným do L ředitelna | D14: kus | E14: 1 | G14: =E14*F14 -> 0
A15: 003 | B15: PC-766-1-3 | C15: Kancelářský stůl účtárna + herna pavilon | D15: kus | E15: 3 | G15: =E15*F15 -> 0
A16: 004 | B16: PC-766-1-4 | C16: Oboustranný učitelský stůl | D16: kus | E16: 2 | G16: =E16*F16 -> 0
A17: 005 | B17: PC-766-1-5 | C17: Pojízdné šuplíkové uzamykatelné kontejnery | D17: kus | E17: 4 | G17: =E17*F17 -> 0
A18: 006 | B18: PC-766-1-6 | C18: Kancelářská židle (soubor) | D18: kus | E18: 8 | G18: =E18*F18 -> 0
A19: 007 | B19: PC-766-1-7 | C19: Konferenční židle (soubor) | D19: kus | E19: 10 | G19: =E19*F19 -> 0
A20: 008 | B20: PC-766-1-8 | C20: Stůl sborovna | D20: kus | E20: 1 | G20: =E20*F20 -> 0
A21: 009 | B21: PC-766-1-9 | C21: Šatnová stěna (ředitelna, sborovna) | D21: kus | E21: 2 | G21: =E21*F21 -> 0
A22: 010 | B22: PC-766-1-10 | C22: Šatní skříň (šatny učitelek) | D22: kus | E22: 2 | G22: =E22*F22 -> 0
A23: 011 | B23: PC-766-1-11 | C23: Lavička na přezouvání (šatna učitelek) | D23: kus | E23: 2 | G23: =E23*F23 -> 0
A24: 012 | B24: PC-766-1-12 | C24: Skříně uzamykatelné kabinety | D24: kus | E24: 8 | G24: =E24*F24 -> 0
... A66: 054 | B66: PC-766-1-54 | C66: Zrcadla | D66: kus | E66: 3 | G66: =E66*F66 -> 0
B67: 766-2 | C67: IT a elektro | G67: =SUM(G68:G79) -> 0
A68: 055 | B68: PC-766-2-1 | C68: Interaktivní tabule Smart board (SW, datový projektor, notebook, ozvučení, pojezd, instalace, doprava, školení obsluhy) | D68: kus | E68: 1 | G68: =E68*F68 -> 0
A69: 056 | B69: PC-766-2-2 | C69: Interaktivní tabule Smart board (SW, datový projektor, notebook, ozvučení, pojezd, instalace, doprava, školení obsluhy) | D69: kus | E69: 1 | G69: =E69*F69 -> 0
A70: 057 | B70: PC-766-2-3 | C70: PC sestava (PC, klávesnice, myš) - ředitelna | D70: kus | E70: 1 | G70: =E70*F70 -> 0
A71: 058 | B71: PC-766-2-4 | C71: PC sestava (PC, klávesnice, myš) - herny | D71: kus | E71: 2 | G71: =E71*F71 -> 0
A72: 059 | B72: PC-766-2-5 | C72: Televize | D72: kus | E72: 3 | G72: =E72*F72 -> 0
A73: 060 | B73: PC-766-2-6 | C73: Multifunkční barevná tiskárna (tisk, skener, kopírka) | D73: kus | E73: 1 | G73: =E73*F73 -> 0
A74: 061 | B74: PC-766-2-7 | C74: Kopírka A4 černobílá | D74: kus | E74: 3 | G74: =E74*F74 -> 0
A75: 062 | B75: PC-766-2-8 | C75: Vysavač s vodním filtrem | D75: kus | E75: 1 | G75: =E75*F75 -> 0
A76: 063 | B76: PC-766-2-9 | C76: Přenosné digitální piano | D76: kus | E76: 1 | G76: =E76*F76 -> 0
A77: 064 | B77: PC-766-2-10 | C77: Digitální piano | D77: kus | E77: 1 | G77: =E77*F77 -> 0
A78: 065 | B78: PC-766-2-11 | C78: Myčka | D78: kus | E78: 2 | G78: =E78*F78 -> 0
A79: 066 | B79: PC-766-2-12 | C79: Chladnička | D79: kus | E79: 3 | G79: =E79*F79 -> 0
B80: 766-3 | C80: Kompenzační pomůcky | G80: =SUM(G81:G85) -> 0
A81: 067 | B81: PC-766-3-1 | C81: Kostkoviště | D81: kus | E81: 2 | G81: =E81*F81 -> 0
A82: 068 | B82: PC-766-3-2 | C82: Interaktivní slunce | D82: kus | E82: 2 | G82: =E82*F82 -> 0
A83: 069 | B83: PC-766-3-3 | C83: Terapeutická houpačka | D83: kus | E83: 2 | G83: =E83*F83 -> 0
A84: 070 | B84: PC-766-3-4 | C84: Tablety | D84: kus | E84: 6 | G84: =E84*F84 -> 0
A85: 071 | B85: PC-766-3-5 | C85: Soubor výukových programů pro děti s postižením pro předškoláky a první stupeň základních a speciálních škol - multilicence | D85: kus | E85: 1 | G85: =E85*F85 -> 0
B86: 766-4 | C86: Vnitřní vybavení nezpůsobilé | G86: =SUM(G87:G116) -> 0
A87: 072 | B87: PC-766-4-1 | C87: Odkládací stolek (kabinety) | D87: kus | E87: 2 | G87: =E87*F87 -> 0
A88: 073 | B88: PC-766-4-2 | C88: Herní sestava kadeřnice | D88: kus | E88: 2 | G88: =E88*F88 -> 0
A89: 074 | B89: PC-766-4-3 | C89: Herní sestava obývací pokojík | D89: kus | E89: 2 | G89: =E89*F89 -> 0
A90: 075 | B90: PC-766-4-4 | C90: Žíněnka 100 x 50 x 3 cm | D90: kus | E90: 4 | G90: =E90*F90 -> 0
A91: 076 | B91: PC-766-4-5 | C91: Matrace 125 | D91: kus | E91: 22 | G91: =E91*F91 -> 0
A92: 077 | B92: PC-766-4-6 | C92: Matrace 133,5 | D92: kus | E92: 25 | G92: =E92*F92 -> 0
A93: 078 | B93: PC-766-4-7 | C93: Stohovatelné plastové lehátka 133,5 cm | D93: kus | E93: 22 | G93: =E93*F93 -> 0
A94: 079 | B94: PC-766-4-8 | C94: Prostěradlo | D94: kus | E94: 47 | G94: =E94*F94 -> 0
A95: 080 | B95: PC-766-4-9 | C95: Povlečení - deka, polštář | D95: kus | E95: 47 | G95: =E95*F95 -> 0
A96: 081 | B96: PC-766-4-10 | C96: Deky na přikrytí z dutého vlákna | D96: kus | E96: 47 | G96: =E96*F96 -> 0
A97: 082 | B97: PC-766-4-11 | C97: Zrcadla (průměr 38 cm) | D97: kus | E97: 12 | G97: =E97*F97 -> 0
A98: 083 | B98: PC-766-4-12 | C98: Odpadkový koš na papír | D98: kus | E98: 7 | G98: =E98*F98 -> 0
... A116: 103 | B116: PC-766-4-32 | C116: Barevný kód - hra pro rozvoj IQ, logické myšlelní, prostorovou představivost, koncentraci a plánování | D116: kus | E116: 2 | G116: =E116*F116 -> 0

Sheet Sadové úpravy
A1: SOUPIS PRACÍ
A2: Stavba: Zvýšení kapacity předškolního vzdělávání ve městě Ralsko | E2: JKSO: 801 31 8 1
A3: Část: Sadové úpravy, herní prvky a mobiliář | E3: Zpracoval:
A4: Místo: Město Ralsko, část Kuřívody, p.p.č.5, 15/2, 15/4 a 15/5 v k.ú. Kuřívody | E4: Datum:
A5: Objednatel: Město Ralsko, Kuřívody 701, 471 24 Ralsko
A6: Zhotovitel:
A7: P.Č. | B7: Kód položky | C7: Popis | D7: MJ | E7: Množství celkem | F7: Cena jednotková | G7: Cena celkem
A8: 1 | B8: 2 | C8: 3 | D8: 4 | E8: 5 | F8: 6 | G8: 7
C10: Sadové úpravy, herní prvky a mobiliář -celkem | G10: =G11 -> 0
B11: HSV | C11: Práce a dodávky HSV | G11: =G12+G81 -> 0
B12: 1 | C12: Sadové úpravy | G12: =G28+G55+G66 -> 0
A13: 001 | B13: PC-180-1-1 | C13: Zemina zahradní na vyrovnání pozemku | D13: m3 | E13: 35 | G13: =E13*F13 -> 0
A14: 002 | B14: PC-180-1-2 | C14: Rašelinový substrát (A) na výsadbu rostlin | D14: m3 | E14: 12 | G14: =E14*F14 -> 0
A15: 003 | B15: PC-180-1-3 | C15: Rostliny dle projektu (16 stromů+470 rostlin) | D15: kus | E15: 1 | G15: =E15*F15 -> 0
A16: 004 | B16: PC-180-1-4 | C16: Borka na záhony | D16: m3 | E16: 27.28 | G16: =E16*F16 -> 0
A17: 005 | B17: PC-180-1-5 | C17: Geotextilie záhony (započítán přesah 20%) | D17: m2 | E17: 603.9 | G17: =E17*F17 -> 0
A18: 006 | B18: PC-180-1-6 | C18: Geotextilie traviny (200g/m2) | D18: m2 | E18: 30 | G18: =E18*F18 -> 0
A19: 007 | B19: PC-180-1-7 | C19: Travní osivo | D19: kg | E19: 130.8 | G19: =E19*F19 -> 0
A20: 008 | B20: PC-180-1-8 | C20: Kámen solitérní | D20: t | E20: 5.3 | G20: =E20*F20 -> 0
A21: 009 | B21: PC-180-1-9 | C21: Obrubníky podle záhonů plast | D21: m | E21: 315 | G21: =E21*F21 -> 0
A22: 010 | B22: PC-180-1-10 | C22: Chem.prostředek na odstranění plevelu | D22: l | E22: 1 | G22: =E22*F22 -> 0
A23: 011 | B23: PC-180-1-11 | C23: Ostatní materiál ( dráty, stojky) | D23: kus | E23: 1023 | G23: =E23*F23 -> 0
A24: 012 | B24: PC-180-1-12 | C24: Kačírek | D24: t | E24: 6.32 | G24: =E24*F24 -> 0
... A27: 015 | B27: PC-180-1-15 | C27: Hnojivo -tablety | D27: kus | E27: 50 | G27: =E27*F27 -> 0
C28: Materiál - celkem | G28: =SUM(G13:G27) -> 0
A29: 016 | B29: PC-180-2-1 | C29: Demolice a vyčištění ploch, přesazování a uklid mater. | D29: kus | E29: 1 | G29: =E29*F29 -> 0
A30: 017 | B30: PC-180-2-2 | C30: Prořez a likvidace dřevin, kořenů a pařezů | D30: kus | E30: 1 | G30: =E30*F30 -> 0
A31: 018 | B31: PC-180-2-3 | C31: Vyměření a vytýčení záhonů dle dokumentace | D31: kus | E31: 1 | G31: =E31*F31 -> 0
A32: 019 | B32: PC-180-2-4 | C32: Teréní práce strojovou mechanizací bagr, nákladní auto | D32: hod. | E32: 24 | G32: =E32*F32 -> 0
A33: 020 | B33: PC-180-2-5 | C33: Ruční modelace terénu na záhony | D33: m2 | E33: 341 | G33: =E33*F33 -> 0
A34: 021 | B34: PC-180-2-6 | C34: Rozvození zeminy ruční práce a vyrovnání pozemku | D34: m3 | E34: 35 | G34: =E34*F34 -> 0
A35: 022 | B35: PC-180-2-7 | C35: Kultivace a vertikutace travnatých ploch | D35: m2 | E35: 3924 | G35: =E35*F35 -> 0
A36: 023 | B36: PC-180-2-8 | C36: Úprava půdy před setím , setí travnatých ploch | D36: m2 | E36: 3924 | G36: =E36*F36 -> 0
A37: 024 | B37: PC-180-2-9 | C37: Dohnojení ploch | D37: m2 | E37: 4265 | G37: =E37*F37 -> 0
A38: 025 | B38: PC-180-2-10 | C38: Příprava půdy před výsadbou | D38: m2 | E38: 341 | G38: =E38*F38 -> 0
A39: 026 | B39: PC-180-2-11 | C39: Natahování fólií | D39: m2 | E39: 633.9 | G39: =E39*F39 -> 0
A40: 027 | B40: PC-180-2-12 | C40: Roznošení rostlin a strromů dle projektu | D40: kus | E40: 1 | G40: =E40*F40 -> 0
... A54: 041 | B54: PC-180-2-26 | C54: Manipulace s kůrou stroji | D54: m2 | E54: 27.28 | G54: =E54*F54 -> 0
C55: Materiál - celkem | G55: =SUM(G29:G54) -> 0
A56: 042 | B56: PC-180-3-1 | C56: Doprava rostlin 2x | D56: kus | E56: 2 | G56: =E56*F56 -> 0
A57: 043 | B57: PC-180-3-2 | C57: Doprava kůry, naložení,složení 2x | D57: kus | E57: 2 | G57: =E57*F57 -> 0
A58: 044 | B58: PC-180-3-3 | C58: Doprava strojů, lidí a nářadí na celou rekonstrukci | D58: kus | E58: 1 | G58: =E58*F58 -> 0
A59: 045 | B59: PC-180-3-4 | C59: Doprava materiálu -zemina | D59: t | E59: 16 | G59: =E59*F59 -> 0
A60: 046 | B60: PC-180-3-5 | C60: Doprava kačírku | D60: t | E60: 6.32 | G60: =E60*F60 -> 0
A61: 047 | B61: PC-180-3-6 | C61: Odvoz odpadu celkem netříděný na skládku | D61: kus | E61: 1 | G61: =E61*F61 -> 0
A62: 048 | B62: PC-180-3-7 | C62: Doprava obrubníků, a písku | D62: kus | E62: 1 | G62: =E62*F62 -> 0
A63: 049 | B63: PC-180-3-8 | C63: Doprava, kůly, ostatní drobný materiál na stavbu | D63: kus | E63: 1 | G63: =E63*F63 -> 0
A64: 050 | B64: PC-180-3-9 | C64: Doprava kamenů , naložení a složení | D64: t | E64: 3 | G64: =E64*F64 -> 0
A65: 051 | B65: PC-180-3-10 | C65: Doprava stavebních strojů | D65: kus | E65: 3 | G65: =E65*F65 -> 0
C66: Doprava - celkem | G66: =SUM(G56:G65) -> 0
C67: Celková plocha zahrady | D67: m2 | E67: 5602
C68: Celková zastavěná plocha | D68: m2 | E68: 1337
C69: Celková plocha -záhony | D69: m2 | E69: 341
C70: Celková plocha -oddrněné záhony | D70: m2 | E70: 304
C71: Celková plocha -chemicky ošetřená plocha | D71: m2 | E71: 4265
C72: Celková plocha -stávající záhony | D72: m2 | E72: 37
C73: Celková plocha -trávníky | D73: m2 | E73: 3924
C74: Celková plocha -nové trávníky | D74: m2 | E74: 3924
C75: Celkové množství kačírku | D75: t | E75: 6.32
C76: Plocha -herní prvky s ochrannou zónou | D76: m2 | E76: 232
C77: Plastové obrubníky okolo záhonů C+E | D77: m | E77: 315
C78: Praný kačírek | D78: m2 | E78: 31.6
C79: Počet rostlin | D79: kus | E79: 486
B81: 2 | C81: Herní prvky a mobiliář | G81: =SUM(G82:G96) -> 0
A82: 052 | B82: PC-950-1 | C82: výukový altán | D82: kus | E82: 1 | G82: =E82*F82 -> 0
A83: 053 | B83: PC-950-2 | C83: mlhoviště | D83: kus | E83: 1 | G83: =E83*F83 -> 0
A84: 054 | B84: PC-950-3 | C84: trojkladina | D84: kus | E84: 1 | G84: =E84*F84 -> 0
A85: 055 | B85: PC-950-4 | C85: šplhací sestava | D85: kus | E85: 1 | G85: =E85*F85 -> 0
A86: 056 | B86: PC-950-5 | C86: kreslící dvojtabule | D86: kus | E86: 1 | G86: =E86*F86 -> 0
A87: 057 | B87: PC-950-6 | C87: kreslící tabule s počitadlem | D87: kus | E87: 1 | G87: =E87*F87 -> 0
A88: 058 | B88: PC-950-7 | C88: houpadlo pružina auto | D88: kus | E88: 1 | G88: =E88*F88 -> 0
A89: 059 | B89: PC-950-8 | C89: houpadlo pružina motorka | D89: kus | E89: 1 | G89: =E89*F89 -> 0
A90: 060 | B90: PC-950-9 | C90: houpadlo pružina pro 4 děti kytka | D90: kus | E90: 1 | G90: =E90*F90 -> 0
A91: 061 | B91: PC-950-10 | C91: herní sestava hrad | D91: kus | E91: 1 | G91: =E91*F91 -> 0
A92: 062 | B92: PC-950-11 | C92: odpadkový koš | D92: kus | E92: 5 | G92: =E92*F92 -> 0
A93: 063 | B93: PC-950-12 | C93: lavička bez opěradla | D93: kus | E93: 3 | G93: =E93*F93 -> 0
... A96: 066 | B96: PC-950-15 | C96: Instalace | D96: kus | E96: 1 | G96: =E96*F96 -> 0

Sheet Povinná publicita
A1: SOUPIS PRACÍ
A2: Stavba: Zvýšení kapacity předškolního vzdělávání ve městě Ralsko | E2: JKSO: 801 31 8 1
A3: Část: Povinná publicita | E3: Zpracoval:
A4: Místo: Město Ralsko, část Kuřívody, p.p.č.5, 15/2, 15/4 a 15/5 v k.ú. Kuřívody | E4: Datum:
A5: Objednatel: Město Ralsko, Kuřívody 701, 471 24 Ralsko
A6: Zhotovitel:
A7: P.Č. | B7: Kód položky | C7: Popis | D7: MJ | E7: Množství celkem | F7: Cena jednotková | G7: Cena celkem
A8: 1 | B8: 2 | C8: 3 | D8: 4 | E8: 5 | F8: 6 | G8: 7
C10: Povinná publicita -celkem | G10: =G11 -> 0
B11: PSV | C11: Práce a dodávky PSV | G11: =G12 -> 0
B12: 767-1 | C12: Konstrukce kovové doplňkové stavební | G12: =SUM(G13:G14) -> 0
A13: 001 | B13: PC-767-1-1 | C13: Billboard na staveniště (5,1x2,4m), barevný, plachta kotvená na sloupcích, text bude dodán -včetně designu a instalace | D13: kus | E13: 1 | G13: =E13*F13 -> 0
A14: 002 | B14: PC-767-1-2 | C14: Pamětní deska (0,3x0,4m), hliníkový sendvič, tisk plnobarevný s laminací -včetně designu a instalace | D14: kus | E14: 1 | G14: =E14*F14 -> 0

Sheet Vedlejší výdaje stavby
A1: SOUPIS PRACÍ
A2: Stavba: Zvýšení kapacity předškolního vzdělávání ve městě Ralsko | E2: JKSO: 801 31 8 1
A3: Část: Vedlejší výdaje stavby | E3: Zpracoval:
A4: Místo: Město Ralsko, část Kuřívody, p.p.č.5, 15/2, 15/4 a 15/5 v k.ú. Kuřívody | E4: Datum:
A5: Objednatel: Město Ralsko, Kuřívody 701, 471 24 Ralsko
A6: Zhotovitel:
A7: P.Č. | B7: Kód položky | C7: Popis | D7: MJ | E7: Množství celkem | F7: Cena jednotková | G7: Cena celkem | H7: Hmotnost jednotková | I7: Hmotnost celkem
A8: 1 | B8: 2 | C8: 3 | D8: 4 | E8: 5 | F8: 6 | G8: 7 | H8: 9 | I8: 10
C10: Vedlejší výdaje stavby -celkem | G10: =G12+G32+G83 -> 0
A12: 1 | C12: 1.1 - Architektonicko-stavební řešení -celkem | G12: =G13+G485 -> 0
B13: HSV | C13: Práce a dodávky HSV | G13: =G14+G28 -> 0
B14: 5 | C14: Komunikace | G14: =SUM(G15:G27) -> 0
A15: 059 | B15: 571901100RXX | C15: Doplnění stávajícího chodníku-přístupový chodník | D15: m2 | E15: =E16 -> 115.1 | G15: =E15*F15 -> 0 | H15: 0.596 | I15: =E15*H15 -> 68.5996
C16: 51,80+63,30 | D16: m2 | E16: 115.1
A17: 060 | B17: 571901110RXX | C17: Oprava stávajícího chodníku | D17: m2 | E17: =E18 -> 21.2 | G17: =E17*F17 -> 0 | H17: 0.45 | I17: =E17*H17 -> 9.54
C18: 21.2 | D18: m2 | E18: 21.2
A19: 061 | B19: 571901130RXX | C19: Bezbariérové stání pro OA | D19: m2 | E19: =E20 -> 33.2 | G19: =E19*F19 -> 0 | H19: 0.784 | I19: =E19*H19 -> 26.0288
C20: ozn.19: 33,20 | E20: 33.2
A21: 062 | B21: 591104100RXX | C21: Plochy venkovní z protiskluzové dlažby | D21: m2 | E21: =E27 -> 56.68 | G21: =E21*F21 -> 0 | H21: 0.627 | I21: =E21*H21 -> 35.53836
C22: 119 Terasa: 3,60 | D22: m2 | E22: 3.6
C23: 127 Terasa: 10,80 | D23: m2 | E23: 10.8
C24: 129 Zastřešený vstup: 19,40 | D24: m2 | E24: 19.4
C25: 130 Terasa: 18,40 | D25: m2 | E25: 18.2
C26: přístavek: 4,68 | D26: m2 | E26: 4.68
C27: celkem | D27: m2 | E27: =SUM(E22:E26) -> 56.68
B28: 9 | C28: Ostatní konstrukce a práce, bourání, přesun hmot | G28: =SUM(G29:G30) -> 0
A29: 098 | B29: 998011001R00 | C29: Přesun pro budovy zděné výšky do 6 m | D29: t | E29: =E30 -> 139.70676 | G29: =E29*F29 -> 0
C30: výměra dle výpočtu: | D30: t | E30: =I30 -> 139.70676 | I30: =SUM(I15:I29) -> 139.70676
A32: 2 | C32: 1.4 - Elektroinstalace-silnoproud | G32: =G33 -> 0
B33: M | C33: Montáže | G33: =G34+G45+G53+G65 -> 0
B34: 21-1 | C34: Dodávky zařízení | G34: =SUM(G35:G44) -> 0
A35: 002 | B35: 509131 | C35: B ISRAC4KO4V160/ND1050I3 35W | D35: kus | E35: 50 | G35: =E35*F35 -> 0
A36: 003 | B36: 509102 | C36: G LLL2RMKO4V1/1400ND 40W | D36: kus | E36: 38 | G36: =E36*F36 -> 0
A37: 004 | B37: 513515 | C37: H svítidlo záři OP E IP40/T8 24255 | D37: kus | E37: 14 | G37: =E37*F37 -> 0
A38: 005 | B38: 523175 | C38: svítidlo záři PC E/1F/IP66/T8 90356 | D38: kus | E38: 3 | G38: =E38*F38 -> 0
A39: 006 | B39: 523366 | C39: SVITIDLO PC ET5 IP66 /90760/ | D39: kus | E39: 3 | G39: =E39*F39 -> 0
A40: 007 | B40: 513301 | C40: svítidlo záři 113W (118W) pod linku | D40: kus | E40: 1 | G40: =E40*F40 -> 0
A41: 008 | B41: 509101 | C41: F BRSB4KO375V2/ND | D41: kus | E41: 17 | G41: =E41*F41 -> 0
A42: 009 | B42: 511502 | C42: svít žár IN-12U7/264 E27 IP43 pr350 41421 | D42: kus | E42: 3 | G42: =E42*F42 -> 0
A43: 010 | B43: 552431 | C43: nouzové svítidlo LED-Em/IP65 3hod | D43: kus | E43: 20 | G43: =E43*F43 -> 0
A44: 011 | B44: 521024 | C44: 1x26 LED 4000K IP65 | D44: kus | E44: 4 | G44: =E44*F44 -> 0
B45: 21-2 | C45: Materiál elektromontážní | G45: =SUM(G46:G52) -> 0
A46: 042 | B46: 592126 | C46: zářivka lineární T8 pr26mm/L1200mm/G13 36W | D46: kus | E46: 22 | G46: =E46*F46 -> 0
A47: 043 | B47: 592126 | C47: zářivka lineární T8 pr26mm/L1200mm/G13 36W | D47: kus | E47: 6 | G47: =E47*F47 -> 0
A48: 044 | B48: 523366 | C48: svítidlo záři 235 /IP44/T5 | D48: kus | E48: 2 | G48: =E48*F48 -> 0
A49: 045 | B49: 592154 | C49: zářivka lineární T5 HE pr16mm/L1449mm/G5 35W | D49: kus | E49: 4 | G49: =E49*F49 -> 0
A50: 046 | B50: 592154 | C50: zářivka lineární T5 HE pr16mm/L1449mm/G5 35W | D50: kus | E50: 6 | G50: =E50*F50 -> 0
A51: 047 | B51: 592123 | C51: zářivka lineární T8 pr26mm/L590mm/G13 18W | D51: kus | E51: 1 | G51: =E51*F51 -> 0
A52: 048 | B52: 591121 | C52: žárovka E27 220V/do 100W | D52: kus | E52: 3 | G52: =E52*F52 -> 0
B53: 21-4 | C53: Elektromontáže | G53: =SUM(G54:G64) -> 0
A54: 103 | B54: 210201022 | C54: svítidlo zářivkové vestavné/2 zdroje | D54: kus | E54: 50 | G54: =E54*F54 -> 0
A55: 104 | B55: 210201001 | C55: svítidlo zářivkové bytové stropní/1 zdroj | D55: kus | E55: 38 | G55: =E55*F55 -> 0
A56: 105 | B56: 210201002 | C56: svítidlo zářivkové bytové stropní/2 zdroje | D56: kus | E56: 14 | G56: =E56*F56 -> 0
A57: 106 | B57: 210201102 | C57: svítidlo zářivkové průmyslové stropní/2 zdroje | D57: kus | E57: 3 | G57: =E57*F57 -> 0
A58: 107 | B58: 210201102 | C58: svítidlo zářivkové průmyslové stropní/2 zdroje | D58: kus | E58: 2 | G58: =E58*F58 -> 0
A59: 108 | B59: 210201102 | C59: svítidlo zářivkové průmyslové stropní/2 zdroje | D59: kus | E59: 3 | G59: =E59*F59 -> 0
A60: 109 | B60: 210201001 | C60: svítidlo zářivkové bytové stropní/1 zdroj | D60: kus | E60: 1 | G60: =E60*F60 -> 0
A61: 110 | B61: 210201001 | C61: svítidlo zářivkové bytové stropní/1 zdroj | D61: kus | E61: 17 | G61: =E61*F61 -> 0
A62: 111 | B62: 210200041 | C62: svítidlo žárovkové nástěnné/1 zdroj | D62: kus | E62: 3 | G62: =E62*F62 -> 0
A63: 112 | B63: 210201201 | C63: nouzové orientační svítidlo zářivkové | D63: kus | E63: 20 | G63: =E63*F63 -> 0
A64: 113 | B64: 210201101 | C64: svítidlo zářivkové průmyslové stropní/1 zdroj | D64: kus | E64: 4 | G64: =E64*F64 -> 0
B65: 21-6 | C65: Ostatní náklady | G65: =SUM(G66:G81) -> 0
A66: 147 | B66: 218009001 | C66: poplatek za recyklaci svítidla | D66: kus | E66: 50 | G66: =E66*F66 -> 0
A67: 148 | B67: 218009001 | C67: poplatek za recyklaci svítidla | D67: kus | E67: 38 | G67: =E67*F67 -> 0
A68: 149 | B68: 218009001 | C68: poplatek za recyklaci svítidla | D68: kus | E68: 14 | G68: =E68*F68 -> 0
A69: 150 | B69: 218009011 | C69: poplatek za recyklaci světelného zdroje | D69: kus | E69: 22 | G69: =E69*F69 -> 0
A70: 151 | B70: 218009001 | C70: poplatek za recyklaci svítidla | D70: kus | E70: 3 | G70: =E70*F70 -> 0
A71: 152 | B71: 218009011 | C71: poplatek za recyklaci světelného zdroje | D71: kus | E71: 6 | G71: =E71*F71 -> 0
A72: 153 | B72: 218009001 | C72: poplatek za recyklaci svítidla | D72: kus | E72: 2 | G72: =E72*F72 -> 0
A73: 154 | B73: 218009011 | C73: poplatek za recyklaci světelného zdroje | D73: kus | E73: 4 | G73: =E73*F73 -> 0
A74: 155 | B74: 218009001 | C74: poplatek za recyklaci svítidla | D74: kus | E74: 3 | G74: =E74*F74 -> 0
A75: 156 | B75: 218009011 | C75: poplatek za recyklaci světelného zdroje | D75: kus | E75: 6 | G75: =E75*F75 -> 0
A76: 157 | B76: 218009001 | C76: poplatek za recyklaci svítidla | D76: kus | E76: 1 | G76: =E76*F76 -> 0
A77: 158 | B77: 218009011 | C77: poplatek za recyklaci světelného zdroje | D77: kus | E77: 1 | G77: =E77*F77 -> 0
... A81: 162 | B81: 218009001 | C81: poplatek za recyklaci svítidla | D81: kus | E81: 4 | G81: =E81*F81 -> 0
A83: 3 | C83: 1.5. - Elektronické komunikace | G83: =G84 -> 0
B84: M | C84: Montáže | G84: =G85+G122+G125+G151+G158+G162 -> 0
B85: 21-1 | C85: Materiál elektromontážní | G85: =SUM(G86:G121) -> 0
A86: 001 | B86: 205307 | C86: kabel TCEPKPFLE 24x3x0,8 | D86: m | E86: 150 | G86: =E86*F86 -> 0
A87: 002 | B87: 205303 | C87: kabel TCEPKPFLE 4x3x0,8 | D87: m | E87: 120 | G87: =E87*F87 -> 0
A88: 003 | B88: 200305 | C88: kabel opticky do trubky 6-8 vlákno | D88: m | E88: 150 | G88: =E88*F88 -> 0
A89: 004 | B89: 200305 | C89: kabel opticky do trubky 6-8 vlákno | D89: m | E89: 120 | G89: =E89*F89 -> 0
A90: 005 | B90: 209403 | C90: kabel U/UTP Cat.5e 3x2x0.5 plášť šedý dat zás | D90: m | E90: 915 | G90: =E90*F90 -> 0
A91: 006 | B91: 209385 | C91: VF koaxiální kabel VCCOD 75-6.6 TV | D91: m | E91: 150 | G91: =E91*F91 -> 0
A92: 007 | B92: 321123 | C92: trubka ohebná PVC monoflex 1420 TV | D92: m | E92: 150 | G92: =E92*F92 -> 0
A93: 008 | B93: 321122 | C93: trubka ohebna PVC monoflex 1416 Dat zás | D93: m | E93: 200 | G93: =E93*F93 -> 0
A94: 009 | B94: 209385 | C94: VF koaxiální kabel VCCJY 75-4,8 KAMERY | D94: m | E94: 200 | G94: =E94*F94 -> 0
A95: 010 | B95: 101105 | C95: kabel CYKY 3x1,5 KAMERY | D95: m | E95: 200 | G95: =E95*F95 -> 0
B96: 420384 | C96: SESTAVA zásuvka komunikační Time 2xRJ45-8 | E96: 18
A97: 011 | B97: 420204 | C97: zásuvka komunik ModularJack RJ45-8Cat.5e 1208.10 | D97: kus | E97: 36 | G97: =E97*F97 -> 0
A98: 012 | B98: 420216 | C98: nosná maska pro 2xZásuvka ModularJack 5014E-B01018 | D98: kus | E98: 18 | G98: =E98*F98 -> 0
A99: 013 | B99: 420297 | C99: kryt zásuvky komunikační 5014E-A00100 | D99: kus | E99: 18 | G99: =E99*F99 -> 0
A100: 014 | B100: 420391 | C100: rámeček pro 1 přístroj Time 3901F-A00110 | D100: kus | E100: 18 | G100: =E100*F100 -> 0
B101: 420365 | C101: SESTAVA zásuvka TV+R+SAT Time 5011-A3303 koncová | E101: 6
A102: 015 | B102: 420034 | C102: strojek zásuvky TV+R+SAT 5011-A3303 (EU3303) konc | D102: kus | E102: 6 | G102: =E102*F102 -> 0
B103: 420312 | C103: SESTAVA zásuvka TV+R Element 5011-A3607 průběžná | E103: 6
A104: 016 | B104: 420391 | C104: rámeček pro 1 přístroj Time 3901F-A00110 | D104: kus | E104: 6 | G104: =E104*F104 -> 0
A105: 017 | B105: 420284 | C105: AVM553 venkovní 2MPX IP kamera (1920x1080) s WDR,ZOOM objektiv 2.8-12mm, inteligentní IR LED | D105: kus | E105: 9 | G105: =E105*F105 -> 0
A106: 018 | B106: 420391 | C106: instalace videokamer | D106: kus | E106: 9 | G106: =E106*F106 -> 0
A107: 019 | B107: 420284 | C107: AVH516 síťový Real-Time NVR videorekordér pro 16 IP-kamer, 2MPX/HD/Full HD/1080p, Push Messa | D107: kus | E107: 1 | G107: =E107*F107 -> 0
...
