Workbook

Sheet Krycí list+Pokyny
A1: SOUPIS PRACÍ - KRYCÍ LIST
A2: Stavba: Zvýšení kapacity předškolního vzdělávání ve městě Ralsko
A3: Část: Rekapitulace nákladů na stavbu
A4: Místo: Město Ralsko, část Kuřívody, p.p.č.5, 15/2, 15/4 a 15/5 v k.ú. Kuřívody
A5: Objednatel: Město Ralsko, Kuřívody 701, 471 24 Ralsko
A6: Zhotovitel:
A8: JKSO: 801 31 8 1
A9: Zpracoval:
A10: Datum:
B11: POKYNY PRO VYPLNĚNÍ SOUPISU PRACÍ :
B12: S položkami uvedenými ve výkazech, výkresech a technické zprávě platí veškeré s nimi spojené práce, které jsou
B13: zapotřebí pro provedení kompletní dodávky, a to i když nejsou zvlášť uvedeny ve výkazech výměr. To znamená, že
B14: veškeré položky patrné z výkazů, výkresů a technických zpráv je třeba v nabídkové ceně ocenit jako komplexně
B15: vykonané práce vč.materiálů, nářadí a strojů nutných k práci, přestože nejsou ve výkazech vypsány zvlášť.
B17: Zpracovatel nabídkového rozpočtu ručí za správnou provázanost jednotlivých vzorců a součtů.
B18: Při zpracovávání nabídkového rozpočtu nelze měnit popis položek, počet položek, ani jejich jednotlivá množství.
B20: Vyplňují se pouze modře označené buňky.
A22: 1.1. - ARCHITEKTONICKO-STAVEBNÍ ŘEŠENÍ | C22: =SUM(C23:C41) -> 0
A23: 1 | B23: Přípravné a zemní práce | C23: ='Stavební část'!G12 -> 0
A24: 2 | B24: Základy, zvláštní zakládání, zpevňování hornin | C24: ='Stavební část'!G72 -> 0
A25: 3 | B25: Svislé konstrukce | C25: ='Stavební část'!G135 -> 0
A26: 4 | B26: Vodorovné konstrukce | C26: ='Stavební část'!G170 -> 0
A27: 5 | B27: Komunikace | C27: ='Stavební část'!G215 -> 0
A28: 6 | B28: Úprava povrchů, podlahy a osazování výplní otvorů | C28: ='Stavební část'!G231 -> 0
A29: 9 | B29: Ostatní konstrukce a práce, bourání, přesun hmot | C29: ='Stavební část'!G423 -> 0
A30: 711 | B30: Izolace proti vodě | C30: ='Stavební část'!G533 -> 0
A31: 713 | B31: Izolace tepelné | C31: ='Stavební část'!G554 -> 0
A32: 762 | B32: Konstrukce tesařské | C32: ='Stavební část'!G604 -> 0
A33: 763 | B33: Dřevostavby | C33: ='Stavební část'!G626 -> 0
A34: 764 | B34: Konstrukce klempířské | C34: ='Stavební část'!G649 -> 0
A35: 765 | B35: Krytiny tvrdé | C35: ='Stavební část'!G660 -> 0
A36: 766 | B36: Konstrukce truhlářské | C36: ='Stavební část'!G686 -> 0
A37: 767 | B37: Konstrukce kovové doplňkové stavební | C37: ='Stavební část'!G705 -> 0
A38: 771 | B38: Podlahy z dlaždic | C38: ='Stavební část'!G713 -> 0
A39: 776 | B39: Podlahy povlakové | C39: ='Stavební část'!G820 -> 0
A40: 781 | B40: Obklady keramické | C40: ='Stavební část'!G897 -> 0
A41: 784 | B41: Malby | C41: ='Stavební část'!G1041 -> 0
A42: 1.3. - ZDRAVOTECHNIKA | C42: =SUM(C43:C46) -> 0
A43: 721-1 | B43: Kanalizace | C43: =Zdravotechnika!G12 -> 0
A44: 721-2 | B44: Odvedení dešťových vod | C44: =Zdravotechnika!G76 -> 0
...

Sheet Rekapitulace
A1: SOUPIS PRACÍ - REKAPITULACE
A2: Stavba: Zvýšení kapacity předškolního vzdělávání ve městě Ralsko | E2: JKSO: 801 31 8 1
A3: Část: Rekapitulace nákladů na stavbu | E3: Zpracoval:
A4: Místo: Město Ralsko, část Kuřívody, p.p.č.5, 15/2, 15/4 a 15/5 v k.ú. Kuřívody | E4: Datum:
A5: Objednatel: Město Ralsko, Kuřívody 701, 471 24 Ralsko
A6: Zhotovitel:
B8: ZÁKLADNÍ ROZPOČTOVÉ NÁKLADY NA STAVBU
A9: 001 | B9: z toho: | C9: 1 | D9: PŘÍPRAVNÉ A ZEMNÍ PRÁCE | E9: ='Stavební část'!G12 -> 0
A10: 002 | C10: 2 | D10: ZÁKLADY, ZVLÁŠTNÍ ZAKLÁDÁNÍ, ZPEVŇOVÁNÍ HORNIN | E10: ='Stavební část'!G72 -> 0
A11: 003 | C11: 3 | D11: SVISLÉ KONSTRUKCE | E11: ='Stavební část'!G135 -> 0
A12: 004 | C12: 4 | D12: VODOROVNÉ KONSTRUKCE | E12: ='Stavební část'!G170 -> 0
A13: 005 | C13: 5 | D13: KOMUNIKACE | E13: ='Stavební část'!G215 -> 0
A14: 006 | C14: 6 | D14: ÚPRAVY POVRCHŮ,PODLAHY A OSAZOVÁNÍ VÝPLNÍ OTVORŮ | E14: ='Stavební část'!G231 -> 0
A15: 007 | C15: 9 | D15: OSTATNÍ KONSTRUKCE A PRÁCE, PŘESUN HMOT | E15: ='Stavební část'!G423 -> 0
A16: 008 | C16: 711 | D16: IZOLACE PROTI VODĚ | E16: ='Stavební část'!G533 -> 0
A17: 009 | C17: 713 | D17: IZOLACE TEPELNÉ | E17: ='Stavební část'!G554 -> 0
A18: 010 | C18: 762 | D18: KONSTRUKCE TESAŘSKÉ | E18: ='Stavební část'!G604 -> 0
A19: 011 | C19: 763 | D19: DŘEVOSTAVBY | E19: ='Stavební část'!G626 -> 0
A20: 012 | C20: 720 | D20: ZDRAVOTECHNIKA -samostatný list | E20: =Zdravotechnika!G10 -> 0
A21: 013 | C21: 730 | D21: VYTÁPĚNÍ -samostatný list | E21: =Vytápění!G10 -> 0
A22: 014 | C22: 764 | D22: KONSTRUKCE KLEMPÍŘSKÉ | E22: ='Stavební část'!G649 -> 0
A23: 015 | C23: 765 | D23: KRYTINY TVRDÉ | E23: ='Stavební část'!G660 -> 0
A24: 016 | C24: 766 | D24: KONSTRUKCE TRUHLÁŘSKÉ | E24: ='Stavební část'!G686 -> 0
A25: 017 | C25: 766-1 | D25: VNITŘNÍ VYBAVENÍ -samostatný list | E25: ='Vnitřní vybavení'!G10 -> 0
A26: 018 | C26: 767 | D26: KONSTRUKCE KOVOVÉ DOPLŇKOVÉ STAVEBNÍ | E26: ='Stavební část'!G705 -> 0
A27: 019 | C27: 767-1 | D27: POVINNÁ PUBLICITA -samostatný list | E27: ='Povinná publicita'!G10 -> 0
A28: 020 | C28: 771 | D28: PODLAHY Z DLAŽDIC | E28: ='Stavební část'!G713 -> 0
A29: 021 | C29: 776 | D29: PODLAHY POVLAKOVÉ | E29: ='Stavební část'!G820 -> 0
A30: 022 | C30: 781 | D30: OBKLADY KERAMICKÉ | E30: ='Stavební část'!G897 -> 0
A31: 023 | C31: 784 | D31: MALBY | E31: ='Stavební část'!G1041 -> 0
A32: 024 | C32: M-21 | D32: ELEKTROINSTALACE-SILNOPROUD | E32: =Silnoproud!G10 -> 0
A33: 025 | C33: M-22 | D33: ELEKTROINSTALACE-SLABOPROUD -oceněno ve VVS | E33: =Slaboproud!G11 -> 0
A34: 026 | C34: M-24 | D34: MONTÁŽE VZDUCHOTECHNICKÝCH ZAŘÍZENÍ -samost.list | E34: =Vzduchotechnika!G10 -> 0
C35: 42370 | D35: SADOVÉ ÚPRAVY, HERNÍ PRVKY A MOBILIÁŘ | E35: ='Sadové úpravy'!G10 -> 0
A36: 027 | C36: OST | D36: VEDLEJŠÍ VÝDAJE STAVBY | E36: ='Vedlejší výdaje stavby'!G10 -> 0
B37: ZÁKLADNÍ ROZPOČTOVÉ NÁKLADY NA STAVBU - CELKEM BEZ DPH | E37: =SUM(E9:E36) -> 0
B39: VRN-VEDLEJŠÍ A OSTATNÍ NÁKLADY
A40: 028 | B40: M99 | C40: VEDLEJŠÍ NÁKLADY -samostatný list | E40: =VRN!G10 -> 0
B41: VRN-VEDLEJŠÍ A OSTATNÍ NÁKLADY NA STAVBU - CELKEM BEZ DPH | E41: =SUM(E40) -> 0
B43: CELKOVÉ NÁKLADY NA STAVBU BEZ DPH | E43: =E37+E41 -> 0

Sheet VRN
A1: SOUPIS PRACÍ
A2: Stavba: Zvýšení kapacity předškolního vzdělávání ve městě Ralsko | E2: JKSO: 801 31 8 1
A3: Část: Vedlejší a ostatní náklady | E3: Zpracoval:
A4: Místo: Město Ralsko, část Kuřívody, p.p.č.5, 15/2, 15/4 a 15/5 v k.ú. Kuřívody | E4: Datum:
A5: Objednatel: Město Ralsko, Kuřívody 701, 471 24 Ralsko
A6: Zhotovitel:
A7: P.Č. | B7: Kód položky | C7: Popis | D7: MJ | E7: Množství celkem | F7: Cena jednotková | G7: Cena celkem
A8: 1 | B8: 2 | C8: 3 | D8: 4 | E8: 5 | F8: 6 | G8: 7
C10: VRN-Vedlejší a ostatní náklady -celkem | G10: =G11 -> 0
B11: 99 | C11: Ostatní práce | G11: =SUM(G12:G20) -> 0
A12: 001 | B12: 005 12-1001.R | C12: Pronájem zařízení staveniště staveništní buňky,osvětlení.. | D12: měs. | E12: 10 | G12: =E12*F12 -> 0
A13: 002 | B13: 005 12-1002.R | C13: Ostraha staveniště | D13: měs. | E13: 4 | G13: =E13*F13 -> 0
A14: 003 | B14: 005 12-1003.R | C14: Čištění komunikací, úklid | D14: měs. | E14: 5 | G14: =E14*F14 -> 0
A15: 004 | B15: 005 12-1004.R | C15: Dočasná staveništní přípojka kanalizace | D15: kus | E15: 1 | G15: =E15*F15 -> 0
A16: 005 | B16: 005 12-1005.R | C16: Dočasná staveništní přípojka elektro | D16: kus | E16: 1 | G16: =E16*F16 -> 0
A17: 006 | B17: 005 12-1006.R | C17: Dočasná staveništní přípojka vody | D17: kus | E17: 1 | G17: =E17*F17 -> 0
A18: 007 | B18: 005 24-1010.R | C18: Dokumentace skutečného provedení stavby -mimo profesí | D18: kus | E18: 1 | G18: =E18*F18 -> 0
A19: 008 | B19: 005 24-1020.R | C19: Geodetické zaměření skutečného provedení | D19: kus | E19: 1 | G19: =E19*F19 -> 0
A20: 009 | B20: 005 28-1010.R | C20: Staveništní informační tabule | D20: kus | E20: 1 | G20: =E20*F20 -> 0

Sheet Stavební část
A1: SOUPIS PRACÍ
A2: Stavba: Zvýšení kapacity předškolního vzdělávání ve městě Ralsko | E2: JKSO: 801 31 8 1
A3: Část: Architektonicko-stavební řešení | E3: Zpracoval:
A4: Místo: Město Ralsko, část Kuřívody, p.p.č.5, 15/2, 15/4 a 15/5 v k.ú. Kuřívody | E4: Datum:
A5: Objednatel: Město Ralsko, Kuřívody 701, 471 24 Ralsko
A6: Zhotovitel:
A7: P.Č. | B7: Kód položky | C7: Popis | D7: MJ | E7: Množství celkem | F7: Cena jednotková | G7: Cena celkem | H7: Hmotnost jednotková | I7: Hmotnost celkem
A8: 1 | B8: 2 | C8: 3 | D8: 4 | E8: 5 | F8: 6 | G8: 7 | H8: 9 | I8: 10
C10: Architektonicko-stavební řešení -celkem | G10: =G11+G532 -> 0
B11: HSV | C11: Práce a dodávky HSV | G11: =G12+G72+G135+G170+G215+G231+G423 -> 0
B12: 1 | C12: Přípravné a zemní práce | G12: =SUM(G13:G71) -> 0
A13: 001 | B13: 101101111R01 | C13: Vytýčení a zajištění stáv.inž.sítí | D13: kus | E13: 1 | G13: =E13*F13 -> 0 | H13: 0 | I13: =E13*H13 -> 0
A14: 002 | B14: 119001401RA1 | C14: Křížení přeložek kanalizace,vody,elektro | D14: kus | E14: 3 | G14: =E14*F14 -> 0 | H14: 0 | I14: =E14*H14 -> 0
A15: 003 | B15: 119001421R00 | C15: Dočasné zajištění kabelů-CETIN | D15: m | E15: 30.5 | G15: =E15*F15 -> 0 | H15: 0 | I15: =E15*H15 -> 0
C16: výměra: 25,00+4,00+1,50 | D16: m | E16: 30.5
A17: 004 | B17: 119001421RA1 | C17: Ochrana stáv.kabelu silničními panely do písk.lože | D17: kus | E17: 1 | G17: =E17*F17 -> 0 | H17: 0 | I17: =E17*H17 -> 0
A18: 005 | B18: 121101102R00 | C18: Sejmutí ornice s přemíst.do 100 m a pro zpět.použ.vč.převrstvení | D18: m3 | E18: =E22 -> 154.704 | G18: =E18*F18 -> 0 | H18: 0 | I18: =E18*H18 -> 0
C19: [27,30x27,30)-(11,10x11,10)+(4,50x4,50)+(11,40x1,00)]x0,20=
C20: =(745,29-123,21+20,25+11,40)x0,20=130,746 | D20: m3 | E20: 130.746
C21: (12,10x9,90)x0,20=23,958 | D21: m3 | E21: 23.958
C22: celkem | D22: m3 | E22: =SUM(E20:E21) -> 154.704
A23: 006 | B23: 122301101R00 | C23: Odkopávky nezapaž.v hor.4 do 100m3 | D23: m3 | E23: =E26 -> 111.281 | G23: =E23*F23 -> 0 | H23: 0 | I23: =E23*H23 -> 0
C24: [27,30x27,30)-(11,10x11,10)]x0,15=(745,29-123,21)x0,15=93,312 | D24: m3 | E24: 93.312
C25: (12,10x9,90)x0,15=17,969 | D25: m3 | E25: 17.969
C26: celkem | D26: m3 | E26: =SUM(E24:E25) -> 111.281
A27: 007 | B27: 122301109R00 | C27: Příplatek za lepivost -odkopávky v hor.4 | D27: m3 | E27: =E28 -> 111.281 | G27: =E27*F27 -> 0 | H27: 0 | I27: =E27*H27 -> 0
C28: výměra: 111,281 | D28: m3 | E28: =E26 -> 111.281
A29: 008 | B29: 132201101R00 | C29: Hloubení rýh 60 cm v hornině 3 do 100 m3 | D29: m3 | E29: =E35 -> 80.795 | G29: =E29*F29 -> 0 | H29: 0 | I29: =E29*H29 -> 0
C30: [(25,30+24,30)x2+12,25+2,029+2,65+1,60+0,45+3,025]x0,50x0,75=
C31: =(121,204x0,50x0,75)=45,452 | D31: m3 | E31: 45.452
C32: [(13,20+13,05)x2+(8,18+4,00)x2+(5,15+5,16)x4]x0,40x0,41=
C33: =(118,10x0,40x0,41)=19,368 | D33: m3 | E33: 19.368
C34: (12,40+8,90)x2x0,50x0,75=15,975 | D34: m3 | E34: 15.975
C35: celkem | D35: m3 | E35: =SUM(E30:E34) -> 80.795
A36: 009 | B36: 132301109R00 | C36: Příplatek za lepivost -hloubení rýh 60 cm v hornině 3 | D36: m3 | E36: =E37 -> 80.795 | G36: =E36*F36 -> 0 | H36: 0 | I36: =E36*H36 -> 0
C37: výměra: 80,57 | D37: m3 | E37: =E35 -> 80.795
A38: 010 | B38: 133201101R00 | C38: Hloubení šachet v hornině 3 do 100 m3 | D38: m3 | E38: =E39 -> 3.11 | G38: =E38*F38 -> 0 | H38: 0 | I38: =E38*H38 -> 0
C39: (1,20x1,60x1,62)=3,11 | D39: m3 | E39: 3.11
A40: 011 | B40: 133201109R00 | C40: Příplatek za lepivost -hloubení šachet v hor.3 | D40: m3 | E40: =E41 -> 3.11 | G40: =E40*F40 -> 0 | H40: 0 | I40: =E40*H40 -> 0
C41: výměra: 3,11 | D41: m3 | E41: =E39 -> 3.11
...

Sheet Zdravotechnika
A1: SOUPIS PRACÍ
A2: Stavba: Zvýšení kapacity předškolního vzdělávání ve městě Ralsko | E2: JKSO: 801 31 8 1
A3: Část: Zdravotechnika | E3: Zpracoval:
A4: Místo: Město Ralsko, část Kuřívody, p.p.č.5, 15/2, 15/4 a 15/5 v k.ú. Kuřívody | E4: Datum:
A5: Objednatel: Město Ralsko, Kuřívody 701, 471 24 Ralsko
A6: Zhotovitel:
A7: P.Č. | B7: Kód položky | C7: Popis | D7: MJ | E7: Množství celkem | F7: Cena jednotková | G7: Cena celkem
A8: 1 | B8: 2 | C8: 3 | D8: 4 | E8: 5 | F8: 6 | G8: 7
C10: Zdravotechnika -celkem | G10: =G11 -> 0
B11: PSV | C11: Práce a dodávky PSV | G11: =G12+G76+G96+G140 -> 0
B12: 721-1 | C12: Kanalizace | G12: =G13+G18+G27+G32+G47+G56+G59 -> 0
C13: Ležaté potrubí pod podlahou - KG systém | G13: =SUM(G15:G17) -> 0
C14: Dodávka a montáž odpadního potrubí z plastových trub KG systém - materiál PVC-U (neměkčený polyvinylchlorid - PVC) (SN 4) pro gravitační kanalizaci v zemi, vč. tvarovek, pískového podsypu,obsypu, zásypu, zemních prací (hloubka výkopu maximálně 1,6 m, zasypání rýhy potrubí dle skladby uvedené v PD, šířka výkopu 0,5 m, zemina třídy číslo 3), navrácení podkladního betonu (C 15/20 tl. 150 mm) a tlakových zkoušek.
A15: 001 | B15: 721-1-PC-1 | C15: DN 110 | D15: m | E15: 31 | G15: =E15*F15 -> 0
A16: 002 | B16: 721-1-PC-2 | C16: DN 125 | D16: m | E16: 46 | G16: =E16*F16 -> 0
C18: Odpadní a přípojovací potrubí - HT systém | G18: =SUM(G20:G26) -> 0
C19: Dodávka a montáž odpadního potrubí z plastových trub HT odhlučněný kanalizační systém PP (18 dB) pro stoupací, připojovací, větrací potrubí a odvod kondenzátu od VZT, vč. tvarovek, objímek, závěsů, kotvících bodů a tlakových zkoušek
A20: 003 | B20: 721-1-PC-3 | C20: DN 40 x 1,8 mm | D20: m | E20: 17 | G20: =E20*F20 -> 0
A21: 004 | B21: 721-1-PC-4 | C21: DN 50 x 1,8 mm | D21: m | E21: 12 | G21: =E21*F21 -> 0
A22: 005 | B22: 721-1-PC-5 | C22: DN 75 x 1,9 mm | D22: m | E22: 4 | G22: =E22*F22 -> 0
A23: 006 | B23: 721-1-PC-6 | C23: DN 100 x 2,7 mm | D23: m | E23: 28 | G23: =E23*F23 -> 0
A24: 007 | B24: 721-1-PC-7 | C24: DN 125 | D24: m | E24: 25 | G24: =E24*F24 -> 0
A25: 008 | B25: 721-1-PC-8 | C25: DN 150 | D25: m | E25: 12 | G25: =E25*F25 -> 0
C27: Protipožární manžeta | G27: =SUM(G29:G31) -> 0
C28: Dodávka a montáž požárně ochranné manžety s odolností EI 60-120 (minimálně 45 min) pro prostup hořlavého kanalizačního potrubí stěnami a stropy.
A29: 009 | B29: 721-1-PC-9 | C29: DN 100 | D29: kus | E29: 6 | G29: =E29*F29 -> 0
A30: 010 | B30: 721-1-PC-10 | C30: DN 125 | D30: kus | E30: 4 | G30: =E30*F30 -> 0
C32: Vybavení kanalizace | G32: =SUM(G34:G46) -> 0
C33: Dodávka a montáž instalačních armatur včetně příslušného vybavení uvedeného v popisu.
A34: 011 | B34: 721-1-PC-11 | C34: Vyvedení a upevnění odpadních výpustek D 40 | D34: kus | E34: 8 | G34: =E34*F34 -> 0
A35: 012 | B35: 721-1-PC-12 | C35: Vyvedení a upevnění odpadních výpustek D 50 | D35: kus | E35: 21 | G35: =E35*F35 -> 0
A36: 013 | B36: 721-1-PC-13 | C36: Vyvedení a upevnění odpadních výpustek D 75 | D36: kus | E36: 2 | G36: =E36*F36 -> 0
A37: 014 | B37: 721-1-PC-14 | C37: Vyvedení a upevnění odpadních výpustek D 100 | D37: kus | E37: 9 | G37: =E37*F37 -> 0
A38: 015 | B38: 721-1-PC-15 | C38: Čistící kus DN 75 | D38: kus | E38: 2 | G38: =E38*F38 -> 0
A39: 016 | B39: 721-1-PC-16 | C39: Čistící kus DN 110 | D39: kus | E39: 6 | G39: =E39*F39 -> 0
A40: 017 | B40: 721-1-PC-17 | C40: Čistící kus DN 125 | D40: kus | E40: 3 | G40: =E40*F40 -> 0
A41: 018 | B41: 721-1-PC-18 | C41: Krycí dvířka 300x150 mm | D41: kus | E41: 8 | G41: =E41*F41 -> 0
A42: 019 | B42: 721-1-PC-19 | C42: Zátka DN 75 | D42: kus | E42: 2 | G42: =E42*F42 -> 0
A43: 020 | B43: 721-1-PC-20 | C43: Zátka DN 100 | D43: kus | E43: 4 | G43: =E43*F43 -> 0
A44: 021 | B44: 721-1-PC-21 | C44: Přivzdušňovací ventil DN 100 | D44: kus | E44: 1 | G44: =E44*F44 -> 0
...

Sheet Silnoproud
A1: SOUPIS PRACÍ
A2: Stavba: Zvýšení kapacity předškolního vzdělávání ve městě Ralsko | E2: JKSO: 801 31 8 1
A3: Část: Elektroinstalace-silnoproud | E3: Zpracoval:
A4: Místo: Město Ralsko, část Kuřívody, p.p.č.5, 15/2, 15/4 a 15/5 v k.ú. Kuřívody | E4: Datum:
A5: Objednatel: Město Ralsko, Kuřívody 701, 471 24 Ralsko
A6: Zhotovitel:
A7: P.Č. | B7: Kód položky | C7: Popis | D7: MJ | E7: Množství celkem | F7: Cena jednotková | G7: Cena celkem
A8: 1 | B8: 2 | C8: 3 | D8: 4 | E8: 5 | F8: 6 | G8: 7
C10: Elektroinstalace-silnoproud | G10: =G11 -> 0
B11: M | C11: Montáže | G11: =G12+G24+G102+G109+G157+G170+G191 -> 0
B12: 21-1 | C12: Dodávky zařízení | G12: =SUM(G13:G23) -> 0
A13: 001 | B13: 731221 | C13: rozvaděč RH1.1 | D13: kus | E13: 1 | G13: =E13*F13 -> 0
A14: 002 | B14: 509131 | C14: B ISRAC4KO4V160/ND1050I3 35W | D14: kus | E14: 50 | F14: 0 | G14: =E14*F14 -> 0 | H14: oceněno v listu "Vedlejší výdaje stavby"
A15: 003 | B15: 509102 | C15: G LLL2RMKO4V1/1400ND 40W | D15: kus | E15: 38 | F15: 0 | G15: =E15*F15 -> 0 | H15: oceněno v listu "Vedlejší výdaje stavby"
A16: 004 | B16: 513515 | C16: H svítidlo záři OP E IP40/T8 24255 | D16: kus | E16: 14 | F16: 0 | G16: =E16*F16 -> 0 | H16: oceněno v listu "Vedlejší výdaje stavby"
A17: 005 | B17: 523175 | C17: svítidlo záři PC E/1F/IP66/T8 90356 | D17: kus | E17: 3 | F17: 0 | G17: =E17*F17 -> 0 | H17: oceněno v listu "Vedlejší výdaje stavby"
A18: 006 | B18: 523366 | C18: SVITIDLO PC ET5 IP66 /90760/ | D18: kus | E18: 3 | F18: 0 | G18: =E18*F18 -> 0 | H18: oceněno v listu "Vedlejší výdaje stavby"
A19: 007 | B19: 513301 | C19: svítidlo záři 113W (118W) pod linku | D19: kus | E19: 1 | F19: 0 | G19: =E19*F19 -> 0 | H19: oceněno v listu "Vedlejší výdaje stavby"
A20: 008 | B20: 509101 | C20: F BRSB4KO375V2/ND | D20: kus | E20: 17 | F20: 0 | G20: =E20*F20 -> 0 | H20: oceněno v listu "Vedlejší výdaje stavby"
A21: 009 | B21: 511502 | C21: svít žár IN-12U7/264 E27 IP43 pr350 41421 | D21: kus | E21: 3 | F21: 0 | G21: =E21*F21 -> 0 | H21: oceněno v listu "Vedlejší výdaje stavby"
A22: 010 | B22: 552431 | C22: nouzové svítidlo LED-Em/IP65 3hod | D22: kus | E22: 20 | F22: 0 | G22: =E22*F22 -> 0 | H22: oceněno v listu "Vedlejší výdaje stavby"
A23: 011 | B23: 521024 | C23: 1x26 LED 4000K IP65 | D23: kus | E23: 4 | F23: 0 | G23: =E23*F23 -> 0 | H23: oceněno v listu "Vedlejší výdaje stavby"
B24: 21-2 | C24: Materiál elektromontážní | G24: =SUM(G25:G101) -> 0
A25: 012 | B25: 435166 | C25: jistič PL7 3pól/ch.B/10kA 50A | D25: kus | E25: 1 | G25: =E25*F25 -> 0
A26: 013 | B26: 101210 | C26: kabel CYKY 4x16 | D26: m | E26: 55 | G26: =E26*F26 -> 0
A27: 014 | B27: 101106 | C27: kabel CYKY 3x2,5 | D27: m | E27: 55 | G27: =E27*F27 -> 0
A28: 015 | B28: 209404 | C28: kabel F/UTP Cat.5 4x2x08 pro venkovní použití | D28: m | E28: 80 | G28: =E28*F28 -> 0
B29: 420350 | C29: SESTAVA zásuvka 16A/250Vstř Time bezŠr clonky | E29: 50
A30: 016 | B30: 420280 | C30: strojek zásuv 16A/250Vstř 5519E-A02357 bezŠr clonk | D30: kus | E30: 50 | G30: =E30*F30 -> 0
A31: 017 | B31: 420391 | C31: rámeček pro 1 přístroj Time 3901F-A00110 | D31: kus | E31: 50 | G31: =E31*F31 -> 0
B32: 420353 | C32: SESTAVA zásuvka 16A/250Vstř Time chráněná bezŠr | E32: 6
A33: 018 | B33: 420284 | C33: strojek zásuv 16A/250Vstř 5599E-A02357 chrán bezŠr | D33: kus | E33: 6 | G33: =E33*F33 -> 0
A34: 019 | B34: 420391 | C34: rámeček pro 1 přístroj Time 3901F-A00110 | D34: kus | E34: 6 | G34: =E34*F34 -> 0
A35: 020 | B35: 420355 | C35: 2-zásuvka 16A/250Vstř Time 5513F-C02357 bezŠr | D35: kus | E35: 11 | G35: =E35*F35 -> 0
B36: 410361 | C36: SESTAVA spínač 1pól Time 10A/250Vstř řaz.1So | E36: 25
A37: 021 | B37: 409820 | C37: spínač/strojek 10A/250Vstř 3558-A01340 řaz. 1,1So | D37: kus | E37: 25 | G37: =E37*F37 -> 0
A38: 022 | B38: 409900 | C38: doutnavka orientační 3916-12221 | D38: kus | E38: 25 | G38: =E38*F38 -> 0
A39: 023 | B39: 410303 | C39: kryt spín 3558E-A00653 pro ř.1So,6So,S,1/0So,S,7So | D39: kus | E39: 25 | G39: =E39*F39 -> 0
A40: 024 | B40: 420391 | C40: rámeček pro 1 přístroj Time 3901F-A00110 | D40: kus | E40: 25 | G40: =E40*F40 -> 0
B41: 410370 | C41: SESTAVA přepín sériový Time 10A/250Vstř řaz.5 | E41: 8
...

Sheet Slaboproud
A1: SOUPIS PRACÍ
A2: Stavba: Zvýšení kapacity předškolního vzdělávání ve městě Ralsko | E2: JKSO: 801 31 8 1
A3: Část: Elektronické komunikace | E3: Zpracoval:
A4: Místo: Město Ralsko, část Kuřívody, p.p.č.5, 15/2, 15/4 a 15/5 v k.ú. Kuřívody | E4: Datum:
A5: Objednatel: Město Ralsko, Kuřívody 701, 471 24 Ralsko
A6: Zhotovitel:
A7: P.Č. | B7: Kód položky | C7: Popis | D7: MJ | E7: Množství celkem | F7: Cena jednotková | G7: Cena celkem
A8: 1 | B8: 2 | C8: 3 | D8: 4 | E8: 5 | F8: 6 | G8: 7
B10: Pozn.: Součást listu "Vedlejší výdaje stavby" - zde proto neoceněno.
C11: Elektronické komunikace | G11: =G12 -> 0
B12: M | C12: Montáže | G12: =G13+G50+G53+G79+G86+G90 -> 0
B13: 21-1 | C13: Materiál elektromontážní | G13: =SUM(G14:G49) -> 0
A14: 001 | B14: 205307 | C14: kabel TCEPKPFLE 24x3x0,8 | D14: m | E14: 150 | F14: 0 | G14: =E14*F14 -> 0
A15: 002 | B15: 205303 | C15: kabel TCEPKPFLE 4x3x0,8 | D15: m | E15: 120 | F15: 0 | G15: =E15*F15 -> 0
A16: 003 | B16: 200305 | C16: kabel opticky do trubky 6-8 vlákno | D16: m | E16: 150 | F16: 0 | G16: =E16*F16 -> 0
A17: 004 | B17: 200305 | C17: kabel opticky do trubky 6-8 vlákno | D17: m | E17: 120 | F17: 0 | G17: =E17*F17 -> 0
A18: 005 | B18: 209403 | C18: kabel U/UTP Cat.5e 3x2x0.5 plášť šedý dat zás | D18: m | E18: 915 | F18: 0 | G18: =E18*F18 -> 0
A19: 006 | B19: 209385 | C19: VF koaxiální kabel VCCOD 75-6.6 TV | D19: m | E19: 150 | F19: 0 | G19: =E19*F19 -> 0
A20: 007 | B20: 321123 | C20: trubka ohebná PVC monoflex 1420 TV | D20: m | E20: 150 | F20: 0 | G20: =E20*F20 -> 0
A21: 008 | B21: 321122 | C21: trubka ohebna PVC monoflex 1416 Dat zás | D21: m | E21: 200 | F21: 0 | G21: =E21*F21 -> 0
A22: 009 | B22: 209385 | C22: VF koaxiální kabel VCCJY 75-4,8 KAMERY | D22: m | E22: 200 | F22: 0 | G22: =E22*F22 -> 0
A23: 010 | B23: 101105 | C23: kabel CYKY 3x1,5 KAMERY | D23: m | E23: 200 | F23: 0 | G23: =E23*F23 -> 0
B24: 420384 | C24: SESTAVA zásuvka komunikační Time 2xRJ45-8 | E24: 18
A25: 011 | B25: 420204 | C25: zásuvka komunik ModularJack RJ45-8Cat.5e 1208.10 | D25: kus | E25: 36 | F25: 0 | G25: =E25*F25 -> 0
A26: 012 | B26: 420216 | C26: nosná maska pro 2xZásuvka ModularJack 5014E-B01018 | D26: kus | E26: 18 | F26: 0 | G26: =E26*F26 -> 0
A27: 013 | B27: 420297 | C27: kryt zásuvky komunikační 5014E-A00100 | D27: kus | E27: 18 | F27: 0 | G27: =E27*F27 -> 0
A28: 014 | B28: 420391 | C28: rámeček pro 1 přístroj Time 3901F-A00110 | D28: kus | E28: 18 | F28: 0 | G28: =E28*F28 -> 0
B29: 420365 | C29: SESTAVA zásuvka TV+R+SAT Time 5011-A3303 koncová | E29: 6
A30: 015 | B30: 420034 | C30: strojek zásuvky TV+R+SAT 5011-A3303 (EU3303) konc | D30: kus | E30: 6 | F30: 0 | G30: =E30*F30 -> 0
B31: 420312 | C31: SESTAVA zásuvka TV+R Element 5011-A3607 průběžná | E31: 6
A32: 016 | B32: 420391 | C32: rámeček pro 1 přístroj Time 3901F-A00110 | D32: kus | E32: 6 | F32: 0 | G32: =E32*F32 -> 0
A33: 017 | B33: 420284 | C33: AVM553 venkovní 2MPX IP kamera (1920x1080) s WDR,ZOOM objektiv 2.8-12mm, inteligentní IR LED | D33: kus | E33: 9 | F33: 0 | G33: =E33*F33 -> 0
A34: 018 | B34: 420391 | C34: instalace videokamer | D34: kus | E34: 9 | F34: 0 | G34: =E34*F34 -> 0
A35: 019 | B35: 420284 | C35: AVH516 síťový Real-Time NVR videorekordér pro 16 IP-kamer, 2MPX/HD/Full HD/1080p, Push Messa | D35: kus | E35: 1 | F35: 0 | G35: =E35*F35 -> 0
A36: 020 | B36: 457315 | C36: video tablo čtecí vč přísluš.(dle tech.zpravy) | D36: kus | E36: 1 | F36: 0 | G36: =E36*F36 -> 0
A37: 021 | B37: 457315 | C37: tablo 1 video | D37: kus | E37: 1 | F37: 0 | G37: =E37*F37 -> 0
A38: 022 | B38: 457315 | C38: tablo 2 video | D38: kus | E38: 1 | F38: 0 | G38: =E38*F38 -> 0
A39: 023 | B39: 456111 | C39: snímač pohybu PIR JS-20 | D39: kus | E39: 18 | F39: 0 | G39: =E39*F39 -> 0
A40: 024 | B40: 456111 | C40: magnetický kontakt | D40: kus | E40: 3 | F40: 0 | G40: =E40*F40 -> 0
A41: 025 | B41: 456111 | C41: autonomní kouřový hlásič | D41: kus | E41: 6 | F41: 0 | G41: =E41*F41 -> 0
...

Sheet Vytápění
A1: SOUPIS PRACÍ
A2: Stavba: Zvýšení kapacity předškolního vzdělávání ve městě Ralsko | E2: JKSO: 801 31 8 1
A3: Část: Vytápění | E3: Zpracoval:
A4: Místo: Město Ralsko, část Kuřívody, p.p.č.5, 15/2, 15/4 a 15/5 v k.ú. Kuřívody | E4: Datum:
A5: Objednatel: Město Ralsko, Kuřívody 701, 471 24 Ralsko
A6: Zhotovitel:
A7: P.Č. | B7: Kód položky | C7: Popis | D7: MJ | E7: Množství celkem | F7: Cena jednotková | G7: Cena celkem
A8: 1 | B8: 2 | C8: 3 | D8: 4 | E8: 5 | F8: 6 | G8: 7
C10: Vytápění -celkem | G10: =G11 -> 0
B11: PSV | C11: Práce a dodávky PSV | G11: =G12+G25+G29+G33 -> 0
B12: 730-1 | C12: Podlahové vytápění | G12: =SUM(G13:G24) -> 0
A13: 001 | B13: 730-1-001 | C13: Potrubí PEX 16x2 s protikyslíkovou zabranou (bez prořezu) 16x2 | D13: m | E13: 2425.06 | G13: =E13*F13 -> 0
A14: 002 | B14: 730-1-002 | C14: Ochraná trubka PVC na potrubí (bez prořezu) | D14: m | E14: 192 | G14: =E14*F14 -> 0
A15: 003 | B15: 730-1-003 | C15: Dilatační okrajová páska tl. 10mm | D15: m | E15: 583.7 | G15: =E15*F15 -> 0
A16: 004 | B16: 730-1-004 | C16: Dilatační pásy v ploše se stojánkem tl. 10mm | D16: m | E16: 78 | G16: =E16*F16 -> 0
C17: Zkompletovaný rozdělovač pro podlah.vytápění vč.odvzdušnění, vypouštění,uzav.armatury,
C18: držáku pro uchycení,teploměrů, průtokoměrů, skříň pod omítku
A19: 005 | B19: 730-1-005 | C19: R3 5 okruhů podlahového vytápění | D19: kus | E19: 1 | G19: =E19*F19 -> 0
A20: 006 | B20: 730-1-006 | C20: R1,2,4 9 okruhů podlahového vytápění | D20: kus | E20: 1 | G20: =E20*F20 -> 0
A21: 007 | B21: 730-1-007 | C21: VV25 Dozbrojení rozdělovačů- vyvaž.ventil DN25(1“) | D21: kus | E21: 4 | G21: =E21*F21 -> 0
A22: 008 | B22: 730-1-008 | C22: Stabilizátor tepelné izolace | D22: kus | E22: 2653 | G22: =E22*F22 -> 0
A23: 009 | B23: 730-1-009 | C23: Příchytka potrubí | D23: kus | E23: 5093 | G23: =E23*F23 -> 0
A24: 010 | B24: 730-1-010 | C24: Reflexní folie | D24: m2 | E24: 636.76 | G24: =E24*F24 -> 0
B25: 730-2 | C25: Potrubí měděné vč. tvarovek, redukcí, návarků, šroubení a kotvení potrubí | G25: =SUM(G26:G28) -> 0
C26: Potrubí měděné polotvrdé spojované měkkým pájením, vč. tvarovek, redukcí, návarků a kotvení potrubí
A27: 011 | B27: 730-2-001 | C27: Cu 22,0x1,0 mm | D27: m | E27: 84 | G27: =E27*F27 -> 0
A28: 012 | B28: 730-2-002 | C28: Cu 28,0x1,5 mm | D28: m | E28: 24 | G28: =E28*F28 -> 0
B29: 730-3 | C29: Izolace na potrubí | G29: =SUM(G30:G32) -> 0
C30: Izolace termoizolační trubicí z pěnového polyetylenu, laminovaná zesílenou hliníkovou fólií, λ=0,038 W/mK.
A31: 013 | B31: 730-3-001 | C31: Izolace tl. 25 mm + polep AL fólií na potrubí DN 22,0x1,0 mm | D31: m | E31: 84 | G31: =E31*F31 -> 0
A32: 014 | B32: 730-3-002 | C32: Izolace tl. 25 mm + polep AL fólií na potrubí DN 28,0x1,5 mm | D32: m | E32: 24 | G32: =E32*F32 -> 0
B33: 730-4 | C33: Montáž+ostatní | G33: =SUM(G34:G45) -> 0
A34: 015 | B34: 730-4-001 | C34: Montáž, pomocný a doplňující materiál, revize | D34: kus | E34: 1 | G34: =E34*F34 -> 0
A35: 016 | B35: 730-4-002 | C35: Přípojka teplovodu | D35: m | E35: 10 | G35: =E35*F35 -> 0
A36: 017 | B36: 730-4-003 | C36: Směšovací stanice vč.regulace a regul.ventilů | D36: kus | E36: 1 | G36: =E36*F36 -> 0
A37: 018 | B37: 730-4-004 | C37: Stavební přípomoce | D37: hod. | E37: 50 | G37: =E37*F37 -> 0
A38: 019 | B38: 730-4-005 | C38: Tříkolové, hydraulické vyregulování systému | D38: hod. | E38: 16 | G38: =E38*F38 -> 0
A39: 020 | B39: 730-4-006 | C39: Topná zkouška celého zařízení 72 hodin | D39: kus | E39: 1 | G39: =E39*F39 -> 0
A40: 021 | B40: 730-4-007 | C40: Zaškolení obsluhy, provozní řád | D40: hod. | E40: 4 | G40: =E40*F40 -> 0
A41: 022 | B41: 730-4-008 | C41: Proplach soustavy | D41: kus | E41: 1 | G41: =E41*F41 -> 0
...

Sheet Vzduchotechnika
A1: SOUPIS PRACÍ
A2: Stavba: Zvýšení kapacity předškolního vzdělávání ve městě Ralsko | E2: JKSO: 801 31 8 1
A3: Část: Vzduchotechnika | E3: Zpracoval:
A4: Místo: Město Ralsko, část Kuřívody, p.p.č.5, 15/2, 15/4 a 15/5 v k.ú. Kuřívody | E4: Datum:
A5: Objednatel: Město Ralsko, Kuřívody 701, 471 24 Ralsko
A6: Zhotovitel:
A7: P.Č. | B7: Kód položky | C7: Popis | D7: MJ | E7: Množství celkem | F7: Cena jednotková | G7: Cena celkem
A8: 1 | B8: 2 | C8: 3 | D8: 4 | E8: 5 | F8: 6 | G8: 7
C10: Vzduchotechnika -celkem | G10: =G11 -> 0
B11: M | C11: Montáže | G11: =G12+G32+G54 -> 0
B12: 24-1 | C12: VZT 1 - Pavilon A | G12: =SUM(G13:G31) -> 0
A13: 001 | B13: 42370 | C13: Kompaktní větrací jednotka s rekuperací tepla max.vzduchový výkon - přívod 1070 m3/h (250 Pa); odvod 1070 m3/h (250 Pa) el. příkon pro dimenzování - přívod 0,78 kW (230 V); odvod 0,78 kW (230 V) včetně bypassové klapky; včetně digitální regulace odvod kondenzátu do nejbližšího odpadu 2xØ32 mm, stojaté provedení, hmotnost 333 kg | D13: kus | E13: 1 | G13: =E13*F13 -> 0
A14: 002 | B14: 42401 | C14: Tlumič hluku do kruhového potrubí - Ø 315 mm | D14: kus | E14: 2 | G14: =E14*F14 -> 0
A15: 003 | B15: 42430 | C15: Talířový ventil - odvodní - Ø 160 mm | D15: kus | E15: 2 | G15: =E15*F15 -> 0
A16: 004 | B16: 42461 | C16: Talířový ventil - odvodní - Ø 100 mm | D16: kus | E16: 16 | G16: =E16*F16 -> 0
A17: 005 | B17: 42491 | C17: Vyústka komfortní - dvouřadá přívodní - 400x75 mm | D17: kus | E17: 6 | G17: =E17*F17 -> 0
A18: 006 | B18: 42522 | C18: Vyústka komfortní - dvouřadá přívodní - 300x75 mm | D18: kus | E18: 4 | G18: =E18*F18 -> 0
A19: 007 | B19: 42552 | C19: Regulační klapka ruční - kruhová - Ø 315 mm | D19: kus | E19: 1 | G19: =E19*F19 -> 0
A20: 008 | B20: 42583 | C20: Regulační klapka ruční - kruhová - Ø 200 mm | D20: kus | E20: 1 | G20: =E20*F20 -> 0
A21: 009 | B21: 42614 | C21: Protidešťová žaluzie - 450x450 mm | D21: kus | E21: 1 | G21: =E21*F21 -> 0
A22: 010 | B22: 42644 | C22: Žaluziová klapka - 300x300 mm | D22: kus | E22: 1 | G22: =E22*F22 -> 0
A23: 011 | B23: 42675 | C23: Dveřní mřížka min. průřezu 450x80 mm | D23: kus | E23: 1 | G23: =E23*F23 -> 0
A24: 012 | C24: Čtyřhranné potrubí do obvodu 1200 mm vč. tvarovek | D24: m | E24: 8 | G24: =E24*F24 -> 0
A25: 013 | C25: Kruhové ocelové potrubí vč. tvarovek - Ø 315 mm | D25: m | E25: 33 | G25: =E25*F25 -> 0
A26: 014 | C26: Kruhové ocelové potrubí vč. tvarovek - Ø 200 mm | D26: m | E26: 18 | G26: =E26*F26 -> 0
A27: 015 | C27: Kruhové ocelové potrubí vč. tvarovek - Ø 160 mm | D27: m | E27: 20 | G27: =E27*F27 -> 0
A28: 016 | C28: Kruhové ocelové potrubí vč. tvarovek - Ø 100 mm | D28: m | E28: 13 | G28: =E28*F28 -> 0
A29: 017 | C29: Tepelná izolace pro vzduchotechniku - izolační pásy tl. 25 mm | D29: m2 | E29: 5 | G29: =E29*F29 -> 0
A30: 018 | C30: Montážní a závěsový materiál | D30: kg | E30: 40 | G30: =E30*F30 -> 0
A31: 019 | C31: Spojovací a těsnící materiál | D31: kg | E31: 15 | G31: =E31*F31 -> 0
B32: 24-2 | C32: VZT 2 - Pavilon B+C | G32: =SUM(G33:G53) -> 0
A33: 020 | B33: 42371 | C33: Kompaktní větrací jednotka s rekuperací tepla max.vzduchový výkon - přívod 1180 m3/h (250 Pa); odvod 1180 m3/h (250 Pa) el. příkon pro dimenzování - přívod 0,78 kW (230 V); odvod 0,78 kW (230 V) včetně bypassové klapky; včetně digitální regulace odvod kondenzátu do nejbližšího odpadu 2xØ32 mm, stojaté provedení, hmotnost 333 kg | D33: kus | E33: 1 | G33: =E33*F33 -> 0
A34: 021 | B34: 42402 | C34: Tlumič hluku do kruhového potrubí - Ø 250 mm | D34: kus | E34: 4 | G34: =E34*F34 -> 0
A35: 022 | B35: 42431 | C35: Talířový ventil - odvodní - Ø 160 mm | D35: kus | E35: 3 | G35: =E35*F35 -> 0
A36: 023 | B36: 42462 | C36: Talířový ventil - odvodní - Ø 100 mm | D36: kus | E36: 15 | G36: =E36*F36 -> 0
A37: 024 | B37: 42492 | C37: Vyústka komfortní - dvouřadá přívodní - 400x75 mm | D37: kus | E37: 6 | G37: =E37*F37 -> 0
A38: 025 | B38: 42523 | C38: Vyústka komfortní - dvouřadá přívodní - 300x75 mm | D38: kus | E38: 6 | G38: =E38*F38 -> 0
A39: 026 | B39: 42553 | C39: Regulační klapka ruční - kruhová - Ø 250 mm | D39: kus | E39: 1 | G39: =E39*F39 -> 0
A40: 027 | B40: 42584 | C40: Regulační klapka ruční - kruhová - Ø 200 mm | D40: kus | E40: 2 | G40: =E40*F40 -> 0
A41: 028 | B41: 42615 | C41: Požární klapka kruhová Ø 200 mm - ruční a teplotní - odolnost dle PBŘ | D41: kus | E41: 2 | G41: =E41*F41 -> 0
...

Sheet Vnitřní vybavení
A1: SOUPIS PRACÍ
A2: Stavba: Zvýšení kapacity předškolního vzdělávání ve městě Ralsko | E2: JKSO: 801 31 8 1
A3: Část: Vnitřní vybavení | E3: Zpracoval:
A4: Místo: Město Ralsko, část Kuřívody, p.p.č.5, 15/2, 15/4 a 15/5 v k.ú. Kuřívody | E4: Datum:
A5: Objednatel: Město Ralsko, Kuřívody 701, 471 24 Ralsko
A6: Zhotovitel:
A7: P.Č. | B7: Kód položky | C7: Popis | D7: MJ | E7: Množství celkem | F7: Cena jednotková | G7: Cena celkem
A8: 1 | B8: 2 | C8: 3 | D8: 4 | E8: 5 | F8: 6 | G8: 7
C10: Vnitřní vybavení -celkem | G10: =G11 -> 0
B11: PSV | C11: Práce a dodávky PSV | G11: =G12+G67+G80+G86 -> 0
B12: 766-1 | C12: Nábytek a doplňky | G12: =SUM(G13:G66) -> 0
A13: 001 | B13: PC-766-1-1 | C13: Kuchyňská linka (výdejny, přípravna) | D13: kus | E13: 4 | G13: =E13*F13 -> 0
A14: 002 | B14: PC-766-1-2 | C14: Kancelářský stůl s kontejnerem s přídavným samostatným stolem umístěným do L ředitelna | D14: kus | E14: 1 | G14: =E14*F14 -> 0
A15: 003 | B15: PC-766-1-3 | C15: Kancelářský stůl účtárna + herna pavilon | D15: kus | E15: 3 | G15: =E15*F15 -> 0
A16: 004 | B16: PC-766-1-4 | C16: Oboustranný učitelský stůl | D16: kus | E16: 2 | G16: =E16*F16 -> 0
A17: 005 | B17: PC-766-1-5 | C17: Pojízdné šuplíkové uzamykatelné kontejnery | D17: kus | E17: 4 | G17: =E17*F17 -> 0
A18: 006 | B18: PC-766-1-6 | C18: Kancelářská židle (soubor) | D18: kus | E18: 8 | G18: =E18*F18 -> 0
A19: 007 | B19: PC-766-1-7 | C19: Konferenční židle (soubor) | D19: kus | E19: 10 | G19: =E19*F19 -> 0
A20: 008 | B20: PC-766-1-8 | C20: Stůl sborovna | D20: kus | E20: 1 | G20: =E20*F20 -> 0
A21: 009 | B21: PC-766-1-9 | C21: Šatnová stěna (ředitelna, sborovna) | D21: kus | E21: 2 | G21: =E21*F21 -> 0
A22: 010 | B22: PC-766-1-10 | C22: Šatní skříň (šatny učitelek) | D22: kus | E22: 2 | G22: =E22*F22 -> 0
A23: 011 | B23: PC-766-1-11 | C23: Lavička na přezouvání (šatna učitelek) | D23: kus | E23: 2 | G23: =E23*F23 -> 0
A24: 012 | B24: PC-766-1-12 | C24: Skříně uzamykatelné kabinety | D24: kus | E24: 8 | G24: =E24*F24 -> 0
... A66: 054 | B66: PC-766-1-54 | C66: Zrcadla | D66: kus | E66: 3 | G66: =E66*F66 -> 0
B67: 766-2 | C67: IT a elektro | G67: =SUM(G68:G79) -> 0
A68: 055 | B68: PC-766-2-1 | C68: Interaktivní tabule Smart board (SW, datový projektor, notebook, ozvučení, pojezd, instalace, doprava, školení obsluhy) | D68: kus | E68: 1 | G68: =E68*F68 -> 0
A69: 056 | B69: PC-766-2-2 | C69: Interaktivní tabule Smart board (SW, datový projektor, notebook, ozvučení, pojezd, instalace, doprava, školení obsluhy) | D69: kus | E69: 1 | G69: =E69*F69 -> 0
A70: 057 | B70: PC-766-2-3 | C70: PC sestava (PC, klávesnice, myš) - ředitelna | D70: kus | E70: 1 | G70: =E70*F70 -> 0
A71: 058 | B71: PC-766-2-4 | C71: PC sestava (PC, klávesnice, myš) - herny | D71: kus | E71: 2 | G71: =E71*F71 -> 0
A72: 059 | B72: PC-766-2-5 | C72: Televize | D72: kus | E72: 3 | G72: =E72*F72 -> 0
A73: 060 | B73: PC-766-2-6 | C73: Multifunkční barevná tiskárna (tisk, skener, kopírka) | D73: kus | E73: 1 | G73: =E73*F73 -> 0
A74: 061 | B74: PC-766-2-7 | C74: Kopírka A4 černobílá | D74: kus | E74: 3 | G74: =E74*F74 -> 0
A75: 062 | B75: PC-766-2-8 | C75: Vysavač s vodním filtrem | D75: kus | E75: 1 | G75: =E75*F75 -> 0
A76: 063 | B76: PC-766-2-9 | C76: Přenosné digitální piano | D76: kus | E76: 1 | G76: =E76*F76 -> 0
A77: 064 | B77: PC-766-2-10 | C77: Digitální piano | D77: kus | E77: 1 | G77: =E77*F77 -> 0
A78: 065 | B78: PC-766-2-11 | C78: Myčka | D78: kus | E78: 2 | G78: =E78*F78 -> 0
A79: 066 | B79: PC-766-2-12 | C79: Chladnička | D79: kus | E79: 3 | G79: =E79*F79 -> 0
B80: 766-3 | C80: Kompenzační pomůcky | G80: =SUM(G81:G85) -> 0
A81: 067 | B81: PC-766-3-1 | C81: Kostkoviště | D81: kus | E81: 2 | G81: =E81*F81 -> 0
A82: 068 | B82: PC-766-3-2 | C82: Interaktivní slunce | D82: kus | E82: 2 | G82: =E82*F82 -> 0
...

Sheet Sadové úpravy
A1: SOUPIS PRACÍ
A2: Stavba: Zvýšení kapacity předškolního vzdělávání ve městě Ralsko | E2: JKSO: 801 31 8 1
A3: Část: Sadové úpravy, herní prvky a mobiliář | E3: Zpracoval:
A4: Místo: Město Ralsko, část Kuřívody, p.p.č.5, 15/2, 15/4 a 15/5 v k.ú. Kuřívody | E4: Datum:
A5: Objednatel: Město Ralsko, Kuřívody 701, 471 24 Ralsko
A6: Zhotovitel:
A7: P.Č. | B7: Kód položky | C7: Popis | D7: MJ | E7: Množství celkem | F7: Cena jednotková | G7: Cena celkem
A8: 1 | B8: 2 | C8: 3 | D8: 4 | E8: 5 | F8: 6 | G8: 7
C10: Sadové úpravy, herní prvky a mobiliář -celkem | G10: =G11 -> 0
B11: HSV | C11: Práce a dodávky HSV | G11: =G12+G81 -> 0
B12: 1 | C12: Sadové úpravy | G12: =G28+G55+G66 -> 0
A13: 001 | B13: PC-180-1-1 | C13: Zemina zahradní na vyrovnání pozemku | D13: m3 | E13: 35 | G13: =E13*F13 -> 0
A14: 002 | B14: PC-180-1-2 | C14: Rašelinový substrát (A) na výsadbu rostlin | D14: m3 | E14: 12 | G14: =E14*F14 -> 0
A15: 003 | B15: PC-180-1-3 | C15: Rostliny dle projektu (16 stromů+470 rostlin) | D15: kus | E15: 1 | G15: =E15*F15 -> 0
A16: 004 | B16: PC-180-1-4 | C16: Borka na záhony | D16: m3 | E16: 27.28 | G16: =E16*F16 -> 0
A17: 005 | B17: PC-180-1-5 | C17: Geotextilie záhony (započítán přesah 20%) | D17: m2 | E17: 603.9 | G17: =E17*F17 -> 0
A18: 006 | B18: PC-180-1-6 | C18: Geotextilie traviny (200g/m2) | D18: m2 | E18: 30 | G18: =E18*F18 -> 0
A19: 007 | B19: PC-180-1-7 | C19: Travní osivo | D19: kg | E19: 130.8 | G19: =E19*F19 -> 0
A20: 008 | B20: PC-180-1-8 | C20: Kámen solitérní | D20: t | E20: 5.3 | G20: =E20*F20 -> 0
A21: 009 | B21: PC-180-1-9 | C21: Obrubníky podle záhonů plast | D21: m | E21: 315 | G21: =E21*F21 -> 0
A22: 010 | B22: PC-180-1-10 | C22: Chem.prostředek na odstranění plevelu | D22: l | E22: 1 | G22: =E22*F22 -> 0
A23: 011 | B23: PC-180-1-11 | C23: Ostatní materiál ( dráty, stojky) | D23: kus | E23: 1023 | G23: =E23*F23 -> 0
A24: 012 | B24: PC-180-1-12 | C24: Kačírek | D24: t | E24: 6.32 | G24: =E24*F24 -> 0
... A27: 015 | B27: PC-180-1-15 | C27: Hnojivo -tablety | D27: kus | E27: 50 | G27: =E27*F27 -> 0
C28: Materiál - celkem | G28: =SUM(G13:G27) -> 0
A29: 016 | B29: PC-180-2-1 | C29: Demolice a vyčištění ploch, přesazování a uklid mater. | D29: kus | E29: 1 | G29: =E29*F29 -> 0
A30: 017 | B30: PC-180-2-2 | C30: Prořez a likvidace dřevin, kořenů a pařezů | D30: kus | E30: 1 | G30: =E30*F30 -> 0
A31: 018 | B31: PC-180-2-3 | C31: Vyměření a vytýčení záhonů dle dokumentace | D31: kus | E31: 1 | G31: =E31*F31 -> 0
A32: 019 | B32: PC-180-2-4 | C32: Teréní práce strojovou mechanizací bagr, nákladní auto | D32: hod. | E32: 24 | G32: =E32*F32 -> 0
A33: 020 | B33: PC-180-2-5 | C33: Ruční modelace terénu na záhony | D33: m2 | E33: 341 | G33: =E33*F33 -> 0
A34: 021 | B34: PC-180-2-6 | C34: Rozvození zeminy ruční práce a vyrovnání pozemku | D34: m3 | E34: 35 | G34: =E34*F34 -> 0
A35: 022 | B35: PC-180-2-7 | C35: Kultivace a vertikutace travnatých ploch | D35: m2 | E35: 3924 | G35: =E35*F35 -> 0
A36: 023 | B36: PC-180-2-8 | C36: Úprava půdy před setím , setí travnatých ploch | D36: m2 | E36: 3924 | G36: =E36*F36 -> 0
A37: 024 | B37: PC-180-2-9 | C37: Dohnojení ploch | D37: m2 | E37: 4265 | G37: =E37*F37 -> 0
A38: 025 | B38: PC-180-2-10 | C38: Příprava půdy před výsadbou | D38: m2 | E38: 341 | G38: =E38*F38 -> 0
A39: 026 | B39: PC-180-2-11 | C39: Natahování fólií | D39: m2 | E39: 633.9 | G39: =E39*F39 -> 0
A40: 027 | B40: PC-180-2-12 | C40: Roznošení rostlin a strromů dle projektu | D40: kus | E40: 1 | G40: =E40*F40 -> 0
... A54: 041 | B54: PC-180-2-26 | C54: Manipulace s kůrou stroji | D54: m2 | E54: 27.28 | G54: =E54*F54 -> 0
C55: Materiál - celkem | G55: =SUM(G29:G54) -> 0
A56: 042 | B56: PC-180-3-1 | C56: Doprava rostlin 2x | D56: kus | E56: 2 | G56: =E56*F56 -> 0
...

Sheet Povinná publicita
A1: SOUPIS PRACÍ
A2: Stavba: Zvýšení kapacity předškolního vzdělávání ve městě Ralsko | E2: JKSO: 801 31 8 1
A3: Část: Povinná publicita | E3: Zpracoval:
A4: Místo: Město Ralsko, část Kuřívody, p.p.č.5, 15/2, 15/4 a 15/5 v k.ú. Kuřívody | E4: Datum:
A5: Objednatel: Město Ralsko, Kuřívody 701, 471 24 Ralsko
A6: Zhotovitel:
A7: P.Č. | B7: Kód položky | C7: Popis | D7: MJ | E7: Množství celkem | F7: Cena jednotková | G7: Cena celkem
A8: 1 | B8: 2 | C8: 3 | D8: 4 | E8: 5 | F8: 6 | G8: 7
C10: Povinná publicita -celkem | G10: =G11 -> 0
B11: PSV | C11: Práce a dodávky PSV | G11: =G12 -> 0
B12: 767-1 | C12: Konstrukce kovové doplňkové stavební | G12: =SUM(G13:G14) -> 0
A13: 001 | B13: PC-767-1-1 | C13: Billboard na staveniště (5,1x2,4m), barevný, plachta kotvená na sloupcích, text bude dodán -včetně designu a instalace | D13: kus | E13: 1 | G13: =E13*F13 -> 0
A14: 002 | B14: PC-767-1-2 | C14: Pamětní deska (0,3x0,4m), hliníkový sendvič, tisk plnobarevný s laminací -včetně designu a instalace | D14: kus | E14: 1 | G14: =E14*F14 -> 0

Sheet Vedlejší výdaje stavby
A1: SOUPIS PRACÍ
A2: Stavba: Zvýšení kapacity předškolního vzdělávání ve městě Ralsko | E2: JKSO: 801 31 8 1
A3: Část: Vedlejší výdaje stavby | E3: Zpracoval:
A4: Místo: Město Ralsko, část Kuřívody, p.p.č.5, 15/2, 15/4 a 15/5 v k.ú. Kuřívody | E4: Datum:
A5: Objednatel: Město Ralsko, Kuřívody 701, 471 24 Ralsko
A6: Zhotovitel:
A7: P.Č. | B7: Kód položky | C7: Popis | D7: MJ | E7: Množství celkem | F7: Cena jednotková | G7: Cena celkem | H7: Hmotnost jednotková | I7: Hmotnost celkem
A8: 1 | B8: 2 | C8: 3 | D8: 4 | E8: 5 | F8: 6 | G8: 7 | H8: 9 | I8: 10
C10: Vedlejší výdaje stavby -celkem | G10: =G12+G32+G83 -> 0
A12: 1 | C12: 1.1 - Architektonicko-stavební řešení -celkem | G12: =G13+G485 -> 0
B13: HSV | C13: Práce a dodávky HSV | G13: =G14+G28 -> 0
B14: 5 | C14: Komunikace | G14: =SUM(G15:G27) -> 0
A15: 059 | B15: 571901100RXX | C15: Doplnění stávajícího chodníku-přístupový chodník | D15: m2 | E15: =E16 -> 115.1 | G15: =E15*F15 -> 0 | H15: 0.596 | I15: =E15*H15 -> 68.5996
C16: 51,80+63,30 | D16: m2 | E16: 115.1
A17: 060 | B17: 571901110RXX | C17: Oprava stávajícího chodníku | D17: m2 | E17: =E18 -> 21.2 | G17: =E17*F17 -> 0 | H17: 0.45 | I17: =E17*H17 -> 9.54
C18: 21.2 | D18: m2 | E18: 21.2
A19: 061 | B19: 571901130RXX | C19: Bezbariérové stání pro OA | D19: m2 | E19: =E20 -> 33.2 | G19: =E19*F19 -> 0 | H19: 0.784 | I19: =E19*H19 -> 26.0288
C20: ozn.19: 33,20 | E20: 33.2
A21: 062 | B21: 591104100RXX | C21: Plochy venkovní z protiskluzové dlažby | D21: m2 | E21: =E27 -> 56.68 | G21: =E21*F21 -> 0 | H21: 0.627 | I21: =E21*H21 -> 35.53836
C22: 119 Terasa: 3,60 | D22: m2 | E22: 3.6
C23: 127 Terasa: 10,80 | D23: m2 | E23: 10.8
C24: 129 Zastřešený vstup: 19,40 | D24: m2 | E24: 19.4
C25: 130 Terasa: 18,40 | D25: m2 | E25: 18.2
C26: přístavek: 4,68 | D26: m2 | E26: 4.68
C27: celkem | D27: m2 | E27: =SUM(E22:E26) -> 56.68
B28: 9 | C28: Ostatní konstrukce a práce, bourání, přesun hmot | G28: =SUM(G29:G30) -> 0
A29: 098 | B29: 998011001R00 | C29: Přesun pro budovy zděné výšky do 6 m | D29: t | E29: =E30 -> 139.70676 | G29: =E29*F29 -> 0
C30: výměra dle výpočtu: | D30: t | E30: =I30 -> 139.70676 | I30: =SUM(I15:I29) -> 139.70676
A32: 2 | C32: 1.4 - Elektroinstalace-silnoproud | G32: =G33 -> 0
B33: M | C33: Montáže | G33: =G34+G45+G53+G65 -> 0
B34: 21-1 | C34: Dodávky zařízení | G34: =SUM(G35:G44) -> 0
A35: 002 | B35: 509131 | C35: B ISRAC4KO4V160/ND1050I3 35W | D35: kus | E35: 50 | G35: =E35*F35 -> 0
A36: 003 | B36: 509102 | C36: G LLL2RMKO4V1/1400ND 40W | D36: kus | E36: 38 | G36: =E36*F36 -> 0
A37: 004 | B37: 513515 | C37: H svítidlo záři OP E IP40/T8 24255 | D37: kus | E37: 14 | G37: =E37*F37 -> 0
A38: 005 | B38: 523175 | C38: svítidlo záři PC E/1F/IP66/T8 90356 | D38: kus | E38: 3 | G38: =E38*F38 -> 0
A39: 006 | B39: 523366 | C39: SVITIDLO PC ET5 IP66 /90760/ | D39: kus | E39: 3 | G39: =E39*F39 -> 0
A40: 007 | B40: 513301 | C40: svítidlo záři 113W (118W) pod linku | D40: kus | E40: 1 | G40: =E40*F40 -> 0
A41: 008 | B41: 509101 | C41: F BRSB4KO375V2/ND | D41: kus | E41: 17 | G41: =E41*F41 -> 0
A42: 009 | B42: 511502 | C42: svít žár IN-12U7/264 E27 IP43 pr350 41421 | D42: kus | E42: 3 | G42: =E42*F42 -> 0
A43: 010 | B43: 552431 | C43: nouzové svítidlo LED-Em/IP65 3hod | D43: kus | E43: 20 | G43: =E43*F43 -> 0
...
