Workbook

Sheet Rekapitulace stavby
A1: 2012 | D1: List obsahuje: | K1: 1) Souhrnný list stavby | W1: 2) Rekapitulace objektů | BA1: 2.0 | BT1: False | BU1: False
C2: optimalizováno pro tisk sestav ve formátu A4 - na výšku | AR2: >> skryté sloupce << | BS2: 0,01 | BT2: 21
BS3: 0,01 | BT3: 15
C4: SOUHRNNÝ LIST STAVBY | AS4: v --- níže se nacházejí doplnkové a pomocné údaje k sestavám --- v | BE4: Návod na vyplnění | BS4: 0,001
D5: Kód: | K5: 2016-10 | BE5: Měnit lze pouze buňky se žlutým podbarvením! 1) na prvním listu Rekapitulace stavby vyplňte v sestavě a) Souhrnný list - údaje o Zhotoviteli (přenesou se do ostatních sestav i v jiných listech) b) Rekapitulace objektů - potřebné Ostatní náklady 2) na vybraných listech vyplňte v sestavě a) Krycí list - údaje o Zhotoviteli, pokud se liší od údajů o Zhotoviteli na Souhrnném listu (údaje se přenesou do ostatních sestav v daném listu) b) Rekapitulace rozpočtu - potřebné Ostatní náklady c) Rozpočet - ceny u položek - množství, pokud má žluté podbarvení - a v případe potřeby poznámku (ta je v skrytém sloupci) | BS5: 0,01
D6: Stavba: | K6: Přístupové komunikace do průmyslové zóny | BS6: 0,1
D7: JKSO: | AK7: CC-CZ: | BS7: 1
D8: Místo: | K8: Město Ralsko | AK8: Datum: | AN8: 42530 | BS8: 10
BS9: 100
D10: Objednavatel: | AK10: IČ: | BS10: 0,1
AK11: DIČ: | BS11: 0,1
BS12: 0,1
D13: Zhotovitel: | AK13: IČ: | AN13: Vyplň údaj | BS13: 0,1
E14: Vyplň údaj | AK14: DIČ: | AN14: Vyplň údaj | BS14: 0,1
BS15: False
D16: Projektant: | AK16: IČ: | BS16: False
AK17: DIČ: | BS17: True
BS18: 0,01
D19: Zpracovatel: | AK19: IČ: | BS19: 0,01
AK20: DIČ:
D23: Náklady z rozpočtů | AK23: =ROUND($AG$87,2) -> 0
D24: Ostatní náklady ze souhrnného listu | AK24: =ROUND($AG$95,2) -> 0
D26: Cena bez DPH | AK26: =ROUND($AK$23+$AK$24,2) -> 0
D28: DPH | F28: základní | L28: 0.21 | T28: ze | W28: =ROUND($AZ$87+SUM($CD$96:$CD$100),2) -> 0 | AK28: =ROUND($AV$87+SUM($BY$96:$BY$100),2) -> 0
F29: snížená | L29: 0.15 | T29: ze | W29: =ROUND($BA$87+SUM($CE$96:$CE$100),2) -> 0 | AK29: =ROUND($AW$87+SUM($BZ$96:$BZ$100),2) -> 0
F30: zákl. přenesená | L30: 0.21 | T30: ze | W30: =ROUND($BB$87+SUM($CF$96:$CF$100),2) -> 0 | AK30: 0
F31: sníž. přenesená | L31: 0.15 | T31: ze | W31: =ROUND($BC$87+SUM($CG$96:$CG$100),2) -> 0 | AK31: 0
F32: nulová | L32: 0 | T32: ze | W32: =ROUND($BD$87+SUM($CH$96:$CH$100),2) -> 0 | AK32: 0
D34: Cena s DPH | T34: v | X34: CZK | AK34: =ROUND(SUM($AK$26:$AK$32),2) -> 0
D49: Projektant | AC49: Zpracovatel
D58: Datum a podpis: | R58: Razítko | AC58: Datum a podpis: | AM58: Razítko
D60: Objednavatel | AC60: Zhotovitel
D69: Datum a podpis: | R69: Razítko | AC69: Datum a podpis: | AM69: Razítko
C76: REKAPITULACE OBJEKTŮ STAVBY
C77: Kód: | L77: =$K$5 -> 2016-10
C78: Stavba: | L78: =$K$6 -> Přístupové komunikace do průmyslové zóny
C80: Místo: | L80: =IF($K$8="","",$K$8) -> Město Ralsko | AI80: Datum: | AM80: =IF($AN$8="","",$AN$8) -> 42530
C82: Objednavatel: | L82: =IF($E$11="","",$E$11) | AI82: Projektant: | AM82: =IF($E$17="","",$E$17) | AS82: Informatívní údaje z listů zakázek
C83: Zhotovitel: | L83: =IF($E$14="Vyplň údaj","",$E$14) | AI83: Zpracovatel: | AM83: =IF($E$20="","",$E$20)
C85: Kód | I85: Objekt | AG85: Cena bez DPH [CZK] | AN85: Cena s DPH [CZK] | AS85: z toho Ostat. náklady [CZK] | AT85: DPH [CZK] | AU85: Normohodiny [h] | AV85: DPH základní [CZK] | AW85: DPH snížená [CZK] | AX85: DPH základní přenesená [CZK] | AY85: DPH snížená přenesená [CZK] | AZ85: Základna DPH základní | BA85: Základna DPH snížená | BB85: Základna DPH zákl. přenesená | BC85: Základna DPH sníž. přenesená | BD85: Základna DPH nulová
C87: 1) Náklady z rozpočtů | AG87: =ROUND(SUM($AG$88:$AG$93),2) -> 0 | AN87: =ROUND(SUM($AG$87,$AT$87),2) -> 0 | AS87: =ROUND(SUM($AS$88:$AS$93),2) -> 0 | AT87: =ROUND(SUM($AV$87:$AW$87),2) -> 0 | AU87: =ROUND(SUM($AU$88:$AU$93),5) -> 5997.3371 | AV87: =ROUND($AZ$87*$L$28,2) -> 0 | AW87: =ROUND($BA$87*$L$29,2) -> 0 | AX87: =ROUND($BB$87*$L$28,2) -> 0 | AY87: =ROUND($BC$87*$L$29,2) -> 0 | AZ87: =ROUND(SUM($AZ$88:$AZ$93),2) -> 0 | BA87: =ROUND(SUM($BA$88:$BA$93),2) -> 0 | BB87: =ROUND(SUM($BB$88:$BB$93),2) -> 0 | BC87: =ROUND(SUM($BC$88:$BC$93),2) -> 0 | BD87: =ROUND(SUM($BD$88:$BD$93),2) -> 0 | BS87: D | BT87: 0 | BU87: ###NOIMPORT### | BV87: IMPORT | BW87: {66D7FC9E-42CF-4764-94A4-7AB6ED66F57D} | BX87: {00000000-0000-0000-0000-000000000000}
A88: / | D88: SO 000.01 | J88: Příprava staveniště | AG88: ='SO 000.01 - Příprava stav...'!$M$27 -> 0 | AN88: =ROUND(SUM($AG$88,$AT$88),2) -> 0 | AS88: ='SO 000.01 - Příprava stav...'!$M$25 -> 0 | AT88: =ROUND(SUM($AV$88:$AW$88),2) -> 0 | AU88: ='SO 000.01 - Příprava stav...'!$W$117 -> 264.03708 | AV88: ='SO 000.01 - Příprava stav...'!$M$29 -> 0 | AW88: ='SO 000.01 - Příprava stav...'!$M$30 -> 0 | AX88: ='SO 000.01 - Příprava stav...'!$M$31 -> 0 | AY88: ='SO 000.01 - Příprava stav...'!$M$32 -> 0 | AZ88: ='SO 000.01 - Příprava stav...'!$H$29 -> 0 | BA88: ='SO 000.01 - Příprava stav...'!$H$30 -> 0 | BB88: ='SO 000.01 - Příprava stav...'!$H$31 -> 0 | BC88: ='SO 000.01 - Příprava stav...'!$H$32 -> 0 | BD88: ='SO 000.01 - Příprava stav...'!$H$33 -> 0 | BT88: 1 | BV88: IMPORT | BW88: {CAA32158-7CAA-4F98-936C-06DE70C1A70F} | BX88: {66D7FC9E-42CF-4764-94A4-7AB6ED66F57D}
A89: / | D89: SO 100.01 | J89: Komunikace a zpevněné plochy | AG89: ='SO 100.01 - Komunikace a ...'!$M$27 -> 0 | AN89: =ROUND(SUM($AG$89,$AT$89),2) -> 0 | AS89: ='SO 100.01 - Komunikace a ...'!$M$25 -> 0 | AT89: =ROUND(SUM($AV$89:$AW$89),2) -> 0 | AU89: ='SO 100.01 - Komunikace a ...'!$W$127 -> 3906.2637 | AV89: ='SO 100.01 - Komunikace a ...'!$M$29 -> 0 | AW89: ='SO 100.01 - Komunikace a ...'!$M$30 -> 0 | AX89: ='SO 100.01 - Komunikace a ...'!$M$31 -> 0 | AY89: ='SO 100.01 - Komunikace a ...'!$M$32 -> 0 | AZ89: ='SO 100.01 - Komunikace a ...'!$H$29 -> 0 | BA89: ='SO 100.01 - Komunikace a ...'!$H$30 -> 0 | BB89: ='SO 100.01 - Komunikace a ...'!$H$31 -> 0 | BC89: ='SO 100.01 - Komunikace a ...'!$H$32 -> 0 | BD89: ='SO 100.01 - Komunikace a ...'!$H$33 -> 0 | BT89: 1 | BV89: IMPORT | BW89: {401427B6-4AF1-4517-A4D5-392D0317ACAA} | BX89: {66D7FC9E-42CF-4764-94A4-7AB6ED66F57D}
A90: / | D90: SO 300.01 | J90: Dešťová kanalizace | AG90: ='SO 300.01 - Dešťová kanal...'!$M$27 -> 0 | AN90: =ROUND(SUM($AG$90,$AT$90),2) -> 0 | AS90: ='SO 300.01 - Dešťová kanal...'!$M$25 -> 0 | AT90: =ROUND(SUM($AV$90:$AW$90),2) -> 0 | AU90: ='SO 300.01 - Dešťová kanal...'!$W$122 -> 1315.6442 | AV90: ='SO 300.01 - Dešťová kanal...'!$M$29 -> 0 | AW90: ='SO 300.01 - Dešťová kanal...'!$M$30 -> 0 | AX90: ='SO 300.01 - Dešťová kanal...'!$M$31 -> 0 | AY90: ='SO 300.01 - Dešťová kanal...'!$M$32 -> 0 | AZ90: ='SO 300.01 - Dešťová kanal...'!$H$29 -> 0 | BA90: ='SO 300.01 - Dešťová kanal...'!$H$30 -> 0 | BB90: ='SO 300.01 - Dešťová kanal...'!$H$31 -> 0 | BC90: ='SO 300.01 - Dešťová kanal...'!$H$32 -> 0 | BD90: ='SO 300.01 - Dešťová kanal...'!$H$33 -> 0 | BT90: 1 | BV90: IMPORT | BW90: {8CAF351D-6D86-4F6F-B188-FDC54826C206} | BX90: {66D7FC9E-42CF-4764-94A4-7AB6ED66F57D}
A91: / | D91: SO 300.02 | J91: Vodovodní přípojky | AG91: ='SO 300.02 - Vodovodní pří...'!$M$27 -> 0 | AN91: =ROUND(SUM($AG$91,$AT$91),2) -> 0 | AS91: ='SO 300.02 - Vodovodní pří...'!$M$25 -> 0 | AT91: =ROUND(SUM($AV$91:$AW$91),2) -> 0 | AU91: ='SO 300.02 - Vodovodní pří...'!$W$120 -> 406.41605 | AV91: ='SO 300.02 - Vodovodní pří...'!$M$29 -> 0 | AW91: ='SO 300.02 - Vodovodní pří...'!$M$30 -> 0 | AX91: ='SO 300.02 - Vodovodní pří...'!$M$31 -> 0 | AY91: ='SO 300.02 - Vodovodní pří...'!$M$32 -> 0 | AZ91: ='SO 300.02 - Vodovodní pří...'!$H$29 -> 0 | BA91: ='SO 300.02 - Vodovodní pří...'!$H$30 -> 0 | BB91: ='SO 300.02 - Vodovodní pří...'!$H$31 -> 0 | BC91: ='SO 300.02 - Vodovodní pří...'!$H$32 -> 0 | BD91: ='SO 300.02 - Vodovodní pří...'!$H$33 -> 0 | BT91: 1 | BV91: IMPORT | BW91: {34A6772D-1239-4E52-B770-99D0361D88F3} | BX91: {66D7FC9E-42CF-4764-94A4-7AB6ED66F57D}
A92: / | D92: SO 400.01 | J92: Veřejné osvětlení | AG92: ='SO 400.01 - Veřejné osvět...'!$M$27 -> 0 | AN92: =ROUND(SUM($AG$92,$AT$92),2) -> 0 | AS92: ='SO 400.01 - Veřejné osvět...'!$M$25 -> 0 | AT92: =ROUND(SUM($AV$92:$AW$92),2) -> 0 | AU92: ='SO 400.01 - Veřejné osvět...'!$W$123 -> 0 | AV92: ='SO 400.01 - Veřejné osvět...'!$M$29 -> 0 | AW92: ='SO 400.01 - Veřejné osvět...'!$M$30 -> 0 | AX92: ='SO 400.01 - Veřejné osvět...'!$M$31 -> 0 | AY92: ='SO 400.01 - Veřejné osvět...'!$M$32 -> 0 | AZ92: ='SO 400.01 - Veřejné osvět...'!$H$29 -> 0 | BA92: ='SO 400.01 - Veřejné osvět...'!$H$30 -> 0 | BB92: ='SO 400.01 - Veřejné osvět...'!$H$31 -> 0 | BC92: ='SO 400.01 - Veřejné osvět...'!$H$32 -> 0 | BD92: ='SO 400.01 - Veřejné osvět...'!$H$33 -> 0 | BT92: 1 | BV92: IMPORT | BW92: {795B40E2-A492-476C-AAC3-4B40C50924B5} | BX92: {66D7FC9E-42CF-4764-94A4-7AB6ED66F57D}
A93: / | D93: SO 400.02 | J93: Chráničky elektro | AG93: ='SO 400.02 - Chráničky ele...'!$M$27 -> 0 | AN93: =ROUND(SUM($AG$93,$AT$93),2) -> 0 | AS93: ='SO 400.02 - Chráničky ele...'!$M$25 -> 0 | AT93: =ROUND(SUM($AV$93:$AW$93),2) -> 0 | AU93: ='SO 400.02 - Chráničky ele...'!$W$119 -> 104.976 | AV93: ='SO 400.02 - Chráničky ele...'!$M$29 -> 0 | AW93: ='SO 400.02 - Chráničky ele...'!$M$30 -> 0 | AX93: ='SO 400.02 - Chráničky ele...'!$M$31 -> 0 | AY93: ='SO 400.02 - Chráničky ele...'!$M$32 -> 0 | AZ93: ='SO 400.02 - Chráničky ele...'!$H$29 -> 0 | BA93: ='SO 400.02 - Chráničky ele...'!$H$30 -> 0 | BB93: ='SO 400.02 - Chráničky ele...'!$H$31 -> 0 | BC93: ='SO 400.02 - Chráničky ele...'!$H$32 -> 0 | BD93: ='SO 400.02 - Chráničky ele...'!$H$33 -> 0 | BT93: 1 | BV93: IMPORT | BW93: {6A4D7BF6-1D08-4818-A04F-8BC59D2E457B} | BX93: {66D7FC9E-42CF-4764-94A4-7AB6ED66F57D}
C95: 2) Ostatní náklady ze souhrnného listu | AG95: =ROUND(SUM($AG$96:$AG$99),2) -> 0 | AN95: =ROUND(SUM($AN$96:$AN$99),2) -> 0 | AS95: Procent. zadání [% nákladů rozpočtu] | AT95: Zařazení nákladů | AU95: DPH | AV95: DPH [CZK]
D96: Ostatní náklady | AG96: =ROUND($AG$87*$AS$96,2) -> 0 | AN96: =ROUND($AG$96+$AV$96,2) -> 0 | AS96: 0 | AT96: stavební čast | AU96: základní | AV96: =ROUND(IF($AU$96="základní",$AG$96*$L$28,IF($AU$96="snížená",$AG$96*$L$29,0)),2) -> 0 | BV96: OSTATNENAKLADY | BY96: =IF($AU$96="základní",$AV$96,0) -> 0 | BZ96: =IF($AU$96="snížená",$AV$96,0) -> 0 | CA96: 0 | CB96: 0 | CC96: 0 | CD96: =IF($AU$96="základní",$AG$96,0) -> 0 | CE96: =IF($AU$96="snížená",$AG$96,0) -> 0 | CF96: =IF($AU$96="zákl. přenesená",$AG$96,0) -> 0 | CG96: =IF($AU$96="sníž. přenesená",$AG$96,0) -> 0 | CH96: =IF($AU$96="nulová",$AG$96,0) -> 0 | CI96: =IF($AU$96="základní",1,IF($AU$96="snížená",2,IF($AU$96="zákl. přenesená",4,IF($AU$96="sníž. přenesená",5,3)))) -> 1 | CJ96: =IF($AT$96="stavební čast",1,IF(8896="investiční čast",2,3)) -> 1 | CK96: =IF($D$96="Vyplň vlastní","","x") -> x
D97: Vyplň vlastní | AG97: =$AG$87*$AS$97 -> 0 | AN97: =$AG$97+$AV$97 -> 0 | AS97: 0 | AT97: stavební čast | AU97: základní | AV97: =ROUND(IF($AU$97="nulová",0,IF(OR($AU$97="základní",$AU$97="zákl. přenesená"),$AG$97*$L$28,$AG$97*$L$29)),2) -> 0 | BV97: OSTATNENAKLADYVLASTNE | BY97: =IF($AU$97="základní",$AV$97,0) -> 0 | BZ97: =IF($AU$97="snížená",$AV$97,0) -> 0 | CA97: =IF($AU$97="zákl. přenesená",$AV$97,0) -> 0 | CB97: =IF($AU$97="sníž. přenesená",$AV$97,0) -> 0 | CC97: =IF($AU$97="nulová",$AV$97,0) -> 0 | CD97: =IF($AU$97="základní",$AG$97,0) -> 0 | CE97: =IF($AU$97="snížená",$AG$97,0) -> 0 | CF97: =IF($AU$97="zákl. přenesená",$AG$97,0) -> 0 | CG97: =IF($AU$97="sníž. přenesená",$AG$97,0) -> 0 | CH97: =IF($AU$97="nulová",$AG$97,0) -> 0 | CI97: =IF($AU$97="základní",1,IF($AU$97="snížená",2,IF($AU$97="zákl. přenesená",4,IF($AU$97="sníž. přenesená",5,3)))) -> 1 | CJ97: =IF($AT$97="stavební čast",1,IF(8897="investiční čast",2,3)) -> 1 | CK97: =IF($D$97="Vyplň vlastní","","x")
D98: Vyplň vlastní | AG98: =$AG$87*$AS$98 -> 0 | AN98: =$AG$98+$AV$98 -> 0 | AS98: 0 | AT98: stavební čast | AU98: základní | AV98: =ROUND(IF($AU$98="nulová",0,IF(OR($AU$98="základní",$AU$98="zákl. přenesená"),$AG$98*$L$28,$AG$98*$L$29)),2) -> 0 | BV98: OSTATNENAKLADYVLASTNE | BY98: =IF($AU$98="základní",$AV$98,0) -> 0 | BZ98: =IF($AU$98="snížená",$AV$98,0) -> 0 | CA98: =IF($AU$98="zákl. přenesená",$AV$98,0) -> 0 | CB98: =IF($AU$98="sníž. přenesená",$AV$98,0) -> 0 | CC98: =IF($AU$98="nulová",$AV$98,0) -> 0 | CD98: =IF($AU$98="základní",$AG$98,0) -> 0 | CE98: =IF($AU$98="snížená",$AG$98,0) -> 0 | CF98: =IF($AU$98="zákl. přenesená",$AG$98,0) -> 0 | CG98: =IF($AU$98="sníž. přenesená",$AG$98,0) -> 0 | CH98: =IF($AU$98="nulová",$AG$98,0) -> 0 | CI98: =IF($AU$98="základní",1,IF($AU$98="snížená",2,IF($AU$98="zákl. přenesená",4,IF($AU$98="sníž. přenesená",5,3)))) -> 1 | CJ98: =IF($AT$98="stavební čast",1,IF(8898="investiční čast",2,3)) -> 1 | CK98: =IF($D$98="Vyplň vlastní","","x")
D99: Vyplň vlastní | AG99: =$AG$87*$AS$99 -> 0 | AN99: =$AG$99+$AV$99 -> 0 | AS99: 0 | AT99: stavební čast | AU99: základní | AV99: =ROUND(IF($AU$99="nulová",0,IF(OR($AU$99="základní",$AU$99="zákl. přenesená"),$AG$99*$L$28,$AG$99*$L$29)),2) -> 0 | BV99: OSTATNENAKLADYVLASTNE | BY99: =IF($AU$99="základní",$AV$99,0) -> 0 | BZ99: =IF($AU$99="snížená",$AV$99,0) -> 0 | CA99: =IF($AU$99="zákl. přenesená",$AV$99,0) -> 0 | CB99: =IF($AU$99="sníž. přenesená",$AV$99,0) -> 0 | CC99: =IF($AU$99="nulová",$AV$99,0) -> 0 | CD99: =IF($AU$99="základní",$AG$99,0) -> 0 | CE99: =IF($AU$99="snížená",$AG$99,0) -> 0 | CF99: =IF($AU$99="zákl. přenesená",$AG$99,0) -> 0 | CG99: =IF($AU$99="sníž. přenesená",$AG$99,0) -> 0 | CH99: =IF($AU$99="nulová",$AG$99,0) -> 0 | CI99: =IF($AU$99="základní",1,IF($AU$99="snížená",2,IF($AU$99="zákl. přenesená",4,IF($AU$99="sníž. přenesená",5,3)))) -> 1 | CJ99: =IF($AT$99="stavební čast",1,IF(8899="investiční čast",2,3)) -> 1 | CK99: =IF($D$99="Vyplň vlastní","","x")
C101: Celkové náklady za stavbu 1) + 2) | AG101: =ROUND($AG$87+$AG$95,2) -> 0 | AN101: =ROUND($AN$87+$AN$95,2) -> 0

Sheet SO 000.01 - Příprava stav...
D1: List obsahuje: | F1: 1) Krycí list rozpočtu | H1: 2) Rekapitulace rozpočtu | L1: 3) Rozpočet | O1: Zpět na list: | S1: Rekapitulace stavby
C2: optimalizováno pro tisk sestav ve formátu A4 - na výšku | S2: >> skryté sloupce << | AT2: {CAA32158-7CAA-4F98-936C-06DE70C1A70F}
AT3: 2
C4: KRYCÍ LIST ROZPOČTU | T4: v --- níže se nacházejí doplnkové a pomocné údaje k sestavám --- v | AT4: False
D6: Stavba: | F6: ='Rekapitulace stavby'!$K$6 -> Přístupové komunikace do průmyslové zóny
D7: Objekt: | F7: SO 000.01 - Příprava staveniště
D8: JKSO: | M8: CC-CZ:
D9: Místo: | F9: Město Ralsko | M9: Datum: | O9: ='Rekapitulace stavby'!$AN$8 -> 42530
D11: Objednavatel: | M11: IČ: | O11: =IF('Rekapitulace stavby'!$AN$10="","",'Rekapitulace stavby'!$AN$10)
E12: =IF('Rekapitulace stavby'!$E$11="","",'Rekapitulace stavby'!$E$11) | M12: DIČ: | O12: =IF('Rekapitulace stavby'!$AN$11="","",'Rekapitulace stavby'!$AN$11)
D14: Zhotovitel: | M14: IČ: | O14: =IF('Rekapitulace stavby'!$AN$13="","",'Rekapitulace stavby'!$AN$13) -> Vyplň údaj
E15: =IF('Rekapitulace stavby'!$E$14="","",'Rekapitulace stavby'!$E$14) -> Vyplň údaj | M15: DIČ: | O15: =IF('Rekapitulace stavby'!$AN$14="","",'Rekapitulace stavby'!$AN$14) -> Vyplň údaj
D17: Projektant: | M17: IČ: | O17: =IF('Rekapitulace stavby'!$AN$16="","",'Rekapitulace stavby'!$AN$16)
E18: =IF('Rekapitulace stavby'!$E$17="","",'Rekapitulace stavby'!$E$17) | M18: DIČ: | O18: =IF('Rekapitulace stavby'!$AN$17="","",'Rekapitulace stavby'!$AN$17)
D20: Zpracovatel: | M20: IČ: | O20: =IF('Rekapitulace stavby'!$AN$19="","",'Rekapitulace stavby'!$AN$19)
E21: =IF('Rekapitulace stavby'!$E$20="","",'Rekapitulace stavby'!$E$20) | M21: DIČ: | O21: =IF('Rekapitulace stavby'!$AN$20="","",'Rekapitulace stavby'!$AN$20)
D24: Náklady z rozpočtu | M24: =$N$88 -> 0
D25: Ostatní náklady | M25: =$N$92 -> 0
D27: Cena bez DPH | M27: =ROUND($M$24+$M$25,2) -> 0
D29: DPH | E29: základní | F29: 0.21 | G29: ze | H29: =ROUND((((SUM($BE$92:$BE$99)+SUM($BE$117:$BE$153))+SUM($BE$154:$BE$155))),2) -> 0 | M29: =ROUND((((SUM($BE$92:$BE$99)+SUM($BE$117:$BE$153))*$F$29)+SUM($BE$154:$BE$155)*$F$29),2) -> 0
E30: snížená | F30: 0.15 | G30: ze | H30: =ROUND((((SUM($BF$92:$BF$99)+SUM($BF$117:$BF$153))+SUM($BF$154:$BF$155))),2) -> 0 | M30: =ROUND((((SUM($BF$92:$BF$99)+SUM($BF$117:$BF$153))*$F$30)+SUM($BF$154:$BF$155)*$F$30),2) -> 0
E31: zákl. přenesená | F31: 0.21 | G31: ze | H31: =ROUND((((SUM($BG$92:$BG$99)+SUM($BG$117:$BG$153))+SUM($BG$154:$BG$155))),2) -> 0 | M31: 0
E32: sníž. přenesená | F32: 0.15 | G32: ze | H32: =ROUND((((SUM($BH$92:$BH$99)+SUM($BH$117:$BH$153))+SUM($BH$154:$BH$155))),2) -> 0 | M32: 0
E33: nulová | F33: 0 | G33: ze | H33: =ROUND((((SUM($BI$92:$BI$99)+SUM($BI$117:$BI$153))+SUM($BI$154:$BI$155))),2) -> 0 | M33: 0
D35: Cena s DPH | G35: v | H35: CZK | L35: =ROUND(SUM($M$27:$M$33),2) -> 0
D50: Projektant | J50: Zpracovatel
D59: Datum a podpis: | G59: Razítko | J59: Datum a podpis: | N59: Razítko
D61: Objednavatel | J61: Zhotovitel
D70: Datum a podpis: | G70: Razítko | J70: Datum a podpis: | N70: Razítko
C76: REKAPITULACE ROZPOČTU
C78: Stavba: | F78: =$F$6 -> Přístupové komunikace do průmyslové zóny
C79: Objekt: | F79: =$F$7 -> SO 000.01 - Příprava staveniště
C81: Místo: | F81: =$F$9 -> Město Ralsko | K81: Datum: | M81: =IF($O$9="","",$O$9) -> 42530
C83: Objednavatel: | F83: =$E$12 | K83: Projektant: | M83: =$E$18
C84: Zhotovitel: | F84: =IF($E$15="","",$E$15) -> Vyplň údaj | K84: Zpracovatel: | M84: =$E$21
C86: Kód - Popis | N86: Cena celkem [CZK]
C88: 1) Náklady z rozpočtu | N88: =ROUND($N$117,2) -> 0 | AU88: -1
D89: HSV - Práce a dodávky HSV | N89: =ROUND($N$118,2) -> 0
D90: 96 - Bourání konstrukcí | N90: =ROUND($N$119,2) -> 0
C92: 2) Ostatní náklady | N92: =ROUND($N$93+$N$94+$N$95+$N$96+$N$97+$N$98,2) -> 0 | U92: DPH
D93: Zařízení staveniště | N93: =ROUND($N$88*$T$93,2) -> 0 | U93: základní | AY93: VRN | BE93: =IF($U$93="základní",$N$93,0) -> 0 | BF93: =IF($U$93="snížená",$N$93,0) -> 0 | BG93: =IF($U$93="zákl. přenesená",$N$93,0) -> 0 | BH93: =IF($U$93="sníž. přenesená",$N$93,0) -> 0 | BI93: =IF($U$93="nulová",$N$93,0) -> 0 | BJ93: 1
D94: Projektové práce | N94: =ROUND($N$88*$T$94,2) -> 0 | U94: základní | AY94: VRN | BE94: =IF($U$94="základní",$N$94,0) -> 0 | BF94: =IF($U$94="snížená",$N$94,0) -> 0 | BG94: =IF($U$94="zákl. přenesená",$N$94,0) -> 0 | BH94: =IF($U$94="sníž. přenesená",$N$94,0) -> 0 | BI94: =IF($U$94="nulová",$N$94,0) -> 0 | BJ94: 1
D95: Územní vlivy | N95: =ROUND($N$88*$T$95,2) -> 0 | U95: základní | AY95: VRN | BE95: =IF($U$95="základní",$N$95,0) -> 0 | BF95: =IF($U$95="snížená",$N$95,0) -> 0 | BG95: =IF($U$95="zákl. přenesená",$N$95,0) -> 0 | BH95: =IF($U$95="sníž. přenesená",$N$95,0) -> 0 | BI95: =IF($U$95="nulová",$N$95,0) -> 0 | BJ95: 1
D96: Provozní vlivy | N96: =ROUND($N$88*$T$96,2) -> 0 | U96: základní | AY96: VRN | BE96: =IF($U$96="základní",$N$96,0) -> 0 | BF96: =IF($U$96="snížená",$N$96,0) -> 0 | BG96: =IF($U$96="zákl. přenesená",$N$96,0) -> 0 | BH96: =IF($U$96="sníž. přenesená",$N$96,0) -> 0 | BI96: =IF($U$96="nulová",$N$96,0) -> 0 | BJ96: 1
D97: Jiné VRN | N97: =ROUND($N$88*$T$97,2) -> 0 | U97: základní | AY97: VRN | BE97: =IF($U$97="základní",$N$97,0) -> 0 | BF97: =IF($U$97="snížená",$N$97,0) -> 0 | BG97: =IF($U$97="zákl. přenesená",$N$97,0) -> 0 | BH97: =IF($U$97="sníž. přenesená",$N$97,0) -> 0 | BI97: =IF($U$97="nulová",$N$97,0) -> 0 | BJ97: 1
D98: Kompletační činnosť | N98: =ROUND($N$88*$T$98,2) -> 0 | U98: základní | AY98: KOMPLETACNA | BE98: =IF($U$98="základní",$N$98,0) -> 0 | BF98: =IF($U$98="snížená",$N$98,0) -> 0 | BG98: =IF($U$98="zákl. přenesená",$N$98,0) -> 0 | BH98: =IF($U$98="sníž. přenesená",$N$98,0) -> 0 | BI98: =IF($U$98="nulová",$N$98,0) -> 0 | BJ98: 1
C100: Celkové náklady za stavbu 1) + 2) | L100: =ROUND(SUM($N$88+$N$92),2) -> 0
C106: ROZPOČET
C108: Stavba: | F108: =$F$6 -> Přístupové komunikace do průmyslové zóny
C109: Objekt: | F109: =$F$7 -> SO 000.01 - Příprava staveniště
C111: Místo: | F111: =$F$9 -> Město Ralsko | K111: Datum: | M111: =IF($O$9="","",$O$9) -> 42530
C113: Objednavatel: | F113: =$E$12 | K113: Projektant: | M113: =$E$18
C114: Zhotovitel: | F114: =IF($E$15="","",$E$15) -> Vyplň údaj | K114: Zpracovatel: | M114: =$E$21
C116: PČ | D116: Typ | E116: Kód | F116: Popis | J116: MJ | K116: Množství | L116: J.cena [CZK] | N116: Cena celkem [CZK] | T116: Poznámka | U116: DPH | V116: J. Nh [h] | W116: Nh celkom [h] | X116: J. hmotnost [t] | Y116: Hmotnost celkem [t] | Z116: J. suť [t] | AA116: Suť Celkem [t]
C117: Náklady z rozpočtu | N117: =$BK$117 -> 0 | W117: =$W$118+$W$154 -> 264.03708 | Y117: =$Y$118+$Y$154 -> 0 | AA117: =$AA$118+$AA$154 -> 462.1502 | AT117: D | AU117: -1 | BK117: =$BK$118+$BK$154 -> 0
D118: HSV - Práce a dodávky HSV | N118: =$BK$118 -> 0 | W118: =$W$119 -> 264.03708 | Y118: =$Y$119 -> 0 | AA118: =$AA$119 -> 462.1502 | AR118: 1 | AT118: D | AU118: 0 | AY118: ROZPOCET | BK118: =$BK$119 -> 0
D119: 96 - Bourání konstrukcí | N119: =$BK$119 -> 0 | W119: =SUM($W$120:$W$153) -> 264.03708 | Y119: =SUM($Y$120:$Y$153) -> 0 | AA119: =SUM($AA$120:$AA$153) -> 462.1502 | AR119: 1 | AT119: D | AU119: 1 | AY119: ROZPOCET | BK119: =SUM($BK$120:$BK$153) -> 0
C120: 1 | D120: K | E120: 110-R01 | F120: Pyrotechnický průzkum | J120: soubor | K120: 1 | L120: 0 | N120: =ROUND($L$120*$K$120,2) -> 0 | U120: základní | V120: 0 | W120: =$V$120*$K$120 -> 0 | X120: 0 | Y120: =$X$120*$K$120 -> 0 | Z120: 0 | AA120: =$Z$120*$K$120 -> 0 | AR120: 4 | AT120: K | AU120: 2 | AY120: ROZPOCET | BE120: =IF($U$120="základní",$N$120,0) -> 0 | BF120: =IF($U$120="snížená",$N$120,0) -> 0 | BG120: =IF($U$120="zákl. přenesená",$N$120,0) -> 0 | BH120: =IF($U$120="sníž. přenesená",$N$120,0) -> 0 | BI120: =IF($U$120="nulová",$N$120,0) -> 0 | BJ120: 1 | BK120: =ROUND($L$120*$K$120,2) -> 0 | BL120: 4
C121: 2 | D121: K | E121: 111101102 | F121: Odstranění travin z celkové plochy do 1 ha | J121: ha | K121: 0.403 | L121: 0 | N121: =ROUND($L$121*$K$121,2) -> 0 | U121: základní | V121: 58.444 | W121: =$V$121*$K$121 -> 23.552932 | X121: 0 | Y121: =$X$121*$K$121 -> 0 | Z121: 0 | AA121: =$Z$121*$K$121 -> 0 | AR121: 4 | AT121: K | AU121: 2 | AY121: ROZPOCET | BE121: =IF($U$121="základní",$N$121,0) -> 0 | BF121: =IF($U$121="snížená",$N$121,0) -> 0 | BG121: =IF($U$121="zákl. přenesená",$N$121,0) -> 0 | BH121: =IF($U$121="sníž. přenesená",$N$121,0) -> 0 | BI121: =IF($U$121="nulová",$N$121,0) -> 0 | BJ121: 1 | BK121: =ROUND($L$121*$K$121,2) -> 0 | BL121: 4
C122: 3 | D122: K | E122: 111-R01 | F122: Sanace stávající šachty - zasypání | J122: kus | K122: 1 | L122: 0 | N122: =ROUND($L$122*$K$122,2) -> 0 | U122: základní | V122: 0 | W122: =$V$122*$K$122 -> 0 | X122: 0 | Y122: =$X$122*$K$122 -> 0 | Z122: 0 | AA122: =$Z$122*$K$122 -> 0 | AR122: 4 | AT122: K | AU122: 2 | AY122: ROZPOCET | BE122: =IF($U$122="základní",$N$122,0) -> 0 | BF122: =IF($U$122="snížená",$N$122,0) -> 0 | BG122: =IF($U$122="zákl. přenesená",$N$122,0) -> 0 | BH122: =IF($U$122="sníž. přenesená",$N$122,0) -> 0 | BI122: =IF($U$122="nulová",$N$122,0) -> 0 | BJ122: 1 | BK122: =ROUND($L$122*$K$122,2) -> 0 | BL122: 4
C123: 4 | D123: K | E123: 111-R02 | F123: Sanace stávající studny - zasypání | J123: kus | K123: 1 | L123: 0 | N123: =ROUND($L$123*$K$123,2) -> 0 | U123: základní | V123: 0 | W123: =$V$123*$K$123 -> 0 | X123: 0 | Y123: =$X$123*$K$123 -> 0 | Z123: 0 | AA123: =$Z$123*$K$123 -> 0 | AR123: 4 | AT123: K | AU123: 2 | AY123: ROZPOCET | BE123: =IF($U$123="základní",$N$123,0) -> 0 | BF123: =IF($U$123="snížená",$N$123,0) -> 0 | BG123: =IF($U$123="zákl. přenesená",$N$123,0) -> 0 | BH123: =IF($U$123="sníž. přenesená",$N$123,0) -> 0 | BI123: =IF($U$123="nulová",$N$123,0) -> 0 | BJ123: 1 | BK123: =ROUND($L$123*$K$123,2) -> 0 | BL123: 4
C124: 5 | D124: K | E124: 111-R03 | F124: Sanace rušené kanalizace | J124: m | K124: 150 | L124: 0 | N124: =ROUND($L$124*$K$124,2) -> 0 | U124: základní | V124: 0 | W124: =$V$124*$K$124 -> 0 | X124: 0 | Y124: =$X$124*$K$124 -> 0 | Z124: 0 | AA124: =$Z$124*$K$124 -> 0 | AR124: 4 | AT124: K | AU124: 2 | AY124: ROZPOCET | BE124: =IF($U$124="základní",$N$124,0) -> 0 | BF124: =IF($U$124="snížená",$N$124,0) -> 0 | BG124: =IF($U$124="zákl. přenesená",$N$124,0) -> 0 | BH124: =IF($U$124="sníž. přenesená",$N$124,0) -> 0 | BI124: =IF($U$124="nulová",$N$124,0) -> 0 | BJ124: 1 | BK124: =ROUND($L$124*$K$124,2) -> 0 | BL124: 4
C125: 6 | D125: K | E125: 113107031 | F125: Odstranění podkladu plochy do 15 m2 z betonu prostého tl 150 mm při překopech inž sítí | J125: m2 | K125: 11.72 | L125: 0 | N125: =ROUND($L$125*$K$125,2) -> 0 | U125: základní | V125: 2.537 | W125: =$V$125*$K$125 -> 29.73364 | X125: 0 | Y125: =$X$125*$K$125 -> 0 | Z125: 0.225 | AA125: =$Z$125*$K$125 -> 2.637 | AR125: 4 | AT125: K | AU125: 2 | AY125: ROZPOCET | BE125: =IF($U$125="základní",$N$125,0) -> 0 | BF125: =IF($U$125="snížená",$N$125,0) -> 0 | BG125: =IF($U$125="zákl. přenesená",$N$125,0) -> 0 | BH125: =IF($U$125="sníž. přenesená",$N$125,0) -> 0 | BI125: =IF($U$125="nulová",$N$125,0) -> 0 | BJ125: 1 | BK125: =ROUND($L$125*$K$125,2) -> 0 | BL125: 4
C126: 7 | D126: K | E126: 113107182 | F126: Odstranění podkladu pl přes 50 do 200 m2 živičných tl 100 mm | J126: m2 | K126: 106.76 | L126: 0 | N126: =ROUND($L$126*$K$126,2) -> 0 | U126: základní | V126: 0.108 | W126: =$V$126*$K$126 -> 11.53008 | X126: 0 | Y126: =$X$126*$K$126 -> 0 | Z126: 0.181 | AA126: =$Z$126*$K$126 -> 19.32356 | AR126: 4 | AT126: K | AU126: 2 | AY126: ROZPOCET | BE126: =IF($U$126="základní",$N$126,0) -> 0 | BF126: =IF($U$126="snížená",$N$126,0) -> 0 | BG126: =IF($U$126="zákl. přenesená",$N$126,0) -> 0 | BH126: =IF($U$126="sníž. přenesená",$N$126,0) -> 0 | BI126: =IF($U$126="nulová",$N$126,0) -> 0 | BJ126: 1 | BK126: =ROUND($L$126*$K$126,2) -> 0 | BL126: 4
C127: 8 | D127: K | E127: 113151111 | F127: Rozebrání zpevněných ploch ze silničních dílců | J127: m2 | K127: 1207.5 | L127: 0 | N127: =ROUND($L$127*$K$127,2) -> 0 | U127: základní | V127: 0.062 | W127: =$V$127*$K$127 -> 74.865 | X127: 0 | Y127: =$X$127*$K$127 -> 0 | Z127: 0.355 | AA127: =$Z$127*$K$127 -> 428.6625 | AR127: 4 | AT127: K | AU127: 2 | AY127: ROZPOCET | BE127: =IF($U$127="základní",$N$127,0) -> 0 | BF127: =IF($U$127="snížená",$N$127,0) -> 0 | BG127: =IF($U$127="zákl. přenesená",$N$127,0) -> 0 | BH127: =IF($U$127="sníž. přenesená",$N$127,0) -> 0 | BI127: =IF($U$127="nulová",$N$127,0) -> 0 | BJ127: 1 | BK127: =ROUND($L$127*$K$127,2) -> 0 | BL127: 4
C128: 9 | D128: K | E128: 525080010 | F128: Odstranění příčných pražců dřevěných | J128: kus | K128: 52 | L128: 0 | N128: =ROUND($L$128*$K$128,2) -> 0 | U128: základní | V128: 0.44 | W128: =$V$128*$K$128 -> 22.88 | X128: 0 | Y128: =$X$128*$K$128 -> 0 | Z128: 0.086 | AA128: =$Z$128*$K$128 -> 4.472 | AR128: 4 | AT128: K | AU128: 2 | AY128: ROZPOCET | BE128: =IF($U$128="základní",$N$128,0) -> 0 | BF128: =IF($U$128="snížená",$N$128,0) -> 0 | BG128: =IF($U$128="zákl. přenesená",$N$128,0) -> 0 | BH128: =IF($U$128="sníž. přenesená",$N$128,0) -> 0 | BI128: =IF($U$128="nulová",$N$128,0) -> 0 | BJ128: 1 | BK128: =ROUND($L$128*$K$128,2) -> 0 | BL128: 4
F129: 13,52/0,26 | K129: 52 | AT129: VV | AU129: 2 | AV129: 2 | AW129: -1 | AX129: 0 | AY129: ROZPOCET
C130: 10 | D130: K | E130: 966071711 | F130: Bourání sloupků a vzpěr plotových ocelových do 2,5 m zabetonovaných | J130: kus | K130: 10 | L130: 0 | N130: =ROUND($L$130*$K$130,2) -> 0 | U130: základní | V130: 0.5 | W130: =$V$130*$K$130 -> 5 | X130: 0 | Y130: =$X$130*$K$130 -> 0 | Z130: 0.657 | AA130: =$Z$130*$K$130 -> 6.57 | AR130: 4 | AT130: K | AU130: 2 | AY130: ROZPOCET | BE130: =IF($U$130="základní",$N$130,0) -> 0 | BF130: =IF($U$130="snížená",$N$130,0) -> 0 | BG130: =IF($U$130="zákl. přenesená",$N$130,0) -> 0 | BH130: =IF($U$130="sníž. přenesená",$N$130,0) -> 0 | BI130: =IF($U$130="nulová",$N$130,0) -> 0 | BJ130: 1 | BK130: =ROUND($L$130*$K$130,2) -> 0 | BL130: 4
F131: 20/2 | K131: 10 | AT131: VV | AU131: 2 | AV131: 2 | AW131: -1 | AX131: 0 | AY131: ROZPOCET
C132: 11 | D132: K | E132: 966072820 | F132: Rozebrání oplocení z vlnitého nebo profilového plechu hmotnosti do 30 kg | J132: m | K132: 19.1 | L132: 0 | N132: =ROUND($L$132*$K$132,2) -> 0 | U132: základní | V132: 0.204 | W132: =$V$132*$K$132 -> 3.8964 | X132: 0 | Y132: =$X$132*$K$132 -> 0 | Z132: 0.0254 | AA132: =$Z$132*$K$132 -> 0.48514 | AR132: 4 | AT132: K | AU132: 2 | AY132: ROZPOCET | BE132: =IF($U$132="základní",$N$132,0) -> 0 | BF132: =IF($U$132="snížená",$N$132,0) -> 0 | BG132: =IF($U$132="zákl. přenesená",$N$132,0) -> 0 | BH132: =IF($U$132="sníž. přenesená",$N$132,0) -> 0 | BI132: =IF($U$132="nulová",$N$132,0) -> 0 | BJ132: 1 | BK132: =ROUND($L$132*$K$132,2) -> 0 | BL132: 4
C133: 12 | D133: K | E133: 997002611 | F133: Nakládání suti a vybouraných hmot | J133: t | K133: 462.15 | L133: 0 | N133: =ROUND($L$133*$K$133,2) -> 0 | U133: základní | V133: 0.136 | W133: =$V$133*$K$133 -> 62.8524 | X133: 0 | Y133: =$X$133*$K$133 -> 0 | Z133: 0 | AA133: =$Z$133*$K$133 -> 0 | AR133: 4 | AT133: K | AU133: 2 | AY133: ROZPOCET | BE133: =IF($U$133="základní",$N$133,0) -> 0 | BF133: =IF($U$133="snížená",$N$133,0) -> 0 | BG133: =IF($U$133="zákl. přenesená",$N$133,0) -> 0 | BH133: =IF($U$133="sníž. přenesená",$N$133,0) -> 0 | BI133: =IF($U$133="nulová",$N$133,0) -> 0 | BJ133: 1 | BK133: =ROUND($L$133*$K$133,2) -> 0 | BL133: 4
C134: 13 | D134: K | E134: 997221561 | F134: Vodorovná doprava suti z kusových materiálů do 1 km | J134: t | K134: 439.764 | L134: 0 | N134: =ROUND($L$134*$K$134,2) -> 0 | U134: základní | V134: 0.032 | W134: =$V$134*$K$134 -> 14.072448 | X134: 0 | Y134: =$X$134*$K$134 -> 0 | Z134: 0 | AA134: =$Z$134*$K$134 -> 0 | AR134: 4 | AT134: K | AU134: 2 | AY134: ROZPOCET | BE134: =IF($U$134="základní",$N$134,0) -> 0 | BF134: =IF($U$134="snížená",$N$134,0) -> 0 | BG134: =IF($U$134="zákl. přenesená",$N$134,0) -> 0 | BH134: =IF($U$134="sníž. přenesená",$N$134,0) -> 0 | BI134: =IF($U$134="nulová",$N$134,0) -> 0 | BJ134: 1 | BK134: =ROUND($L$134*$K$134,2) -> 0 | BL134: 4
F135: panely | AT135: VV | AU135: 2 | AV135: 1 | AW135: -1 | AX135: 0 | AY135: ROZPOCET
F136: 428,237 | K136: 428.237 | AT136: VV | AU136: 2 | AV136: 2 | AW136: -1 | AX136: 0 | AY136: ROZPOCET
F137: pražce | AT137: VV | AU137: 2 | AV137: 1 | AW137: -1 | AX137: 0 | AY137: ROZPOCET
F138: 4,472 | K138: 4.472 | AT138: VV | AU138: 2 | AV138: 2 | AW138: -1 | AX138: 0 | AY138: ROZPOCET
F139: sloupky | AT139: VV | AU139: 2 | AV139: 1 | AW139: -1 | AX139: 0 | AY139: ROZPOCET
F140: 6,57 | K140: 6.57 | AT140: VV | AU140: 2 | AV140: 2 | AW140: -1 | AX140: 0 | AY140: ROZPOCET
F141: plechy | AT141: VV | AU141: 2 | AV141: 1 | AW141: -1 | AX141: 0 | AY141: ROZPOCET
F142: 0,485 | K142: 0.485 | AT142: VV | AU142: 2 | AV142: 2 | AW142: -1 | AX142: 0 | AY142: ROZPOCET
C143: 14 | D143: K | E143: 997221569 | F143: Příplatek ZKD 1 km u vodorovné dopravy suti z kusových materiálů | J143: t | K143: 4837.404 | L143: 0 | N143: =ROUND($L$143*$K$143,2) -> 0 | U143: základní | V143: 0.003 | W143: =$V$143*$K$143 -> 14.512212 | X143: 0 | Y143: =$X$143*$K$143 -> 0 | Z143: 0 | AA143: =$Z$143*$K$143 -> 0 | AR143: 4 | AT143: K | AU143: 2 | AY143: ROZPOCET | BE143: =IF($U$143="základní",$N$143,0) -> 0 | BF143: =IF($U$143="snížená",$N$143,0) -> 0 | BG143: =IF($U$143="zákl. přenesená",$N$143,0) -> 0 | BH143: =IF($U$143="sníž. přenesená",$N$143,0) -> 0 | BI143: =IF($U$143="nulová",$N$143,0) -> 0 | BJ143: 1 | BK143: =ROUND($L$143*$K$143,2) -> 0 | BL143: 4
F144: 439,764*11 | K144: 4837.404 | AT144: VV | AU144: 2 | AV144: 2 | AW144: -1 | AX144: 0 | AY144: ROZPOCET
C145: 15 | D145: K | E145: 997221551 | F145: Vodorovná doprava suti ze sypkých materiálů do 1 km | J145: t | K145: 21.961 | L145: 0 | N145: =ROUND($L$145*$K$145,2) -> 0 | U145: základní | V145: 0.03 | W145: =$V$145*$K$145 -> 0.65883 | X145: 0 | Y145: =$X$145*$K$145 -> 0 | Z145: 0 | AA145: =$Z$145*$K$145 -> 0 | AR145: 4 | AT145: K | AU145: 2 | AY145: ROZPOCET | BE145: =IF($U$145="základní",$N$145,0) -> 0 | BF145: =IF($U$145="snížená",$N$145,0) -> 0 | BG145: =IF($U$145="zákl. přenesená",$N$145,0) -> 0 | BH145: =IF($U$145="sníž. přenesená",$N$145,0) -> 0 | BI145: =IF($U$145="nulová",$N$145,0) -> 0 | BJ145: 1 | BK145: =ROUND($L$145*$K$145,2) -> 0 | BL145: 4
F146: asfalty pro další využití | AT146: VV | AU146: 2 | AV146: 1 | AW146: -1 | AX146: 0 | AY146: ROZPOCET
F147: 19,324 | K147: 19.324 | AT147: VV | AU147: 2 | AV147: 2 | AW147: -1 | AX147: 0 | AY147: ROZPOCET
F148: betony | AT148: VV | AU148: 2 | AV148: 1 | AW148: -1 | AX148: 0 | AY148: ROZPOCET
F149: 2,637 | K149: 2.637 | AT149: VV | AU149: 2 | AV149: 2 | AW149: -1 | AX149: 0 | AY149: ROZPOCET
C150: 16 | D150: K | E150: 997221559 | F150: Příplatek ZKD 1 km u vodorovné dopravy suti ze sypkých materiálů | J150: t | K150: 241.571 | L150: 0 | N150: =ROUND($L$150*$K$150,2) -> 0 | U150: základní | V150: 0.002 | W150: =$V$150*$K$150 -> 0.483142 | X150: 0 | Y150: =$X$150*$K$150 -> 0 | Z150: 0 | AA150: =$Z$150*$K$150 -> 0 | AR150: 4 | AT150: K | AU150: 2 | AY150: ROZPOCET | BE150: =IF($U$150="základní",$N$150,0) -> 0 | BF150: =IF($U$150="snížená",$N$150,0) -> 0 | BG150: =IF($U$150="zákl. přenesená",$N$150,0) -> 0 | BH150: =IF($U$150="sníž. přenesená",$N$150,0) -> 0 | BI150: =IF($U$150="nulová",$N$150,0) -> 0 | BJ150: 1 | BK150: =ROUND($L$150*$K$150,2) -> 0 | BL150: 4
F151: 21,961*11 | K151: 241.571 | AT151: VV | AU151: 2 | AV151: 2 | AW151: -1 | AX151: 0 | AY151: ROZPOCET
C152: 17 | D152: K | E152: 997013831 | F152: Poplatek za uložení stavebního směsného odpadu na skládce (skládkovné) | J152: t | K152: 462.15 | L152: 0 | N152: =ROUND($L$152*$K$152,2) -> 0 | U152: základní | V152: 0 | W152: =$V$152*$K$152 -> 0 | X152: 0 | Y152: =$X$152*$K$152 -> 0 | Z152: 0 | AA152: =$Z$152*$K$152 -> 0 | AR152: 4 | AT152: K | AU152: 2 | AY152: ROZPOCET | BE152: =IF($U$152="základní",$N$152,0) -> 0 | BF152: =IF($U$152="snížená",$N$152,0) -> 0 | BG152: =IF($U$152="zákl. přenesená",$N$152,0) -> 0 | BH152: =IF($U$152="sníž. přenesená",$N$152,0) -> 0 | BI152: =IF($U$152="nulová",$N$152,0) -> 0 | BJ152: 1 | BK152: =ROUND($L$152*$K$152,2) -> 0 | BL152: 4
F153: 462,15 | K153: 462.15 | AT153: VV | AU153: 2 | AV153: 2 | AW153: -1 | AX153: 0 | AY153: ROZPOCET
D154: VP - Vícepráce | N154: =$BK$154 -> 0 | AT154: D | AU154: 0 | AY154: PN | BK154: 0
N65535: =$N$154 -> 0

Sheet SO 100.01 - Komunikace a ...
D1: List obsahuje: | F1: 1) Krycí list rozpočtu | H1: 2) Rekapitulace rozpočtu | L1: 3) Rozpočet | O1: Zpět na list: | S1: Rekapitulace stavby
C2: optimalizováno pro tisk sestav ve formátu A4 - na výšku | S2: >> skryté sloupce << | AT2: {401427B6-4AF1-4517-A4D5-392D0317ACAA}
AT3: 2
C4: KRYCÍ LIST ROZPOČTU | T4: v --- níže se nacházejí doplnkové a pomocné údaje k sestavám --- v | AT4: False
D6: Stavba: | F6: ='Rekapitulace stavby'!$K$6 -> Přístupové komunikace do průmyslové zóny
D7: Objekt: | F7: SO 100.01 - Komunikace a zpevněné plochy
D8: JKSO: | M8: CC-CZ:
D9: Místo: | F9: Město Ralsko | M9: Datum: | O9: ='Rekapitulace stavby'!$AN$8 -> 42530
D11: Objednavatel: | M11: IČ: | O11: =IF('Rekapitulace stavby'!$AN$10="","",'Rekapitulace stavby'!$AN$10)
E12: =IF('Rekapitulace stavby'!$E$11="","",'Rekapitulace stavby'!$E$11) | M12: DIČ: | O12: =IF('Rekapitulace stavby'!$AN$11="","",'Rekapitulace stavby'!$AN$11)
D14: Zhotovitel: | M14: IČ: | O14: =IF('Rekapitulace stavby'!$AN$13="","",'Rekapitulace stavby'!$AN$13) -> Vyplň údaj
E15: =IF('Rekapitulace stavby'!$E$14="","",'Rekapitulace stavby'!$E$14) -> Vyplň údaj | M15: DIČ: | O15: =IF('Rekapitulace stavby'!$AN$14="","",'Rekapitulace stavby'!$AN$14) -> Vyplň údaj
D17: Projektant: | M17: IČ: | O17: =IF('Rekapitulace stavby'!$AN$16="","",'Rekapitulace stavby'!$AN$16)
E18: =IF('Rekapitulace stavby'!$E$17="","",'Rekapitulace stavby'!$E$17) | M18: DIČ: | O18: =IF('Rekapitulace stavby'!$AN$17="","",'Rekapitulace stavby'!$AN$17)
D20: Zpracovatel: | M20: IČ: | O20: =IF('Rekapitulace stavby'!$AN$19="","",'Rekapitulace stavby'!$AN$19)
E21: =IF('Rekapitulace stavby'!$E$20="","",'Rekapitulace stavby'!$E$20) | M21: DIČ: | O21: =IF('Rekapitulace stavby'!$AN$20="","",'Rekapitulace stavby'!$AN$20)
D24: Náklady z rozpočtu | M24: =$N$88 -> 0
D25: Ostatní náklady | M25: =$N$102 -> 0
D27: Cena bez DPH | M27: =ROUND($M$24+$M$25,2) -> 0
D29: DPH | E29: základní | F29: 0.21 | G29: ze | H29: =ROUND((((SUM($BE$102:$BE$109)+SUM($BE$127:$BE$309))+SUM($BE$310:$BE$311))),2) -> 0 | M29: =ROUND((((SUM($BE$102:$BE$109)+SUM($BE$127:$BE$309))*$F$29)+SUM($BE$310:$BE$311)*$F$29),2) -> 0
E30: snížená | F30: 0.15 | G30: ze | H30: =ROUND((((SUM($BF$102:$BF$109)+SUM($BF$127:$BF$309))+SUM($BF$310:$BF$311))),2) -> 0 | M30: =ROUND((((SUM($BF$102:$BF$109)+SUM($BF$127:$BF$309))*$F$30)+SUM($BF$310:$BF$311)*$F$30),2) -> 0
E31: zákl. přenesená | F31: 0.21 | G31: ze | H31: =ROUND((((SUM($BG$102:$BG$109)+SUM($BG$127:$BG$309))+SUM($BG$310:$BG$311))),2) -> 0 | M31: 0
E32: sníž. přenesená | F32: 0.15 | G32: ze | H32: =ROUND((((SUM($BH$102:$BH$109)+SUM($BH$127:$BH$309))+SUM($BH$310:$BH$311))),2) -> 0 | M32: 0
E33: nulová | F33: 0 | G33: ze | H33: =ROUND((((SUM($BI$102:$BI$109)+SUM($BI$127:$BI$309))+SUM($BI$310:$BI$311))),2) -> 0 | M33: 0
D35: Cena s DPH | G35: v | H35: CZK | L35: =ROUND(SUM($M$27:$M$33),2) -> 0
D50: Projektant | J50: Zpracovatel
D59: Datum a podpis: | G59: Razítko | J59: Datum a podpis: | N59: Razítko
D61: Objednavatel | J61: Zhotovitel
D70: Datum a podpis: | G70: Razítko | J70: Datum a podpis: | N70: Razítko
C76: REKAPITULACE ROZPOČTU
C78: Stavba: | F78: =$F$6 -> Přístupové komunikace do průmyslové zóny
C79: Objekt: | F79: =$F$7 -> SO 100.01 - Komunikace a zpevněné plochy
C81: Místo: | F81: =$F$9 -> Město Ralsko | K81: Datum: | M81: =IF($O$9="","",$O$9) -> 42530
C83: Objednavatel: | F83: =$E$12 | K83: Projektant: | M83: =$E$18
C84: Zhotovitel: | F84: =IF($E$15="","",$E$15) -> Vyplň údaj | K84: Zpracovatel: | M84: =$E$21
C86: Kód - Popis | N86: Cena celkem [CZK]
C88: 1) Náklady z rozpočtu | N88: =ROUND($N$127,2) -> 0 | AU88: -1
D89: HSV - Práce a dodávky HSV | N89: =ROUND($N$128,2) -> 0
D90: 1 - Zemní práce | N90: =ROUND($N$129,2) -> 0
D91: 18 - Zemní práce - povrchové úpravy terénu | N91: =ROUND($N$171,2) -> 0
D92: 5711 - Skladba 1 - konstrukce vozovky | N92: =ROUND($N$191,2) -> 0
D93: 5713 - Skladba 2 - konstrukce vjezdů | N93: =ROUND($N$204,2) -> 0
D94: 5714 - Skladba 3 - konstrukce chodníků a zpevněných ploch | N94: =ROUND($N$212,2) -> 0
D95: 5722 - Skladba - hmatná dlažba, vjezdy a chodníky - umělý kámen | N95: =ROUND($N$221,2) -> 0
D96: 591 - Obrubníky, krajníky | N96: =ROUND($N$227,2) -> 0
D97: 8 - Trubní vedení | N97: =ROUND($N$241,2) -> 0
D98: 91 - Doplňující konstrukce a práce pozemních komunikací, letišť a ploch | N98: =ROUND($N$261,2) -> 0
D99: 96 - Bourání konstrukcí | N99: =ROUND($N$287,2) -> 0
D100: 99 - Přesuny hmot a sutí | N100: =ROUND($N$307,2) -> 0
C102: 2) Ostatní náklady | N102: =ROUND($N$103+$N$104+$N$105+$N$106+$N$107+$N$108,2) -> 0 | U102: DPH
D103: Zařízení staveniště | N103: =ROUND($N$88*$T$103,2) -> 0 | U103: základní | AY103: VRN | BE103: =IF($U$103="základní",$N$103,0) -> 0 | BF103: =IF($U$103="snížená",$N$103,0) -> 0 | BG103: =IF($U$103="zákl. přenesená",$N$103,0) -> 0 | BH103: =IF($U$103="sníž. přenesená",$N$103,0) -> 0 | BI103: =IF($U$103="nulová",$N$103,0) -> 0 | BJ103: 1
D104: Projektové práce | N104: =ROUND($N$88*$T$104,2) -> 0 | U104: základní | AY104: VRN | BE104: =IF($U$104="základní",$N$104,0) -> 0 | BF104: =IF($U$104="snížená",$N$104,0) -> 0 | BG104: =IF($U$104="zákl. přenesená",$N$104,0) -> 0 | BH104: =IF($U$104="sníž. přenesená",$N$104,0) -> 0 | BI104: =IF($U$104="nulová",$N$104,0) -> 0 | BJ104: 1
D105: Územní vlivy | N105: =ROUND($N$88*$T$105,2) -> 0 | U105: základní | AY105: VRN | BE105: =IF($U$105="základní",$N$105,0) -> 0 | BF105: =IF($U$105="snížená",$N$105,0) -> 0 | BG105: =IF($U$105="zákl. přenesená",$N$105,0) -> 0 | BH105: =IF($U$105="sníž. přenesená",$N$105,0) -> 0 | BI105: =IF($U$105="nulová",$N$105,0) -> 0 | BJ105: 1
D106: Provozní vlivy | N106: =ROUND($N$88*$T$106,2) -> 0 | U106: základní | AY106: VRN | BE106: =IF($U$106="základní",$N$106,0) -> 0 | BF106: =IF($U$106="snížená",$N$106,0) -> 0 | BG106: =IF($U$106="zákl. přenesená",$N$106,0) -> 0 | BH106: =IF($U$106="sníž. přenesená",$N$106,0) -> 0 | BI106: =IF($U$106="nulová",$N$106,0) -> 0 | BJ106: 1
D107: Jiné VRN | N107: =ROUND($N$88*$T$107,2) -> 0 | U107: základní | AY107: VRN | BE107: =IF($U$107="základní",$N$107,0) -> 0 | BF107: =IF($U$107="snížená",$N$107,0) -> 0 | BG107: =IF($U$107="zákl. přenesená",$N$107,0) -> 0 | BH107: =IF($U$107="sníž. přenesená",$N$107,0) -> 0 | BI107: =IF($U$107="nulová",$N$107,0) -> 0 | BJ107: 1
D108: Kompletační činnosť | N108: =ROUND($N$88*$T$108,2) -> 0 | U108: základní | AY108: KOMPLETACNA | BE108: =IF($U$108="základní",$N$108,0) -> 0 | BF108: =IF($U$108="snížená",$N$108,0) -> 0 | BG108: =IF($U$108="zákl. přenesená",$N$108,0) -> 0 | BH108: =IF($U$108="sníž. přenesená",$N$108,0) -> 0 | BI108: =IF($U$108="nulová",$N$108,0) -> 0 | BJ108: 1
C110: Celkové náklady za stavbu 1) + 2) | L110: =ROUND(SUM($N$88+$N$102),2) -> 0
C116: ROZPOČET
C118: Stavba: | F118: =$F$6 -> Přístupové komunikace do průmyslové zóny
C119: Objekt: | F119: =$F$7 -> SO 100.01 - Komunikace a zpevněné plochy
C121: Místo: | F121: =$F$9 -> Město Ralsko | K121: Datum: | M121: =IF($O$9="","",$O$9) -> 42530
C123: Objednavatel: | F123: =$E$12 | K123: Projektant: | M123: =$E$18
C124: Zhotovitel: | F124: =IF($E$15="","",$E$15) -> Vyplň údaj | K124: Zpracovatel: | M124: =$E$21
C126: PČ | D126: Typ | E126: Kód | F126: Popis | J126: MJ | K126: Množství | L126: J.cena [CZK] | N126: Cena celkem [CZK] | T126: Poznámka | U126: DPH | V126: J. Nh [h] | W126: Nh celkom [h] | X126: J. hmotnost [t] | Y126: Hmotnost celkem [t] | Z126: J. suť [t] | AA126: Suť Celkem [t]
C127: Náklady z rozpočtu | N127: =$BK$127 -> 0 | W127: =$W$128+$W$310 -> 3906.2637 | Y127: =$Y$128+$Y$310 -> 3626.3098 | AA127: =$AA$128+$AA$310 -> 6.44864 | AT127: D | AU127: -1 | BK127: =$BK$128+$BK$310 -> 0
D128: HSV - Práce a dodávky HSV | N128: =$BK$128 -> 0 | W128: =$W$129+$W$171+$W$191+$W$204+$W$212+$W$221+$W$227+$W$241+$W$261+$W$287+$W$307 -> 3906.2637 | Y128: =$Y$129+$Y$171+$Y$191+$Y$204+$Y$212+$Y$221+$Y$227+$Y$241+$Y$261+$Y$287+$Y$307 -> 3626.3098 | AA128: =$AA$129+$AA$171+$AA$191+$AA$204+$AA$212+$AA$221+$AA$227+$AA$241+$AA$261+$AA$287+$AA$307 -> 6.44864 | AR128: 1 | AT128: D | AU128: 0 | AY128: ROZPOCET | BK128: =$BK$129+$BK$171+$BK$191+$BK$204+$BK$212+$BK$221+$BK$227+$BK$241+$BK$261+$BK$287+$BK$307 -> 0
D129: 1 - Zemní práce | N129: =$BK$129 -> 0 | W129: =SUM($W$130:$W$170) -> 471.23789 | Y129: =SUM($Y$130:$Y$170) -> 0 | AA129: =SUM($AA$130:$AA$170) -> 0 | AR129: 1 | AT129: D | AU129: 1 | AY129: ROZPOCET | BK129: =SUM($BK$130:$BK$170) -> 0
C130: 1 | D130: K | E130: 122202203 | F130: Odkopávky a prokopávky nezapažené pro silnice objemu do 5000 m3 v hornině tř. 3 | J130: m3 | K130: 985.04 | L130: 0 | N130: =ROUND($L$130*$K$130,2) -> 0 | U130: základní | V130: 0.12 | W130: =$V$130*$K$130 -> 118.2048 | X130: 0 | Y130: =$X$130*$K$130 -> 0 | Z130: 0 | AA130: =$Z$130*$K$130 -> 0 | AR130: 4 | AT130: K | AU130: 2 | AY130: ROZPOCET | BE130: =IF($U$130="základní",$N$130,0) -> 0 | BF130: =IF($U$130="snížená",$N$130,0) -> 0 | BG130: =IF($U$130="zákl. přenesená",$N$130,0) -> 0 | BH130: =IF($U$130="sníž. přenesená",$N$130,0) -> 0 | BI130: =IF($U$130="nulová",$N$130,0) -> 0 | BJ130: 1 | BK130: =ROUND($L$130*$K$130,2) -> 0 | BL130: 4
F131: 20 cm počítána ornice | AT131: VV | AU131: 2 | AV131: 1 | AW131: -1 | AX131: 0 | AY131: ROZPOCET
F132: "osa 20" (((335,83-335,37)/2)+0,24)*11*20 | K132: 103.4 | AT132: VV | AU132: 2 | AV132: 2 | AW132: -1 | AX132: 0 | AY132: ROZPOCET
F133: "osa 40" (((335,37-335,24)/2)+0,24)*11*20 | K133: 67.1 | AT133: VV | AU133: 2 | AV133: 2 | AW133: -1 | AX133: 0 | AY133: ROZPOCET
F134: "osa 60" (((335,24-335,21)/2)+0,24)*11*20 | K134: 56.1 | AT134: VV | AU134: 2 | AV134: 2 | AW134: -1 | AX134: 0 | AY134: ROZPOCET
F135: "osa 80" (((335,21-335,19)/2)+0,24)*11*20 | K135: 55 | AT135: VV | AU135: 2 | AV135: 2 | AW135: -1 | AX135: 0 | AY135: ROZPOCET
F136: "osa 100" (((335,19-334,87)/2)+0,24)*11*20 | K136: 88 | AT136: VV | AU136: 2 | AV136: 2 | AW136: -1 | AX136: 0 | AY136: ROZPOCET
F137: "osa 120" (((334,87-334,82)/2)+0,24)*11*20 | K137: 58.3 | AT137: VV | AU137: 2 | AV137: 2 | AW137: -1 | AX137: 0 | AY137: ROZPOCET
F138: "osa 140" (((335,04-334,82)/2)+0,24)*11*20 | K138: 77 | AT138: VV | AU138: 2 | AV138: 2 | AW138: -1 | AX138: 0 | AY138: ROZPOCET
F139: "osa 160" (((335,24-335,04)/2)+0,24)*11*20 | K139: 74.8 | AT139: VV | AU139: 2 | AV139: 2 | AW139: -1 | AX139: 0 | AY139: ROZPOCET
F140: "osa 180" (((335,24-335,07)/2)+0,24)*((11+28,6)/2)*20 | K140: 128.7 | AT140: VV | AU140: 2 | AV140: 2 | AW140: -1 | AX140: 0 | AY140: ROZPOCET
F141: "osa 200" (((335,11-335,07)/2)+0,24)*11*20 | K141: 57.2 | AT141: VV | AU141: 2 | AV141: 2 | AW141: -1 | AX141: 0 | AY141: ROZPOCET
F142: "osa 220" (((335,19-335,11)/2)+0,24)*11*20 | K142: 61.6 | AT142: VV | AU142: 2 | AV142: 2 | AW142: -1 | AX142: 0 | AY142: ROZPOCET
F143: "osa 240" (((335,52-335,19)/2)+0,24)*11*20 | K143: 89.1 | AT143: VV | AU143: 2 | AV143: 2 | AW143: -1 | AX143: 0 | AY143: ROZPOCET
... F147: "konec 310,78" 0,24*52,35*10,78 | K147: 135.44 | AT147: VV | AU147: 2 | AV147: 2 | AW147: -1 | AX147: 0 | AY147: ROZPOCET
F148: odpočet za suť | AT148: VV | AU148: 2 | AV148: 1 | AW148: -1 | AX148: 0 | AY148: ROZPOCET
F149: navážka suti, plocha měřena z katastrální mapy | AT149: VV | AU149: 2 | AV149: 1 | AW149: -1 | AX149: 0 | AY149: ROZPOCET
F150: -250*1,05 | K150: -262.5 | AT150: VV | AU150: 2 | AV150: 2 | AW150: -1 | AX150: 0 | AY150: ROZPOCET
C151: 2 | D151: K | E151: 132201101 | F151: Hloubení rýh š do 600 mm v hornině tř. 3 objemu do 100 m3 | J151: m3 | K151: 84.813 | L151: 0 | N151: =ROUND($L$151*$K$151,2) -> 0 | U151: základní | V151: 2.32 | W151: =$V$151*$K$151 -> 196.76616 | X151: 0 | Y151: =$X$151*$K$151 -> 0 | Z151: 0 | AA151: =$Z$151*$K$151 -> 0 | AR151: 4 | AT151: K | AU151: 2 | AY151: ROZPOCET | BE151: =IF($U$151="základní",$N$151,0) -> 0 | BF151: =IF($U$151="snížená",$N$151,0) -> 0 | BG151: =IF($U$151="zákl. přenesená",$N$151,0) -> 0 | BH151: =IF($U$151="sníž. přenesená",$N$151,0) -> 0 | BI151: =IF($U$151="nulová",$N$151,0) -> 0 | BJ151: 1 | BK151: =ROUND($L$151*$K$151,2) -> 0 | BL151: 4
F152: pro drenáž DN 150, plocha řezu 0,17 m2 | AT152: VV | AU152: 2 | AV152: 1 | AW152: -1 | AX152: 0 | AY152: ROZPOCET
F153: (120,4+120,2+77,7+81,7+55,3+43,6)*0,17 | K153: 84.813 | AT153: VV | AU153: 2 | AV153: 2 | AW153: -1 | AX153: 0 | AY153: ROZPOCET
C154: 3 | D154: K | E154: 162601102 | F154: Vodorovné přemístění do 5000 m výkopku/sypaniny z horniny tř. 1 až 4 | J154: m3 | K154: 1069.853 | L154: 0 | N154: =ROUND($L$154*$K$154,2) -> 0 | U154: základní | V154: 0.062 | W154: =$V$154*$K$154 -> 66.330886 | X154: 0 | Y154: =$X$154*$K$154 -> 0 | Z154: 0 | AA154: =$Z$154*$K$154 -> 0 | AR154: 4 | AT154: K | AU154: 2 | AY154: ROZPOCET | BE154: =IF($U$154="základní",$N$154,0) -> 0 | BF154: =IF($U$154="snížená",$N$154,0) -> 0 | BG154: =IF($U$154="zákl. přenesená",$N$154,0) -> 0 | BH154: =IF($U$154="sníž. přenesená",$N$154,0) -> 0 | BI154: =IF($U$154="nulová",$N$154,0) -> 0 | BJ154: 1 | BK154: =ROUND($L$154*$K$154,2) -> 0 | BL154: 4
F155: odkopávky | AT155: VV | AU155: 2 | AV155: 1 | AW155: -1 | AX155: 0 | AY155: ROZPOCET
F156: 1247,54 | K156: 1247.54 | AT156: VV | AU156: 2 | AV156: 2 | AW156: -1 | AX156: 0 | AY156: ROZPOCET
F157: drenáže | AT157: VV | AU157: 2 | AV157: 1 | AW157: -1 | AX157: 0 | AY157: ROZPOCET
F158: 84,813 | K158: 84.813 | AT158: VV | AU158: 2 | AV158: 2 | AW158: -1 | AX158: 0 | AY158: ROZPOCET
F159: odpočet za násypy | AT159: VV | AU159: 2 | AV159: 1 | AW159: -1 | AX159: 0 | AY159: ROZPOCET
F160: -262,5 | K160: -262.5 | AT160: VV | AU160: 2 | AV160: 2 | AW160: -1 | AX160: 0 | AY160: ROZPOCET
C161: 4 | D161: K | E161: 171201211 | F161: Poplatek za uložení odpadu ze sypaniny na skládce (skládkovné) | J161: t | K161: 1925.735 | L161: 0 | N161: =ROUND($L$161*$K$161,2) -> 0 | U161: základní | V161: 0 | W161: =$V$161*$K$161 -> 0 | X161: 0 | Y161: =$X$161*$K$161 -> 0 | Z161: 0 | AA161: =$Z$161*$K$161 -> 0 | AR161: 4 | AT161: K | AU161: 2 | AY161: ROZPOCET | BE161: =IF($U$161="základní",$N$161,0) -> 0 | BF161: =IF($U$161="snížená",$N$161,0) -> 0 | BG161: =IF($U$161="zákl. přenesená",$N$161,0) -> 0 | BH161: =IF($U$161="sníž. přenesená",$N$161,0) -> 0 | BI161: =IF($U$161="nulová",$N$161,0) -> 0 | BJ161: 1 | BK161: =ROUND($L$161*$K$161,2) -> 0 | BL161: 4
F162: 1069,853*1,8 | K162: 1925.735 | AT162: VV | AU162: 2 | AV162: 2 | AW162: -1 | AX162: 0 | AY162: ROZPOCET
C163: 5 | D163: K | E163: 171101105 | F163: Uložení sypaniny z hornin soudržných do násypů zhutněných do 103 % PS | J163: m3 | K163: 262.5 | L163: 0 | N163: =ROUND($L$163*$K$163,2) -> 0 | U163: základní | V163: 0.086 | W163: =$V$163*$K$163 -> 22.575 | X163: 0 | Y163: =$X$163*$K$163 -> 0 | Z163: 0 | AA163: =$Z$163*$K$163 -> 0 | AR163: 4 | AT163: K | AU163: 2 | AY163: ROZPOCET | BE163: =IF($U$163="základní",$N$163,0) -> 0 | BF163: =IF($U$163="snížená",$N$163,0) -> 0 | BG163: =IF($U$163="zákl. přenesená",$N$163,0) -> 0 | BH163: =IF($U$163="sníž. přenesená",$N$163,0) -> 0 | BI163: =IF($U$163="nulová",$N$163,0) -> 0 | BJ163: 1 | BK163: =ROUND($L$163*$K$163,2) -> 0 | BL163: 4
F164: místo navážky suti, plocha měřena z katastrální mapy | AT164: VV | AU164: 2 | AV164: 1 | AW164: -1 | AX164: 0 | AY164: ROZPOCET
F165: 250*1,05 | K165: 262.5 | AT165: VV | AU165: 2 | AV165: 2 | AW165: -1 | AX165: 0 | AY165: ROZPOCET
...

Sheet SO 300.01 - Dešťová kanal...
D1: List obsahuje: | F1: 1) Krycí list rozpočtu | H1: 2) Rekapitulace rozpočtu | L1: 3) Rozpočet | O1: Zpět na list: | S1: Rekapitulace stavby
C2: optimalizováno pro tisk sestav ve formátu A4 - na výšku | S2: >> skryté sloupce << | AT2: {8CAF351D-6D86-4F6F-B188-FDC54826C206}
AT3: 2
C4: KRYCÍ LIST ROZPOČTU | T4: v --- níže se nacházejí doplnkové a pomocné údaje k sestavám --- v | AT4: False
D6: Stavba: | F6: ='Rekapitulace stavby'!$K$6 -> Přístupové komunikace do průmyslové zóny
D7: Objekt: | F7: SO 300.01 - Dešťová kanalizace
D8: JKSO: | M8: CC-CZ:
D9: Místo: | F9: Město Ralsko | M9: Datum: | O9: ='Rekapitulace stavby'!$AN$8 -> 42530
D11: Objednavatel: | M11: IČ: | O11: =IF('Rekapitulace stavby'!$AN$10="","",'Rekapitulace stavby'!$AN$10)
E12: =IF('Rekapitulace stavby'!$E$11="","",'Rekapitulace stavby'!$E$11) | M12: DIČ: | O12: =IF('Rekapitulace stavby'!$AN$11="","",'Rekapitulace stavby'!$AN$11)
D14: Zhotovitel: | M14: IČ: | O14: =IF('Rekapitulace stavby'!$AN$13="","",'Rekapitulace stavby'!$AN$13) -> Vyplň údaj
E15: =IF('Rekapitulace stavby'!$E$14="","",'Rekapitulace stavby'!$E$14) -> Vyplň údaj | M15: DIČ: | O15: =IF('Rekapitulace stavby'!$AN$14="","",'Rekapitulace stavby'!$AN$14) -> Vyplň údaj
D17: Projektant: | M17: IČ: | O17: =IF('Rekapitulace stavby'!$AN$16="","",'Rekapitulace stavby'!$AN$16)
E18: =IF('Rekapitulace stavby'!$E$17="","",'Rekapitulace stavby'!$E$17) | M18: DIČ: | O18: =IF('Rekapitulace stavby'!$AN$17="","",'Rekapitulace stavby'!$AN$17)
D20: Zpracovatel: | M20: IČ: | O20: =IF('Rekapitulace stavby'!$AN$19="","",'Rekapitulace stavby'!$AN$19)
E21: =IF('Rekapitulace stavby'!$E$20="","",'Rekapitulace stavby'!$E$20) | M21: DIČ: | O21: =IF('Rekapitulace stavby'!$AN$20="","",'Rekapitulace stavby'!$AN$20)
D24: Náklady z rozpočtu | M24: =$N$88 -> 0
D25: Ostatní náklady | M25: =$N$97 -> 0
D27: Cena bez DPH | M27: =ROUND($M$24+$M$25,2) -> 0
D29: DPH | E29: základní | F29: 0.21 | G29: ze | H29: =ROUND((((SUM($BE$97:$BE$104)+SUM($BE$122:$BE$170))+SUM($BE$171:$BE$172))),2) -> 0 | M29: =ROUND((((SUM($BE$97:$BE$104)+SUM($BE$122:$BE$170))*$F$29)+SUM($BE$171:$BE$172)*$F$29),2) -> 0
E30: snížená | F30: 0.15 | G30: ze | H30: =ROUND((((SUM($BF$97:$BF$104)+SUM($BF$122:$BF$170))+SUM($BF$171:$BF$172))),2) -> 0 | M30: =ROUND((((SUM($BF$97:$BF$104)+SUM($BF$122:$BF$170))*$F$30)+SUM($BF$171:$BF$172)*$F$30),2) -> 0
E31: zákl. přenesená | F31: 0.21 | G31: ze | H31: =ROUND((((SUM($BG$97:$BG$104)+SUM($BG$122:$BG$170))+SUM($BG$171:$BG$172))),2) -> 0 | M31: 0
E32: sníž. přenesená | F32: 0.15 | G32: ze | H32: =ROUND((((SUM($BH$97:$BH$104)+SUM($BH$122:$BH$170))+SUM($BH$171:$BH$172))),2) -> 0 | M32: 0
E33: nulová | F33: 0 | G33: ze | H33: =ROUND((((SUM($BI$97:$BI$104)+SUM($BI$122:$BI$170))+SUM($BI$171:$BI$172))),2) -> 0 | M33: 0
D35: Cena s DPH | G35: v | H35: CZK | L35: =ROUND(SUM($M$27:$M$33),2) -> 0
D50: Projektant | J50: Zpracovatel
D59: Datum a podpis: | G59: Razítko | J59: Datum a podpis: | N59: Razítko
D61: Objednavatel | J61: Zhotovitel
D70: Datum a podpis: | G70: Razítko | J70: Datum a podpis: | N70: Razítko
C76: REKAPITULACE ROZPOČTU
C78: Stavba: | F78: =$F$6 -> Přístupové komunikace do průmyslové zóny
C79: Objekt: | F79: =$F$7 -> SO 300.01 - Dešťová kanalizace
C81: Místo: | F81: =$F$9 -> Město Ralsko | K81: Datum: | M81: =IF($O$9="","",$O$9) -> 42530
C83: Objednavatel: | F83: =$E$12 | K83: Projektant: | M83: =$E$18
C84: Zhotovitel: | F84: =IF($E$15="","",$E$15) -> Vyplň údaj | K84: Zpracovatel: | M84: =$E$21
C86: Kód - Popis | N86: Cena celkem [CZK]
C88: 1) Náklady z rozpočtu | N88: =ROUND($N$122,2) -> 0 | AU88: -1
D89: HSV - Práce a dodávky HSV | N89: =ROUND($N$123,2) -> 0
D90: 1 - Zemní práce | N90: =ROUND($N$124,2) -> 0
D91: 3 - Svislé a kompletní konstrukce | N91: =ROUND($N$139,2) -> 0
D92: 4 - Vodorovné konstrukce | N92: =ROUND($N$141,2) -> 0
D93: 6 - Úpravy povrchů, podlahy a osazování výplní | N93: =ROUND($N$144,2) -> 0
D94: 8 - Trubní vedení | N94: =ROUND($N$146,2) -> 0
D95: 9 - Ostatní konstrukce a práce-bourání | N95: =ROUND($N$169,2) -> 0
C97: 2) Ostatní náklady | N97: =ROUND($N$98+$N$99+$N$100+$N$101+$N$102+$N$103,2) -> 0 | U97: DPH
D98: Zařízení staveniště | N98: =ROUND($N$88*$T$98,2) -> 0 | U98: základní | AY98: VRN | BE98: =IF($U$98="základní",$N$98,0) -> 0 | BF98: =IF($U$98="snížená",$N$98,0) -> 0 | BG98: =IF($U$98="zákl. přenesená",$N$98,0) -> 0 | BH98: =IF($U$98="sníž. přenesená",$N$98,0) -> 0 | BI98: =IF($U$98="nulová",$N$98,0) -> 0 | BJ98: 1
D99: Projektové práce | N99: =ROUND($N$88*$T$99,2) -> 0 | U99: základní | AY99: VRN | BE99: =IF($U$99="základní",$N$99,0) -> 0 | BF99: =IF($U$99="snížená",$N$99,0) -> 0 | BG99: =IF($U$99="zákl. přenesená",$N$99,0) -> 0 | BH99: =IF($U$99="sníž. přenesená",$N$99,0) -> 0 | BI99: =IF($U$99="nulová",$N$99,0) -> 0 | BJ99: 1
D100: Územní vlivy | N100: =ROUND($N$88*$T$100,2) -> 0 | U100: základní | AY100: VRN | BE100: =IF($U$100="základní",$N$100,0) -> 0 | BF100: =IF($U$100="snížená",$N$100,0) -> 0 | BG100: =IF($U$100="zákl. přenesená",$N$100,0) -> 0 | BH100: =IF($U$100="sníž. přenesená",$N$100,0) -> 0 | BI100: =IF($U$100="nulová",$N$100,0) -> 0 | BJ100: 1
D101: Provozní vlivy | N101: =ROUND($N$88*$T$101,2) -> 0 | U101: základní | AY101: VRN | BE101: =IF($U$101="základní",$N$101,0) -> 0 | BF101: =IF($U$101="snížená",$N$101,0) -> 0 | BG101: =IF($U$101="zákl. přenesená",$N$101,0) -> 0 | BH101: =IF($U$101="sníž. přenesená",$N$101,0) -> 0 | BI101: =IF($U$101="nulová",$N$101,0) -> 0 | BJ101: 1
D102: Jiné VRN | N102: =ROUND($N$88*$T$102,2) -> 0 | U102: základní | AY102: VRN | BE102: =IF($U$102="základní",$N$102,0) -> 0 | BF102: =IF($U$102="snížená",$N$102,0) -> 0 | BG102: =IF($U$102="zákl. přenesená",$N$102,0) -> 0 | BH102: =IF($U$102="sníž. přenesená",$N$102,0) -> 0 | BI102: =IF($U$102="nulová",$N$102,0) -> 0 | BJ102: 1
D103: Kompletační činnosť | N103: =ROUND($N$88*$T$103,2) -> 0 | U103: základní | AY103: KOMPLETACNA | BE103: =IF($U$103="základní",$N$103,0) -> 0 | BF103: =IF($U$103="snížená",$N$103,0) -> 0 | BG103: =IF($U$103="zákl. přenesená",$N$103,0) -> 0 | BH103: =IF($U$103="sníž. přenesená",$N$103,0) -> 0 | BI103: =IF($U$103="nulová",$N$103,0) -> 0 | BJ103: 1
C105: Celkové náklady za stavbu 1) + 2) | L105: =ROUND(SUM($N$88+$N$97),2) -> 0
C111: ROZPOČET
C113: Stavba: | F113: =$F$6 -> Přístupové komunikace do průmyslové zóny
C114: Objekt: | F114: =$F$7 -> SO 300.01 - Dešťová kanalizace
C116: Místo: | F116: =$F$9 -> Město Ralsko | K116: Datum: | M116: =IF($O$9="","",$O$9) -> 42530
C118: Objednavatel: | F118: =$E$12 | K118: Projektant: | M118: =$E$18
C119: Zhotovitel: | F119: =IF($E$15="","",$E$15) -> Vyplň údaj | K119: Zpracovatel: | M119: =$E$21
C121: PČ | D121: Typ | E121: Kód | F121: Popis | J121: MJ | K121: Množství | L121: J.cena [CZK] | N121: Cena celkem [CZK] | T121: Poznámka | U121: DPH | V121: J. Nh [h] | W121: Nh celkom [h] | X121: J. hmotnost [t] | Y121: Hmotnost celkem [t] | Z121: J. suť [t] | AA121: Suť Celkem [t]
C122: Náklady z rozpočtu | N122: =$BK$122 -> 0 | W122: =$W$123+$W$171 -> 1315.6442 | Y122: =$Y$123+$Y$171 -> 329.43718 | AA122: =$AA$123+$AA$171 -> 0 | AT122: D | AU122: -1 | BK122: =$BK$123+$BK$171 -> 0
D123: HSV - Práce a dodávky HSV | N123: =$BK$123 -> 0 | W123: =$W$124+$W$139+$W$141+$W$144+$W$146+$W$169 -> 1315.6442 | Y123: =$Y$124+$Y$139+$Y$141+$Y$144+$Y$146+$Y$169 -> 329.43718 | AA123: =$AA$124+$AA$139+$AA$141+$AA$144+$AA$146+$AA$169 -> 0 | AR123: 1 | AT123: D | AU123: 0 | AY123: ROZPOCET | BK123: =$BK$124+$BK$139+$BK$141+$BK$144+$BK$146+$BK$169 -> 0
D124: 1 - Zemní práce | N124: =$BK$124 -> 0 | W124: =SUM($W$125:$W$138) -> 828.07743 | Y124: =SUM($Y$125:$Y$138) -> 242.71622 | AA124: =SUM($AA$125:$AA$138) -> 0 | AR124: 1 | AT124: D | AU124: 1 | AY124: ROZPOCET | BK124: =SUM($BK$125:$BK$138) -> 0
C125: 1 | D125: K | E125: 115101301 | F125: Pohotovost čerpací soupravy pro dopravní výšku do 10 m přítok do 500 l/min | J125: den | K125: 50 | L125: 0 | N125: =ROUND($L$125*$K$125,2) -> 0 | U125: základní | V125: 0 | W125: =$V$125*$K$125 -> 0 | X125: 0 | Y125: =$X$125*$K$125 -> 0 | Z125: 0 | AA125: =$Z$125*$K$125 -> 0 | AR125: 4 | AT125: K | AU125: 2 | AY125: ROZPOCET | BE125: =IF($U$125="základní",$N$125,0) -> 0 | BF125: =IF($U$125="snížená",$N$125,0) -> 0 | BG125: =IF($U$125="zákl. přenesená",$N$125,0) -> 0 | BH125: =IF($U$125="sníž. přenesená",$N$125,0) -> 0 | BI125: =IF($U$125="nulová",$N$125,0) -> 0 | BJ125: 1 | BK125: =ROUND($L$125*$K$125,2) -> 0 | BL125: 4
C126: 2 | D126: K | E126: 131101101 | F126: Hloubení jam nezapažených v hornině tř. 1 a 2 objemu do 100 m3 | J126: m3 | K126: 6 | L126: 0 | N126: =ROUND($L$126*$K$126,2) -> 0 | U126: základní | V126: 0.433 | W126: =$V$126*$K$126 -> 2.598 | X126: 0 | Y126: =$X$126*$K$126 -> 0 | Z126: 0 | AA126: =$Z$126*$K$126 -> 0 | AR126: 4 | AT126: K | AU126: 2 | AY126: ROZPOCET | BE126: =IF($U$126="základní",$N$126,0) -> 0 | BF126: =IF($U$126="snížená",$N$126,0) -> 0 | BG126: =IF($U$126="zákl. přenesená",$N$126,0) -> 0 | BH126: =IF($U$126="sníž. přenesená",$N$126,0) -> 0 | BI126: =IF($U$126="nulová",$N$126,0) -> 0 | BJ126: 1 | BK126: =ROUND($L$126*$K$126,2) -> 0 | BL126: 4
C127: 3 | D127: K | E127: 131201101 | F127: Hloubení jam nezapažených v hornině tř. 3 objemu do 100 m3 | J127: m3 | K127: 6 | L127: 0 | N127: =ROUND($L$127*$K$127,2) -> 0 | U127: základní | V127: 0.871 | W127: =$V$127*$K$127 -> 5.226 | X127: 0 | Y127: =$X$127*$K$127 -> 0 | Z127: 0 | AA127: =$Z$127*$K$127 -> 0 | AR127: 4 | AT127: K | AU127: 2 | AY127: ROZPOCET | BE127: =IF($U$127="základní",$N$127,0) -> 0 | BF127: =IF($U$127="snížená",$N$127,0) -> 0 | BG127: =IF($U$127="zákl. přenesená",$N$127,0) -> 0 | BH127: =IF($U$127="sníž. přenesená",$N$127,0) -> 0 | BI127: =IF($U$127="nulová",$N$127,0) -> 0 | BJ127: 1 | BK127: =ROUND($L$127*$K$127,2) -> 0 | BL127: 4
C128: 4 | D128: K | E128: 132101202 | F128: Hloubení rýh š do 2000 mm v hornině tř. 1 a 2 objemu do 1000 m3 | J128: m3 | K128: 52.52 | L128: 0 | N128: =ROUND($L$128*$K$128,2) -> 0 | U128: základní | V128: 0.462 | W128: =$V$128*$K$128 -> 24.26424 | X128: 0 | Y128: =$X$128*$K$128 -> 0 | Z128: 0 | AA128: =$Z$128*$K$128 -> 0 | AR128: 4 | AT128: K | AU128: 2 | AY128: ROZPOCET | BE128: =IF($U$128="základní",$N$128,0) -> 0 | BF128: =IF($U$128="snížená",$N$128,0) -> 0 | BG128: =IF($U$128="zákl. přenesená",$N$128,0) -> 0 | BH128: =IF($U$128="sníž. přenesená",$N$128,0) -> 0 | BI128: =IF($U$128="nulová",$N$128,0) -> 0 | BJ128: 1 | BK128: =ROUND($L$128*$K$128,2) -> 0 | BL128: 4
C129: 5 | D129: K | E129: 132201202 | F129: Hloubení rýh š do 2000 mm v hornině tř. 3 objemu do 1000 m3 | J129: m3 | K129: 157.55 | L129: 0 | N129: =ROUND($L$129*$K$129,2) -> 0 | U129: základní | V129: 0.844 | W129: =$V$129*$K$129 -> 132.9722 | X129: 0 | Y129: =$X$129*$K$129 -> 0 | Z129: 0 | AA129: =$Z$129*$K$129 -> 0 | AR129: 4 | AT129: K | AU129: 2 | AY129: ROZPOCET | BE129: =IF($U$129="základní",$N$129,0) -> 0 | BF129: =IF($U$129="snížená",$N$129,0) -> 0 | BG129: =IF($U$129="zákl. přenesená",$N$129,0) -> 0 | BH129: =IF($U$129="sníž. přenesená",$N$129,0) -> 0 | BI129: =IF($U$129="nulová",$N$129,0) -> 0 | BJ129: 1 | BK129: =ROUND($L$129*$K$129,2) -> 0 | BL129: 4
C130: 6 | D130: K | E130: 132301202 | F130: Hloubení rýh š do 2000 mm v hornině tř. 4 objemu do 1000 m3 | J130: m3 | K130: 105.03 | L130: 0 | N130: =ROUND($L$130*$K$130,2) -> 0 | U130: základní | V130: 1.387 | W130: =$V$130*$K$130 -> 145.67661 | X130: 0 | Y130: =$X$130*$K$130 -> 0 | Z130: 0 | AA130: =$Z$130*$K$130 -> 0 | AR130: 4 | AT130: K | AU130: 2 | AY130: ROZPOCET | BE130: =IF($U$130="základní",$N$130,0) -> 0 | BF130: =IF($U$130="snížená",$N$130,0) -> 0 | BG130: =IF($U$130="zákl. přenesená",$N$130,0) -> 0 | BH130: =IF($U$130="sníž. přenesená",$N$130,0) -> 0 | BI130: =IF($U$130="nulová",$N$130,0) -> 0 | BJ130: 1 | BK130: =ROUND($L$130*$K$130,2) -> 0 | BL130: 4
C131: 7 | D131: K | E131: 132401201 | F131: Hloubení rýh š do 2000 mm v hornině tř. 5 | J131: m3 | K131: 131.28 | L131: 0 | N131: =ROUND($L$131*$K$131,2) -> 0 | U131: základní | V131: 2.295 | W131: =$V$131*$K$131 -> 301.2876 | X131: 0.01046 | Y131: =$X$131*$K$131 -> 1.3731888 | Z131: 0 | AA131: =$Z$131*$K$131 -> 0 | AR131: 4 | AT131: K | AU131: 2 | AY131: ROZPOCET | BE131: =IF($U$131="základní",$N$131,0) -> 0 | BF131: =IF($U$131="snížená",$N$131,0) -> 0 | BG131: =IF($U$131="zákl. přenesená",$N$131,0) -> 0 | BH131: =IF($U$131="sníž. přenesená",$N$131,0) -> 0 | BI131: =IF($U$131="nulová",$N$131,0) -> 0 | BJ131: 1 | BK131: =ROUND($L$131*$K$131,2) -> 0 | BL131: 4
C132: 8 | D132: K | E132: 132501201 | F132: Hloubení rýh š do 2000 mm v hornině tř. 6 | J132: m3 | K132: 78.77 | L132: 0 | N132: =ROUND($L$132*$K$132,2) -> 0 | U132: základní | V132: 1.214 | W132: =$V$132*$K$132 -> 95.62678 | X132: 0.01705 | Y132: =$X$132*$K$132 -> 1.3430285 | Z132: 0 | AA132: =$Z$132*$K$132 -> 0 | AR132: 4 | AT132: K | AU132: 2 | AY132: ROZPOCET | BE132: =IF($U$132="základní",$N$132,0) -> 0 | BF132: =IF($U$132="snížená",$N$132,0) -> 0 | BG132: =IF($U$132="zákl. přenesená",$N$132,0) -> 0 | BH132: =IF($U$132="sníž. přenesená",$N$132,0) -> 0 | BI132: =IF($U$132="nulová",$N$132,0) -> 0 | BJ132: 1 | BK132: =ROUND($L$132*$K$132,2) -> 0 | BL132: 4
C133: 9 | D133: K | E133: 162401101 | F133: Vodorovné přemístění do 1500 m výkopku/sypaniny z horniny tř. 1 až 4 | J133: m3 | K133: 50 | L133: 0 | N133: =ROUND($L$133*$K$133,2) -> 0 | U133: základní | V133: 0.048 | W133: =$V$133*$K$133 -> 2.4 | X133: 0 | Y133: =$X$133*$K$133 -> 0 | Z133: 0 | AA133: =$Z$133*$K$133 -> 0 | AR133: 4 | AT133: K | AU133: 2 | AY133: ROZPOCET | BE133: =IF($U$133="základní",$N$133,0) -> 0 | BF133: =IF($U$133="snížená",$N$133,0) -> 0 | BG133: =IF($U$133="zákl. přenesená",$N$133,0) -> 0 | BH133: =IF($U$133="sníž. přenesená",$N$133,0) -> 0 | BI133: =IF($U$133="nulová",$N$133,0) -> 0 | BJ133: 1 | BK133: =ROUND($L$133*$K$133,2) -> 0 | BL133: 4
C134: 10 | D134: K | E134: 162401151 | F134: Vodorovné přemístění do 1500 m výkopku/sypaniny z horniny tř. 5 až 7 | J134: m3 | K134: 118 | L134: 0 | N134: =ROUND($L$134*$K$134,2) -> 0 | U134: základní | V134: 0.06 | W134: =$V$134*$K$134 -> 7.08 | X134: 0 | Y134: =$X$134*$K$134 -> 0 | Z134: 0 | AA134: =$Z$134*$K$134 -> 0 | AR134: 4 | AT134: K | AU134: 2 | AY134: ROZPOCET | BE134: =IF($U$134="základní",$N$134,0) -> 0 | BF134: =IF($U$134="snížená",$N$134,0) -> 0 | BG134: =IF($U$134="zákl. přenesená",$N$134,0) -> 0 | BH134: =IF($U$134="sníž. přenesená",$N$134,0) -> 0 | BI134: =IF($U$134="nulová",$N$134,0) -> 0 | BJ134: 1 | BK134: =ROUND($L$134*$K$134,2) -> 0 | BL134: 4
C135: 11 | D135: K | E135: 171201201 | F135: Uložení sypaniny na skládky | J135: m3 | K135: 168 | L135: 0 | N135: =ROUND($L$135*$K$135,2) -> 0 | U135: základní | V135: 0.009 | W135: =$V$135*$K$135 -> 1.512 | X135: 0 | Y135: =$X$135*$K$135 -> 0 | Z135: 0 | AA135: =$Z$135*$K$135 -> 0 | AR135: 4 | AT135: K | AU135: 2 | AY135: ROZPOCET | BE135: =IF($U$135="základní",$N$135,0) -> 0 | BF135: =IF($U$135="snížená",$N$135,0) -> 0 | BG135: =IF($U$135="zákl. přenesená",$N$135,0) -> 0 | BH135: =IF($U$135="sníž. přenesená",$N$135,0) -> 0 | BI135: =IF($U$135="nulová",$N$135,0) -> 0 | BJ135: 1 | BK135: =ROUND($L$135*$K$135,2) -> 0 | BL135: 4
C136: 12 | D136: K | E136: 174101101 | F136: Zásyp jam, šachet rýh nebo kolem objektů sypaninou se zhutněním | J136: m3 | K136: 366 | L136: 0 | N136: =ROUND($L$136*$K$136,2) -> 0 | U136: základní | V136: 0.299 | W136: =$V$136*$K$136 -> 109.434 | X136: 0 | Y136: =$X$136*$K$136 -> 0 | Z136: 0 | AA136: =$Z$136*$K$136 -> 0 | AR136: 4 | AT136: K | AU136: 2 | AY136: ROZPOCET | BE136: =IF($U$136="základní",$N$136,0) -> 0 | BF136: =IF($U$136="snížená",$N$136,0) -> 0 | BG136: =IF($U$136="zákl. přenesená",$N$136,0) -> 0 | BH136: =IF($U$136="sníž. přenesená",$N$136,0) -> 0 | BI136: =IF($U$136="nulová",$N$136,0) -> 0 | BJ136: 1 | BK136: =ROUND($L$136*$K$136,2) -> 0 | BL136: 4
C137: 13 | D137: K | E137: 175111101 | F137: Obsypání potrubí ručně sypaninou bez prohození, uloženou do 3 m | J137: m3 | K137: 120 | L137: 0 | N137: =ROUND($L$137*$K$137,2) -> 0 | U137: základní | V137: 0 | W137: =$V$137*$K$137 -> 0 | X137: 0 | Y137: =$X$137*$K$137 -> 0 | Z137: 0 | AA137: =$Z$137*$K$137 -> 0 | AR137: 4 | AT137: K | AU137: 2 | AY137: ROZPOCET | BE137: =IF($U$137="základní",$N$137,0) -> 0 | BF137: =IF($U$137="snížená",$N$137,0) -> 0 | BG137: =IF($U$137="zákl. přenesená",$N$137,0) -> 0 | BH137: =IF($U$137="sníž. přenesená",$N$137,0) -> 0 | BI137: =IF($U$137="nulová",$N$137,0) -> 0 | BJ137: 1 | BK137: =ROUND($L$137*$K$137,2) -> 0 | BL137: 4
C138: 14 | D138: M | E138: 583336250 | F138: kamenivo těžené hrubé frakce 4-8 | J138: t | K138: 240 | L138: 0 | N138: =ROUND($L$138*$K$138,2) -> 0 | U138: základní | V138: 0 | W138: =$V$138*$K$138 -> 0 | X138: 1 | Y138: =$X$138*$K$138 -> 240 | Z138: 0 | AA138: =$Z$138*$K$138 -> 0 | AR138: 8 | AT138: M | AU138: 2 | AY138: ROZPOCET | BE138: =IF($U$138="základní",$N$138,0) -> 0 | BF138: =IF($U$138="snížená",$N$138,0) -> 0 | BG138: =IF($U$138="zákl. přenesená",$N$138,0) -> 0 | BH138: =IF($U$138="sníž. přenesená",$N$138,0) -> 0 | BI138: =IF($U$138="nulová",$N$138,0) -> 0 | BJ138: 1 | BK138: =ROUND($L$138*$K$138,2) -> 0 | BL138: 4
D139: 3 - Svislé a kompletní konstrukce | N139: =$BK$139 -> 0 | W139: =$W$140 -> 0 | Y139: =$Y$140 -> 0 | AA139: =$AA$140 -> 0 | AR139: 1 | AT139: D | AU139: 1 | AY139: ROZPOCET | BK139: =$BK$140 -> 0
C140: 15 | D140: K | E140: 359901211 | F140: Monitoring stoky jakékoli výšky na nové kanalizaci | J140: m | K140: 209 | L140: 0 | N140: =ROUND($L$140*$K$140,2) -> 0 | U140: základní | V140: 0 | W140: =$V$140*$K$140 -> 0 | X140: 0 | Y140: =$X$140*$K$140 -> 0 | Z140: 0 | AA140: =$Z$140*$K$140 -> 0 | AR140: 4 | AT140: K | AU140: 2 | AY140: ROZPOCET | BE140: =IF($U$140="základní",$N$140,0) -> 0 | BF140: =IF($U$140="snížená",$N$140,0) -> 0 | BG140: =IF($U$140="zákl. přenesená",$N$140,0) -> 0 | BH140: =IF($U$140="sníž. přenesená",$N$140,0) -> 0 | BI140: =IF($U$140="nulová",$N$140,0) -> 0 | BJ140: 1 | BK140: =ROUND($L$140*$K$140,2) -> 0 | BL140: 4
D141: 4 - Vodorovné konstrukce | N141: =$BK$141 -> 0 | W141: =SUM($W$142:$W$143) -> 0 | Y141: =SUM($Y$142:$Y$143) -> 57.857562 | AA141: =SUM($AA$142:$AA$143) -> 0 | AR141: 1 | AT141: D | AU141: 1 | AY141: ROZPOCET | BK141: =SUM($BK$142:$BK$143) -> 0
C142: 16 | D142: K | E142: 451572111 | F142: Lože pod potrubí otevřený výkop z kameniva drobného těženého | J142: m3 | K142: 30.6 | L142: 0 | N142: =ROUND($L$142*$K$142,2) -> 0 | U142: základní | V142: 0 | W142: =$V$142*$K$142 -> 0 | X142: 1.89077 | Y142: =$X$142*$K$142 -> 57.857562 | Z142: 0 | AA142: =$Z$142*$K$142 -> 0 | AR142: 4 | AT142: K | AU142: 2 | AY142: ROZPOCET | BE142: =IF($U$142="základní",$N$142,0) -> 0 | BF142: =IF($U$142="snížená",$N$142,0) -> 0 | BG142: =IF($U$142="zákl. přenesená",$N$142,0) -> 0 | BH142: =IF($U$142="sníž. přenesená",$N$142,0) -> 0 | BI142: =IF($U$142="nulová",$N$142,0) -> 0 | BJ142: 1 | BK142: =ROUND($L$142*$K$142,2) -> 0 | BL142: 4
C143: 17 | D143: K | E143: 452311131 | F143: Podkladní desky z betonu prostého tř. C 12/15 otevřený výkop | J143: m3 | K143: 2.25 | L143: 0 | N143: =ROUND($L$143*$K$143,2) -> 0 | U143: základní | V143: 0 | W143: =$V$143*$K$143 -> 0 | X143: 0 | Y143: =$X$143*$K$143 -> 0 | Z143: 0 | AA143: =$Z$143*$K$143 -> 0 | AR143: 4 | AT143: K | AU143: 2 | AY143: ROZPOCET | BE143: =IF($U$143="základní",$N$143,0) -> 0 | BF143: =IF($U$143="snížená",$N$143,0) -> 0 | BG143: =IF($U$143="zákl. přenesená",$N$143,0) -> 0 | BH143: =IF($U$143="sníž. přenesená",$N$143,0) -> 0 | BI143: =IF($U$143="nulová",$N$143,0) -> 0 | BJ143: 1 | BK143: =ROUND($L$143*$K$143,2) -> 0 | BL143: 4
D144: 6 - Úpravy povrchů, podlahy a osazování výplní | N144: =$BK$144 -> 0 | W144: =$W$145 -> 0 | Y144: =$Y$145 -> 0.4 | AA144: =$AA$145 -> 0 | AR144: 1 | AT144: D | AU144: 1 | AY144: ROZPOCET | BK144: =$BK$145 -> 0
C145: 18 | D145: K | E145: 617633112 | F145: Stěrka z těsnící malty dvouvrstvá vnitřních ploch šachet válcových a kuželových - oprava šachet | J145: m2 | K145: 10 | L145: 0 | N145: =ROUND($L$145*$K$145,2) -> 0 | U145: základní | V145: 0 | W145: =$V$145*$K$145 -> 0 | X145: 0.04 | Y145: =$X$145*$K$145 -> 0.4 | Z145: 0 | AA145: =$Z$145*$K$145 -> 0 | AR145: 4 | AT145: K | AU145: 2 | AY145: ROZPOCET | BE145: =IF($U$145="základní",$N$145,0) -> 0 | BF145: =IF($U$145="snížená",$N$145,0) -> 0 | BG145: =IF($U$145="zákl. přenesená",$N$145,0) -> 0 | BH145: =IF($U$145="sníž. přenesená",$N$145,0) -> 0 | BI145: =IF($U$145="nulová",$N$145,0) -> 0 | BJ145: 1 | BK145: =ROUND($L$145*$K$145,2) -> 0 | BL145: 4
D146: 8 - Trubní vedení | N146: =$BK$146 -> 0 | W146: =SUM($W$147:$W$168) -> 0 | Y146: =SUM($Y$147:$Y$168) -> 28.4634 | AA146: =SUM($AA$147:$AA$168) -> 0 | AR146: 1 | AT146: D | AU146: 1 | AY146: ROZPOCET | BK146: =SUM($BK$147:$BK$168) -> 0
C147: 19 | D147: K | E147: 871350310 | F147: Montáž kanalizačního potrubí hladkého plnostěnného SN 10 z polypropylenu DN 200 | J147: m | K147: 25 | L147: 0 | N147: =ROUND($L$147*$K$147,2) -> 0 | U147: základní | V147: 0 | W147: =$V$147*$K$147 -> 0 | X147: 0 | Y147: =$X$147*$K$147 -> 0 | Z147: 0 | AA147: =$Z$147*$K$147 -> 0 | AR147: 4 | AT147: K | AU147: 2 | AY147: ROZPOCET | BE147: =IF($U$147="základní",$N$147,0) -> 0 | BF147: =IF($U$147="snížená",$N$147,0) -> 0 | BG147: =IF($U$147="zákl. přenesená",$N$147,0) -> 0 | BH147: =IF($U$147="sníž. přenesená",$N$147,0) -> 0 | BI147: =IF($U$147="nulová",$N$147,0) -> 0 | BJ147: 1 | BK147: =ROUND($L$147*$K$147,2) -> 0 | BL147: 4
C148: 20 | D148: K | E148: 871370310 | F148: Montáž kanalizačního potrubí hladkého plnostěnného SN 10 z polypropylenu DN 300 | J148: m | K148: 184 | L148: 0 | N148: =ROUND($L$148*$K$148,2) -> 0 | U148: základní | V148: 0 | W148: =$V$148*$K$148 -> 0 | X148: 0 | Y148: =$X$148*$K$148 -> 0 | Z148: 0 | AA148: =$Z$148*$K$148 -> 0 | AR148: 4 | AT148: K | AU148: 2 | AY148: ROZPOCET | BE148: =IF($U$148="základní",$N$148,0) -> 0 | BF148: =IF($U$148="snížená",$N$148,0) -> 0 | BG148: =IF($U$148="zákl. přenesená",$N$148,0) -> 0 | BH148: =IF($U$148="sníž. přenesená",$N$148,0) -> 0 | BI148: =IF($U$148="nulová",$N$148,0) -> 0 | BJ148: 1 | BK148: =ROUND($L$148*$K$148,2) -> 0 | BL148: 4
C149: 21 | D149: M | E149: 286171260 | F149: trubka kanalizační PP MASTER SN 10, dl.6m, DN 300 | J149: kus | K149: 31 | L149: 0 | N149: =ROUND($L$149*$K$149,2) -> 0 | U149: základní | V149: 0 | W149: =$V$149*$K$149 -> 0 | X149: 0.0684 | Y149: =$X$149*$K$149 -> 2.1204 | Z149: 0 | AA149: =$Z$149*$K$149 -> 0 | AR149: 8 | AT149: M | AU149: 2 | AY149: ROZPOCET | BE149: =IF($U$149="základní",$N$149,0) -> 0 | BF149: =IF($U$149="snížená",$N$149,0) -> 0 | BG149: =IF($U$149="zákl. přenesená",$N$149,0) -> 0 | BH149: =IF($U$149="sníž. přenesená",$N$149,0) -> 0 | BI149: =IF($U$149="nulová",$N$149,0) -> 0 | BJ149: 1 | BK149: =ROUND($L$149*$K$149,2) -> 0 | BL149: 4
C150: 22 | D150: M | E150: 286171240 | F150: trubka kanalizační PP MASTER SN 10, dl.6m, DN 200 | J150: kus | K150: 6 | L150: 0 | N150: =ROUND($L$150*$K$150,2) -> 0 | U150: základní | V150: 0 | W150: =$V$150*$K$150 -> 0 | X150: 0.0276 | Y150: =$X$150*$K$150 -> 0.1656 | Z150: 0 | AA150: =$Z$150*$K$150 -> 0 | AR150: 8 | AT150: M | AU150: 2 | AY150: ROZPOCET | BE150: =IF($U$150="základní",$N$150,0) -> 0 | BF150: =IF($U$150="snížená",$N$150,0) -> 0 | BG150: =IF($U$150="zákl. přenesená",$N$150,0) -> 0 | BH150: =IF($U$150="sníž. přenesená",$N$150,0) -> 0 | BI150: =IF($U$150="nulová",$N$150,0) -> 0 | BJ150: 1 | BK150: =ROUND($L$150*$K$150,2) -> 0 | BL150: 4
C151: 23 | D151: K | E151: 892372121 | F151: Tlaková zkouška vzduchem potrubí DN 300 těsnícím vakem ucpávkovým | J151: úsek | K151: 5 | L151: 0 | N151: =ROUND($L$151*$K$151,2) -> 0 | U151: základní | V151: 0 | W151: =$V$151*$K$151 -> 0 | X151: 0.00031 | Y151: =$X$151*$K$151 -> 0.00155 | Z151: 0 | AA151: =$Z$151*$K$151 -> 0 | AR151: 4 | AT151: K | AU151: 2 | AY151: ROZPOCET | BE151: =IF($U$151="základní",$N$151,0) -> 0 | BF151: =IF($U$151="snížená",$N$151,0) -> 0 | BG151: =IF($U$151="zákl. přenesená",$N$151,0) -> 0 | BH151: =IF($U$151="sníž. přenesená",$N$151,0) -> 0 | BI151: =IF($U$151="nulová",$N$151,0) -> 0 | BJ151: 1 | BK151: =ROUND($L$151*$K$151,2) -> 0 | BL151: 4
C152: 24 | D152: K | E152: 894401211 | F152: Osazení betonových dílců pro šachty skruží rovných - oprava šachet | J152: kus | K152: 4 | L152: 0 | N152: =ROUND($L$152*$K$152,2) -> 0 | U152: základní | V152: 0 | W152: =$V$152*$K$152 -> 0 | X152: 0.01994 | Y152: =$X$152*$K$152 -> 0.07976 | Z152: 0 | AA152: =$Z$152*$K$152 -> 0 | AR152: 4 | AT152: K | AU152: 2 | AY152: ROZPOCET | BE152: =IF($U$152="základní",$N$152,0) -> 0 | BF152: =IF($U$152="snížená",$N$152,0) -> 0 | BG152: =IF($U$152="zákl. přenesená",$N$152,0) -> 0 | BH152: =IF($U$152="sníž. přenesená",$N$152,0) -> 0 | BI152: =IF($U$152="nulová",$N$152,0) -> 0 | BJ152: 1 | BK152: =ROUND($L$152*$K$152,2) -> 0 | BL152: 4
C153: 25 | D153: K | E153: 894402211 | F153: Osazení betonových dílců pro šachty skruží přechodových - oprava šachet | J153: kus | K153: 2 | L153: 0 | N153: =ROUND($L$153*$K$153,2) -> 0 | U153: základní | V153: 0 | W153: =$V$153*$K$153 -> 0 | X153: 0.02137 | Y153: =$X$153*$K$153 -> 0.04274 | Z153: 0 | AA153: =$Z$153*$K$153 -> 0 | AR153: 4 | AT153: K | AU153: 2 | AY153: ROZPOCET | BE153: =IF($U$153="základní",$N$153,0) -> 0 | BF153: =IF($U$153="snížená",$N$153,0) -> 0 | BG153: =IF($U$153="zákl. přenesená",$N$153,0) -> 0 | BH153: =IF($U$153="sníž. přenesená",$N$153,0) -> 0 | BI153: =IF($U$153="nulová",$N$153,0) -> 0 | BJ153: 1 | BK153: =ROUND($L$153*$K$153,2) -> 0 | BL153: 4
C154: 26 | D154: M | E154: 592241210 | F154: skruž betonová přechodová TBR-Q 625/600/90 SPK 62,5/100x60x9 cm | J154: kus | K154: 2 | L154: 0 | N154: =ROUND($L$154*$K$154,2) -> 0 | U154: základní | V154: 0 | W154: =$V$154*$K$154 -> 0 | X154: 0.396 | Y154: =$X$154*$K$154 -> 0.792 | Z154: 0 | AA154: =$Z$154*$K$154 -> 0 | AR154: 8 | AT154: M | AU154: 2 | AY154: ROZPOCET | BE154: =IF($U$154="základní",$N$154,0) -> 0 | BF154: =IF($U$154="snížená",$N$154,0) -> 0 | BG154: =IF($U$154="zákl. přenesená",$N$154,0) -> 0 | BH154: =IF($U$154="sníž. přenesená",$N$154,0) -> 0 | BI154: =IF($U$154="nulová",$N$154,0) -> 0 | BJ154: 1 | BK154: =ROUND($L$154*$K$154,2) -> 0 | BL154: 4
C155: 27 | D155: K | E155: 894411221 | F155: Zřízení šachet kanalizačních z betonových dílců na potrubí DN nad 200 do 300 dno kamenina | J155: kus | K155: 5 | L155: 0 | N155: =ROUND($L$155*$K$155,2) -> 0 | U155: základní | V155: 0 | W155: =$V$155*$K$155 -> 0 | X155: 2.35574 | Y155: =$X$155*$K$155 -> 11.7787 | Z155: 0 | AA155: =$Z$155*$K$155 -> 0 | AR155: 4 | AT155: K | AU155: 2 | AY155: ROZPOCET | BE155: =IF($U$155="základní",$N$155,0) -> 0 | BF155: =IF($U$155="snížená",$N$155,0) -> 0 | BG155: =IF($U$155="zákl. přenesená",$N$155,0) -> 0 | BH155: =IF($U$155="sníž. přenesená",$N$155,0) -> 0 | BI155: =IF($U$155="nulová",$N$155,0) -> 0 | BJ155: 1 | BK155: =ROUND($L$155*$K$155,2) -> 0 | BL155: 4
C156: 28 | D156: K | E156: 899103111 | F156: Osazení poklopů litinových nebo ocelových včetně rámů hmotnosti nad 100 do 150 kg | J156: kus | K156: 7 | L156: 0 | N156: =ROUND($L$156*$K$156,2) -> 0 | U156: základní | V156: 0 | W156: =$V$156*$K$156 -> 0 | X156: 0.00702 | Y156: =$X$156*$K$156 -> 0.04914 | Z156: 0 | AA156: =$Z$156*$K$156 -> 0 | AR156: 4 | AT156: K | AU156: 2 | AY156: ROZPOCET | BE156: =IF($U$156="základní",$N$156,0) -> 0 | BF156: =IF($U$156="snížená",$N$156,0) -> 0 | BG156: =IF($U$156="zákl. přenesená",$N$156,0) -> 0 | BH156: =IF($U$156="sníž. přenesená",$N$156,0) -> 0 | BI156: =IF($U$156="nulová",$N$156,0) -> 0 | BJ156: 1 | BK156: =ROUND($L$156*$K$156,2) -> 0 | BL156: 4
C157: 29 | D157: M | E157: 286612180,1 | F157: poklop litinový DN 400 BEGU | J157: kus | K157: 7 | L157: 0 | N157: =ROUND($L$157*$K$157,2) -> 0 | U157: základní | V157: 0 | W157: =$V$157*$K$157 -> 0 | X157: 0.0195 | Y157: =$X$157*$K$157 -> 0.1365 | Z157: 0 | AA157: =$Z$157*$K$157 -> 0 | AR157: 8 | AT157: M | AU157: 2 | AY157: ROZPOCET | BE157: =IF($U$157="základní",$N$157,0) -> 0 | BF157: =IF($U$157="snížená",$N$157,0) -> 0 | BG157: =IF($U$157="zákl. přenesená",$N$157,0) -> 0 | BH157: =IF($U$157="sníž. přenesená",$N$157,0) -> 0 | BI157: =IF($U$157="nulová",$N$157,0) -> 0 | BJ157: 1 | BK157: =ROUND($L$157*$K$157,2) -> 0 | BL157: 4
C158: 30 | D158: M | E158: 592241210,1 | F158: skruž betonová přechodová TBR-Q 625/600/90/120 | J158: kus | K158: 7 | L158: 0 | N158: =ROUND($L$158*$K$158,2) -> 0 | U158: základní | V158: 0 | W158: =$V$158*$K$158 -> 0 | X158: 0.396 | Y158: =$X$158*$K$158 -> 2.772 | Z158: 0 | AA158: =$Z$158*$K$158 -> 0 | AR158: 8 | AT158: M | AU158: 2 | AY158: ROZPOCET | BE158: =IF($U$158="základní",$N$158,0) -> 0 | BF158: =IF($U$158="snížená",$N$158,0) -> 0 | BG158: =IF($U$158="zákl. přenesená",$N$158,0) -> 0 | BH158: =IF($U$158="sníž. přenesená",$N$158,0) -> 0 | BI158: =IF($U$158="nulová",$N$158,0) -> 0 | BJ158: 1 | BK158: =ROUND($L$158*$K$158,2) -> 0 | BL158: 4
C159: 31 | D159: M | E159: 592241120 | F159: skruž betonová s ocelovými stupadly TBS-Q 1000/250/120 SP 100x25x120cm | J159: kus | K159: 1 | L159: 0 | N159: =ROUND($L$159*$K$159,2) -> 0 | U159: základní | V159: 0 | W159: =$V$159*$K$159 -> 0 | X159: 0.259 | Y159: =$X$159*$K$159 -> 0.259 | Z159: 0 | AA159: =$Z$159*$K$159 -> 0 | AR159: 8 | AT159: M | AU159: 2 | AY159: ROZPOCET | BE159: =IF($U$159="základní",$N$159,0) -> 0 | BF159: =IF($U$159="snížená",$N$159,0) -> 0 | BG159: =IF($U$159="zákl. přenesená",$N$159,0) -> 0 | BH159: =IF($U$159="sníž. přenesená",$N$159,0) -> 0 | BI159: =IF($U$159="nulová",$N$159,0) -> 0 | BJ159: 1 | BK159: =ROUND($L$159*$K$159,2) -> 0 | BL159: 4
C160: 32 | D160: M | E160: 592241020 | F160: skruž betonová s ocelovými stupadly TBS-Q 1000/500/120 SP 100x25x120cm | J160: kus | K160: 5 | L160: 0 | N160: =ROUND($L$160*$K$160,2) -> 0 | U160: základní | V160: 0 | W160: =$V$160*$K$160 -> 0 | X160: 0.4144 | Y160: =$X$160*$K$160 -> 2.072 | Z160: 0 | AA160: =$Z$160*$K$160 -> 0 | AR160: 8 | AT160: M | AU160: 2 | AY160: ROZPOCET | BE160: =IF($U$160="základní",$N$160,0) -> 0 | BF160: =IF($U$160="snížená",$N$160,0) -> 0 | BG160: =IF($U$160="zákl. přenesená",$N$160,0) -> 0 | BH160: =IF($U$160="sníž. přenesená",$N$160,0) -> 0 | BI160: =IF($U$160="nulová",$N$160,0) -> 0 | BJ160: 1 | BK160: =ROUND($L$160*$K$160,2) -> 0 | BL160: 4
C161: 33 | D161: M | E161: 592241120.1 | F161: skruž betonová s ocelovými stupadly TBS-Q 1000/250/90 SP 100x25x120cm | J161: kus | K161: 3 | L161: 0 | N161: =ROUND($L$161*$K$161,2) -> 0 | U161: základní | V161: 0 | W161: =$V$161*$K$161 -> 0 | X161: 0.08633 | Y161: =$X$161*$K$161 -> 0.25899 | Z161: 0 | AA161: =$Z$161*$K$161 -> 0 | AR161: 8 | AT161: M | AU161: 2 | AY161: ROZPOCET | BE161: =IF($U$161="základní",$N$161,0) -> 0 | BF161: =IF($U$161="snížená",$N$161,0) -> 0 | BG161: =IF($U$161="zákl. přenesená",$N$161,0) -> 0 | BH161: =IF($U$161="sníž. přenesená",$N$161,0) -> 0 | BI161: =IF($U$161="nulová",$N$161,0) -> 0 | BJ161: 1 | BK161: =ROUND($L$161*$K$161,2) -> 0 | BL161: 4
C162: 34 | D162: M | E162: 592241800 | F162: dno betonové šachtové TZZ-Q 100/60 DN 200 | J162: kus | K162: 1 | L162: 0 | N162: =ROUND($L$162*$K$162,2) -> 0 | U162: základní | V162: 0 | W162: =$V$162*$K$162 -> 0 | X162: 2.15 | Y162: =$X$162*$K$162 -> 2.15 | Z162: 0 | AA162: =$Z$162*$K$162 -> 0 | AR162: 8 | AT162: M | AU162: 2 | AY162: ROZPOCET | BE162: =IF($U$162="základní",$N$162,0) -> 0 | BF162: =IF($U$162="snížená",$N$162,0) -> 0 | BG162: =IF($U$162="zákl. přenesená",$N$162,0) -> 0 | BH162: =IF($U$162="sníž. přenesená",$N$162,0) -> 0 | BI162: =IF($U$162="nulová",$N$162,0) -> 0 | BJ162: 1 | BK162: =ROUND($L$162*$K$162,2) -> 0 | BL162: 4
...

Sheet SO 300.02 - Vodovodní pří...
D1: List obsahuje: | F1: 1) Krycí list rozpočtu | H1: 2) Rekapitulace rozpočtu | L1: 3) Rozpočet | O1: Zpět na list: | S1: Rekapitulace stavby
C2: optimalizováno pro tisk sestav ve formátu A4 - na výšku | S2: >> skryté sloupce << | AT2: {34A6772D-1239-4E52-B770-99D0361D88F3}
AT3: 2
C4: KRYCÍ LIST ROZPOČTU | T4: v --- níže se nacházejí doplnkové a pomocné údaje k sestavám --- v | AT4: False
D6: Stavba: | F6: ='Rekapitulace stavby'!$K$6 -> Přístupové komunikace do průmyslové zóny
D7: Objekt: | F7: SO 300.02 - Vodovodní přípojky
D8: JKSO: | M8: CC-CZ:
D9: Místo: | F9: Město Ralsko | M9: Datum: | O9: ='Rekapitulace stavby'!$AN$8 -> 42530
D11: Objednavatel: | M11: IČ: | O11: =IF('Rekapitulace stavby'!$AN$10="","",'Rekapitulace stavby'!$AN$10)
E12: =IF('Rekapitulace stavby'!$E$11="","",'Rekapitulace stavby'!$E$11) | M12: DIČ: | O12: =IF('Rekapitulace stavby'!$AN$11="","",'Rekapitulace stavby'!$AN$11)
D14: Zhotovitel: | M14: IČ: | O14: =IF('Rekapitulace stavby'!$AN$13="","",'Rekapitulace stavby'!$AN$13) -> Vyplň údaj
E15: =IF('Rekapitulace stavby'!$E$14="","",'Rekapitulace stavby'!$E$14) -> Vyplň údaj | M15: DIČ: | O15: =IF('Rekapitulace stavby'!$AN$14="","",'Rekapitulace stavby'!$AN$14) -> Vyplň údaj
D17: Projektant: | M17: IČ: | O17: =IF('Rekapitulace stavby'!$AN$16="","",'Rekapitulace stavby'!$AN$16)
E18: =IF('Rekapitulace stavby'!$E$17="","",'Rekapitulace stavby'!$E$17) | M18: DIČ: | O18: =IF('Rekapitulace stavby'!$AN$17="","",'Rekapitulace stavby'!$AN$17)
D20: Zpracovatel: | M20: IČ: | O20: =IF('Rekapitulace stavby'!$AN$19="","",'Rekapitulace stavby'!$AN$19)
E21: =IF('Rekapitulace stavby'!$E$20="","",'Rekapitulace stavby'!$E$20) | M21: DIČ: | O21: =IF('Rekapitulace stavby'!$AN$20="","",'Rekapitulace stavby'!$AN$20)
D24: Náklady z rozpočtu | M24: =$N$88 -> 0
D25: Ostatní náklady | M25: =$N$95 -> 0
D27: Cena bez DPH | M27: =ROUND($M$24+$M$25,2) -> 0
D29: DPH | E29: základní | F29: 0.21 | G29: ze | H29: =ROUND((((SUM($BE$95:$BE$102)+SUM($BE$120:$BE$158))+SUM($BE$159:$BE$160))),2) -> 0 | M29: =ROUND((((SUM($BE$95:$BE$102)+SUM($BE$120:$BE$158))*$F$29)+SUM($BE$159:$BE$160)*$F$29),2) -> 0
E30: snížená | F30: 0.15 | G30: ze | H30: =ROUND((((SUM($BF$95:$BF$102)+SUM($BF$120:$BF$158))+SUM($BF$159:$BF$160))),2) -> 0 | M30: =ROUND((((SUM($BF$95:$BF$102)+SUM($BF$120:$BF$158))*$F$30)+SUM($BF$159:$BF$160)*$F$30),2) -> 0
E31: zákl. přenesená | F31: 0.21 | G31: ze | H31: =ROUND((((SUM($BG$95:$BG$102)+SUM($BG$120:$BG$158))+SUM($BG$159:$BG$160))),2) -> 0 | M31: 0
E32: sníž. přenesená | F32: 0.15 | G32: ze | H32: =ROUND((((SUM($BH$95:$BH$102)+SUM($BH$120:$BH$158))+SUM($BH$159:$BH$160))),2) -> 0 | M32: 0
E33: nulová | F33: 0 | G33: ze | H33: =ROUND((((SUM($BI$95:$BI$102)+SUM($BI$120:$BI$158))+SUM($BI$159:$BI$160))),2) -> 0 | M33: 0
D35: Cena s DPH | G35: v | H35: CZK | L35: =ROUND(SUM($M$27:$M$33),2) -> 0
D50: Projektant | J50: Zpracovatel
D59: Datum a podpis: | G59: Razítko | J59: Datum a podpis: | N59: Razítko
D61: Objednavatel | J61: Zhotovitel
D70: Datum a podpis: | G70: Razítko | J70: Datum a podpis: | N70: Razítko
C76: REKAPITULACE ROZPOČTU
C78: Stavba: | F78: =$F$6 -> Přístupové komunikace do průmyslové zóny
C79: Objekt: | F79: =$F$7 -> SO 300.02 - Vodovodní přípojky
C81: Místo: | F81: =$F$9 -> Město Ralsko | K81: Datum: | M81: =IF($O$9="","",$O$9) -> 42530
C83: Objednavatel: | F83: =$E$12 | K83: Projektant: | M83: =$E$18
C84: Zhotovitel: | F84: =IF($E$15="","",$E$15) -> Vyplň údaj | K84: Zpracovatel: | M84: =$E$21
C86: Kód - Popis | N86: Cena celkem [CZK]
C88: 1) Náklady z rozpočtu | N88: =ROUND($N$120,2) -> 0 | AU88: -1
D89: HSV - Práce a dodávky HSV | N89: =ROUND($N$121,2) -> 0
D90: 1 - Zemní práce | N90: =ROUND($N$122,2) -> 0
D91: 4 - Vodorovné konstrukce | N91: =ROUND($N$137,2) -> 0
D92: 8 - Trubní vedení | N92: =ROUND($N$140,2) -> 0
D93: 9 - Ostatní konstrukce a práce-bourání | N93: =ROUND($N$157,2) -> 0
C95: 2) Ostatní náklady | N95: =ROUND($N$96+$N$97+$N$98+$N$99+$N$100+$N$101,2) -> 0 | U95: DPH
D96: Zařízení staveniště | N96: =ROUND($N$88*$T$96,2) -> 0 | U96: základní | AY96: VRN | BE96: =IF($U$96="základní",$N$96,0) -> 0 | BF96: =IF($U$96="snížená",$N$96,0) -> 0 | BG96: =IF($U$96="zákl. přenesená",$N$96,0) -> 0 | BH96: =IF($U$96="sníž. přenesená",$N$96,0) -> 0 | BI96: =IF($U$96="nulová",$N$96,0) -> 0 | BJ96: 1
D97: Projektové práce | N97: =ROUND($N$88*$T$97,2) -> 0 | U97: základní | AY97: VRN | BE97: =IF($U$97="základní",$N$97,0) -> 0 | BF97: =IF($U$97="snížená",$N$97,0) -> 0 | BG97: =IF($U$97="zákl. přenesená",$N$97,0) -> 0 | BH97: =IF($U$97="sníž. přenesená",$N$97,0) -> 0 | BI97: =IF($U$97="nulová",$N$97,0) -> 0 | BJ97: 1
D98: Územní vlivy | N98: =ROUND($N$88*$T$98,2) -> 0 | U98: základní | AY98: VRN | BE98: =IF($U$98="základní",$N$98,0) -> 0 | BF98: =IF($U$98="snížená",$N$98,0) -> 0 | BG98: =IF($U$98="zákl. přenesená",$N$98,0) -> 0 | BH98: =IF($U$98="sníž. přenesená",$N$98,0) -> 0 | BI98: =IF($U$98="nulová",$N$98,0) -> 0 | BJ98: 1
D99: Provozní vlivy | N99: =ROUND($N$88*$T$99,2) -> 0 | U99: základní | AY99: VRN | BE99: =IF($U$99="základní",$N$99,0) -> 0 | BF99: =IF($U$99="snížená",$N$99,0) -> 0 | BG99: =IF($U$99="zákl. přenesená",$N$99,0) -> 0 | BH99: =IF($U$99="sníž. přenesená",$N$99,0) -> 0 | BI99: =IF($U$99="nulová",$N$99,0) -> 0 | BJ99: 1
D100: Jiné VRN | N100: =ROUND($N$88*$T$100,2) -> 0 | U100: základní | AY100: VRN | BE100: =IF($U$100="základní",$N$100,0) -> 0 | BF100: =IF($U$100="snížená",$N$100,0) -> 0 | BG100: =IF($U$100="zákl. přenesená",$N$100,0) -> 0 | BH100: =IF($U$100="sníž. přenesená",$N$100,0) -> 0 | BI100: =IF($U$100="nulová",$N$100,0) -> 0 | BJ100: 1
D101: Kompletační činnosť | N101: =ROUND($N$88*$T$101,2) -> 0 | U101: základní | AY101: KOMPLETACNA | BE101: =IF($U$101="základní",$N$101,0) -> 0 | BF101: =IF($U$101="snížená",$N$101,0) -> 0 | BG101: =IF($U$101="zákl. přenesená",$N$101,0) -> 0 | BH101: =IF($U$101="sníž. přenesená",$N$101,0) -> 0 | BI101: =IF($U$101="nulová",$N$101,0) -> 0 | BJ101: 1
C103: Celkové náklady za stavbu 1) + 2) | L103: =ROUND(SUM($N$88+$N$95),2) -> 0
C109: ROZPOČET
C111: Stavba: | F111: =$F$6 -> Přístupové komunikace do průmyslové zóny
C112: Objekt: | F112: =$F$7 -> SO 300.02 - Vodovodní přípojky
C114: Místo: | F114: =$F$9 -> Město Ralsko | K114: Datum: | M114: =IF($O$9="","",$O$9) -> 42530
C116: Objednavatel: | F116: =$E$12 | K116: Projektant: | M116: =$E$18
C117: Zhotovitel: | F117: =IF($E$15="","",$E$15) -> Vyplň údaj | K117: Zpracovatel: | M117: =$E$21
C119: PČ | D119: Typ | E119: Kód | F119: Popis | J119: MJ | K119: Množství | L119: J.cena [CZK] | N119: Cena celkem [CZK] | T119: Poznámka | U119: DPH | V119: J. Nh [h] | W119: Nh celkom [h] | X119: J. hmotnost [t] | Y119: Hmotnost celkem [t] | Z119: J. suť [t] | AA119: Suť Celkem [t]
C120: Náklady z rozpočtu | N120: =$BK$120 -> 0 | W120: =$W$121+$W$159 -> 406.41605 | Y120: =$Y$121+$Y$159 -> 41.127886 | AA120: =$AA$121+$AA$159 -> 0 | AT120: D | AU120: -1 | BK120: =$BK$121+$BK$159 -> 0
D121: HSV - Práce a dodávky HSV | N121: =$BK$121 -> 0 | W121: =$W$122+$W$137+$W$140+$W$157 -> 406.41605 | Y121: =$Y$122+$Y$137+$Y$140+$Y$157 -> 41.127886 | AA121: =$AA$122+$AA$137+$AA$140+$AA$157 -> 0 | AR121: 1 | AT121: D | AU121: 0 | AY121: ROZPOCET | BK121: =$BK$122+$BK$137+$BK$140+$BK$157 -> 0
D122: 1 - Zemní práce | N122: =$BK$122 -> 0 | W122: =SUM($W$123:$W$136) -> 258.60026 | Y122: =SUM($Y$123:$Y$136) -> 11.044886 | AA122: =SUM($AA$123:$AA$136) -> 0 | AR122: 1 | AT122: D | AU122: 1 | AY122: ROZPOCET | BK122: =SUM($BK$123:$BK$136) -> 0
C123: 1 | D123: K | E123: 121112112 | F123: Sejmutí ornice tl vrstvy přes 150 mm ručně s vodorovným přemístěním do 50 m | J123: m3 | K123: 4.896 | L123: 0 | N123: =ROUND($L$123*$K$123,2) -> 0 | U123: základní | V123: 1.666 | W123: =$V$123*$K$123 -> 8.156736 | X123: 0 | Y123: =$X$123*$K$123 -> 0 | Z123: 0 | AA123: =$Z$123*$K$123 -> 0 | AR123: 4 | AT123: K | AU123: 2 | AY123: ROZPOCET | BE123: =IF($U$123="základní",$N$123,0) -> 0 | BF123: =IF($U$123="snížená",$N$123,0) -> 0 | BG123: =IF($U$123="zákl. přenesená",$N$123,0) -> 0 | BH123: =IF($U$123="sníž. přenesená",$N$123,0) -> 0 | BI123: =IF($U$123="nulová",$N$123,0) -> 0 | BJ123: 1 | BK123: =ROUND($L$123*$K$123,2) -> 0 | BL123: 4
C124: 2 | D124: K | E124: 131101201 | F124: Hloubení jam zapažených v hornině tř. 1 a 2 objemu do 100 m3 | J124: m3 | K124: 14.18 | L124: 0 | N124: =ROUND($L$124*$K$124,2) -> 0 | U124: základní | V124: 1.022 | W124: =$V$124*$K$124 -> 14.49196 | X124: 0 | Y124: =$X$124*$K$124 -> 0 | Z124: 0 | AA124: =$Z$124*$K$124 -> 0 | AR124: 4 | AT124: K | AU124: 2 | AY124: ROZPOCET | BE124: =IF($U$124="základní",$N$124,0) -> 0 | BF124: =IF($U$124="snížená",$N$124,0) -> 0 | BG124: =IF($U$124="zákl. přenesená",$N$124,0) -> 0 | BH124: =IF($U$124="sníž. přenesená",$N$124,0) -> 0 | BI124: =IF($U$124="nulová",$N$124,0) -> 0 | BJ124: 1 | BK124: =ROUND($L$124*$K$124,2) -> 0 | BL124: 4
C125: 3 | D125: K | E125: 131201201 | F125: Hloubení jam zapažených v hornině tř. 3 objemu do 100 m3 | J125: m3 | K125: 18.92 | L125: 0 | N125: =ROUND($L$125*$K$125,2) -> 0 | U125: základní | V125: 2.249 | W125: =$V$125*$K$125 -> 42.55108 | X125: 0 | Y125: =$X$125*$K$125 -> 0 | Z125: 0 | AA125: =$Z$125*$K$125 -> 0 | AR125: 4 | AT125: K | AU125: 2 | AY125: ROZPOCET | BE125: =IF($U$125="základní",$N$125,0) -> 0 | BF125: =IF($U$125="snížená",$N$125,0) -> 0 | BG125: =IF($U$125="zákl. přenesená",$N$125,0) -> 0 | BH125: =IF($U$125="sníž. přenesená",$N$125,0) -> 0 | BI125: =IF($U$125="nulová",$N$125,0) -> 0 | BJ125: 1 | BK125: =ROUND($L$125*$K$125,2) -> 0 | BL125: 4
C126: 4 | D126: K | E126: 131301201 | F126: Hloubení jam zapažených v hornině tř. 4 objemu do 100 m3 | J126: m3 | K126: 7.09 | L126: 0 | N126: =ROUND($L$126*$K$126,2) -> 0 | U126: základní | V126: 2.965 | W126: =$V$126*$K$126 -> 21.02185 | X126: 0 | Y126: =$X$126*$K$126 -> 0 | Z126: 0 | AA126: =$Z$126*$K$126 -> 0 | AR126: 4 | AT126: K | AU126: 2 | AY126: ROZPOCET | BE126: =IF($U$126="základní",$N$126,0) -> 0 | BF126: =IF($U$126="snížená",$N$126,0) -> 0 | BG126: =IF($U$126="zákl. přenesená",$N$126,0) -> 0 | BH126: =IF($U$126="sníž. přenesená",$N$126,0) -> 0 | BI126: =IF($U$126="nulová",$N$126,0) -> 0 | BJ126: 1 | BK126: =ROUND($L$126*$K$126,2) -> 0 | BL126: 4
C127: 5 | D127: K | E127: 131401201 | F127: Hloubení jam zapažených v hornině tř. 5 objemu do 100 m3 | J127: m3 | K127: 7.09 | L127: 0 | N127: =ROUND($L$127*$K$127,2) -> 0 | U127: základní | V127: 3.264 | W127: =$V$127*$K$127 -> 23.14176 | X127: 0.00351 | Y127: =$X$127*$K$127 -> 0.0248859 | Z127: 0 | AA127: =$Z$127*$K$127 -> 0 | AR127: 4 | AT127: K | AU127: 2 | AY127: ROZPOCET | BE127: =IF($U$127="základní",$N$127,0) -> 0 | BF127: =IF($U$127="snížená",$N$127,0) -> 0 | BG127: =IF($U$127="zákl. přenesená",$N$127,0) -> 0 | BH127: =IF($U$127="sníž. přenesená",$N$127,0) -> 0 | BI127: =IF($U$127="nulová",$N$127,0) -> 0 | BJ127: 1 | BK127: =ROUND($L$127*$K$127,2) -> 0 | BL127: 4
C128: 6 | D128: K | E128: 132132201 | F128: Hloubení rýh do 10 m3 ručně šířky do 2 m v soudržné hornině tř. 1 a 2 při překopech inž sítí | J128: m3 | K128: 5.06 | L128: 0 | N128: =ROUND($L$128*$K$128,2) -> 0 | U128: základní | V128: 3.35 | W128: =$V$128*$K$128 -> 16.951 | X128: 0 | Y128: =$X$128*$K$128 -> 0 | Z128: 0 | AA128: =$Z$128*$K$128 -> 0 | AR128: 4 | AT128: K | AU128: 2 | AY128: ROZPOCET | BE128: =IF($U$128="základní",$N$128,0) -> 0 | BF128: =IF($U$128="snížená",$N$128,0) -> 0 | BG128: =IF($U$128="zákl. přenesená",$N$128,0) -> 0 | BH128: =IF($U$128="sníž. přenesená",$N$128,0) -> 0 | BI128: =IF($U$128="nulová",$N$128,0) -> 0 | BJ128: 1 | BK128: =ROUND($L$128*$K$128,2) -> 0 | BL128: 4
C129: 7 | D129: K | E129: 132232201 | F129: Hloubení rýh do 10 m3 ručně šířky do 2 m v soudržné hornině tř. 3 při překopech inž sítí | J129: m3 | K129: 11.62 | L129: 0 | N129: =ROUND($L$129*$K$129,2) -> 0 | U129: základní | V129: 3.292 | W129: =$V$129*$K$129 -> 38.25304 | X129: 0 | Y129: =$X$129*$K$129 -> 0 | Z129: 0 | AA129: =$Z$129*$K$129 -> 0 | AR129: 4 | AT129: K | AU129: 2 | AY129: ROZPOCET | BE129: =IF($U$129="základní",$N$129,0) -> 0 | BF129: =IF($U$129="snížená",$N$129,0) -> 0 | BG129: =IF($U$129="zákl. přenesená",$N$129,0) -> 0 | BH129: =IF($U$129="sníž. přenesená",$N$129,0) -> 0 | BI129: =IF($U$129="nulová",$N$129,0) -> 0 | BJ129: 1 | BK129: =ROUND($L$129*$K$129,2) -> 0 | BL129: 4
C130: 8 | D130: K | E130: 132332201 | F130: Hloubení rýh do 10 m3 ručně šířky do 2 m v soudržné hornině tř. 4 při překopech inž sítí | J130: m3 | K130: 3.57 | L130: 0 | N130: =ROUND($L$130*$K$130,2) -> 0 | U130: základní | V130: 5.59 | W130: =$V$130*$K$130 -> 19.9563 | X130: 0 | Y130: =$X$130*$K$130 -> 0 | Z130: 0 | AA130: =$Z$130*$K$130 -> 0 | AR130: 4 | AT130: K | AU130: 2 | AY130: ROZPOCET | BE130: =IF($U$130="základní",$N$130,0) -> 0 | BF130: =IF($U$130="snížená",$N$130,0) -> 0 | BG130: =IF($U$130="zákl. přenesená",$N$130,0) -> 0 | BH130: =IF($U$130="sníž. přenesená",$N$130,0) -> 0 | BI130: =IF($U$130="nulová",$N$130,0) -> 0 | BJ130: 1 | BK130: =ROUND($L$130*$K$130,2) -> 0 | BL130: 4
C131: 9 | D131: K | E131: 132432201 | F131: Hloubení rýh do 10 m3 ručně šířky do 2 m v soudržné hornině tř. 5 při překopech inž sítí | J131: m3 | K131: 7.09 | L131: 0 | N131: =ROUND($L$131*$K$131,2) -> 0 | U131: základní | V131: 7.855 | W131: =$V$131*$K$131 -> 55.69195 | X131: 0 | Y131: =$X$131*$K$131 -> 0 | Z131: 0 | AA131: =$Z$131*$K$131 -> 0 | AR131: 4 | AT131: K | AU131: 2 | AY131: ROZPOCET | BE131: =IF($U$131="základní",$N$131,0) -> 0 | BF131: =IF($U$131="snížená",$N$131,0) -> 0 | BG131: =IF($U$131="zákl. přenesená",$N$131,0) -> 0 | BH131: =IF($U$131="sníž. přenesená",$N$131,0) -> 0 | BI131: =IF($U$131="nulová",$N$131,0) -> 0 | BJ131: 1 | BK131: =ROUND($L$131*$K$131,2) -> 0 | BL131: 4
C132: 10 | D132: K | E132: 162301102 | F132: Vodorovné přemístění do 1000 m výkopku/sypaniny z horniny tř. 1 až 4 | J132: m3 | K132: 11.78 | L132: 0 | N132: =ROUND($L$132*$K$132,2) -> 0 | U132: základní | V132: 0.046 | W132: =$V$132*$K$132 -> 0.54188 | X132: 0 | Y132: =$X$132*$K$132 -> 0 | Z132: 0 | AA132: =$Z$132*$K$132 -> 0 | AR132: 4 | AT132: K | AU132: 2 | AY132: ROZPOCET | BE132: =IF($U$132="základní",$N$132,0) -> 0 | BF132: =IF($U$132="snížená",$N$132,0) -> 0 | BG132: =IF($U$132="zákl. přenesená",$N$132,0) -> 0 | BH132: =IF($U$132="sníž. přenesená",$N$132,0) -> 0 | BI132: =IF($U$132="nulová",$N$132,0) -> 0 | BJ132: 1 | BK132: =ROUND($L$132*$K$132,2) -> 0 | BL132: 4
C133: 11 | D133: K | E133: 171201201 | F133: Uložení sypaniny na skládky | J133: m3 | K133: 11.78 | L133: 0 | N133: =ROUND($L$133*$K$133,2) -> 0 | U133: základní | V133: 0.009 | W133: =$V$133*$K$133 -> 0.10602 | X133: 0 | Y133: =$X$133*$K$133 -> 0 | Z133: 0 | AA133: =$Z$133*$K$133 -> 0 | AR133: 4 | AT133: K | AU133: 2 | AY133: ROZPOCET | BE133: =IF($U$133="základní",$N$133,0) -> 0 | BF133: =IF($U$133="snížená",$N$133,0) -> 0 | BG133: =IF($U$133="zákl. přenesená",$N$133,0) -> 0 | BH133: =IF($U$133="sníž. přenesená",$N$133,0) -> 0 | BI133: =IF($U$133="nulová",$N$133,0) -> 0 | BJ133: 1 | BK133: =ROUND($L$133*$K$133,2) -> 0 | BL133: 4
C134: 12 | D134: K | E134: 174101101 | F134: Zásyp jam, šachet rýh nebo kolem objektů sypaninou se zhutněním | J134: m3 | K134: 59.32 | L134: 0 | N134: =ROUND($L$134*$K$134,2) -> 0 | U134: základní | V134: 0.299 | W134: =$V$134*$K$134 -> 17.73668 | X134: 0 | Y134: =$X$134*$K$134 -> 0 | Z134: 0 | AA134: =$Z$134*$K$134 -> 0 | AR134: 4 | AT134: K | AU134: 2 | AY134: ROZPOCET | BE134: =IF($U$134="základní",$N$134,0) -> 0 | BF134: =IF($U$134="snížená",$N$134,0) -> 0 | BG134: =IF($U$134="zákl. přenesená",$N$134,0) -> 0 | BH134: =IF($U$134="sníž. přenesená",$N$134,0) -> 0 | BI134: =IF($U$134="nulová",$N$134,0) -> 0 | BJ134: 1 | BK134: =ROUND($L$134*$K$134,2) -> 0 | BL134: 4
C135: 13 | D135: K | E135: 175111101 | F135: Obsypání potrubí ručně sypaninou bez prohození, uloženou do 3 m | J135: m3 | K135: 11.02 | L135: 0 | N135: =ROUND($L$135*$K$135,2) -> 0 | U135: základní | V135: 0 | W135: =$V$135*$K$135 -> 0 | X135: 0 | Y135: =$X$135*$K$135 -> 0 | Z135: 0 | AA135: =$Z$135*$K$135 -> 0 | AR135: 4 | AT135: K | AU135: 2 | AY135: ROZPOCET | BE135: =IF($U$135="základní",$N$135,0) -> 0 | BF135: =IF($U$135="snížená",$N$135,0) -> 0 | BG135: =IF($U$135="zákl. přenesená",$N$135,0) -> 0 | BH135: =IF($U$135="sníž. přenesená",$N$135,0) -> 0 | BI135: =IF($U$135="nulová",$N$135,0) -> 0 | BJ135: 1 | BK135: =ROUND($L$135*$K$135,2) -> 0 | BL135: 4
C136: 14 | D136: M | E136: 583373440 | F136: štěrkopísek frakce 0-32 | J136: t | K136: 11.02 | L136: 0 | N136: =ROUND($L$136*$K$136,2) -> 0 | U136: základní | V136: 0 | W136: =$V$136*$K$136 -> 0 | X136: 1 | Y136: =$X$136*$K$136 -> 11.02 | Z136: 0 | AA136: =$Z$136*$K$136 -> 0 | AR136: 8 | AT136: M | AU136: 2 | AY136: ROZPOCET | BE136: =IF($U$136="základní",$N$136,0) -> 0 | BF136: =IF($U$136="snížená",$N$136,0) -> 0 | BG136: =IF($U$136="zákl. přenesená",$N$136,0) -> 0 | BH136: =IF($U$136="sníž. přenesená",$N$136,0) -> 0 | BI136: =IF($U$136="nulová",$N$136,0) -> 0 | BJ136: 1 | BK136: =ROUND($L$136*$K$136,2) -> 0 | BL136: 4
D137: 4 - Vodorovné konstrukce | N137: =$BK$137 -> 0 | W137: =SUM($W$138:$W$139) -> 2.98035 | Y137: =SUM($Y$138:$Y$139) -> 3.99183 | AA137: =SUM($AA$138:$AA$139) -> 0 | AR137: 1 | AT137: D | AU137: 1 | AY137: ROZPOCET | BK137: =SUM($BK$138:$BK$139) -> 0
C138: 15 | D138: K | E138: 451541111 | F138: Lože pod potrubí otevřený výkop ze štěrkodrtě | J138: m3 | K138: 1.95 | L138: 0 | N138: =ROUND($L$138*$K$138,2) -> 0 | U138: základní | V138: 1.303 | W138: =$V$138*$K$138 -> 2.54085 | X138: 1.7034 | Y138: =$X$138*$K$138 -> 3.32163 | Z138: 0 | AA138: =$Z$138*$K$138 -> 0 | AR138: 4 | AT138: K | AU138: 2 | AY138: ROZPOCET | BE138: =IF($U$138="základní",$N$138,0) -> 0 | BF138: =IF($U$138="snížená",$N$138,0) -> 0 | BG138: =IF($U$138="zákl. přenesená",$N$138,0) -> 0 | BH138: =IF($U$138="sníž. přenesená",$N$138,0) -> 0 | BI138: =IF($U$138="nulová",$N$138,0) -> 0 | BJ138: 1 | BK138: =ROUND($L$138*$K$138,2) -> 0 | BL138: 4
C139: 16 | D139: K | E139: 452311131 | F139: Podkladní desky z betonu prostého tř. C 12/15 otevřený výkop | J139: m3 | K139: 0.3 | L139: 0 | N139: =ROUND($L$139*$K$139,2) -> 0 | U139: základní | V139: 1.465 | W139: =$V$139*$K$139 -> 0.4395 | X139: 2.234 | Y139: =$X$139*$K$139 -> 0.6702 | Z139: 0 | AA139: =$Z$139*$K$139 -> 0 | AR139: 4 | AT139: K | AU139: 2 | AY139: ROZPOCET | BE139: =IF($U$139="základní",$N$139,0) -> 0 | BF139: =IF($U$139="snížená",$N$139,0) -> 0 | BG139: =IF($U$139="zákl. přenesená",$N$139,0) -> 0 | BH139: =IF($U$139="sníž. přenesená",$N$139,0) -> 0 | BI139: =IF($U$139="nulová",$N$139,0) -> 0 | BJ139: 1 | BK139: =ROUND($L$139*$K$139,2) -> 0 | BL139: 4
D140: 8 - Trubní vedení | N140: =$BK$140 -> 0 | W140: =SUM($W$141:$W$156) -> 83.966 | Y140: =SUM($Y$141:$Y$156) -> 26.09117 | AA140: =SUM($AA$141:$AA$156) -> 0 | AR140: 1 | AT140: D | AU140: 1 | AY140: ROZPOCET | BK140: =SUM($BK$141:$BK$156) -> 0
C141: 17 | D141: K | E141: 871151121 | F141: Montáž potrubí z trubek z tlakového polyetylénu otevřený výkop svařovaných vnější průměr 25 mm | J141: m | K141: 14 | L141: 0 | N141: =ROUND($L$141*$K$141,2) -> 0 | U141: základní | V141: 0.041 | W141: =$V$141*$K$141 -> 0.574 | X141: 0 | Y141: =$X$141*$K$141 -> 0 | Z141: 0 | AA141: =$Z$141*$K$141 -> 0 | AR141: 4 | AT141: K | AU141: 2 | AY141: ROZPOCET | BE141: =IF($U$141="základní",$N$141,0) -> 0 | BF141: =IF($U$141="snížená",$N$141,0) -> 0 | BG141: =IF($U$141="zákl. přenesená",$N$141,0) -> 0 | BH141: =IF($U$141="sníž. přenesená",$N$141,0) -> 0 | BI141: =IF($U$141="nulová",$N$141,0) -> 0 | BJ141: 1 | BK141: =ROUND($L$141*$K$141,2) -> 0 | BL141: 4
C142: 18 | D142: M | E142: 286131090 | F142: potrubí vodovodní PE100 PN16 SDR11 6 m, 100 m, 25 x 2,3 mm | J142: m | K142: 14 | L142: 0 | N142: =ROUND($L$142*$K$142,2) -> 0 | U142: základní | V142: 0 | W142: =$V$142*$K$142 -> 0 | X142: 0.00017 | Y142: =$X$142*$K$142 -> 0.00238 | Z142: 0 | AA142: =$Z$142*$K$142 -> 0 | AR142: 8 | AT142: M | AU142: 2 | AY142: ROZPOCET | BE142: =IF($U$142="základní",$N$142,0) -> 0 | BF142: =IF($U$142="snížená",$N$142,0) -> 0 | BG142: =IF($U$142="zákl. přenesená",$N$142,0) -> 0 | BH142: =IF($U$142="sníž. přenesená",$N$142,0) -> 0 | BI142: =IF($U$142="nulová",$N$142,0) -> 0 | BJ142: 1 | BK142: =ROUND($L$142*$K$142,2) -> 0 | BL142: 4
C143: 19 | D143: K | E143: 879161111 | F143: Montáž vodovodní přípojky na potrubí DN 25 | J143: kus | K143: 2 | L143: 0 | N143: =ROUND($L$143*$K$143,2) -> 0 | U143: základní | V143: 0.412 | W143: =$V$143*$K$143 -> 0.824 | X143: 0.00024 | Y143: =$X$143*$K$143 -> 0.00048 | Z143: 0 | AA143: =$Z$143*$K$143 -> 0 | AR143: 4 | AT143: K | AU143: 2 | AY143: ROZPOCET | BE143: =IF($U$143="základní",$N$143,0) -> 0 | BF143: =IF($U$143="snížená",$N$143,0) -> 0 | BG143: =IF($U$143="zákl. přenesená",$N$143,0) -> 0 | BH143: =IF($U$143="sníž. přenesená",$N$143,0) -> 0 | BI143: =IF($U$143="nulová",$N$143,0) -> 0 | BJ143: 1 | BK143: =ROUND($L$143*$K$143,2) -> 0 | BL143: 4
C144: 20 | D144: K | E144: 891181111 | F144: Montáž vodovodních šoupátek otevřený výkop DN 40 | J144: kus | K144: 2 | L144: 0 | N144: =ROUND($L$144*$K$144,2) -> 0 | U144: základní | V144: 1.182 | W144: =$V$144*$K$144 -> 2.364 | X144: 0.00072 | Y144: =$X$144*$K$144 -> 0.00144 | Z144: 0 | AA144: =$Z$144*$K$144 -> 0 | AR144: 4 | AT144: K | AU144: 2 | AY144: ROZPOCET | BE144: =IF($U$144="základní",$N$144,0) -> 0 | BF144: =IF($U$144="snížená",$N$144,0) -> 0 | BG144: =IF($U$144="zákl. přenesená",$N$144,0) -> 0 | BH144: =IF($U$144="sníž. přenesená",$N$144,0) -> 0 | BI144: =IF($U$144="nulová",$N$144,0) -> 0 | BJ144: 1 | BK144: =ROUND($L$144*$K$144,2) -> 0 | BL144: 4
C145: 21 | D145: M | E145: 422735450 | F145: navrtávací pasy HAKU se závitovým výstupem z tvárné litiny, pro vodovodní PE a PVC potrubí 90-1” | J145: kus | K145: 2 | L145: 0 | N145: =ROUND($L$145*$K$145,2) -> 0 | U145: základní | V145: 0 | W145: =$V$145*$K$145 -> 0 | X145: 0.0026 | Y145: =$X$145*$K$145 -> 0.0052 | Z145: 0 | AA145: =$Z$145*$K$145 -> 0 | AR145: 8 | AT145: M | AU145: 2 | AY145: ROZPOCET | BE145: =IF($U$145="základní",$N$145,0) -> 0 | BF145: =IF($U$145="snížená",$N$145,0) -> 0 | BG145: =IF($U$145="zákl. přenesená",$N$145,0) -> 0 | BH145: =IF($U$145="sníž. přenesená",$N$145,0) -> 0 | BI145: =IF($U$145="nulová",$N$145,0) -> 0 | BJ145: 1 | BK145: =ROUND($L$145*$K$145,2) -> 0 | BL145: 4
C146: 22 | D146: K | E146: 892233121 | F146: Proplach a desinfekce vodovodního potrubí DN od 40 do 70 | J146: m | K146: 13 | L146: 0 | N146: =ROUND($L$146*$K$146,2) -> 0 | U146: základní | V146: 0.082 | W146: =$V$146*$K$146 -> 1.066 | X146: 0 | Y146: =$X$146*$K$146 -> 0 | Z146: 0 | AA146: =$Z$146*$K$146 -> 0 | AR146: 4 | AT146: K | AU146: 2 | AY146: ROZPOCET | BE146: =IF($U$146="základní",$N$146,0) -> 0 | BF146: =IF($U$146="snížená",$N$146,0) -> 0 | BG146: =IF($U$146="zákl. přenesená",$N$146,0) -> 0 | BH146: =IF($U$146="sníž. přenesená",$N$146,0) -> 0 | BI146: =IF($U$146="nulová",$N$146,0) -> 0 | BJ146: 1 | BK146: =ROUND($L$146*$K$146,2) -> 0 | BL146: 4
C147: 23 | D147: K | E147: 892241111 | F147: Tlaková zkouška vodou potrubí do 80 | J147: m | K147: 13 | L147: 0 | N147: =ROUND($L$147*$K$147,2) -> 0 | U147: základní | V147: 0.044 | W147: =$V$147*$K$147 -> 0.572 | X147: 0 | Y147: =$X$147*$K$147 -> 0 | Z147: 0 | AA147: =$Z$147*$K$147 -> 0 | AR147: 4 | AT147: K | AU147: 2 | AY147: ROZPOCET | BE147: =IF($U$147="základní",$N$147,0) -> 0 | BF147: =IF($U$147="snížená",$N$147,0) -> 0 | BG147: =IF($U$147="zákl. přenesená",$N$147,0) -> 0 | BH147: =IF($U$147="sníž. přenesená",$N$147,0) -> 0 | BI147: =IF($U$147="nulová",$N$147,0) -> 0 | BJ147: 1 | BK147: =ROUND($L$147*$K$147,2) -> 0 | BL147: 4
C148: 24 | D148: K | E148: 893312111 | F148: Šachty armaturní z ŽB se stropem z dílců půdorysné pl do 1,50 m2 | J148: kus | K148: 2 | L148: 0 | N148: =ROUND($L$148*$K$148,2) -> 0 | U148: základní | V148: 37.706 | W148: =$V$148*$K$148 -> 75.412 | X148: 11.49737 | Y148: =$X$148*$K$148 -> 22.99474 | Z148: 0 | AA148: =$Z$148*$K$148 -> 0 | AR148: 4 | AT148: K | AU148: 2 | AY148: ROZPOCET | BE148: =IF($U$148="základní",$N$148,0) -> 0 | BF148: =IF($U$148="snížená",$N$148,0) -> 0 | BG148: =IF($U$148="zákl. přenesená",$N$148,0) -> 0 | BH148: =IF($U$148="sníž. přenesená",$N$148,0) -> 0 | BI148: =IF($U$148="nulová",$N$148,0) -> 0 | BJ148: 1 | BK148: =ROUND($L$148*$K$148,2) -> 0 | BL148: 4
C149: 25 | D149: M | E149: 592246550 | F149: skruž šachetní PVS 106/106/10 D 136 x 106 x 10 cm | J149: kus | K149: 2 | L149: 0 | N149: =ROUND($L$149*$K$149,2) -> 0 | U149: základní | V149: 0 | W149: =$V$149*$K$149 -> 0 | X149: 0.328 | Y149: =$X$149*$K$149 -> 0.656 | Z149: 0 | AA149: =$Z$149*$K$149 -> 0 | AR149: 8 | AT149: M | AU149: 2 | AY149: ROZPOCET | BE149: =IF($U$149="základní",$N$149,0) -> 0 | BF149: =IF($U$149="snížená",$N$149,0) -> 0 | BG149: =IF($U$149="zákl. přenesená",$N$149,0) -> 0 | BH149: =IF($U$149="sníž. přenesená",$N$149,0) -> 0 | BI149: =IF($U$149="nulová",$N$149,0) -> 0 | BJ149: 1 | BK149: =ROUND($L$149*$K$149,2) -> 0 | BL149: 4
C150: 26 | D150: M | E150: 592246540 | F150: skruž šachetní PVS 106/106/10 ZD2 136 x 106 x 10 cm | J150: kus | K150: 2 | L150: 0 | N150: =ROUND($L$150*$K$150,2) -> 0 | U150: základní | V150: 0 | W150: =$V$150*$K$150 -> 0 | X150: 0.288 | Y150: =$X$150*$K$150 -> 0.576 | Z150: 0 | AA150: =$Z$150*$K$150 -> 0 | AR150: 8 | AT150: M | AU150: 2 | AY150: ROZPOCET | BE150: =IF($U$150="základní",$N$150,0) -> 0 | BF150: =IF($U$150="snížená",$N$150,0) -> 0 | BG150: =IF($U$150="zákl. přenesená",$N$150,0) -> 0 | BH150: =IF($U$150="sníž. přenesená",$N$150,0) -> 0 | BI150: =IF($U$150="nulová",$N$150,0) -> 0 | BJ150: 1 | BK150: =ROUND($L$150*$K$150,2) -> 0 | BL150: 4
C151: 27 | D151: M | E151: 592246510 | F151: skruž šachetní PVS 120/90/50 SK1 120 x 90 x 50 cm | J151: kus | K151: 4 | L151: 0 | N151: =ROUND($L$151*$K$151,2) -> 0 | U151: základní | V151: 0 | W151: =$V$151*$K$151 -> 0 | X151: 0.453 | Y151: =$X$151*$K$151 -> 1.812 | Z151: 0 | AA151: =$Z$151*$K$151 -> 0 | AR151: 8 | AT151: M | AU151: 2 | AY151: ROZPOCET | BE151: =IF($U$151="základní",$N$151,0) -> 0 | BF151: =IF($U$151="snížená",$N$151,0) -> 0 | BG151: =IF($U$151="zákl. přenesená",$N$151,0) -> 0 | BH151: =IF($U$151="sníž. přenesená",$N$151,0) -> 0 | BI151: =IF($U$151="nulová",$N$151,0) -> 0 | BJ151: 1 | BK151: =ROUND($L$151*$K$151,2) -> 0 | BL151: 4
C152: 28 | D152: K | E152: 899101111 | F152: Osazení poklopů litinových nebo ocelových včetně rámů hmotnosti do 50 kg | J152: kus | K152: 2 | L152: 0 | N152: =ROUND($L$152*$K$152,2) -> 0 | U152: základní | V152: 0.68 | W152: =$V$152*$K$152 -> 1.36 | X152: 0.00468 | Y152: =$X$152*$K$152 -> 0.00936 | Z152: 0 | AA152: =$Z$152*$K$152 -> 0 | AR152: 4 | AT152: K | AU152: 2 | AY152: ROZPOCET | BE152: =IF($U$152="základní",$N$152,0) -> 0 | BF152: =IF($U$152="snížená",$N$152,0) -> 0 | BG152: =IF($U$152="zákl. přenesená",$N$152,0) -> 0 | BH152: =IF($U$152="sníž. přenesená",$N$152,0) -> 0 | BI152: =IF($U$152="nulová",$N$152,0) -> 0 | BJ152: 1 | BK152: =ROUND($L$152*$K$152,2) -> 0 | BL152: 4
C153: 29 | D153: M | E153: 286617600 | F153: poklop + rám litinový 315/10t | J153: kus | K153: 2 | L153: 0 | N153: =ROUND($L$153*$K$153,2) -> 0 | U153: základní | V153: 0 | W153: =$V$153*$K$153 -> 0 | X153: 0.015 | Y153: =$X$153*$K$153 -> 0.03 | Z153: 0 | AA153: =$Z$153*$K$153 -> 0 | AR153: 8 | AT153: M | AU153: 2 | AY153: ROZPOCET | BE153: =IF($U$153="základní",$N$153,0) -> 0 | BF153: =IF($U$153="snížená",$N$153,0) -> 0 | BG153: =IF($U$153="zákl. přenesená",$N$153,0) -> 0 | BH153: =IF($U$153="sníž. přenesená",$N$153,0) -> 0 | BI153: =IF($U$153="nulová",$N$153,0) -> 0 | BJ153: 1 | BK153: =ROUND($L$153*$K$153,2) -> 0 | BL153: 4
C154: 30 | D154: K | E154: 899713111 | F154: Orientační tabulky na sloupku betonovém nebo ocelovém | J154: kus | K154: 2 | L154: 0 | N154: =ROUND($L$154*$K$154,2) -> 0 | U154: základní | V154: 0.403 | W154: =$V$154*$K$154 -> 0.806 | X154: 0.00016 | Y154: =$X$154*$K$154 -> 0.00032 | Z154: 0 | AA154: =$Z$154*$K$154 -> 0 | AR154: 4 | AT154: K | AU154: 2 | AY154: ROZPOCET | BE154: =IF($U$154="základní",$N$154,0) -> 0 | BF154: =IF($U$154="snížená",$N$154,0) -> 0 | BG154: =IF($U$154="zákl. přenesená",$N$154,0) -> 0 | BH154: =IF($U$154="sníž. přenesená",$N$154,0) -> 0 | BI154: =IF($U$154="nulová",$N$154,0) -> 0 | BJ154: 1 | BK154: =ROUND($L$154*$K$154,2) -> 0 | BL154: 4
C155: 31 | D155: K | E155: 899721111 | F155: Signalizační vodič DN do 150 mm na potrubí PVC | J155: m | K155: 13 | L155: 0 | N155: =ROUND($L$155*$K$155,2) -> 0 | U155: základní | V155: 0.054 | W155: =$V$155*$K$155 -> 0.702 | X155: 0.00019 | Y155: =$X$155*$K$155 -> 0.00247 | Z155: 0 | AA155: =$Z$155*$K$155 -> 0 | AR155: 4 | AT155: K | AU155: 2 | AY155: ROZPOCET | BE155: =IF($U$155="základní",$N$155,0) -> 0 | BF155: =IF($U$155="snížená",$N$155,0) -> 0 | BG155: =IF($U$155="zákl. přenesená",$N$155,0) -> 0 | BH155: =IF($U$155="sníž. přenesená",$N$155,0) -> 0 | BI155: =IF($U$155="nulová",$N$155,0) -> 0 | BJ155: 1 | BK155: =ROUND($L$155*$K$155,2) -> 0 | BL155: 4
C156: 32 | D156: K | E156: 899722111 | F156: Krytí potrubí z plastů výstražnou fólií z PVC 20 cm | J156: m | K156: 13 | L156: 0 | N156: =ROUND($L$156*$K$156,2) -> 0 | U156: základní | V156: 0.022 | W156: =$V$156*$K$156 -> 0.286 | X156: 6e-05 | Y156: =$X$156*$K$156 -> 0.00078 | Z156: 0 | AA156: =$Z$156*$K$156 -> 0 | AR156: 4 | AT156: K | AU156: 2 | AY156: ROZPOCET | BE156: =IF($U$156="základní",$N$156,0) -> 0 | BF156: =IF($U$156="snížená",$N$156,0) -> 0 | BG156: =IF($U$156="zákl. přenesená",$N$156,0) -> 0 | BH156: =IF($U$156="sníž. přenesená",$N$156,0) -> 0 | BI156: =IF($U$156="nulová",$N$156,0) -> 0 | BJ156: 1 | BK156: =ROUND($L$156*$K$156,2) -> 0 | BL156: 4
D157: 9 - Ostatní konstrukce a práce-bourání | N157: =$BK$157 -> 0 | W157: =$W$158 -> 60.86944 | Y157: =$Y$158 -> 0 | AA157: =$AA$158 -> 0 | AR157: 1 | AT157: D | AU157: 1 | AY157: ROZPOCET | BK157: =$BK$158 -> 0
C158: 33 | D158: K | E158: 998276101 | F158: Přesun hmot pro trubní vedení z trub z plastických hmot otevřený výkop | J158: t | K158: 41.128 | L158: 0 | N158: =ROUND($L$158*$K$158,2) -> 0 | U158: základní | V158: 1.48 | W158: =$V$158*$K$158 -> 60.86944 | X158: 0 | Y158: =$X$158*$K$158 -> 0 | Z158: 0 | AA158: =$Z$158*$K$158 -> 0 | AR158: 4 | AT158: K | AU158: 2 | AY158: ROZPOCET | BE158: =IF($U$158="základní",$N$158,0) -> 0 | BF158: =IF($U$158="snížená",$N$158,0) -> 0 | BG158: =IF($U$158="zákl. přenesená",$N$158,0) -> 0 | BH158: =IF($U$158="sníž. přenesená",$N$158,0) -> 0 | BI158: =IF($U$158="nulová",$N$158,0) -> 0 | BJ158: 1 | BK158: =ROUND($L$158*$K$158,2) -> 0 | BL158: 4
D159: VP - Vícepráce | N159: =$BK$159 -> 0 | AT159: D | AU159: 0 | AY159: PN | BK159: 0
N65535: =$N$159 -> 0

Sheet SO 400.01 - Veřejné osvět...
D1: List obsahuje: | F1: 1) Krycí list rozpočtu | H1: 2) Rekapitulace rozpočtu | L1: 3) Rozpočet | O1: Zpět na list: | S1: Rekapitulace stavby
C2: optimalizováno pro tisk sestav ve formátu A4 - na výšku | S2: >> skryté sloupce << | AT2: {795B40E2-A492-476C-AAC3-4B40C50924B5}
AT3: 2
C4: KRYCÍ LIST ROZPOČTU | T4: v --- níže se nacházejí doplnkové a pomocné údaje k sestavám --- v | AT4: False
D6: Stavba: | F6: ='Rekapitulace stavby'!$K$6 -> Přístupové komunikace do průmyslové zóny
D7: Objekt: | F7: SO 400.01 - Veřejné osvětlení
D8: JKSO: | M8: CC-CZ:
D9: Místo: | F9: Město Ralsko | M9: Datum: | O9: ='Rekapitulace stavby'!$AN$8 -> 42530
D11: Objednavatel: | M11: IČ: | O11: =IF('Rekapitulace stavby'!$AN$10="","",'Rekapitulace stavby'!$AN$10)
E12: =IF('Rekapitulace stavby'!$E$11="","",'Rekapitulace stavby'!$E$11) | M12: DIČ: | O12: =IF('Rekapitulace stavby'!$AN$11="","",'Rekapitulace stavby'!$AN$11)
D14: Zhotovitel: | M14: IČ: | O14: =IF('Rekapitulace stavby'!$AN$13="","",'Rekapitulace stavby'!$AN$13) -> Vyplň údaj
E15: =IF('Rekapitulace stavby'!$E$14="","",'Rekapitulace stavby'!$E$14) -> Vyplň údaj | M15: DIČ: | O15: =IF('Rekapitulace stavby'!$AN$14="","",'Rekapitulace stavby'!$AN$14) -> Vyplň údaj
D17: Projektant: | M17: IČ: | O17: =IF('Rekapitulace stavby'!$AN$16="","",'Rekapitulace stavby'!$AN$16)
E18: =IF('Rekapitulace stavby'!$E$17="","",'Rekapitulace stavby'!$E$17) | M18: DIČ: | O18: =IF('Rekapitulace stavby'!$AN$17="","",'Rekapitulace stavby'!$AN$17)
D20: Zpracovatel: | M20: IČ: | O20: =IF('Rekapitulace stavby'!$AN$19="","",'Rekapitulace stavby'!$AN$19)
E21: =IF('Rekapitulace stavby'!$E$20="","",'Rekapitulace stavby'!$E$20) | M21: DIČ: | O21: =IF('Rekapitulace stavby'!$AN$20="","",'Rekapitulace stavby'!$AN$20)
D24: Náklady z rozpočtu | M24: =$N$88 -> 0
D25: Ostatní náklady | M25: =$N$98 -> 0
D27: Cena bez DPH | M27: =ROUND($M$24+$M$25,2) -> 0
D29: DPH | E29: základní | F29: 0.21 | G29: ze | H29: =ROUND((((SUM($BE$98:$BE$105)+SUM($BE$123:$BE$206))+SUM($BE$207:$BE$208))),2) -> 0 | M29: =ROUND((((SUM($BE$98:$BE$105)+SUM($BE$123:$BE$206))*$F$29)+SUM($BE$207:$BE$208)*$F$29),2) -> 0
E30: snížená | F30: 0.15 | G30: ze | H30: =ROUND((((SUM($BF$98:$BF$105)+SUM($BF$123:$BF$206))+SUM($BF$207:$BF$208))),2) -> 0 | M30: =ROUND((((SUM($BF$98:$BF$105)+SUM($BF$123:$BF$206))*$F$30)+SUM($BF$207:$BF$208)*$F$30),2) -> 0
E31: zákl. přenesená | F31: 0.21 | G31: ze | H31: =ROUND((((SUM($BG$98:$BG$105)+SUM($BG$123:$BG$206))+SUM($BG$207:$BG$208))),2) -> 0 | M31: 0
E32: sníž. přenesená | F32: 0.15 | G32: ze | H32: =ROUND((((SUM($BH$98:$BH$105)+SUM($BH$123:$BH$206))+SUM($BH$207:$BH$208))),2) -> 0 | M32: 0
E33: nulová | F33: 0 | G33: ze | H33: =ROUND((((SUM($BI$98:$BI$105)+SUM($BI$123:$BI$206))+SUM($BI$207:$BI$208))),2) -> 0 | M33: 0
D35: Cena s DPH | G35: v | H35: CZK | L35: =ROUND(SUM($M$27:$M$33),2) -> 0
D50: Projektant | J50: Zpracovatel
D59: Datum a podpis: | G59: Razítko | J59: Datum a podpis: | N59: Razítko
D61: Objednavatel | J61: Zhotovitel
D70: Datum a podpis: | G70: Razítko | J70: Datum a podpis: | N70: Razítko
C76: REKAPITULACE ROZPOČTU
C78: Stavba: | F78: =$F$6 -> Přístupové komunikace do průmyslové zóny
C79: Objekt: | F79: =$F$7 -> SO 400.01 - Veřejné osvětlení
C81: Místo: | F81: =$F$9 -> Město Ralsko | K81: Datum: | M81: =IF($O$9="","",$O$9) -> 42530
C83: Objednavatel: | F83: =$E$12 | K83: Projektant: | M83: =$E$18
C84: Zhotovitel: | F84: =IF($E$15="","",$E$15) -> Vyplň údaj | K84: Zpracovatel: | M84: =$E$21
C86: Kód - Popis | N86: Cena celkem [CZK]
C88: 1) Náklady z rozpočtu | N88: =ROUND($N$123,2) -> 0 | AU88: -1
D89: M - Práce a dodávky M | N89: =ROUND($N$124,2) -> 0
D90: 20-D - Dodávky zařízení | N90: =ROUND($N$125,2) -> 0
D91: 21-D - Elektromontáže | N91: =ROUND($N$128,2) -> 0
D92: 21-M - Elektromontáže | N92: =ROUND($N$140,2) -> 0
D93: 29-M - Ostatní náklady | N93: =ROUND($N$149,2) -> 0
D94: 46-D - Materiál zemní | N94: =ROUND($N$153,2) -> 0
D95: 46-M - Zemní práce při extr.mont.pracích | N95: =ROUND($N$166,2) -> 0
D96: 58-M - Revize vyhrazených technických zařízení a ostatní činnosti | N96: =ROUND($N$199,2) -> 0
C98: 2) Ostatní náklady | N98: =ROUND($N$99+$N$100+$N$101+$N$102+$N$103+$N$104,2) -> 0 | U98: DPH
D99: Zařízení staveniště | N99: =ROUND($N$88*$T$99,2) -> 0 | U99: základní | AY99: VRN | BE99: =IF($U$99="základní",$N$99,0) -> 0 | BF99: =IF($U$99="snížená",$N$99,0) -> 0 | BG99: =IF($U$99="zákl. přenesená",$N$99,0) -> 0 | BH99: =IF($U$99="sníž. přenesená",$N$99,0) -> 0 | BI99: =IF($U$99="nulová",$N$99,0) -> 0 | BJ99: 1
D100: Investorská činnost | N100: =ROUND($N$88*$T$100,2) -> 0 | U100: základní | AY100: VRN | BE100: =IF($U$100="základní",$N$100,0) -> 0 | BF100: =IF($U$100="snížená",$N$100,0) -> 0 | BG100: =IF($U$100="zákl. přenesená",$N$100,0) -> 0 | BH100: =IF($U$100="sníž. přenesená",$N$100,0) -> 0 | BI100: =IF($U$100="nulová",$N$100,0) -> 0 | BJ100: 1
D101: Územní vlivy | N101: =ROUND($N$88*$T$101,2) -> 0 | U101: základní | AY101: VRN | BE101: =IF($U$101="základní",$N$101,0) -> 0 | BF101: =IF($U$101="snížená",$N$101,0) -> 0 | BG101: =IF($U$101="zákl. přenesená",$N$101,0) -> 0 | BH101: =IF($U$101="sníž. přenesená",$N$101,0) -> 0 | BI101: =IF($U$101="nulová",$N$101,0) -> 0 | BJ101: 1
D102: Provozní vlivy | N102: =ROUND($N$88*$T$102,2) -> 0 | U102: základní | AY102: VRN | BE102: =IF($U$102="základní",$N$102,0) -> 0 | BF102: =IF($U$102="snížená",$N$102,0) -> 0 | BG102: =IF($U$102="zákl. přenesená",$N$102,0) -> 0 | BH102: =IF($U$102="sníž. přenesená",$N$102,0) -> 0 | BI102: =IF($U$102="nulová",$N$102,0) -> 0 | BJ102: 1
D103: Jiné VRN | N103: =ROUND($N$88*$T$103,2) -> 0 | U103: základní | AY103: VRN | BE103: =IF($U$103="základní",$N$103,0) -> 0 | BF103: =IF($U$103="snížená",$N$103,0) -> 0 | BG103: =IF($U$103="zákl. přenesená",$N$103,0) -> 0 | BH103: =IF($U$103="sníž. přenesená",$N$103,0) -> 0 | BI103: =IF($U$103="nulová",$N$103,0) -> 0 | BJ103: 1
D104: Kompletační činnosť | N104: =ROUND($N$88*$T$104,2) -> 0 | U104: základní | AY104: KOMPLETACNA | BE104: =IF($U$104="základní",$N$104,0) -> 0 | BF104: =IF($U$104="snížená",$N$104,0) -> 0 | BG104: =IF($U$104="zákl. přenesená",$N$104,0) -> 0 | BH104: =IF($U$104="sníž. přenesená",$N$104,0) -> 0 | BI104: =IF($U$104="nulová",$N$104,0) -> 0 | BJ104: 1
C106: Celkové náklady za stavbu 1) + 2) | L106: =ROUND(SUM($N$88+$N$98),2) -> 0
C112: ROZPOČET
C114: Stavba: | F114: =$F$6 -> Přístupové komunikace do průmyslové zóny
C115: Objekt: | F115: =$F$7 -> SO 400.01 - Veřejné osvětlení
C117: Místo: | F117: =$F$9 -> Město Ralsko | K117: Datum: | M117: =IF($O$9="","",$O$9) -> 42530
C119: Objednavatel: | F119: =$E$12 | K119: Projektant: | M119: =$E$18
C120: Zhotovitel: | F120: =IF($E$15="","",$E$15) -> Vyplň údaj | K120: Zpracovatel: | M120: =$E$21
C122: PČ | D122: Typ | E122: Kód | F122: Popis | J122: MJ | K122: Množství | L122: J.cena [CZK] | N122: Cena celkem [CZK] | T122: Poznámka | U122: DPH | V122: J. Nh [h] | W122: Nh celkom [h] | X122: J. hmotnost [t] | Y122: Hmotnost celkem [t] | Z122: J. suť [t] | AA122: Suť Celkem [t]
C123: Náklady z rozpočtu | N123: =$BK$123 -> 0 | W123: =$W$124+$W$207 -> 0 | Y123: =$Y$124+$Y$207 -> 0 | AA123: =$AA$124+$AA$207 -> 0 | AT123: D | AU123: -1 | BK123: =$BK$124+$BK$207 -> 0
D124: M - Práce a dodávky M | N124: =$BK$124 -> 0 | W124: =$W$125+$W$128+$W$140+$W$149+$W$153+$W$166+$W$199 -> 0 | Y124: =$Y$125+$Y$128+$Y$140+$Y$149+$Y$153+$Y$166+$Y$199 -> 0 | AA124: =$AA$125+$AA$128+$AA$140+$AA$149+$AA$153+$AA$166+$AA$199 -> 0 | AR124: 3 | AT124: D | AU124: 0 | AY124: ROZPOCET | BK124: =$BK$125+$BK$128+$BK$140+$BK$149+$BK$153+$BK$166+$BK$199 -> 0
D125: 20-D - Dodávky zařízení | N125: =$BK$125 -> 0 | W125: =SUM($W$126:$W$127) -> 0 | Y125: =SUM($Y$126:$Y$127) -> 0 | AA125: =SUM($AA$126:$AA$127) -> 0 | AR125: 3 | AT125: D | AU125: 1 | AY125: ROZPOCET | BK125: =SUM($BK$126:$BK$127) -> 0
C126: 1 | D126: K | E126: 727102 | F126: zapínací bod VO ZB3+1 /plast 2D 870882 | J126: ks | K126: 1 | L126: 0 | N126: =ROUND($L$126*$K$126,2) -> 0 | U126: základní | V126: 0 | W126: =$V$126*$K$126 -> 0 | X126: 0 | Y126: =$X$126*$K$126 -> 0 | Z126: 0 | AA126: =$Z$126*$K$126 -> 0 | AR126: 64 | AT126: K | AU126: 2 | AY126: ROZPOCET | BE126: =IF($U$126="základní",$N$126,0) -> 0 | BF126: =IF($U$126="snížená",$N$126,0) -> 0 | BG126: =IF($U$126="zákl. přenesená",$N$126,0) -> 0 | BH126: =IF($U$126="sníž. přenesená",$N$126,0) -> 0 | BI126: =IF($U$126="nulová",$N$126,0) -> 0 | BJ126: 1 | BK126: =ROUND($L$126*$K$126,2) -> 0 | BL126: 64
C127: 2 | D127: K | E127: 727411 | F127: /zapínací bod VO/ podstavec pod 2D plast 390039 | J127: ks | K127: 1 | L127: 0 | N127: =ROUND($L$127*$K$127,2) -> 0 | U127: základní | V127: 0 | W127: =$V$127*$K$127 -> 0 | X127: 0 | Y127: =$X$127*$K$127 -> 0 | Z127: 0 | AA127: =$Z$127*$K$127 -> 0 | AR127: 64 | AT127: K | AU127: 2 | AY127: ROZPOCET | BE127: =IF($U$127="základní",$N$127,0) -> 0 | BF127: =IF($U$127="snížená",$N$127,0) -> 0 | BG127: =IF($U$127="zákl. přenesená",$N$127,0) -> 0 | BH127: =IF($U$127="sníž. přenesená",$N$127,0) -> 0 | BI127: =IF($U$127="nulová",$N$127,0) -> 0 | BJ127: 1 | BK127: =ROUND($L$127*$K$127,2) -> 0 | BL127: 64
D128: 21-D - Elektromontáže | N128: =$BK$128 -> 0 | W128: =SUM($W$129:$W$139) -> 0 | Y128: =SUM($Y$129:$Y$139) -> 0 | AA128: =SUM($AA$129:$AA$139) -> 0 | AR128: 3 | AT128: D | AU128: 1 | AY128: ROZPOCET | BK128: =SUM($BK$129:$BK$139) -> 0
C129: 3 | D129: K | E129: 151210 | F129: kabel AYKY 4x16 | J129: m | K129: 420 | L129: 0 | N129: =ROUND($L$129*$K$129,2) -> 0 | U129: základní | V129: 0 | W129: =$V$129*$K$129 -> 0 | X129: 0 | Y129: =$X$129*$K$129 -> 0 | Z129: 0 | AA129: =$Z$129*$K$129 -> 0 | AR129: 64 | AT129: K | AU129: 2 | AY129: ROZPOCET | BE129: =IF($U$129="základní",$N$129,0) -> 0 | BF129: =IF($U$129="snížená",$N$129,0) -> 0 | BG129: =IF($U$129="zákl. přenesená",$N$129,0) -> 0 | BH129: =IF($U$129="sníž. přenesená",$N$129,0) -> 0 | BI129: =IF($U$129="nulová",$N$129,0) -> 0 | BJ129: 1 | BK129: =ROUND($L$129*$K$129,2) -> 0 | BL129: 64
C130: 4 | D130: K | E130: 191510 | F130: smršťovací trubice KZ4X/6-16(4x16) | J130: ks | K130: 32 | L130: 0 | N130: =ROUND($L$130*$K$130,2) -> 0 | U130: základní | V130: 0 | W130: =$V$130*$K$130 -> 0 | X130: 0 | Y130: =$X$130*$K$130 -> 0 | Z130: 0 | AA130: =$Z$130*$K$130 -> 0 | AR130: 64 | AT130: K | AU130: 2 | AY130: ROZPOCET | BE130: =IF($U$130="základní",$N$130,0) -> 0 | BF130: =IF($U$130="snížená",$N$130,0) -> 0 | BG130: =IF($U$130="zákl. přenesená",$N$130,0) -> 0 | BH130: =IF($U$130="sníž. přenesená",$N$130,0) -> 0 | BI130: =IF($U$130="nulová",$N$130,0) -> 0 | BJ130: 1 | BK130: =ROUND($L$130*$K$130,2) -> 0 | BL130: 64
C131: 5 | D131: K | E131: 190210 | F131: kabelové oko Al lisovací 16x8 ALU | J131: ks | K131: 128 | L131: 0 | N131: =ROUND($L$131*$K$131,2) -> 0 | U131: základní | V131: 0 | W131: =$V$131*$K$131 -> 0 | X131: 0 | Y131: =$X$131*$K$131 -> 0 | Z131: 0 | AA131: =$Z$131*$K$131 -> 0 | AR131: 64 | AT131: K | AU131: 2 | AY131: ROZPOCET | BE131: =IF($U$131="základní",$N$131,0) -> 0 | BF131: =IF($U$131="snížená",$N$131,0) -> 0 | BG131: =IF($U$131="zákl. přenesená",$N$131,0) -> 0 | BH131: =IF($U$131="sníž. přenesená",$N$131,0) -> 0 | BI131: =IF($U$131="nulová",$N$131,0) -> 0 | BJ131: 1 | BK131: =ROUND($L$131*$K$131,2) -> 0 | BL131: 64
C132: 6 | D132: K | E132: 295011 | F132: vedení FeZn pr.10mm(0,63kg/m) | J132: m | K132: 420 | L132: 0 | N132: =ROUND($L$132*$K$132,2) -> 0 | U132: základní | V132: 0 | W132: =$V$132*$K$132 -> 0 | X132: 0 | Y132: =$X$132*$K$132 -> 0 | Z132: 0 | AA132: =$Z$132*$K$132 -> 0 | AR132: 64 | AT132: K | AU132: 2 | AY132: ROZPOCET | BE132: =IF($U$132="základní",$N$132,0) -> 0 | BF132: =IF($U$132="snížená",$N$132,0) -> 0 | BG132: =IF($U$132="zákl. přenesená",$N$132,0) -> 0 | BH132: =IF($U$132="sníž. přenesená",$N$132,0) -> 0 | BI132: =IF($U$132="nulová",$N$132,0) -> 0 | BJ132: 1 | BK132: =ROUND($L$132*$K$132,2) -> 0 | BL132: 64
C133: 7 | D133: K | E133: 295071 | F133: svorka odbočná+spojov SR3a FeZn pásek/drát/2šrouby | J133: ks | K133: 2 | L133: 0 | N133: =ROUND($L$133*$K$133,2) -> 0 | U133: základní | V133: 0 | W133: =$V$133*$K$133 -> 0 | X133: 0 | Y133: =$X$133*$K$133 -> 0 | Z133: 0 | AA133: =$Z$133*$K$133 -> 0 | AR133: 64 | AT133: K | AU133: 2 | AY133: ROZPOCET | BE133: =IF($U$133="základní",$N$133,0) -> 0 | BF133: =IF($U$133="snížená",$N$133,0) -> 0 | BG133: =IF($U$133="zákl. přenesená",$N$133,0) -> 0 | BH133: =IF($U$133="sníž. přenesená",$N$133,0) -> 0 | BI133: =IF($U$133="nulová",$N$133,0) -> 0 | BJ133: 1 | BK133: =ROUND($L$133*$K$133,2) -> 0 | BL133: 64
C134: 8 | D134: K | E134: 533045 | F134: svítidlo venk výbojkové SHC 250W vč. zdroje | J134: ks | K134: 16 | L134: 0 | N134: =ROUND($L$134*$K$134,2) -> 0 | U134: základní | V134: 0 | W134: =$V$134*$K$134 -> 0 | X134: 0 | Y134: =$X$134*$K$134 -> 0 | Z134: 0 | AA134: =$Z$134*$K$134 -> 0 | AR134: 64 | AT134: K | AU134: 2 | AY134: ROZPOCET | BE134: =IF($U$134="základní",$N$134,0) -> 0 | BF134: =IF($U$134="snížená",$N$134,0) -> 0 | BG134: =IF($U$134="zákl. přenesená",$N$134,0) -> 0 | BH134: =IF($U$134="sníž. přenesená",$N$134,0) -> 0 | BI134: =IF($U$134="nulová",$N$134,0) -> 0 | BJ134: 1 | BK134: =ROUND($L$134*$K$134,2) -> 0 | BL134: 64
C135: 9 | D135: K | E135: 560066 | F135: stožár osv bezpatic KL5,5-133/60Z žárZn +manžeta | J135: ks | K135: 16 | L135: 0 | N135: =ROUND($L$135*$K$135,2) -> 0 | U135: základní | V135: 0 | W135: =$V$135*$K$135 -> 0 | X135: 0 | Y135: =$X$135*$K$135 -> 0 | Z135: 0 | AA135: =$Z$135*$K$135 -> 0 | AR135: 64 | AT135: K | AU135: 2 | AY135: ROZPOCET | BE135: =IF($U$135="základní",$N$135,0) -> 0 | BF135: =IF($U$135="snížená",$N$135,0) -> 0 | BG135: =IF($U$135="zákl. přenesená",$N$135,0) -> 0 | BH135: =IF($U$135="sníž. přenesená",$N$135,0) -> 0 | BI135: =IF($U$135="nulová",$N$135,0) -> 0 | BJ135: 1 | BK135: =ROUND($L$135*$K$135,2) -> 0 | BL135: 64
C136: 10 | D136: K | E136: 574116 | F136: výložník osvětlovací lomený SK1-1500Z žárZn | J136: ks | K136: 16 | L136: 0 | N136: =ROUND($L$136*$K$136,2) -> 0 | U136: základní | V136: 0 | W136: =$V$136*$K$136 -> 0 | X136: 0 | Y136: =$X$136*$K$136 -> 0 | Z136: 0 | AA136: =$Z$136*$K$136 -> 0 | AR136: 64 | AT136: K | AU136: 2 | AY136: ROZPOCET | BE136: =IF($U$136="základní",$N$136,0) -> 0 | BF136: =IF($U$136="snížená",$N$136,0) -> 0 | BG136: =IF($U$136="zákl. přenesená",$N$136,0) -> 0 | BH136: =IF($U$136="sníž. přenesená",$N$136,0) -> 0 | BI136: =IF($U$136="nulová",$N$136,0) -> 0 | BJ136: 1 | BK136: =ROUND($L$136*$K$136,2) -> 0 | BL136: 64
C137: 11 | D137: K | E137: 579434 | F137: elvýzbroj stožáru SR724-14Cu 4xE14/4xM8/35mm2 | J137: ks | K137: 16 | L137: 0 | N137: =ROUND($L$137*$K$137,2) -> 0 | U137: základní | V137: 0 | W137: =$V$137*$K$137 -> 0 | X137: 0 | Y137: =$X$137*$K$137 -> 0 | Z137: 0 | AA137: =$Z$137*$K$137 -> 0 | AR137: 64 | AT137: K | AU137: 2 | AY137: ROZPOCET | BE137: =IF($U$137="základní",$N$137,0) -> 0 | BF137: =IF($U$137="snížená",$N$137,0) -> 0 | BG137: =IF($U$137="zákl. přenesená",$N$137,0) -> 0 | BH137: =IF($U$137="sníž. přenesená",$N$137,0) -> 0 | BI137: =IF($U$137="nulová",$N$137,0) -> 0 | BJ137: 1 | BK137: =ROUND($L$137*$K$137,2) -> 0 | BL137: 64
C138: 12 | D138: K | E138: 579291 | F138: /elvýzbroj stožáru/ kryt řady 721-724 IP20 | J138: ks | K138: 16 | L138: 0 | N138: =ROUND($L$138*$K$138,2) -> 0 | U138: základní | V138: 0 | W138: =$V$138*$K$138 -> 0 | X138: 0 | Y138: =$X$138*$K$138 -> 0 | Z138: 0 | AA138: =$Z$138*$K$138 -> 0 | AR138: 64 | AT138: K | AU138: 2 | AY138: ROZPOCET | BE138: =IF($U$138="základní",$N$138,0) -> 0 | BF138: =IF($U$138="snížená",$N$138,0) -> 0 | BG138: =IF($U$138="zákl. přenesená",$N$138,0) -> 0 | BH138: =IF($U$138="sníž. přenesená",$N$138,0) -> 0 | BI138: =IF($U$138="nulová",$N$138,0) -> 0 | BJ138: 1 | BK138: =ROUND($L$138*$K$138,2) -> 0 | BL138: 64
C139: 13 | D139: K | E139: 579292 | F139: /elvýzbroj stožáru/ kryt řady 721-724odboč IP20 | J139: ks | K139: 16 | L139: 0 | N139: =ROUND($L$139*$K$139,2) -> 0 | U139: základní | V139: 0 | W139: =$V$139*$K$139 -> 0 | X139: 0 | Y139: =$X$139*$K$139 -> 0 | Z139: 0 | AA139: =$Z$139*$K$139 -> 0 | AR139: 64 | AT139: K | AU139: 2 | AY139: ROZPOCET | BE139: =IF($U$139="základní",$N$139,0) -> 0 | BF139: =IF($U$139="snížená",$N$139,0) -> 0 | BG139: =IF($U$139="zákl. přenesená",$N$139,0) -> 0 | BH139: =IF($U$139="sníž. přenesená",$N$139,0) -> 0 | BI139: =IF($U$139="nulová",$N$139,0) -> 0 | BJ139: 1 | BK139: =ROUND($L$139*$K$139,2) -> 0 | BL139: 64
D140: 21-M - Elektromontáže | N140: =$BK$140 -> 0 | W140: =SUM($W$141:$W$148) -> 0 | Y140: =SUM($Y$141:$Y$148) -> 0 | AA140: =SUM($AA$141:$AA$148) -> 0 | AR140: 3 | AT140: D | AU140: 1 | AY140: ROZPOCET | BK140: =SUM($BK$141:$BK$148) -> 0
C141: 14 | D141: K | E141: 210901045 | F141: kabel Al(-AYKY) pevně uložený do 4x16/5x10/7x6 | J141: m | K141: 420 | L141: 0 | N141: =ROUND($L$141*$K$141,2) -> 0 | U141: základní | V141: 0 | W141: =$V$141*$K$141 -> 0 | X141: 0 | Y141: =$X$141*$K$141 -> 0 | Z141: 0 | AA141: =$Z$141*$K$141 -> 0 | AR141: 64 | AT141: K | AU141: 2 | AY141: ROZPOCET | BE141: =IF($U$141="základní",$N$141,0) -> 0 | BF141: =IF($U$141="snížená",$N$141,0) -> 0 | BG141: =IF($U$141="zákl. přenesená",$N$141,0) -> 0 | BH141: =IF($U$141="sníž. přenesená",$N$141,0) -> 0 | BI141: =IF($U$141="nulová",$N$141,0) -> 0 | BJ141: 1 | BK141: =ROUND($L$141*$K$141,2) -> 0 | BL141: 64
C142: 15 | D142: K | E142: 210100252 | F142: ukončení kabelu smršťovací trubicí do 4x25 | J142: ks | K142: 32 | L142: 0 | N142: =ROUND($L$142*$K$142,2) -> 0 | U142: základní | V142: 0 | W142: =$V$142*$K$142 -> 0 | X142: 0 | Y142: =$X$142*$K$142 -> 0 | Z142: 0 | AA142: =$Z$142*$K$142 -> 0 | AR142: 64 | AT142: K | AU142: 2 | AY142: ROZPOCET | BE142: =IF($U$142="základní",$N$142,0) -> 0 | BF142: =IF($U$142="snížená",$N$142,0) -> 0 | BG142: =IF($U$142="zákl. přenesená",$N$142,0) -> 0 | BH142: =IF($U$142="sníž. přenesená",$N$142,0) -> 0 | BI142: =IF($U$142="nulová",$N$142,0) -> 0 | BJ142: 1 | BK142: =ROUND($L$142*$K$142,2) -> 0 | BL142: 64
C143: 16 | D143: K | E143: 210220022 | F143: uzemňov.vedení v zemi úplná mtž FeZn pr.8-10mm | J143: m | K143: 420 | L143: 0 | N143: =ROUND($L$143*$K$143,2) -> 0 | U143: základní | V143: 0 | W143: =$V$143*$K$143 -> 0 | X143: 0 | Y143: =$X$143*$K$143 -> 0 | Z143: 0 | AA143: =$Z$143*$K$143 -> 0 | AR143: 64 | AT143: K | AU143: 2 | AY143: ROZPOCET | BE143: =IF($U$143="základní",$N$143,0) -> 0 | BF143: =IF($U$143="snížená",$N$143,0) -> 0 | BG143: =IF($U$143="zákl. přenesená",$N$143,0) -> 0 | BH143: =IF($U$143="sníž. přenesená",$N$143,0) -> 0 | BI143: =IF($U$143="nulová",$N$143,0) -> 0 | BJ143: 1 | BK143: =ROUND($L$143*$K$143,2) -> 0 | BL143: 64
C144: 17 | D144: K | E144: 210202103 | F144: svítidlo výbojkové venkovní na výložník | J144: ks | K144: 16 | L144: 0 | N144: =ROUND($L$144*$K$144,2) -> 0 | U144: základní | V144: 0 | W144: =$V$144*$K$144 -> 0 | X144: 0 | Y144: =$X$144*$K$144 -> 0 | Z144: 0 | AA144: =$Z$144*$K$144 -> 0 | AR144: 64 | AT144: K | AU144: 2 | AY144: ROZPOCET | BE144: =IF($U$144="základní",$N$144,0) -> 0 | BF144: =IF($U$144="snížená",$N$144,0) -> 0 | BG144: =IF($U$144="zákl. přenesená",$N$144,0) -> 0 | BH144: =IF($U$144="sníž. přenesená",$N$144,0) -> 0 | BI144: =IF($U$144="nulová",$N$144,0) -> 0 | BJ144: 1 | BK144: =ROUND($L$144*$K$144,2) -> 0 | BL144: 64
C145: 18 | D145: K | E145: 210204002 | F145: stožár osvětlovací sadový ocelový | J145: ks | K145: 16 | L145: 0 | N145: =ROUND($L$145*$K$145,2) -> 0 | U145: základní | V145: 0 | W145: =$V$145*$K$145 -> 0 | X145: 0 | Y145: =$X$145*$K$145 -> 0 | Z145: 0 | AA145: =$Z$145*$K$145 -> 0 | AR145: 64 | AT145: K | AU145: 2 | AY145: ROZPOCET | BE145: =IF($U$145="základní",$N$145,0) -> 0 | BF145: =IF($U$145="snížená",$N$145,0) -> 0 | BG145: =IF($U$145="zákl. přenesená",$N$145,0) -> 0 | BH145: =IF($U$145="sníž. přenesená",$N$145,0) -> 0 | BI145: =IF($U$145="nulová",$N$145,0) -> 0 | BJ145: 1 | BK145: =ROUND($L$145*$K$145,2) -> 0 | BL145: 64
C146: 19 | D146: K | E146: 210204103 | F146: výložník na stožár 1-ramenný do 35kg | J146: ks | K146: 16 | L146: 0 | N146: =ROUND($L$146*$K$146,2) -> 0 | U146: základní | V146: 0 | W146: =$V$146*$K$146 -> 0 | X146: 0 | Y146: =$X$146*$K$146 -> 0 | Z146: 0 | AA146: =$Z$146*$K$146 -> 0 | AR146: 64 | AT146: K | AU146: 2 | AY146: ROZPOCET | BE146: =IF($U$146="základní",$N$146,0) -> 0 | BF146: =IF($U$146="snížená",$N$146,0) -> 0 | BG146: =IF($U$146="zákl. přenesená",$N$146,0) -> 0 | BH146: =IF($U$146="sníž. přenesená",$N$146,0) -> 0 | BI146: =IF($U$146="nulová",$N$146,0) -> 0 | BJ146: 1 | BK146: =ROUND($L$146*$K$146,2) -> 0 | BL146: 64
C147: 20 | D147: K | E147: 210204204 | F147: elektrovýzbroj stožárů pro 4 okruhy | J147: ks | K147: 16 | L147: 0 | N147: =ROUND($L$147*$K$147,2) -> 0 | U147: základní | V147: 0 | W147: =$V$147*$K$147 -> 0 | X147: 0 | Y147: =$X$147*$K$147 -> 0 | Z147: 0 | AA147: =$Z$147*$K$147 -> 0 | AR147: 64 | AT147: K | AU147: 2 | AY147: ROZPOCET | BE147: =IF($U$147="základní",$N$147,0) -> 0 | BF147: =IF($U$147="snížená",$N$147,0) -> 0 | BG147: =IF($U$147="zákl. přenesená",$N$147,0) -> 0 | BH147: =IF($U$147="sníž. přenesená",$N$147,0) -> 0 | BI147: =IF($U$147="nulová",$N$147,0) -> 0 | BJ147: 1 | BK147: =ROUND($L$147*$K$147,2) -> 0 | BL147: 64
C148: 21 | D148: K | E148: 210191561 | F148: skříň osvětlení RVO /osazení bez ukončení vodičů | J148: ks | K148: 2 | L148: 0 | N148: =ROUND($L$148*$K$148,2) -> 0 | U148: základní | V148: 0 | W148: =$V$148*$K$148 -> 0 | X148: 0 | Y148: =$X$148*$K$148 -> 0 | Z148: 0 | AA148: =$Z$148*$K$148 -> 0 | AR148: 64 | AT148: K | AU148: 2 | AY148: ROZPOCET | BE148: =IF($U$148="základní",$N$148,0) -> 0 | BF148: =IF($U$148="snížená",$N$148,0) -> 0 | BG148: =IF($U$148="zákl. přenesená",$N$148,0) -> 0 | BH148: =IF($U$148="sníž. přenesená",$N$148,0) -> 0 | BI148: =IF($U$148="nulová",$N$148,0) -> 0 | BJ148: 1 | BK148: =ROUND($L$148*$K$148,2) -> 0 | BL148: 64
D149: 29-M - Ostatní náklady | N149: =$BK$149 -> 0 | W149: =SUM($W$150:$W$152) -> 0 | Y149: =SUM($Y$150:$Y$152) -> 0 | AA149: =SUM($AA$150:$AA$152) -> 0 | AR149: 3 | AT149: D | AU149: 1 | AY149: ROZPOCET | BK149: =SUM($BK$150:$BK$152) -> 0
C150: 22 | D150: K | E150: 29-M-R01 | F150: montážní plošina do 10m výšky | J150: ks | K150: 16 | L150: 0 | N150: =ROUND($L$150*$K$150,2) -> 0 | U150: základní | V150: 0 | W150: =$V$150*$K$150 -> 0 | X150: 0 | Y150: =$X$150*$K$150 -> 0 | Z150: 0 | AA150: =$Z$150*$K$150 -> 0 | AR150: 64 | AT150: K | AU150: 2 | AY150: ROZPOCET | BE150: =IF($U$150="základní",$N$150,0) -> 0 | BF150: =IF($U$150="snížená",$N$150,0) -> 0 | BG150: =IF($U$150="zákl. přenesená",$N$150,0) -> 0 | BH150: =IF($U$150="sníž. přenesená",$N$150,0) -> 0 | BI150: =IF($U$150="nulová",$N$150,0) -> 0 | BJ150: 1 | BK150: =ROUND($L$150*$K$150,2) -> 0 | BL150: 64
C151: 23 | D151: K | E151: 218009001 | F151: poplatek za recyklaci svítidla | J151: ks | K151: 16 | L151: 0 | N151: =ROUND($L$151*$K$151,2) -> 0 | U151: základní | V151: 0 | W151: =$V$151*$K$151 -> 0 | X151: 0 | Y151: =$X$151*$K$151 -> 0 | Z151: 0 | AA151: =$Z$151*$K$151 -> 0 | AR151: 64 | AT151: K | AU151: 2 | AY151: ROZPOCET | BE151: =IF($U$151="základní",$N$151,0) -> 0 | BF151: =IF($U$151="snížená",$N$151,0) -> 0 | BG151: =IF($U$151="zákl. přenesená",$N$151,0) -> 0 | BH151: =IF($U$151="sníž. přenesená",$N$151,0) -> 0 | BI151: =IF($U$151="nulová",$N$151,0) -> 0 | BJ151: 1 | BK151: =ROUND($L$151*$K$151,2) -> 0 | BL151: 64
C152: 24 | D152: K | E152: 218009011 | F152: poplatek za recyklaci světelného zdroje | J152: ks | K152: 16 | L152: 0 | N152: =ROUND($L$152*$K$152,2) -> 0 | U152: základní | V152: 0 | W152: =$V$152*$K$152 -> 0 | X152: 0 | Y152: =$X$152*$K$152 -> 0 | Z152: 0 | AA152: =$Z$152*$K$152 -> 0 | AR152: 64 | AT152: K | AU152: 2 | AY152: ROZPOCET | BE152: =IF($U$152="základní",$N$152,0) -> 0 | BF152: =IF($U$152="snížená",$N$152,0) -> 0 | BG152: =IF($U$152="zákl. přenesená",$N$152,0) -> 0 | BH152: =IF($U$152="sníž. přenesená",$N$152,0) -> 0 | BI152: =IF($U$152="nulová",$N$152,0) -> 0 | BJ152: 1 | BK152: =ROUND($L$152*$K$152,2) -> 0 | BL152: 64
D153: 46-D - Materiál zemní | N153: =$BK$153 -> 0 | W153: =SUM($W$154:$W$165) -> 0 | Y153: =SUM($Y$154:$Y$165) -> 0 | AA153: =SUM($AA$154:$AA$165) -> 0 | AR153: 3 | AT153: D | AU153: 1 | AY153: ROZPOCET | BK153: =SUM($BK$154:$BK$165) -> 0
C154: 25 | D154: K | E154: 46452 | F154: stožárové pouzdro plast SP250/1000 | J154: ks | K154: 16 | L154: 0 | N154: =ROUND($L$154*$K$154,2) -> 0 | U154: základní | V154: 0 | W154: =$V$154*$K$154 -> 0 | X154: 0 | Y154: =$X$154*$K$154 -> 0 | Z154: 0 | AA154: =$Z$154*$K$154 -> 0 | AR154: 64 | AT154: K | AU154: 2 | AY154: ROZPOCET | BE154: =IF($U$154="základní",$N$154,0) -> 0 | BF154: =IF($U$154="snížená",$N$154,0) -> 0 | BG154: =IF($U$154="zákl. přenesená",$N$154,0) -> 0 | BH154: =IF($U$154="sníž. přenesená",$N$154,0) -> 0 | BI154: =IF($U$154="nulová",$N$154,0) -> 0 | BJ154: 1 | BK154: =ROUND($L$154*$K$154,2) -> 0 | BL154: 64
C155: 26 | D155: K | E155: 46112 | F155: štěrkopísek 0-16mm | J155: m3 | K155: 8.17 | L155: 0 | N155: =ROUND($L$155*$K$155,2) -> 0 | U155: základní | V155: 0 | W155: =$V$155*$K$155 -> 0 | X155: 0 | Y155: =$X$155*$K$155 -> 0 | Z155: 0 | AA155: =$Z$155*$K$155 -> 0 | AR155: 64 | AT155: K | AU155: 2 | AY155: ROZPOCET | BE155: =IF($U$155="základní",$N$155,0) -> 0 | BF155: =IF($U$155="snížená",$N$155,0) -> 0 | BG155: =IF($U$155="zákl. přenesená",$N$155,0) -> 0 | BH155: =IF($U$155="sníž. přenesená",$N$155,0) -> 0 | BI155: =IF($U$155="nulová",$N$155,0) -> 0 | BJ155: 1 | BK155: =ROUND($L$155*$K$155,2) -> 0 | BL155: 64
C156: 27 | D156: K | E156: 46133 | F156: beton B10 | J156: m3 | K156: 1.91 | L156: 0 | N156: =ROUND($L$156*$K$156,2) -> 0 | U156: základní | V156: 0 | W156: =$V$156*$K$156 -> 0 | X156: 0 | Y156: =$X$156*$K$156 -> 0 | Z156: 0 | AA156: =$Z$156*$K$156 -> 0 | AR156: 64 | AT156: K | AU156: 2 | AY156: ROZPOCET | BE156: =IF($U$156="základní",$N$156,0) -> 0 | BF156: =IF($U$156="snížená",$N$156,0) -> 0 | BG156: =IF($U$156="zákl. přenesená",$N$156,0) -> 0 | BH156: =IF($U$156="sníž. přenesená",$N$156,0) -> 0 | BI156: =IF($U$156="nulová",$N$156,0) -> 0 | BJ156: 1 | BK156: =ROUND($L$156*$K$156,2) -> 0 | BL156: 64
C157: 28 | D157: K | E157: 46515 | F157: roura korugovaná KOPODUR KD09110 pr.110/94mm | J157: m | K157: 27 | L157: 0 | N157: =ROUND($L$157*$K$157,2) -> 0 | U157: základní | V157: 0 | W157: =$V$157*$K$157 -> 0 | X157: 0 | Y157: =$X$157*$K$157 -> 0 | Z157: 0 | AA157: =$Z$157*$K$157 -> 0 | AR157: 64 | AT157: K | AU157: 2 | AY157: ROZPOCET | BE157: =IF($U$157="základní",$N$157,0) -> 0 | BF157: =IF($U$157="snížená",$N$157,0) -> 0 | BG157: =IF($U$157="zákl. přenesená",$N$157,0) -> 0 | BH157: =IF($U$157="sníž. přenesená",$N$157,0) -> 0 | BI157: =IF($U$157="nulová",$N$157,0) -> 0 | BJ157: 1 | BK157: =ROUND($L$157*$K$157,2) -> 0 | BL157: 64
C158: 29 | D158: K | E158: 46525 | F158: /roura korugovaná 09110/ spojka 02110 | J158: ks | K158: 5 | L158: 0 | N158: =ROUND($L$158*$K$158,2) -> 0 | U158: základní | V158: 0 | W158: =$V$158*$K$158 -> 0 | X158: 0 | Y158: =$X$158*$K$158 -> 0 | Z158: 0 | AA158: =$Z$158*$K$158 -> 0 | AR158: 64 | AT158: K | AU158: 2 | AY158: ROZPOCET | BE158: =IF($U$158="základní",$N$158,0) -> 0 | BF158: =IF($U$158="snížená",$N$158,0) -> 0 | BG158: =IF($U$158="zákl. přenesená",$N$158,0) -> 0 | BH158: =IF($U$158="sníž. přenesená",$N$158,0) -> 0 | BI158: =IF($U$158="nulová",$N$158,0) -> 0 | BJ158: 1 | BK158: =ROUND($L$158*$K$158,2) -> 0 | BL158: 64
C159: 30 | D159: K | E159: 46112 | F159: štěrkopísek 0-16mm | J159: m3 | K159: 8.42 | L159: 0 | N159: =ROUND($L$159*$K$159,2) -> 0 | U159: základní | V159: 0 | W159: =$V$159*$K$159 -> 0 | X159: 0 | Y159: =$X$159*$K$159 -> 0 | Z159: 0 | AA159: =$Z$159*$K$159 -> 0 | AR159: 64 | AT159: K | AU159: 2 | AY159: ROZPOCET | BE159: =IF($U$159="základní",$N$159,0) -> 0 | BF159: =IF($U$159="snížená",$N$159,0) -> 0 | BG159: =IF($U$159="zákl. přenesená",$N$159,0) -> 0 | BH159: =IF($U$159="sníž. přenesená",$N$159,0) -> 0 | BI159: =IF($U$159="nulová",$N$159,0) -> 0 | BJ159: 1 | BK159: =ROUND($L$159*$K$159,2) -> 0 | BL159: 64
C160: 31 | D160: K | E160: 46133 | F160: beton B10 | J160: m3 | K160: 1.84 | L160: 0 | N160: =ROUND($L$160*$K$160,2) -> 0 | U160: základní | V160: 0 | W160: =$V$160*$K$160 -> 0 | X160: 0 | Y160: =$X$160*$K$160 -> 0 | Z160: 0 | AA160: =$Z$160*$K$160 -> 0 | AR160: 64 | AT160: K | AU160: 2 | AY160: ROZPOCET | BE160: =IF($U$160="základní",$N$160,0) -> 0 | BF160: =IF($U$160="snížená",$N$160,0) -> 0 | BG160: =IF($U$160="zákl. přenesená",$N$160,0) -> 0 | BH160: =IF($U$160="sníž. přenesená",$N$160,0) -> 0 | BI160: =IF($U$160="nulová",$N$160,0) -> 0 | BJ160: 1 | BK160: =ROUND($L$160*$K$160,2) -> 0 | BL160: 64
C161: 32 | D161: K | E161: 46515 | F161: roura korugovaná KOPODUR KD09110 pr.110/94mm | J161: m | K161: 9 | L161: 0 | N161: =ROUND($L$161*$K$161,2) -> 0 | U161: základní | V161: 0 | W161: =$V$161*$K$161 -> 0 | X161: 0 | Y161: =$X$161*$K$161 -> 0 | Z161: 0 | AA161: =$Z$161*$K$161 -> 0 | AR161: 64 | AT161: K | AU161: 2 | AY161: ROZPOCET | BE161: =IF($U$161="základní",$N$161,0) -> 0 | BF161: =IF($U$161="snížená",$N$161,0) -> 0 | BG161: =IF($U$161="zákl. přenesená",$N$161,0) -> 0 | BH161: =IF($U$161="sníž. přenesená",$N$161,0) -> 0 | BI161: =IF($U$161="nulová",$N$161,0) -> 0 | BJ161: 1 | BK161: =ROUND($L$161*$K$161,2) -> 0 | BL161: 64
C162: 33 | D162: K | E162: 46525 | F162: /roura korugovaná 09110/ spojka 02110 | J162: ks | K162: 2 | L162: 0 | N162: =ROUND($L$162*$K$162,2) -> 0 | U162: základní | V162: 0 | W162: =$V$162*$K$162 -> 0 | X162: 0 | Y162: =$X$162*$K$162 -> 0 | Z162: 0 | AA162: =$Z$162*$K$162 -> 0 | AR162: 64 | AT162: K | AU162: 2 | AY162: ROZPOCET | BE162: =IF($U$162="základní",$N$162,0) -> 0 | BF162: =IF($U$162="snížená",$N$162,0) -> 0 | BG162: =IF($U$162="zákl. přenesená",$N$162,0) -> 0 | BH162: =IF($U$162="sníž. přenesená",$N$162,0) -> 0 | BI162: =IF($U$162="nulová",$N$162,0) -> 0 | BJ162: 1 | BK162: =ROUND($L$162*$K$162,2) -> 0 | BL162: 64
...

Sheet SO 400.02 - Chráničky ele...
D1: List obsahuje: | F1: 1) Krycí list rozpočtu | H1: 2) Rekapitulace rozpočtu | L1: 3) Rozpočet | O1: Zpět na list: | S1: Rekapitulace stavby
C2: optimalizováno pro tisk sestav ve formátu A4 - na výšku | S2: >> skryté sloupce << | AT2: {6A4D7BF6-1D08-4818-A04F-8BC59D2E457B}
AT3: 2
C4: KRYCÍ LIST ROZPOČTU | T4: v --- níže se nacházejí doplnkové a pomocné údaje k sestavám --- v | AT4: False
D6: Stavba: | F6: ='Rekapitulace stavby'!$K$6 -> Přístupové komunikace do průmyslové zóny
D7: Objekt: | F7: SO 400.02 - Chráničky elektro
D8: JKSO: | M8: CC-CZ:
D9: Místo: | F9: Město Ralsko | M9: Datum: | O9: ='Rekapitulace stavby'!$AN$8 -> 42530
D11: Objednavatel: | M11: IČ: | O11: =IF('Rekapitulace stavby'!$AN$10="","",'Rekapitulace stavby'!$AN$10)
E12: =IF('Rekapitulace stavby'!$E$11="","",'Rekapitulace stavby'!$E$11) | M12: DIČ: | O12: =IF('Rekapitulace stavby'!$AN$11="","",'Rekapitulace stavby'!$AN$11)
D14: Zhotovitel: | M14: IČ: | O14: =IF('Rekapitulace stavby'!$AN$13="","",'Rekapitulace stavby'!$AN$13) -> Vyplň údaj
E15: =IF('Rekapitulace stavby'!$E$14="","",'Rekapitulace stavby'!$E$14) -> Vyplň údaj | M15: DIČ: | O15: =IF('Rekapitulace stavby'!$AN$14="","",'Rekapitulace stavby'!$AN$14) -> Vyplň údaj
D17: Projektant: | M17: IČ: | O17: =IF('Rekapitulace stavby'!$AN$16="","",'Rekapitulace stavby'!$AN$16)
E18: =IF('Rekapitulace stavby'!$E$17="","",'Rekapitulace stavby'!$E$17) | M18: DIČ: | O18: =IF('Rekapitulace stavby'!$AN$17="","",'Rekapitulace stavby'!$AN$17)
D20: Zpracovatel: | M20: IČ: | O20: =IF('Rekapitulace stavby'!$AN$19="","",'Rekapitulace stavby'!$AN$19)
E21: =IF('Rekapitulace stavby'!$E$20="","",'Rekapitulace stavby'!$E$20) | M21: DIČ: | O21: =IF('Rekapitulace stavby'!$AN$20="","",'Rekapitulace stavby'!$AN$20)
D24: Náklady z rozpočtu | M24: =$N$88 -> 0
D25: Ostatní náklady | M25: =$N$94 -> 0
D27: Cena bez DPH | M27: =ROUND($M$24+$M$25,2) -> 0
D29: DPH | E29: základní | F29: 0.21 | G29: ze | H29: =ROUND((((SUM($BE$94:$BE$101)+SUM($BE$119:$BE$146))+SUM($BE$147:$BE$148))),2) -> 0 | M29: =ROUND((((SUM($BE$94:$BE$101)+SUM($BE$119:$BE$146))*$F$29)+SUM($BE$147:$BE$148)*$F$29),2) -> 0
E30: snížená | F30: 0.15 | G30: ze | H30: =ROUND((((SUM($BF$94:$BF$101)+SUM($BF$119:$BF$146))+SUM($BF$147:$BF$148))),2) -> 0 | M30: =ROUND((((SUM($BF$94:$BF$101)+SUM($BF$119:$BF$146))*$F$30)+SUM($BF$147:$BF$148)*$F$30),2) -> 0
E31: zákl. přenesená | F31: 0.21 | G31: ze | H31: =ROUND((((SUM($BG$94:$BG$101)+SUM($BG$119:$BG$146))+SUM($BG$147:$BG$148))),2) -> 0 | M31: 0
E32: sníž. přenesená | F32: 0.15 | G32: ze | H32: =ROUND((((SUM($BH$94:$BH$101)+SUM($BH$119:$BH$146))+SUM($BH$147:$BH$148))),2) -> 0 | M32: 0
E33: nulová | F33: 0 | G33: ze | H33: =ROUND((((SUM($BI$94:$BI$101)+SUM($BI$119:$BI$146))+SUM($BI$147:$BI$148))),2) -> 0 | M33: 0
D35: Cena s DPH | G35: v | H35: CZK | L35: =ROUND(SUM($M$27:$M$33),2) -> 0
D50: Projektant | J50: Zpracovatel
D59: Datum a podpis: | G59: Razítko | J59: Datum a podpis: | N59: Razítko
D61: Objednavatel | J61: Zhotovitel
D70: Datum a podpis: | G70: Razítko | J70: Datum a podpis: | N70: Razítko
C76: REKAPITULACE ROZPOČTU
C78: Stavba: | F78: =$F$6 -> Přístupové komunikace do průmyslové zóny
C79: Objekt: | F79: =$F$7 -> SO 400.02 - Chráničky elektro
C81: Místo: | F81: =$F$9 -> Město Ralsko | K81: Datum: | M81: =IF($O$9="","",$O$9) -> 42530
C83: Objednavatel: | F83: =$E$12 | K83: Projektant: | M83: =$E$18
C84: Zhotovitel: | F84: =IF($E$15="","",$E$15) -> Vyplň údaj | K84: Zpracovatel: | M84: =$E$21
C86: Kód - Popis | N86: Cena celkem [CZK]
C88: 1) Náklady z rozpočtu | N88: =ROUND($N$119,2) -> 0 | AU88: -1
D89: M - Práce a dodávky M | N89: =ROUND($N$120,2) -> 0
D90: 46-D - Materiál zemní | N90: =ROUND($N$121,2) -> 0
D91: 46-M - Zemní práce při extr.mont.pracích | N91: =ROUND($N$127,2) -> 0
D92: 58-M - Revize vyhrazených technických zařízení a ostatní činnosti | N92: =ROUND($N$140,2) -> 0
C94: 2) Ostatní náklady | N94: =ROUND($N$95+$N$96+$N$97+$N$98+$N$99+$N$100,2) -> 0 | U94: DPH
D95: Zařízení staveniště | N95: =ROUND($N$88*$T$95,2) -> 0 | U95: základní | AY95: VRN | BE95: =IF($U$95="základní",$N$95,0) -> 0 | BF95: =IF($U$95="snížená",$N$95,0) -> 0 | BG95: =IF($U$95="zákl. přenesená",$N$95,0) -> 0 | BH95: =IF($U$95="sníž. přenesená",$N$95,0) -> 0 | BI95: =IF($U$95="nulová",$N$95,0) -> 0 | BJ95: 1
D96: Investorská činnost | N96: =ROUND($N$88*$T$96,2) -> 0 | U96: základní | AY96: VRN | BE96: =IF($U$96="základní",$N$96,0) -> 0 | BF96: =IF($U$96="snížená",$N$96,0) -> 0 | BG96: =IF($U$96="zákl. přenesená",$N$96,0) -> 0 | BH96: =IF($U$96="sníž. přenesená",$N$96,0) -> 0 | BI96: =IF($U$96="nulová",$N$96,0) -> 0 | BJ96: 1
D97: Územní vlivy | N97: =ROUND($N$88*$T$97,2) -> 0 | U97: základní | AY97: VRN | BE97: =IF($U$97="základní",$N$97,0) -> 0 | BF97: =IF($U$97="snížená",$N$97,0) -> 0 | BG97: =IF($U$97="zákl. přenesená",$N$97,0) -> 0 | BH97: =IF($U$97="sníž. přenesená",$N$97,0) -> 0 | BI97: =IF($U$97="nulová",$N$97,0) -> 0 | BJ97: 1
D98: Provozní vlivy | N98: =ROUND($N$88*$T$98,2) -> 0 | U98: základní | AY98: VRN | BE98: =IF($U$98="základní",$N$98,0) -> 0 | BF98: =IF($U$98="snížená",$N$98,0) -> 0 | BG98: =IF($U$98="zákl. přenesená",$N$98,0) -> 0 | BH98: =IF($U$98="sníž. přenesená",$N$98,0) -> 0 | BI98: =IF($U$98="nulová",$N$98,0) -> 0 | BJ98: 1
D99: Jiné VRN | N99: =ROUND($N$88*$T$99,2) -> 0 | U99: základní | AY99: VRN | BE99: =IF($U$99="základní",$N$99,0) -> 0 | BF99: =IF($U$99="snížená",$N$99,0) -> 0 | BG99: =IF($U$99="zákl. přenesená",$N$99,0) -> 0 | BH99: =IF($U$99="sníž. přenesená",$N$99,0) -> 0 | BI99: =IF($U$99="nulová",$N$99,0) -> 0 | BJ99: 1
D100: Kompletační činnosť | N100: =ROUND($N$88*$T$100,2) -> 0 | U100: základní | AY100: KOMPLETACNA | BE100: =IF($U$100="základní",$N$100,0) -> 0 | BF100: =IF($U$100="snížená",$N$100,0) -> 0 | BG100: =IF($U$100="zákl. přenesená",$N$100,0) -> 0 | BH100: =IF($U$100="sníž. přenesená",$N$100,0) -> 0 | BI100: =IF($U$100="nulová",$N$100,0) -> 0 | BJ100: 1
C102: Celkové náklady za stavbu 1) + 2) | L102: =ROUND(SUM($N$88+$N$94),2) -> 0
C108: ROZPOČET
C110: Stavba: | F110: =$F$6 -> Přístupové komunikace do průmyslové zóny
C111: Objekt: | F111: =$F$7 -> SO 400.02 - Chráničky elektro
C113: Místo: | F113: =$F$9 -> Město Ralsko | K113: Datum: | M113: =IF($O$9="","",$O$9) -> 42530
C115: Objednavatel: | F115: =$E$12 | K115: Projektant: | M115: =$E$18
C116: Zhotovitel: | F116: =IF($E$15="","",$E$15) -> Vyplň údaj | K116: Zpracovatel: | M116: =$E$21
C118: PČ | D118: Typ | E118: Kód | F118: Popis | J118: MJ | K118: Množství | L118: J.cena [CZK] | N118: Cena celkem [CZK] | T118: Poznámka | U118: DPH | V118: J. Nh [h] | W118: Nh celkom [h] | X118: J. hmotnost [t] | Y118: Hmotnost celkem [t] | Z118: J. suť [t] | AA118: Suť Celkem [t]
C119: Náklady z rozpočtu | N119: =$BK$119 -> 0 | W119: =$W$120+$W$147 -> 104.976 | Y119: =$Y$120+$Y$147 -> 0 | AA119: =$AA$120+$AA$147 -> 0 | AT119: D | AU119: -1 | BK119: =$BK$120+$BK$147 -> 0
D120: M - Práce a dodávky M | N120: =$BK$120 -> 0 | W120: =$W$121+$W$127+$W$140 -> 104.976 | Y120: =$Y$121+$Y$127+$Y$140 -> 0 | AA120: =$AA$121+$AA$127+$AA$140 -> 0 | AR120: 3 | AT120: D | AU120: 0 | AY120: ROZPOCET | BK120: =$BK$121+$BK$127+$BK$140 -> 0
D121: 46-D - Materiál zemní | N121: =$BK$121 -> 0 | W121: =SUM($W$122:$W$126) -> 0 | Y121: =SUM($Y$122:$Y$126) -> 0 | AA121: =SUM($AA$122:$AA$126) -> 0 | AR121: 3 | AT121: D | AU121: 1 | AY121: ROZPOCET | BK121: =SUM($BK$122:$BK$126) -> 0
C122: 1 | D122: K | E122: 46112 | F122: štěrkopísek 0-16mm | J122: m3 | K122: 10.125 | L122: 0 | N122: =ROUND($L$122*$K$122,2) -> 0 | U122: základní | V122: 0 | W122: =$V$122*$K$122 -> 0 | X122: 0 | Y122: =$X$122*$K$122 -> 0 | Z122: 0 | AA122: =$Z$122*$K$122 -> 0 | AR122: 64 | AT122: K | AU122: 2 | AY122: ROZPOCET | BE122: =IF($U$122="základní",$N$122,0) -> 0 | BF122: =IF($U$122="snížená",$N$122,0) -> 0 | BG122: =IF($U$122="zákl. přenesená",$N$122,0) -> 0 | BH122: =IF($U$122="sníž. přenesená",$N$122,0) -> 0 | BI122: =IF($U$122="nulová",$N$122,0) -> 0 | BJ122: 1 | BK122: =ROUND($L$122*$K$122,2) -> 0 | BL122: 64
F123: 0,625*0,3*54 | K123: 10.125 | AT123: VV | AU123: 2 | AV123: 2 | AW123: -1 | AX123: 0 | AY123: ROZPOCET
C124: 2 | D124: K | E124: 46515 | F124: roura korugovaná KOPODUR KD09110 pr.110/94mm | J124: m | K124: 123 | L124: 0 | N124: =ROUND($L$124*$K$124,2) -> 0 | U124: základní | V124: 0 | W124: =$V$124*$K$124 -> 0 | X124: 0 | Y124: =$X$124*$K$124 -> 0 | Z124: 0 | AA124: =$Z$124*$K$124 -> 0 | AR124: 64 | AT124: K | AU124: 2 | AY124: ROZPOCET | BE124: =IF($U$124="základní",$N$124,0) -> 0 | BF124: =IF($U$124="snížená",$N$124,0) -> 0 | BG124: =IF($U$124="zákl. přenesená",$N$124,0) -> 0 | BH124: =IF($U$124="sníž. přenesená",$N$124,0) -> 0 | BI124: =IF($U$124="nulová",$N$124,0) -> 0 | BJ124: 1 | BK124: =ROUND($L$124*$K$124,2) -> 0 | BL124: 64
F125: 14*4+13,5*2+13+13,5*2 | K125: 123 | AT125: VV | AU125: 2 | AV125: 2 | AW125: -1 | AX125: 0 | AY125: ROZPOCET
C126: 3 | D126: K | E126: 46383 | F126: výstražná fólie šířka 0,34m | J126: m | K126: 54 | L126: 0 | N126: =ROUND($L$126*$K$126,2) -> 0 | U126: základní | V126: 0 | W126: =$V$126*$K$126 -> 0 | X126: 0 | Y126: =$X$126*$K$126 -> 0 | Z126: 0 | AA126: =$Z$126*$K$126 -> 0 | AR126: 64 | AT126: K | AU126: 2 | AY126: ROZPOCET | BE126: =IF($U$126="základní",$N$126,0) -> 0 | BF126: =IF($U$126="snížená",$N$126,0) -> 0 | BG126: =IF($U$126="zákl. přenesená",$N$126,0) -> 0 | BH126: =IF($U$126="sníž. přenesená",$N$126,0) -> 0 | BI126: =IF($U$126="nulová",$N$126,0) -> 0 | BJ126: 1 | BK126: =ROUND($L$126*$K$126,2) -> 0 | BL126: 64
D127: 46-M - Zemní práce při extr.mont.pracích | N127: =$BK$127 -> 0 | W127: =SUM($W$128:$W$139) -> 104.976 | Y127: =SUM($Y$128:$Y$139) -> 0 | AA127: =SUM($AA$128:$AA$139) -> 0 | AR127: 3 | AT127: D | AU127: 1 | AY127: ROZPOCET | BK127: =SUM($BK$128:$BK$139) -> 0
C128: 4 | D128: K | E128: 460200693 | F128: Hloubení kabelových nezapažených rýh ručně š 65 cm, hl 130 cm, v hornině tř 3 | J128: m | K128: 54 | L128: 0 | N128: =ROUND($L$128*$K$128,2) -> 0 | U128: základní | V128: 1.233 | W128: =$V$128*$K$128 -> 66.582 | X128: 0 | Y128: =$X$128*$K$128 -> 0 | Z128: 0 | AA128: =$Z$128*$K$128 -> 0 | AR128: 64 | AT128: K | AU128: 2 | AY128: ROZPOCET | BE128: =IF($U$128="základní",$N$128,0) -> 0 | BF128: =IF($U$128="snížená",$N$128,0) -> 0 | BG128: =IF($U$128="zákl. přenesená",$N$128,0) -> 0 | BH128: =IF($U$128="sníž. přenesená",$N$128,0) -> 0 | BI128: =IF($U$128="nulová",$N$128,0) -> 0 | BJ128: 1 | BK128: =ROUND($L$128*$K$128,2) -> 0 | BL128: 64
F129: 14+13,5+13+13,5 | K129: 54 | AT129: VV | AU129: 2 | AV129: 2 | AW129: -1 | AX129: 0 | AY129: ROZPOCET
C130: 5 | D130: K | E130: 460600001 | F130: odvoz zeminy do 10km vč.poplatku za skládku | J130: m3 | K130: 10.125 | L130: 0 | N130: =ROUND($L$130*$K$130,2) -> 0 | U130: základní | V130: 0 | W130: =$V$130*$K$130 -> 0 | X130: 0 | Y130: =$X$130*$K$130 -> 0 | Z130: 0 | AA130: =$Z$130*$K$130 -> 0 | AR130: 64 | AT130: K | AU130: 2 | AY130: ROZPOCET | BE130: =IF($U$130="základní",$N$130,0) -> 0 | BF130: =IF($U$130="snížená",$N$130,0) -> 0 | BG130: =IF($U$130="zákl. přenesená",$N$130,0) -> 0 | BH130: =IF($U$130="sníž. přenesená",$N$130,0) -> 0 | BI130: =IF($U$130="nulová",$N$130,0) -> 0 | BJ130: 1 | BK130: =ROUND($L$130*$K$130,2) -> 0 | BL130: 64
F131: 54*0,3*0,625 | K131: 10.125 | AT131: VV | AU131: 2 | AV131: 2 | AW131: -1 | AX131: 0 | AY131: ROZPOCET
C132: 6 | D132: K | E132: 460510031 | F132: kabelový prostup z ohebné roury plast pr.110mm | J132: m | K132: 54 | L132: 0 | N132: =ROUND($L$132*$K$132,2) -> 0 | U132: základní | V132: 0 | W132: =$V$132*$K$132 -> 0 | X132: 0 | Y132: =$X$132*$K$132 -> 0 | Z132: 0 | AA132: =$Z$132*$K$132 -> 0 | AR132: 64 | AT132: K | AU132: 2 | AY132: ROZPOCET | BE132: =IF($U$132="základní",$N$132,0) -> 0 | BF132: =IF($U$132="snížená",$N$132,0) -> 0 | BG132: =IF($U$132="zákl. přenesená",$N$132,0) -> 0 | BH132: =IF($U$132="sníž. přenesená",$N$132,0) -> 0 | BI132: =IF($U$132="nulová",$N$132,0) -> 0 | BJ132: 1 | BK132: =ROUND($L$132*$K$132,2) -> 0 | BL132: 64
C133: 7 | D133: K | E133: 460650015 | F133: podklad nebo zához štěrkopískem | J133: m3 | K133: 11.813 | L133: 0 | N133: =ROUND($L$133*$K$133,2) -> 0 | U133: základní | V133: 0 | W133: =$V$133*$K$133 -> 0 | X133: 0 | Y133: =$X$133*$K$133 -> 0 | Z133: 0 | AA133: =$Z$133*$K$133 -> 0 | AR133: 64 | AT133: K | AU133: 2 | AY133: ROZPOCET | BE133: =IF($U$133="základní",$N$133,0) -> 0 | BF133: =IF($U$133="snížená",$N$133,0) -> 0 | BG133: =IF($U$133="zákl. přenesená",$N$133,0) -> 0 | BH133: =IF($U$133="sníž. přenesená",$N$133,0) -> 0 | BI133: =IF($U$133="nulová",$N$133,0) -> 0 | BJ133: 1 | BK133: =ROUND($L$133*$K$133,2) -> 0 | BL133: 64
F134: 54*0,625*0,35 | K134: 11.813 | AT134: VV | AU134: 2 | AV134: 2 | AW134: -1 | AX134: 0 | AY134: ROZPOCET
C135: 8 | D135: K | E135: 460710003 | F135: geodetické zaměření skutečné polohy-členitá trasa | J135: m | K135: 54 | L135: 0 | N135: =ROUND($L$135*$K$135,2) -> 0 | U135: základní | V135: 0 | W135: =$V$135*$K$135 -> 0 | X135: 0 | Y135: =$X$135*$K$135 -> 0 | Z135: 0 | AA135: =$Z$135*$K$135 -> 0 | AR135: 64 | AT135: K | AU135: 2 | AY135: ROZPOCET | BE135: =IF($U$135="základní",$N$135,0) -> 0 | BF135: =IF($U$135="snížená",$N$135,0) -> 0 | BG135: =IF($U$135="zákl. přenesená",$N$135,0) -> 0 | BH135: =IF($U$135="sníž. přenesená",$N$135,0) -> 0 | BI135: =IF($U$135="nulová",$N$135,0) -> 0 | BJ135: 1 | BK135: =ROUND($L$135*$K$135,2) -> 0 | BL135: 64
C136: 9 | D136: K | E136: 460490012 | F136: výstražná fólie šířka nad 30cm | J136: m | K136: 54 | L136: 0 | N136: =ROUND($L$136*$K$136,2) -> 0 | U136: základní | V136: 0 | W136: =$V$136*$K$136 -> 0 | X136: 0 | Y136: =$X$136*$K$136 -> 0 | Z136: 0 | AA136: =$Z$136*$K$136 -> 0 | AR136: 64 | AT136: K | AU136: 2 | AY136: ROZPOCET | BE136: =IF($U$136="základní",$N$136,0) -> 0 | BF136: =IF($U$136="snížená",$N$136,0) -> 0 | BG136: =IF($U$136="zákl. přenesená",$N$136,0) -> 0 | BH136: =IF($U$136="sníž. přenesená",$N$136,0) -> 0 | BI136: =IF($U$136="nulová",$N$136,0) -> 0 | BJ136: 1 | BK136: =ROUND($L$136*$K$136,2) -> 0 | BL136: 64
C137: 10 | D137: K | E137: 460560693 | F137: Zásyp rýh ručně šířky 65 cm, hloubky 130 cm, z horniny třídy 3 | J137: m | K137: 54 | L137: 0 | N137: =ROUND($L$137*$K$137,2) -> 0 | U137: základní | V137: 0.711 | W137: =$V$137*$K$137 -> 38.394 | X137: 0 | Y137: =$X$137*$K$137 -> 0 | Z137: 0 | AA137: =$Z$137*$K$137 -> 0 | AR137: 64 | AT137: K | AU137: 2 | AY137: ROZPOCET | BE137: =IF($U$137="základní",$N$137,0) -> 0 | BF137: =IF($U$137="snížená",$N$137,0) -> 0 | BG137: =IF($U$137="zákl. přenesená",$N$137,0) -> 0 | BH137: =IF($U$137="sníž. přenesená",$N$137,0) -> 0 | BI137: =IF($U$137="nulová",$N$137,0) -> 0 | BJ137: 1 | BK137: =ROUND($L$137*$K$137,2) -> 0 | BL137: 64
C138: 11 | D138: K | E138: 460620013 | F138: provizorní úprava terénu třída zeminy 3 | J138: m2 | K138: 54 | L138: 0 | N138: =ROUND($L$138*$K$138,2) -> 0 | U138: základní | V138: 0 | W138: =$V$138*$K$138 -> 0 | X138: 0 | Y138: =$X$138*$K$138 -> 0 | Z138: 0 | AA138: =$Z$138*$K$138 -> 0 | AR138: 64 | AT138: K | AU138: 2 | AY138: ROZPOCET | BE138: =IF($U$138="základní",$N$138,0) -> 0 | BF138: =IF($U$138="snížená",$N$138,0) -> 0 | BG138: =IF($U$138="zákl. přenesená",$N$138,0) -> 0 | BH138: =IF($U$138="sníž. přenesená",$N$138,0) -> 0 | BI138: =IF($U$138="nulová",$N$138,0) -> 0 | BJ138: 1 | BK138: =ROUND($L$138*$K$138,2) -> 0 | BL138: 64
F139: 54*1 | K139: 54 | AT139: VV | AU139: 2 | AV139: 2 | AW139: -1 | AX139: 0 | AY139: ROZPOCET
D140: 58-M - Revize vyhrazených technických zařízení a ostatní činnosti | N140: =$BK$140 -> 0 | W140: =SUM($W$141:$W$146) -> 0 | Y140: =SUM($Y$141:$Y$146) -> 0 | AA140: =SUM($AA$141:$AA$146) -> 0 | AR140: 3 | AT140: D | AU140: 1 | AY140: ROZPOCET | BK140: =SUM($BK$141:$BK$146) -> 0
C141: 12 | D141: K | E141: 58-M-R01 | F141: Doprava dodávek | J141: % | K141: 0 | L141: 0 | N141: =ROUND($L$141*$K$141,2) -> 0 | U141: základní | V141: 0 | W141: =$V$141*$K$141 -> 0 | X141: 0 | Y141: =$X$141*$K$141 -> 0 | Z141: 0 | AA141: =$Z$141*$K$141 -> 0 | AR141: 64 | AT141: K | AU141: 2 | AY141: ROZPOCET | BE141: =IF($U$141="základní",$N$141,0) -> 0 | BF141: =IF($U$141="snížená",$N$141,0) -> 0 | BG141: =IF($U$141="zákl. přenesená",$N$141,0) -> 0 | BH141: =IF($U$141="sníž. přenesená",$N$141,0) -> 0 | BI141: =IF($U$141="nulová",$N$141,0) -> 0 | BJ141: 1 | BK141: =ROUND($L$141*$K$141,2) -> 0 | BL141: 64
C142: 13 | D142: K | E142: 58-M-R02 | F142: Přesun dodávek | J142: % | K142: 0 | L142: 0 | N142: =ROUND($L$142*$K$142,2) -> 0 | U142: základní | V142: 0 | W142: =$V$142*$K$142 -> 0 | X142: 0 | Y142: =$X$142*$K$142 -> 0 | Z142: 0 | AA142: =$Z$142*$K$142 -> 0 | AR142: 64 | AT142: K | AU142: 2 | AY142: ROZPOCET | BE142: =IF($U$142="základní",$N$142,0) -> 0 | BF142: =IF($U$142="snížená",$N$142,0) -> 0 | BG142: =IF($U$142="zákl. přenesená",$N$142,0) -> 0 | BH142: =IF($U$142="sníž. přenesená",$N$142,0) -> 0 | BI142: =IF($U$142="nulová",$N$142,0) -> 0 | BJ142: 1 | BK142: =ROUND($L$142*$K$142,2) -> 0 | BL142: 64
C143: 14 | D143: K | E143: 58-M-R03 | F143: Materiál elektromontážní - prořez | J143: % | K143: 0 | L143: 0 | N143: =ROUND($L$143*$K$143,2) -> 0 | U143: základní | V143: 0 | W143: =$V$143*$K$143 -> 0 | X143: 0 | Y143: =$X$143*$K$143 -> 0 | Z143: 0 | AA143: =$Z$143*$K$143 -> 0 | AR143: 64 | AT143: K | AU143: 2 | AY143: ROZPOCET | BE143: =IF($U$143="základní",$N$143,0) -> 0 | BF143: =IF($U$143="snížená",$N$143,0) -> 0 | BG143: =IF($U$143="zákl. přenesená",$N$143,0) -> 0 | BH143: =IF($U$143="sníž. přenesená",$N$143,0) -> 0 | BI143: =IF($U$143="nulová",$N$143,0) -> 0 | BJ143: 1 | BK143: =ROUND($L$143*$K$143,2) -> 0 | BL143: 64
C144: 15 | D144: K | E144: 58-M-R04 | F144: Materiál podružný | J144: % | K144: 0 | L144: 0 | N144: =ROUND($L$144*$K$144,2) -> 0 | U144: základní | V144: 0 | W144: =$V$144*$K$144 -> 0 | X144: 0 | Y144: =$X$144*$K$144 -> 0 | Z144: 0 | AA144: =$Z$144*$K$144 -> 0 | AR144: 64 | AT144: K | AU144: 2 | AY144: ROZPOCET | BE144: =IF($U$144="základní",$N$144,0) -> 0 | BF144: =IF($U$144="snížená",$N$144,0) -> 0 | BG144: =IF($U$144="zákl. přenesená",$N$144,0) -> 0 | BH144: =IF($U$144="sníž. přenesená",$N$144,0) -> 0 | BI144: =IF($U$144="nulová",$N$144,0) -> 0 | BJ144: 1 | BK144: =ROUND($L$144*$K$144,2) -> 0 | BL144: 64
C145: 16 | D145: K | E145: 58-M-R05 | F145: PPV pro elektromontáže | J145: % | K145: 0 | L145: 0 | N145: =ROUND($L$145*$K$145,2) -> 0 | U145: základní | V145: 0 | W145: =$V$145*$K$145 -> 0 | X145: 0 | Y145: =$X$145*$K$145 -> 0 | Z145: 0 | AA145: =$Z$145*$K$145 -> 0 | AR145: 64 | AT145: K | AU145: 2 | AY145: ROZPOCET | BE145: =IF($U$145="základní",$N$145,0) -> 0 | BF145: =IF($U$145="snížená",$N$145,0) -> 0 | BG145: =IF($U$145="zákl. přenesená",$N$145,0) -> 0 | BH145: =IF($U$145="sníž. přenesená",$N$145,0) -> 0 | BI145: =IF($U$145="nulová",$N$145,0) -> 0 | BJ145: 1 | BK145: =ROUND($L$145*$K$145,2) -> 0 | BL145: 64
C146: 17 | D146: K | E146: 58-M-R06 | F146: PPV pro zemní práce | J146: % | K146: 0 | L146: 0 | N146: =ROUND($L$146*$K$146,2) -> 0 | U146: základní | V146: 0 | W146: =$V$146*$K$146 -> 0 | X146: 0 | Y146: =$X$146*$K$146 -> 0 | Z146: 0 | AA146: =$Z$146*$K$146 -> 0 | AR146: 64 | AT146: K | AU146: 2 | AY146: ROZPOCET | BE146: =IF($U$146="základní",$N$146,0) -> 0 | BF146: =IF($U$146="snížená",$N$146,0) -> 0 | BG146: =IF($U$146="zákl. přenesená",$N$146,0) -> 0 | BH146: =IF($U$146="sníž. přenesená",$N$146,0) -> 0 | BI146: =IF($U$146="nulová",$N$146,0) -> 0 | BJ146: 1 | BK146: =ROUND($L$146*$K$146,2) -> 0 | BL146: 64
D147: VP - Vícepráce | N147: =$BK$147 -> 0 | AT147: D | AU147: 0 | AY147: PN | BK147: 0
N65535: =$N$147 -> 0
