Workbook

Sheet Rekapitulace stavby
A1: 2012 | D1: List obsahuje: | K1: 1) Souhrnný list stavby | W1: 2) Rekapitulace objektů | BA1: 2.0 | BT1: False | BU1: False
C2: optimalizováno pro tisk sestav ve formátu A4 - na výšku | AR2: >> skryté sloupce << | BS2: 0,01 | BT2: 21
BS3: 0,01 | BT3: 15
C4: SOUHRNNÝ LIST STAVBY | AS4: v --- níže se nacházejí doplnkové a pomocné údaje k sestavám --- v | BE4: Návod na vyplnění | BS4: 0,001
D5: Kód: | K5: 2016-10 | BE5: Měnit lze pouze buňky se žlutým podbarvením! 1) na prvním listu Rekapitulace stavby vyplňte v sestavě a) Souhrnný list - údaje o Zhotoviteli (přenesou se do ostatních sestav i v jiných listech) b) Rekapitulace objektů - potřebné Ostatní náklady 2) na vybraných listech vyplňte v sestavě a) Krycí list - údaje o Zhotoviteli, pokud se liší od údajů o Zhotoviteli na Souhrnném listu (údaje se přenesou do ostatních sestav v daném listu) b) Rekapitulace rozpočtu - potřebné Ostatní náklady c) Rozpočet - ceny u položek - množství, pokud má žluté podbarvení - a v případe potřeby poznámku (ta je v skrytém sloupci) | BS5: 0,01
D6: Stavba: | K6: Přístupové komunikace do průmyslové zóny | BS6: 0,1
D7: JKSO: | AK7: CC-CZ: | BS7: 1
D8: Místo: | K8: Město Ralsko | AK8: Datum: | AN8: 42530 | BS8: 10
BS9: 100
D10: Objednavatel: | AK10: IČ: | BS10: 0,1
AK11: DIČ: | BS11: 0,1
BS12: 0,1
D13: Zhotovitel: | AK13: IČ: | AN13: Vyplň údaj | BS13: 0,1
E14: Vyplň údaj | AK14: DIČ: | AN14: Vyplň údaj | BS14: 0,1
BS15: False
D16: Projektant: | AK16: IČ: | BS16: False
AK17: DIČ: | BS17: True
BS18: 0,01
D19: Zpracovatel: | AK19: IČ: | BS19: 0,01
AK20: DIČ:
D23: Náklady z rozpočtů | AK23: =ROUND($AG$87,2) -> 0
D24: Ostatní náklady ze souhrnného listu | AK24: =ROUND($AG$95,2) -> 0
D26: Cena bez DPH | AK26: =ROUND($AK$23+$AK$24,2) -> 0
D28: DPH | F28: základní | L28: 0.21 | T28: ze | W28: =ROUND($AZ$87+SUM($CD$96:$CD$100),2) -> 0 | AK28: =ROUND($AV$87+SUM($BY$96:$BY$100),2) -> 0
F29: snížená | L29: 0.15 | T29: ze | W29: =ROUND($BA$87+SUM($CE$96:$CE$100),2) -> 0 | AK29: =ROUND($AW$87+SUM($BZ$96:$BZ$100),2) -> 0
F30: zákl. přenesená | L30: 0.21 | T30: ze | W30: =ROUND($BB$87+SUM($CF$96:$CF$100),2) -> 0 | AK30: 0
F31: sníž. přenesená | L31: 0.15 | T31: ze | W31: =ROUND($BC$87+SUM($CG$96:$CG$100),2) -> 0 | AK31: 0
F32: nulová | L32: 0 | T32: ze | W32: =ROUND($BD$87+SUM($CH$96:$CH$100),2) -> 0 | AK32: 0
D34: Cena s DPH | T34: v | X34: CZK | AK34: =ROUND(SUM($AK$26:$AK$32),2) -> 0
D49: Projektant | AC49: Zpracovatel
D58: Datum a podpis: | R58: Razítko | AC58: Datum a podpis: | AM58: Razítko
D60: Objednavatel | AC60: Zhotovitel
D69: Datum a podpis: | R69: Razítko | AC69: Datum a podpis: | AM69: Razítko
C76: REKAPITULACE OBJEKTŮ STAVBY
C77: Kód: | L77: =$K$5 -> 2016-10
C78: Stavba: | L78: =$K$6 -> Přístupové komunikace do průmyslové zóny
C80: Místo: | L80: =IF($K$8="","",$K$8) -> Město Ralsko | AI80: Datum: | AM80: =IF($AN$8="","",$AN$8) -> 42530
C82: Objednavatel: | L82: =IF($E$11="","",$E$11) | AI82: Projektant: | AM82: =IF($E$17="","",$E$17) | AS82: Informatívní údaje z listů zakázek
C83: Zhotovitel: | L83: =IF($E$14="Vyplň údaj","",$E$14) | AI83: Zpracovatel: | AM83: =IF($E$20="","",$E$20)
C85: Kód | I85: Objekt | AG85: Cena bez DPH [CZK] | AN85: Cena s DPH [CZK] | AS85: z toho Ostat. náklady [CZK] | AT85: DPH [CZK] | AU85: Normohodiny [h] | AV85: DPH základní [CZK] | AW85: DPH snížená [CZK] | AX85: DPH základní přenesená [CZK] | AY85: DPH snížená přenesená [CZK] | AZ85: Základna DPH základní | BA85: Základna DPH snížená | BB85: Základna DPH zákl. přenesená | BC85: Základna DPH sníž. přenesená | BD85: Základna DPH nulová
...

Sheet SO 000.01 - Příprava stav...
D1: List obsahuje: | F1: 1) Krycí list rozpočtu | H1: 2) Rekapitulace rozpočtu | L1: 3) Rozpočet | O1: Zpět na list: | S1: Rekapitulace stavby
C2: optimalizováno pro tisk sestav ve formátu A4 - na výšku | S2: >> skryté sloupce << | AT2: {CAA32158-7CAA-4F98-936C-06DE70C1A70F}
AT3: 2
C4: KRYCÍ LIST ROZPOČTU | T4: v --- níže se nacházejí doplnkové a pomocné údaje k sestavám --- v | AT4: False
D6: Stavba: | F6: ='Rekapitulace stavby'!$K$6 -> Přístupové komunikace do průmyslové zóny
D7: Objekt: | F7: SO 000.01 - Příprava staveniště
D8: JKSO: | M8: CC-CZ:
D9: Místo: | F9: Město Ralsko | M9: Datum: | O9: ='Rekapitulace stavby'!$AN$8 -> 42530
D11: Objednavatel: | M11: IČ: | O11: =IF('Rekapitulace stavby'!$AN$10="","",'Rekapitulace stavby'!$AN$10)
E12: =IF('Rekapitulace stavby'!$E$11="","",'Rekapitulace stavby'!$E$11) | M12: DIČ: | O12: =IF('Rekapitulace stavby'!$AN$11="","",'Rekapitulace stavby'!$AN$11)
D14: Zhotovitel: | M14: IČ: | O14: =IF('Rekapitulace stavby'!$AN$13="","",'Rekapitulace stavby'!$AN$13) -> Vyplň údaj
E15: =IF('Rekapitulace stavby'!$E$14="","",'Rekapitulace stavby'!$E$14) -> Vyplň údaj | M15: DIČ: | O15: =IF('Rekapitulace stavby'!$AN$14="","",'Rekapitulace stavby'!$AN$14) -> Vyplň údaj
D17: Projektant: | M17: IČ: | O17: =IF('Rekapitulace stavby'!$AN$16="","",'Rekapitulace stavby'!$AN$16)
E18: =IF('Rekapitulace stavby'!$E$17="","",'Rekapitulace stavby'!$E$17) | M18: DIČ: | O18: =IF('Rekapitulace stavby'!$AN$17="","",'Rekapitulace stavby'!$AN$17)
D20: Zpracovatel: | M20: IČ: | O20: =IF('Rekapitulace stavby'!$AN$19="","",'Rekapitulace stavby'!$AN$19)
E21: =IF('Rekapitulace stavby'!$E$20="","",'Rekapitulace stavby'!$E$20) | M21: DIČ: | O21: =IF('Rekapitulace stavby'!$AN$20="","",'Rekapitulace stavby'!$AN$20)
D24: Náklady z rozpočtu | M24: =$N$88 -> 0
D25: Ostatní náklady | M25: =$N$92 -> 0
D27: Cena bez DPH | M27: =ROUND($M$24+$M$25,2) -> 0
D29: DPH | E29: základní | F29: 0.21 | G29: ze | H29: =ROUND((((SUM($BE$92:$BE$99)+SUM($BE$117:$BE$153))+SUM($BE$154:$BE$155))),2) -> 0 | M29: =ROUND((((SUM($BE$92:$BE$99)+SUM($BE$117:$BE$153))*$F$29)+SUM($BE$154:$BE$155)*$F$29),2) -> 0
E30: snížená | F30: 0.15 | G30: ze | H30: =ROUND((((SUM($BF$92:$BF$99)+SUM($BF$117:$BF$153))+SUM($BF$154:$BF$155))),2) -> 0 | M30: =ROUND((((SUM($BF$92:$BF$99)+SUM($BF$117:$BF$153))*$F$30)+SUM($BF$154:$BF$155)*$F$30),2) -> 0
E31: zákl. přenesená | F31: 0.21 | G31: ze | H31: =ROUND((((SUM($BG$92:$BG$99)+SUM($BG$117:$BG$153))+SUM($BG$154:$BG$155))),2) -> 0 | M31: 0
E32: sníž. přenesená | F32: 0.15 | G32: ze | H32: =ROUND((((SUM($BH$92:$BH$99)+SUM($BH$117:$BH$153))+SUM($BH$154:$BH$155))),2) -> 0 | M32: 0
E33: nulová | F33: 0 | G33: ze | H33: =ROUND((((SUM($BI$92:$BI$99)+SUM($BI$117:$BI$153))+SUM($BI$154:$BI$155))),2) -> 0 | M33: 0
D35: Cena s DPH | G35: v | H35: CZK | L35: =ROUND(SUM($M$27:$M$33),2) -> 0
D50: Projektant | J50: Zpracovatel
D59: Datum a podpis: | G59: Razítko | J59: Datum a podpis: | N59: Razítko
D61: Objednavatel | J61: Zhotovitel
D70: Datum a podpis: | G70: Razítko | J70: Datum a podpis: | N70: Razítko
C76: REKAPITULACE ROZPOČTU
C78: Stavba: | F78: =$F$6 -> Přístupové komunikace do průmyslové zóny
C79: Objekt: | F79: =$F$7 -> SO 000.01 - Příprava staveniště
C81: Místo: | F81: =$F$9 -> Město Ralsko | K81: Datum: | M81: =IF($O$9="","",$O$9) -> 42530
C83: Objednavatel: | F83: =$E$12 | K83: Projektant: | M83: =$E$18
C84: Zhotovitel: | F84: =IF($E$15="","",$E$15) -> Vyplň údaj | K84: Zpracovatel: | M84: =$E$21
C86: Kód - Popis | N86: Cena celkem [CZK]
C88: 1) Náklady z rozpočtu | N88: =ROUND($N$117,2) -> 0 | AU88: -1
D89: HSV - Práce a dodávky HSV | N89: =ROUND($N$118,2) -> 0
D90: 96 - Bourání konstrukcí | N90: =ROUND($N$119,2) -> 0
C92: 2) Ostatní náklady | N92: =ROUND($N$93+$N$94+$N$95+$N$96+$N$97+$N$98,2) -> 0 | U92: DPH
...

Sheet SO 100.01 - Komunikace a ...
D1: List obsahuje: | F1: 1) Krycí list rozpočtu | H1: 2) Rekapitulace rozpočtu | L1: 3) Rozpočet | O1: Zpět na list: | S1: Rekapitulace stavby
C2: optimalizováno pro tisk sestav ve formátu A4 - na výšku | S2: >> skryté sloupce << | AT2: {401427B6-4AF1-4517-A4D5-392D0317ACAA}
AT3: 2
C4: KRYCÍ LIST ROZPOČTU | T4: v --- níže se nacházejí doplnkové a pomocné údaje k sestavám --- v | AT4: False
D6: Stavba: | F6: ='Rekapitulace stavby'!$K$6 -> Přístupové komunikace do průmyslové zóny
D7: Objekt: | F7: SO 100.01 - Komunikace a zpevněné plochy
D8: JKSO: | M8: CC-CZ:
D9: Místo: | F9: Město Ralsko | M9: Datum: | O9: ='Rekapitulace stavby'!$AN$8 -> 42530
D11: Objednavatel: | M11: IČ: | O11: =IF('Rekapitulace stavby'!$AN$10="","",'Rekapitulace stavby'!$AN$10)
E12: =IF('Rekapitulace stavby'!$E$11="","",'Rekapitulace stavby'!$E$11) | M12: DIČ: | O12: =IF('Rekapitulace stavby'!$AN$11="","",'Rekapitulace stavby'!$AN$11)
D14: Zhotovitel: | M14: IČ: | O14: =IF('Rekapitulace stavby'!$AN$13="","",'Rekapitulace stavby'!$AN$13) -> Vyplň údaj
E15: =IF('Rekapitulace stavby'!$E$14="","",'Rekapitulace stavby'!$E$14) -> Vyplň údaj | M15: DIČ: | O15: =IF('Rekapitulace stavby'!$AN$14="","",'Rekapitulace stavby'!$AN$14) -> Vyplň údaj
D17: Projektant: | M17: IČ: | O17: =IF('Rekapitulace stavby'!$AN$16="","",'Rekapitulace stavby'!$AN$16)
E18: =IF('Rekapitulace stavby'!$E$17="","",'Rekapitulace stavby'!$E$17) | M18: DIČ: | O18: =IF('Rekapitulace stavby'!$AN$17="","",'Rekapitulace stavby'!$AN$17)
D20: Zpracovatel: | M20: IČ: | O20: =IF('Rekapitulace stavby'!$AN$19="","",'Rekapitulace stavby'!$AN$19)
E21: =IF('Rekapitulace stavby'!$E$20="","",'Rekapitulace stavby'!$E$20) | M21: DIČ: | O21: =IF('Rekapitulace stavby'!$AN$20="","",'Rekapitulace stavby'!$AN$20)
D24: Náklady z rozpočtu | M24: =$N$88 -> 0
D25: Ostatní náklady | M25: =$N$102 -> 0
D27: Cena bez DPH | M27: =ROUND($M$24+$M$25,2) -> 0
D29: DPH | E29: základní | F29: 0.21 | G29: ze | H29: =ROUND((((SUM($BE$102:$BE$109)+SUM($BE$127:$BE$309))+SUM($BE$310:$BE$311))),2) -> 0 | M29: =ROUND((((SUM($BE$102:$BE$109)+SUM($BE$127:$BE$309))*$F$29)+SUM($BE$310:$BE$311)*$F$29),2) -> 0
E30: snížená | F30: 0.15 | G30: ze | H30: =ROUND((((SUM($BF$102:$BF$109)+SUM($BF$127:$BF$309))+SUM($BF$310:$BF$311))),2) -> 0 | M30: =ROUND((((SUM($BF$102:$BF$109)+SUM($BF$127:$BF$309))*$F$30)+SUM($BF$310:$BF$311)*$F$30),2) -> 0
E31: zákl. přenesená | F31: 0.21 | G31: ze | H31: =ROUND((((SUM($BG$102:$BG$109)+SUM($BG$127:$BG$309))+SUM($BG$310:$BG$311))),2) -> 0 | M31: 0
E32: sníž. přenesená | F32: 0.15 | G32: ze | H32: =ROUND((((SUM($BH$102:$BH$109)+SUM($BH$127:$BH$309))+SUM($BH$310:$BH$311))),2) -> 0 | M32: 0
E33: nulová | F33: 0 | G33: ze | H33: =ROUND((((SUM($BI$102:$BI$109)+SUM($BI$127:$BI$309))+SUM($BI$310:$BI$311))),2) -> 0 | M33: 0
D35: Cena s DPH | G35: v | H35: CZK | L35: =ROUND(SUM($M$27:$M$33),2) -> 0
D50: Projektant | J50: Zpracovatel
D59: Datum a podpis: | G59: Razítko | J59: Datum a podpis: | N59: Razítko
D61: Objednavatel | J61: Zhotovitel
D70: Datum a podpis: | G70: Razítko | J70: Datum a podpis: | N70: Razítko
C76: REKAPITULACE ROZPOČTU
C78: Stavba: | F78: =$F$6 -> Přístupové komunikace do průmyslové zóny
C79: Objekt: | F79: =$F$7 -> SO 100.01 - Komunikace a zpevněné plochy
C81: Místo: | F81: =$F$9 -> Město Ralsko | K81: Datum: | M81: =IF($O$9="","",$O$9) -> 42530
C83: Objednavatel: | F83: =$E$12 | K83: Projektant: | M83: =$E$18
C84: Zhotovitel: | F84: =IF($E$15="","",$E$15) -> Vyplň údaj | K84: Zpracovatel: | M84: =$E$21
C86: Kód - Popis | N86: Cena celkem [CZK]
C88: 1) Náklady z rozpočtu | N88: =ROUND($N$127,2) -> 0 | AU88: -1
D89: HSV - Práce a dodávky HSV | N89: =ROUND($N$128,2) -> 0
D90: 1 - Zemní práce | N90: =ROUND($N$129,2) -> 0
D91: 18 - Zemní práce - povrchové úpravy terénu | N91: =ROUND($N$171,2) -> 0
...

Sheet SO 300.01 - Dešťová kanal...
D1: List obsahuje: | F1: 1) Krycí list rozpočtu | H1: 2) Rekapitulace rozpočtu | L1: 3) Rozpočet | O1: Zpět na list: | S1: Rekapitulace stavby
C2: optimalizováno pro tisk sestav ve formátu A4 - na výšku | S2: >> skryté sloupce << | AT2: {8CAF351D-6D86-4F6F-B188-FDC54826C206}
AT3: 2
C4: KRYCÍ LIST ROZPOČTU | T4: v --- níže se nacházejí doplnkové a pomocné údaje k sestavám --- v | AT4: False
D6: Stavba: | F6: ='Rekapitulace stavby'!$K$6 -> Přístupové komunikace do průmyslové zóny
D7: Objekt: | F7: SO 300.01 - Dešťová kanalizace
D8: JKSO: | M8: CC-CZ:
D9: Místo: | F9: Město Ralsko | M9: Datum: | O9: ='Rekapitulace stavby'!$AN$8 -> 42530
D11: Objednavatel: | M11: IČ: | O11: =IF('Rekapitulace stavby'!$AN$10="","",'Rekapitulace stavby'!$AN$10)
E12: =IF('Rekapitulace stavby'!$E$11="","",'Rekapitulace stavby'!$E$11) | M12: DIČ: | O12: =IF('Rekapitulace stavby'!$AN$11="","",'Rekapitulace stavby'!$AN$11)
D14: Zhotovitel: | M14: IČ: | O14: =IF('Rekapitulace stavby'!$AN$13="","",'Rekapitulace stavby'!$AN$13) -> Vyplň údaj
E15: =IF('Rekapitulace stavby'!$E$14="","",'Rekapitulace stavby'!$E$14) -> Vyplň údaj | M15: DIČ: | O15: =IF('Rekapitulace stavby'!$AN$14="","",'Rekapitulace stavby'!$AN$14) -> Vyplň údaj
D17: Projektant: | M17: IČ: | O17: =IF('Rekapitulace stavby'!$AN$16="","",'Rekapitulace stavby'!$AN$16)
E18: =IF('Rekapitulace stavby'!$E$17="","",'Rekapitulace stavby'!$E$17) | M18: DIČ: | O18: =IF('Rekapitulace stavby'!$AN$17="","",'Rekapitulace stavby'!$AN$17)
D20: Zpracovatel: | M20: IČ: | O20: =IF('Rekapitulace stavby'!$AN$19="","",'Rekapitulace stavby'!$AN$19)
E21: =IF('Rekapitulace stavby'!$E$20="","",'Rekapitulace stavby'!$E$20) | M21: DIČ: | O21: =IF('Rekapitulace stavby'!$AN$20="","",'Rekapitulace stavby'!$AN$20)
D24: Náklady z rozpočtu | M24: =$N$88 -> 0
D25: Ostatní náklady | M25: =$N$97 -> 0
D27: Cena bez DPH | M27: =ROUND($M$24+$M$25,2) -> 0
D29: DPH | E29: základní | F29: 0.21 | G29: ze | H29: =ROUND((((SUM($BE$97:$BE$104)+SUM($BE$122:$BE$170))+SUM($BE$171:$BE$172))),2) -> 0 | M29: =ROUND((((SUM($BE$97:$BE$104)+SUM($BE$122:$BE$170))*$F$29)+SUM($BE$171:$BE$172)*$F$29),2) -> 0
E30: snížená | F30: 0.15 | G30: ze | H30: =ROUND((((SUM($BF$97:$BF$104)+SUM($BF$122:$BF$170))+SUM($BF$171:$BF$172))),2) -> 0 | M30: =ROUND((((SUM($BF$97:$BF$104)+SUM($BF$122:$BF$170))*$F$30)+SUM($BF$171:$BF$172)*$F$30),2) -> 0
E31: zákl. přenesená | F31: 0.21 | G31: ze | H31: =ROUND((((SUM($BG$97:$BG$104)+SUM($BG$122:$BG$170))+SUM($BG$171:$BG$172))),2) -> 0 | M31: 0
E32: sníž. přenesená | F32: 0.15 | G32: ze | H32: =ROUND((((SUM($BH$97:$BH$104)+SUM($BH$122:$BH$170))+SUM($BH$171:$BH$172))),2) -> 0 | M32: 0
E33: nulová | F33: 0 | G33: ze | H33: =ROUND((((SUM($BI$97:$BI$104)+SUM($BI$122:$BI$170))+SUM($BI$171:$BI$172))),2) -> 0 | M33: 0
D35: Cena s DPH | G35: v | H35: CZK | L35: =ROUND(SUM($M$27:$M$33),2) -> 0
D50: Projektant | J50: Zpracovatel
D59: Datum a podpis: | G59: Razítko | J59: Datum a podpis: | N59: Razítko
D61: Objednavatel | J61: Zhotovitel
D70: Datum a podpis: | G70: Razítko | J70: Datum a podpis: | N70: Razítko
C76: REKAPITULACE ROZPOČTU
C78: Stavba: | F78: =$F$6 -> Přístupové komunikace do průmyslové zóny
C79: Objekt: | F79: =$F$7 -> SO 300.01 - Dešťová kanalizace
C81: Místo: | F81: =$F$9 -> Město Ralsko | K81: Datum: | M81: =IF($O$9="","",$O$9) -> 42530
C83: Objednavatel: | F83: =$E$12 | K83: Projektant: | M83: =$E$18
C84: Zhotovitel: | F84: =IF($E$15="","",$E$15) -> Vyplň údaj | K84: Zpracovatel: | M84: =$E$21
C86: Kód - Popis | N86: Cena celkem [CZK]
C88: 1) Náklady z rozpočtu | N88: =ROUND($N$122,2) -> 0 | AU88: -1
D89: HSV - Práce a dodávky HSV | N89: =ROUND($N$123,2) -> 0
D90: 1 - Zemní práce | N90: =ROUND($N$124,2) -> 0
D91: 3 - Svislé a kompletní konstrukce | N91: =ROUND($N$139,2) -> 0
...

Sheet SO 300.02 - Vodovodní pří...
D1: List obsahuje: | F1: 1) Krycí list rozpočtu | H1: 2) Rekapitulace rozpočtu | L1: 3) Rozpočet | O1: Zpět na list: | S1: Rekapitulace stavby
C2: optimalizováno pro tisk sestav ve formátu A4 - na výšku | S2: >> skryté sloupce << | AT2: {34A6772D-1239-4E52-B770-99D0361D88F3}
AT3: 2
C4: KRYCÍ LIST ROZPOČTU | T4: v --- níže se nacházejí doplnkové a pomocné údaje k sestavám --- v | AT4: False
D6: Stavba: | F6: ='Rekapitulace stavby'!$K$6 -> Přístupové komunikace do průmyslové zóny
D7: Objekt: | F7: SO 300.02 - Vodovodní přípojky
D8: JKSO: | M8: CC-CZ:
D9: Místo: | F9: Město Ralsko | M9: Datum: | O9: ='Rekapitulace stavby'!$AN$8 -> 42530
D11: Objednavatel: | M11: IČ: | O11: =IF('Rekapitulace stavby'!$AN$10="","",'Rekapitulace stavby'!$AN$10)
E12: =IF('Rekapitulace stavby'!$E$11="","",'Rekapitulace stavby'!$E$11) | M12: DIČ: | O12: =IF('Rekapitulace stavby'!$AN$11="","",'Rekapitulace stavby'!$AN$11)
D14: Zhotovitel: | M14: IČ: | O14: =IF('Rekapitulace stavby'!$AN$13="","",'Rekapitulace stavby'!$AN$13) -> Vyplň údaj
E15: =IF('Rekapitulace stavby'!$E$14="","",'Rekapitulace stavby'!$E$14) -> Vyplň údaj | M15: DIČ: | O15: =IF('Rekapitulace stavby'!$AN$14="","",'Rekapitulace stavby'!$AN$14) -> Vyplň údaj
D17: Projektant: | M17: IČ: | O17: =IF('Rekapitulace stavby'!$AN$16="","",'Rekapitulace stavby'!$AN$16)
E18: =IF('Rekapitulace stavby'!$E$17="","",'Rekapitulace stavby'!$E$17) | M18: DIČ: | O18: =IF('Rekapitulace stavby'!$AN$17="","",'Rekapitulace stavby'!$AN$17)
D20: Zpracovatel: | M20: IČ: | O20: =IF('Rekapitulace stavby'!$AN$19="","",'Rekapitulace stavby'!$AN$19)
E21: =IF('Rekapitulace stavby'!$E$20="","",'Rekapitulace stavby'!$E$20) | M21: DIČ: | O21: =IF('Rekapitulace stavby'!$AN$20="","",'Rekapitulace stavby'!$AN$20)
D24: Náklady z rozpočtu | M24: =$N$88 -> 0
D25: Ostatní náklady | M25: =$N$95 -> 0
D27: Cena bez DPH | M27: =ROUND($M$24+$M$25,2) -> 0
D29: DPH | E29: základní | F29: 0.21 | G29: ze | H29: =ROUND((((SUM($BE$95:$BE$102)+SUM($BE$120:$BE$158))+SUM($BE$159:$BE$160))),2) -> 0 | M29: =ROUND((((SUM($BE$95:$BE$102)+SUM($BE$120:$BE$158))*$F$29)+SUM($BE$159:$BE$160)*$F$29),2) -> 0
E30: snížená | F30: 0.15 | G30: ze | H30: =ROUND((((SUM($BF$95:$BF$102)+SUM($BF$120:$BF$158))+SUM($BF$159:$BF$160))),2) -> 0 | M30: =ROUND((((SUM($BF$95:$BF$102)+SUM($BF$120:$BF$158))*$F$30)+SUM($BF$159:$BF$160)*$F$30),2) -> 0
E31: zákl. přenesená | F31: 0.21 | G31: ze | H31: =ROUND((((SUM($BG$95:$BG$102)+SUM($BG$120:$BG$158))+SUM($BG$159:$BG$160))),2) -> 0 | M31: 0
E32: sníž. přenesená | F32: 0.15 | G32: ze | H32: =ROUND((((SUM($BH$95:$BH$102)+SUM($BH$120:$BH$158))+SUM($BH$159:$BH$160))),2) -> 0 | M32: 0
E33: nulová | F33: 0 | G33: ze | H33: =ROUND((((SUM($BI$95:$BI$102)+SUM($BI$120:$BI$158))+SUM($BI$159:$BI$160))),2) -> 0 | M33: 0
D35: Cena s DPH | G35: v | H35: CZK | L35: =ROUND(SUM($M$27:$M$33),2) -> 0
D50: Projektant | J50: Zpracovatel
D59: Datum a podpis: | G59: Razítko | J59: Datum a podpis: | N59: Razítko
D61: Objednavatel | J61: Zhotovitel
D70: Datum a podpis: | G70: Razítko | J70: Datum a podpis: | N70: Razítko
C76: REKAPITULACE ROZPOČTU
C78: Stavba: | F78: =$F$6 -> Přístupové komunikace do průmyslové zóny
C79: Objekt: | F79: =$F$7 -> SO 300.02 - Vodovodní přípojky
C81: Místo: | F81: =$F$9 -> Město Ralsko | K81: Datum: | M81: =IF($O$9="","",$O$9) -> 42530
C83: Objednavatel: | F83: =$E$12 | K83: Projektant: | M83: =$E$18
C84: Zhotovitel: | F84: =IF($E$15="","",$E$15) -> Vyplň údaj | K84: Zpracovatel: | M84: =$E$21
C86: Kód - Popis | N86: Cena celkem [CZK]
C88: 1) Náklady z rozpočtu | N88: =ROUND($N$120,2) -> 0 | AU88: -1
D89: HSV - Práce a dodávky HSV | N89: =ROUND($N$121,2) -> 0
D90: 1 - Zemní práce | N90: =ROUND($N$122,2) -> 0
D91: 4 - Vodorovné konstrukce | N91: =ROUND($N$137,2) -> 0
...

Sheet SO 400.01 - Veřejné osvět...
D1: List obsahuje: | F1: 1) Krycí list rozpočtu | H1: 2) Rekapitulace rozpočtu | L1: 3) Rozpočet | O1: Zpět na list: | S1: Rekapitulace stavby
C2: optimalizováno pro tisk sestav ve formátu A4 - na výšku | S2: >> skryté sloupce << | AT2: {795B40E2-A492-476C-AAC3-4B40C50924B5}
AT3: 2
C4: KRYCÍ LIST ROZPOČTU | T4: v --- níže se nacházejí doplnkové a pomocné údaje k sestavám --- v | AT4: False
D6: Stavba: | F6: ='Rekapitulace stavby'!$K$6 -> Přístupové komunikace do průmyslové zóny
D7: Objekt: | F7: SO 400.01 - Veřejné osvětlení
D8: JKSO: | M8: CC-CZ:
D9: Místo: | F9: Město Ralsko | M9: Datum: | O9: ='Rekapitulace stavby'!$AN$8 -> 42530
D11: Objednavatel: | M11: IČ: | O11: =IF('Rekapitulace stavby'!$AN$10="","",'Rekapitulace stavby'!$AN$10)
E12: =IF('Rekapitulace stavby'!$E$11="","",'Rekapitulace stavby'!$E$11) | M12: DIČ: | O12: =IF('Rekapitulace stavby'!$AN$11="","",'Rekapitulace stavby'!$AN$11)
D14: Zhotovitel: | M14: IČ: | O14: =IF('Rekapitulace stavby'!$AN$13="","",'Rekapitulace stavby'!$AN$13) -> Vyplň údaj
E15: =IF('Rekapitulace stavby'!$E$14="","",'Rekapitulace stavby'!$E$14) -> Vyplň údaj | M15: DIČ: | O15: =IF('Rekapitulace stavby'!$AN$14="","",'Rekapitulace stavby'!$AN$14) -> Vyplň údaj
D17: Projektant: | M17: IČ: | O17: =IF('Rekapitulace stavby'!$AN$16="","",'Rekapitulace stavby'!$AN$16)
E18: =IF('Rekapitulace stavby'!$E$17="","",'Rekapitulace stavby'!$E$17) | M18: DIČ: | O18: =IF('Rekapitulace stavby'!$AN$17="","",'Rekapitulace stavby'!$AN$17)
D20: Zpracovatel: | M20: IČ: | O20: =IF('Rekapitulace stavby'!$AN$19="","",'Rekapitulace stavby'!$AN$19)
E21: =IF('Rekapitulace stavby'!$E$20="","",'Rekapitulace stavby'!$E$20) | M21: DIČ: | O21: =IF('Rekapitulace stavby'!$AN$20="","",'Rekapitulace stavby'!$AN$20)
D24: Náklady z rozpočtu | M24: =$N$88 -> 0
D25: Ostatní náklady | M25: =$N$98 -> 0
D27: Cena bez DPH | M27: =ROUND($M$24+$M$25,2) -> 0
D29: DPH | E29: základní | F29: 0.21 | G29: ze | H29: =ROUND((((SUM($BE$98:$BE$105)+SUM($BE$123:$BE$206))+SUM($BE$207:$BE$208))),2) -> 0 | M29: =ROUND((((SUM($BE$98:$BE$105)+SUM($BE$123:$BE$206))*$F$29)+SUM($BE$207:$BE$208)*$F$29),2) -> 0
E30: snížená | F30: 0.15 | G30: ze | H30: =ROUND((((SUM($BF$98:$BF$105)+SUM($BF$123:$BF$206))+SUM($BF$207:$BF$208))),2) -> 0 | M30: =ROUND((((SUM($BF$98:$BF$105)+SUM($BF$123:$BF$206))*$F$30)+SUM($BF$207:$BF$208)*$F$30),2) -> 0
E31: zákl. přenesená | F31: 0.21 | G31: ze | H31: =ROUND((((SUM($BG$98:$BG$105)+SUM($BG$123:$BG$206))+SUM($BG$207:$BG$208))),2) -> 0 | M31: 0
E32: sníž. přenesená | F32: 0.15 | G32: ze | H32: =ROUND((((SUM($BH$98:$BH$105)+SUM($BH$123:$BH$206))+SUM($BH$207:$BH$208))),2) -> 0 | M32: 0
E33: nulová | F33: 0 | G33: ze | H33: =ROUND((((SUM($BI$98:$BI$105)+SUM($BI$123:$BI$206))+SUM($BI$207:$BI$208))),2) -> 0 | M33: 0
D35: Cena s DPH | G35: v | H35: CZK | L35: =ROUND(SUM($M$27:$M$33),2) -> 0
D50: Projektant | J50: Zpracovatel
D59: Datum a podpis: | G59: Razítko | J59: Datum a podpis: | N59: Razítko
D61: Objednavatel | J61: Zhotovitel
D70: Datum a podpis: | G70: Razítko | J70: Datum a podpis: | N70: Razítko
C76: REKAPITULACE ROZPOČTU
C78: Stavba: | F78: =$F$6 -> Přístupové komunikace do průmyslové zóny
C79: Objekt: | F79: =$F$7 -> SO 400.01 - Veřejné osvětlení
C81: Místo: | F81: =$F$9 -> Město Ralsko | K81: Datum: | M81: =IF($O$9="","",$O$9) -> 42530
C83: Objednavatel: | F83: =$E$12 | K83: Projektant: | M83: =$E$18
C84: Zhotovitel: | F84: =IF($E$15="","",$E$15) -> Vyplň údaj | K84: Zpracovatel: | M84: =$E$21
C86: Kód - Popis | N86: Cena celkem [CZK]
C88: 1) Náklady z rozpočtu | N88: =ROUND($N$123,2) -> 0 | AU88: -1
D89: M - Práce a dodávky M | N89: =ROUND($N$124,2) -> 0
D90: 20-D - Dodávky zařízení | N90: =ROUND($N$125,2) -> 0
D91: 21-D - Elektromontáže | N91: =ROUND($N$128,2) -> 0
...

Sheet SO 400.02 - Chráničky ele...
D1: List obsahuje: | F1: 1) Krycí list rozpočtu | H1: 2) Rekapitulace rozpočtu | L1: 3) Rozpočet | O1: Zpět na list: | S1: Rekapitulace stavby
C2: optimalizováno pro tisk sestav ve formátu A4 - na výšku | S2: >> skryté sloupce << | AT2: {6A4D7BF6-1D08-4818-A04F-8BC59D2E457B}
AT3: 2
C4: KRYCÍ LIST ROZPOČTU | T4: v --- níže se nacházejí doplnkové a pomocné údaje k sestavám --- v | AT4: False
D6: Stavba: | F6: ='Rekapitulace stavby'!$K$6 -> Přístupové komunikace do průmyslové zóny
D7: Objekt: | F7: SO 400.02 - Chráničky elektro
D8: JKSO: | M8: CC-CZ:
D9: Místo: | F9: Město Ralsko | M9: Datum: | O9: ='Rekapitulace stavby'!$AN$8 -> 42530
D11: Objednavatel: | M11: IČ: | O11: =IF('Rekapitulace stavby'!$AN$10="","",'Rekapitulace stavby'!$AN$10)
E12: =IF('Rekapitulace stavby'!$E$11="","",'Rekapitulace stavby'!$E$11) | M12: DIČ: | O12: =IF('Rekapitulace stavby'!$AN$11="","",'Rekapitulace stavby'!$AN$11)
D14: Zhotovitel: | M14: IČ: | O14: =IF('Rekapitulace stavby'!$AN$13="","",'Rekapitulace stavby'!$AN$13) -> Vyplň údaj
E15: =IF('Rekapitulace stavby'!$E$14="","",'Rekapitulace stavby'!$E$14) -> Vyplň údaj | M15: DIČ: | O15: =IF('Rekapitulace stavby'!$AN$14="","",'Rekapitulace stavby'!$AN$14) -> Vyplň údaj
D17: Projektant: | M17: IČ: | O17: =IF('Rekapitulace stavby'!$AN$16="","",'Rekapitulace stavby'!$AN$16)
E18: =IF('Rekapitulace stavby'!$E$17="","",'Rekapitulace stavby'!$E$17) | M18: DIČ: | O18: =IF('Rekapitulace stavby'!$AN$17="","",'Rekapitulace stavby'!$AN$17)
D20: Zpracovatel: | M20: IČ: | O20: =IF('Rekapitulace stavby'!$AN$19="","",'Rekapitulace stavby'!$AN$19)
E21: =IF('Rekapitulace stavby'!$E$20="","",'Rekapitulace stavby'!$E$20) | M21: DIČ: | O21: =IF('Rekapitulace stavby'!$AN$20="","",'Rekapitulace stavby'!$AN$20)
D24: Náklady z rozpočtu | M24: =$N$88 -> 0
D25: Ostatní náklady | M25: =$N$94 -> 0
D27: Cena bez DPH | M27: =ROUND($M$24+$M$25,2) -> 0
D29: DPH | E29: základní | F29: 0.21 | G29: ze | H29: =ROUND((((SUM($BE$94:$BE$101)+SUM($BE$119:$BE$146))+SUM($BE$147:$BE$148))),2) -> 0 | M29: =ROUND((((SUM($BE$94:$BE$101)+SUM($BE$119:$BE$146))*$F$29)+SUM($BE$147:$BE$148)*$F$29),2) -> 0
E30: snížená | F30: 0.15 | G30: ze | H30: =ROUND((((SUM($BF$94:$BF$101)+SUM($BF$119:$BF$146))+SUM($BF$147:$BF$148))),2) -> 0 | M30: =ROUND((((SUM($BF$94:$BF$101)+SUM($BF$119:$BF$146))*$F$30)+SUM($BF$147:$BF$148)*$F$30),2) -> 0
E31: zákl. přenesená | F31: 0.21 | G31: ze | H31: =ROUND((((SUM($BG$94:$BG$101)+SUM($BG$119:$BG$146))+SUM($BG$147:$BG$148))),2) -> 0 | M31: 0
E32: sníž. přenesená | F32: 0.15 | G32: ze | H32: =ROUND((((SUM($BH$94:$BH$101)+SUM($BH$119:$BH$146))+SUM($BH$147:$BH$148))),2) -> 0 | M32: 0
E33: nulová | F33: 0 | G33: ze | H33: =ROUND((((SUM($BI$94:$BI$101)+SUM($BI$119:$BI$146))+SUM($BI$147:$BI$148))),2) -> 0 | M33: 0
D35: Cena s DPH | G35: v | H35: CZK | L35: =ROUND(SUM($M$27:$M$33),2) -> 0
D50: Projektant | J50: Zpracovatel
D59: Datum a podpis: | G59: Razítko | J59: Datum a podpis: | N59: Razítko
D61: Objednavatel | J61: Zhotovitel
D70: Datum a podpis: | G70: Razítko | J70: Datum a podpis: | N70: Razítko
C76: REKAPITULACE ROZPOČTU
C78: Stavba: | F78: =$F$6 -> Přístupové komunikace do průmyslové zóny
C79: Objekt: | F79: =$F$7 -> SO 400.02 - Chráničky elektro
C81: Místo: | F81: =$F$9 -> Město Ralsko | K81: Datum: | M81: =IF($O$9="","",$O$9) -> 42530
C83: Objednavatel: | F83: =$E$12 | K83: Projektant: | M83: =$E$18
C84: Zhotovitel: | F84: =IF($E$15="","",$E$15) -> Vyplň údaj | K84: Zpracovatel: | M84: =$E$21
C86: Kód - Popis | N86: Cena celkem [CZK]
C88: 1) Náklady z rozpočtu | N88: =ROUND($N$119,2) -> 0 | AU88: -1
D89: M - Práce a dodávky M | N89: =ROUND($N$120,2) -> 0
D90: 46-D - Materiál zemní | N90: =ROUND($N$121,2) -> 0
D91: 46-M - Zemní práce při extr.mont.pracích | N91: =ROUND($N$127,2) -> 0
...
