Workbook

Sheet Rekapitulace
B1: název akce: Rekonstrukce VO HVĚZDOV, k.ú. Ploužnice pod Ralskem
B2: objekt: ELEKTRO
A3: Rekapitulace ceny
A4: p.č. | D4: % | E4: základ | F4: cena /Kč/
A5: 1 | B5: materiál elektromontážní | E5: 0 | F5: ='Soupis položek'!G20 -> 0
A6: 2 | B6: prořez | D6: 5 | E6: =SUM('Soupis položek'!G6:G7) -> 0 | F6: =E6*D6/100 -> 0
A7: 3 | B7: materiál podružný | D7: 3 | E7: =F5 -> 0 | F7: =E7*D7/100 -> 0
A8: 4 | B8: materiál zemní | E8: 0 | F8: ='Soupis položek'!G27 -> 0
A9: 5 | B9: elektromontáže | E9: 0 | F9: ='Soupis položek'!G39 -> 0
A10: 6 | B10: zemní práce | E10: 0 | F10: ='Soupis položek'!G52 -> 0
A11: 7 | B11: PPV pro elektromontáže | D11: 1 | E11: =F9+F7+F6+F5 -> 0 | F11: =E11*D11/100 -> 0
A12: 8 | B12: PPV pro zemní práce | D12: 1 | E12: =F10+F8 -> 0 | F12: =E12*D12/100 -> 0
A13: 9 | B13: materiál celkem | E13: 0 | F13: =SUM(F5:F8) -> 0
A14: 10 | B14: montáže celkem | F14: =SUM(F9:F12) -> 0
A15: 11 | B15: ostatní náklady | E15: 0 | F15: ='Soupis položek'!G57 -> 0
A16: 12 | B16: NÁKLADY hl.III celkem | E16: 0 | F16: =SUM(F13:F15) -> 0
A18: 13 | B18: kompletační činnost | E18: 0
A19: 14 | B19: revize | E19: 0
A20: 15 | B20: investorská činnost, vytyčení sítí | E20: 0
A21: 16 | B21: NÁKLADY hl.XI celkem | E21: 0 | F21: =SUM(F18:F20) -> 0
A23: 17 | B23: geodet.vytýčení
A24: 18 | B24: NÁKLADY hl.I celkem | E24: 0 | F24: =SUM(F23:F23) -> 0
A26: 19 | B26: CENA bez DPH (Kč) | E26: 0 | F26: =F24+F21+F16 -> 0

Sheet Soupis položek
B1: název akce: Rekonstrukce VO HVĚZDOV, k.ú. Ploužnice pod Ralskem
B2: objekt: ELEKTRO
A3: Soupis položek
A4: p.č. | B4: č.položky | C4: popis položky | D4: mj. | E4: množství | F4: cena/mj. | G4: cena celkem
A5: Materiál elektromontážní
A6: 1 | B6: 151210 | C6: kabel AYKY 4x16 | D6: m | E6: 198 | G6: =E6*F6 -> 0
A7: 2 | B7: 295011 | C7: vedení FeZn pr.10mm(0,63kg/m) | D7: m | E7: 180 | G7: =E7*F7 -> 0
A8: 3 | B8: 295071 | C8: svorka odbočná+spojov SR3a FeZn pásek/drát/2šrouby | D8: ks | E8: 11 | G8: =E8*F8 -> 0
A9: 4 | B9: 533244 | C9: svítidlo venkovní výbojkové IVA 150S/SHC 150W | D9: ks | E9: 3 | G9: =E9*F9 -> 0
A10: 5 | B10: 593213 | C10: výbojka sodíková NAV-T 150W/E40 | D10: ks | E10: 3 | G10: =E10*F10 -> 0
A11: 6 | B11: 579313 | C11: elvýzbroj stož SR723-27-oAl 3xE27/4xM8/35mm2 odboč | D11: ks | E11: 3 | G11: =E11*F11 -> 0
A12: 7 | B12: 579292 | C12: /elvýzbroj stožáru/ kryt řady 721-724odboč IP20 | D12: ks | E12: 3 | G12: =E12*F12 -> 0
A13: 8 | B13: 101106 | C13: kabel CYKY 3x2,5 | D13: m | E13: 30 | G13: =E13*F13 -> 0
A14: 9 | B14: 560053 | C14: stožár osv bezpatic 5,5 žárZn | D14: ks | E14: 3 | G14: =E14*F14 -> 0
A15: 10 | B15: 756013 | C15: skříň PS100 | D15: ks | E15: 1 | G15: =E15*F15 -> 0
A16: 11 | B16: 963220 | C16: třemen pro PS100 | D16: ks | E16: 1 | G16: =E16*F16 -> 0
A17: 12 | B17: 451135 | C17: poj.nožová 35A | D17: ks | E17: 3 | G17: =E17*F17 -> 0
... A19: 14 | B19: 283311 | C19: svorka kotevní typ SO80/12kN/4x16-25mm2 | D19: ks | E19: 3 | G19: =E19*F19 -> 0
C20: součet | G20: =SUM(G6:G19) -> 0
A21: Materiál zemní
A22: 15 | B22: 46114 | C22: písek kopaný 0-2mm | D22: m3 | E22: 11.2 | G22: =E22*F22 -> 0
A23: 16 | B23: 48750 | C23: trubka korug. 50/40 | D23: m | E23: 100 | G23: =E23*F23 -> 0
A24: 17 | B24: 46134 | C24: beton B13,5 | D24: m3 | E24: 0.5 | G24: =E24*F24 -> 0
A25: 18 | B25: 46453 | C25: stožárové pouzdro plast SP315/1000 | D25: ks | E25: 3 | G25: =E25*F25 -> 0
A26: 19 | B26: 46383 | C26: výstražná fólie šířka 0,34m | D26: m | E26: 170 | G26: =E26*F26 -> 0
C27: součet | G27: =SUM(G22:G26) -> 0
A28: Elektromontáže
A29: 20 | B29: 210901045 | C29: kabel Al(-AYKY) pevně uložený do 4x16/5x10/7x6 | D29: m | E29: 198 | G29: =E29*F29 -> 0
A30: 21 | B30: 210100101 | C30: ukončení na svorkovnici vodič do 16mm2 | D30: ks | E30: 6 | G30: =E30*F30 -> 0
A31: 22 | B31: 210220022 | C31: uzemňov.vedení v zemi úplná mtž FeZn pr.8-10mm | D31: m | E31: 180 | G31: =E31*F31 -> 0
A32: 23 | B32: 210202103 | C32: svítidlo výbojkové venkovní na výložník | D32: ks | E32: 3 | G32: =E32*F32 -> 0
A33: 24 | B33: 210204203 | C33: elektrovýzbroj stožárů pro 3 okruhy | D33: ks | E33: 3 | G33: =E33*F33 -> 0
A34: 25 | B34: 210810048 | C34: kabel(-CYKY) pevně uložený do 3x6/4x4/7x2,5 | D34: m | E34: 30 | G34: =E34*F34 -> 0
A35: 26 | B35: 210204002 | C35: stožár osvětlovací sadový ocelový | D35: ks | E35: 3 | G35: =E35*F35 -> 0
A36: 27 | B36: 210205612 | C36: skříň PS se třmenem | D36: ks | E36: 1 | G36: =E36*F36 -> 0
A37: 28 | B37: 210010134 | C37: trubka plast pevně uložená do pr.75mm | D37: m | E37: 6 | G37: =E37*F37 -> 0
A38: 29 | B38: 210260210 | C38: svorka kotevní kabelu AES do 4x35mm2 | D38: ks | E38: 3 | G38: =E38*F38 -> 0
C39: součet | G39: =SUM(G29:G38) -> 0
A40: Zemní práce
A41: 30 | B41: 460200131 | C41: protlak pod komunikací | D41: m | E41: 9 | G41: =E41*F41 -> 0
...
