Workbook

Sheet Rekapitulace stavby
A1: Export Komplet | BA1: 2.0 | BB1: ZAMOK | BT1: False | BU1: False | BV1: {c3e184d8-90e9-4412-9446-49f5dcfa2dfe}
BS2: 0,01 | BT2: 21
BS3: 0,01 | BT3: 15
D4: REKAPITULACE STAVBY | AS4: v --- níže se nacházejí doplnkové a pomocné údaje k sestavám --- v | BE4: Návod na vyplnění | BS4: 0,001
D5: Kód: | K5: 1958 | BE5: Měnit lze pouze buňky se žlutým podbarvením!_x000D_ _x000D_ 1) na prvním listu Rekapitulace stavby vyplňte v sestavě_x000D_ _x000D_ a) Souhrnný list_x000D_ - údaje o Uchazeči_x000D_ (přenesou se do ostatních sestav i v jiných listech)_x000D_ _x000D_ b) Rekapitulace objektů_x000D_ - potřebné Ostatní náklady_x000D_ _x000D_ 2) na vybraných listech vyplňte v sestavě_x000D_ _x000D_ a) Krycí list_x000D_ - údaje o Uchazeči, pokud se liší od údajů o Uchazeči na Souhrnném listu_x000D_ (údaje se přenesou do ostatních sestav v daném listu)_x000D_ _x000D_ b) Rekapitulace rozpočtu_x000D_ - potřebné Ostatní náklady_x000D_ _x000D_ c) Celkové náklady za stavbu_x000D_ - ceny u položek_x000D_ - množství, pokud má žluté podbarvení_x000D_ - a v případě potřeby poznámku (ta je ve skrytém sloupci) | BS5: 0,01
D6: Stavba: | K6: Mimoň - zpevněné plochy | BS6: 0,1
D7: KSO: | AK7: CC-CZ: | BS7: 1
D8: Místo: | K8: Mimoň | AK8: Datum: | AN8: 44123 | BS8: 10
BS9: 100
D10: Zadavatel: | AK10: IČ: | BS10: 0,1
AK11: DIČ: | BS11: 0,1
BS12: 0,1
D13: Uchazeč: | AK13: IČ: | AN13: Vyplň údaj | BS13: 0,1
E14: Vyplň údaj | AK14: DIČ: | AN14: Vyplň údaj | BS14: 0,1
BS15: False
D16: Projektant: | AK16: IČ: | BS16: False
E17: Ing. Martina Hřebřinová | AK17: DIČ: | BS17: True
BS18: 0,01
D19: Zpracovatel: | AK19: IČ: | BS19: 0,01
AK20: DIČ: | BS20: True
D22: Poznámka:
D26: Cena bez DPH | AK26: =ROUND(AG94,2) -> 0
L28: Sazba daně | W28: Základ daně | AK28: Výše daně
D29: DPH | F29: základní | L29: 0.21 | W29: =ROUND(AZ94, 2) -> 0 | AK29: =ROUND(AV94, 2) -> 0
F30: snížená | L30: 0.15 | W30: =ROUND(BA94, 2) -> 0 | AK30: =ROUND(AW94, 2) -> 0
F31: zákl. přenesená | L31: 0.21 | W31: =ROUND(BB94, 2) -> 0 | AK31: 0
F32: sníž. přenesená | L32: 0.15 | W32: =ROUND(BC94, 2) -> 0 | AK32: 0
F33: nulová | L33: 0 | W33: =ROUND(BD94, 2) -> 0 | AK33: 0
D35: Cena s DPH | T35: v | X35: CZK | AK35: =SUM(AK26:AK33) -> 0
D49: Projektant | AH49: Zpracovatel
D60: Datum a podpis: | V60: Razítko | AH60: Datum a podpis: | AM60: Razítko
D64: Objednavatel | AH64: Uchazeč
D75: Datum a podpis: | V75: Razítko | AH75: Datum a podpis: | AM75: Razítko
C82: REKAPITULACE OBJEKTŮ STAVBY A SOUPISŮ PRACÍ
C84: Kód: | L84: =K5 -> 1958
C85: Stavba: | L85: =K6 -> Mimoň - zpevněné plochy
C87: Místo: | L87: =IF(K8="","",K8) -> Mimoň | AI87: Datum: | AM87: =IF(AN8= "","",AN8) -> 44123
C89: Zadavatel: | L89: =IF(E11= "","",E11) | AI89: Projektant: | AM89: =IF(E17="","",E17) -> Ing. Martina Hřebřinová | AS89: Informatívní údaje z listů zakázek
C90: Uchazeč: | L90: =IF(E14= "Vyplň údaj","",E14) | AI90: Zpracovatel: | AM90: =IF(E20="","",E20)
C92: Kód | I92: Popis | AG92: Cena bez DPH [CZK] | AN92: Cena s DPH [CZK] | AQ92: Typ | AS92: z toho Ostat._x000D_ náklady [CZK] | AT92: DPH [CZK] | AU92: Normohodiny [h] | AV92: DPH základní [CZK] | AW92: DPH snížená [CZK] | AX92: DPH základní přenesená_x000D_ [CZK] | AY92: DPH snížená přenesená_x000D_ [CZK] | AZ92: Základna_x000D_ DPH základní | BA92: Základna_x000D_ DPH snížená | BB92: Základna_x000D_ DPH zákl. přenesená | BC92: Základna_x000D_ DPH sníž. přenesená | BD92: Základna_x000D_ DPH nulová
C94: Náklady z rozpočtů | AG94: =ROUND(AG95+AG98,2) -> 0 | AN94: =SUM(AG94,AT94) -> 0 | AS94: =ROUND(AS95+AS98,2) -> 0 | AT94: =ROUND(SUM(AV94:AW94),2) -> 0 | AU94: =ROUND(AU95+AU98,5) -> 0 | AV94: =ROUND(AZ94*L29,2) -> 0 | AW94: =ROUND(BA94*L30,2) -> 0 | AX94: =ROUND(BB94*L29,2) -> 0 | AY94: =ROUND(BC94*L30,2) -> 0 | AZ94: =ROUND(AZ95+AZ98,2) -> 0 | BA94: =ROUND(BA95+BA98,2) -> 0 | BB94: =ROUND(BB95+BB98,2) -> 0 | BC94: =ROUND(BC95+BC98,2) -> 0 | BD94: =ROUND(BD95+BD98,2) -> 0 | BS94: D | BT94: 0 | BU94: ###NOIMPORT### | BV94: IMPORT | BW94: {c3e184d8-90e9-4412-9446-49f5dcfa2dfe} | BX94: {00000000-0000-0000-0000-000000000000}
D95: SO 101 | J95: Smetanova | AG95: =ROUND(SUM(AG96:AG97),2) -> 0 | AN95: =SUM(AG95,AT95) -> 0 | AQ95: STA | AS95: =ROUND(SUM(AS96:AS97),2) -> 0 | AT95: =ROUND(SUM(AV95:AW95),2) -> 0 | AU95: =ROUND(SUM(AU96:AU97),5) -> 0 | AV95: =ROUND(AZ95*L29,2) -> 0 | AW95: =ROUND(BA95*L30,2) -> 0 | AX95: =ROUND(BB95*L29,2) -> 0 | AY95: =ROUND(BC95*L30,2) -> 0 | AZ95: =ROUND(SUM(AZ96:AZ97),2) -> 0 | BA95: =ROUND(SUM(BA96:BA97),2) -> 0 | BB95: =ROUND(SUM(BB96:BB97),2) -> 0 | BC95: =ROUND(SUM(BC96:BC97),2) -> 0 | BD95: =ROUND(SUM(BD96:BD97),2) -> 0 | BS95: D | BT95: 1 | BU95: ###NOIMPORT### | BV95: IMPORT | BW95: {618a6f41-37ba-460f-816c-5312208566a4} | BX95: {c3e184d8-90e9-4412-9446-49f5dcfa2dfe} | CM95: 2
A96: / | E96: 1 | K96: Trasa 1 | AG96: ='1 - Trasa 1'!J32 -> 0 | AN96: =SUM(AG96,AT96) -> 0 | AQ96: Soupis | AS96: 0 | AT96: =ROUND(SUM(AV96:AW96),2) -> 0 | AU96: ='1 - Trasa 1'!P130 -> 0 | AV96: ='1 - Trasa 1'!J35 -> 0 | AW96: ='1 - Trasa 1'!J36 -> 0 | AX96: ='1 - Trasa 1'!J37 -> 0 | AY96: ='1 - Trasa 1'!J38 -> 0 | AZ96: ='1 - Trasa 1'!F35 -> 0 | BA96: ='1 - Trasa 1'!F36 -> 0 | BB96: ='1 - Trasa 1'!F37 -> 0 | BC96: ='1 - Trasa 1'!F38 -> 0 | BD96: ='1 - Trasa 1'!F39 -> 0 | BT96: 2 | BV96: IMPORT | BW96: {55b39cfe-a3a9-4c17-9c2e-d69b7b6d0d96} | BX96: {618a6f41-37ba-460f-816c-5312208566a4}
A97: / | E97: 2 | K97: Trasa 2 | AG97: ='2 - Trasa 2'!J32 -> 0 | AN97: =SUM(AG97,AT97) -> 0 | AQ97: Soupis | AS97: 0 | AT97: =ROUND(SUM(AV97:AW97),2) -> 0 | AU97: ='2 - Trasa 2'!P129 -> 0 | AV97: ='2 - Trasa 2'!J35 -> 0 | AW97: ='2 - Trasa 2'!J36 -> 0 | AX97: ='2 - Trasa 2'!J37 -> 0 | AY97: ='2 - Trasa 2'!J38 -> 0 | AZ97: ='2 - Trasa 2'!F35 -> 0 | BA97: ='2 - Trasa 2'!F36 -> 0 | BB97: ='2 - Trasa 2'!F37 -> 0 | BC97: ='2 - Trasa 2'!F38 -> 0 | BD97: ='2 - Trasa 2'!F39 -> 0 | BT97: 2 | BV97: IMPORT | BW97: {757461a3-0240-47ed-9c9a-125b255f1869} | BX97: {618a6f41-37ba-460f-816c-5312208566a4}
D98: SO 102 | J98: U Nemocnice | AG98: =ROUND(SUM(AG99:AG102),2) -> 0 | AN98: =SUM(AG98,AT98) -> 0 | AQ98: STA | AS98: =ROUND(SUM(AS99:AS102),2) -> 0 | AT98: =ROUND(SUM(AV98:AW98),2) -> 0 | AU98: =ROUND(SUM(AU99:AU102),5) -> 0 | AV98: =ROUND(AZ98*L29,2) -> 0 | AW98: =ROUND(BA98*L30,2) -> 0 | AX98: =ROUND(BB98*L29,2) -> 0 | AY98: =ROUND(BC98*L30,2) -> 0 | AZ98: =ROUND(SUM(AZ99:AZ102),2) -> 0 | BA98: =ROUND(SUM(BA99:BA102),2) -> 0 | BB98: =ROUND(SUM(BB99:BB102),2) -> 0 | BC98: =ROUND(SUM(BC99:BC102),2) -> 0 | BD98: =ROUND(SUM(BD99:BD102),2) -> 0 | BS98: D | BT98: 1 | BU98: ###NOIMPORT### | BV98: IMPORT | BW98: {62870c06-e927-4a76-a01c-824320868b8e} | BX98: {c3e184d8-90e9-4412-9446-49f5dcfa2dfe} | CM98: 2
A99: / | E99: 3 | K99: Trasa 3 | AG99: ='3 - Trasa 3'!J32 -> 0 | AN99: =SUM(AG99,AT99) -> 0 | AQ99: Soupis | AS99: 0 | AT99: =ROUND(SUM(AV99:AW99),2) -> 0 | AU99: ='3 - Trasa 3'!P129 -> 0 | AV99: ='3 - Trasa 3'!J35 -> 0 | AW99: ='3 - Trasa 3'!J36 -> 0 | AX99: ='3 - Trasa 3'!J37 -> 0 | AY99: ='3 - Trasa 3'!J38 -> 0 | AZ99: ='3 - Trasa 3'!F35 -> 0 | BA99: ='3 - Trasa 3'!F36 -> 0 | BB99: ='3 - Trasa 3'!F37 -> 0 | BC99: ='3 - Trasa 3'!F38 -> 0 | BD99: ='3 - Trasa 3'!F39 -> 0 | BT99: 2 | BV99: IMPORT | BW99: {9651d3c8-210a-4426-99cb-d5fabf50b318} | BX99: {62870c06-e927-4a76-a01c-824320868b8e}
A100: / | E100: 4 | K100: Trasa 4 | AG100: ='4 - Trasa 4'!J32 -> 0 | AN100: =SUM(AG100,AT100) -> 0 | AQ100: Soupis | AS100: 0 | AT100: =ROUND(SUM(AV100:AW100),2) -> 0 | AU100: ='4 - Trasa 4'!P129 -> 0 | AV100: ='4 - Trasa 4'!J35 -> 0 | AW100: ='4 - Trasa 4'!J36 -> 0 | AX100: ='4 - Trasa 4'!J37 -> 0 | AY100: ='4 - Trasa 4'!J38 -> 0 | AZ100: ='4 - Trasa 4'!F35 -> 0 | BA100: ='4 - Trasa 4'!F36 -> 0 | BB100: ='4 - Trasa 4'!F37 -> 0 | BC100: ='4 - Trasa 4'!F38 -> 0 | BD100: ='4 - Trasa 4'!F39 -> 0 | BT100: 2 | BV100: IMPORT | BW100: {f344e9af-2abe-431d-8911-1756b5333afe} | BX100: {62870c06-e927-4a76-a01c-824320868b8e}
A101: / | E101: 5 | K101: Trasa 5 | AG101: ='5 - Trasa 5'!J32 -> 0 | AN101: =SUM(AG101,AT101) -> 0 | AQ101: Soupis | AS101: 0 | AT101: =ROUND(SUM(AV101:AW101),2) -> 0 | AU101: ='5 - Trasa 5'!P129 -> 0 | AV101: ='5 - Trasa 5'!J35 -> 0 | AW101: ='5 - Trasa 5'!J36 -> 0 | AX101: ='5 - Trasa 5'!J37 -> 0 | AY101: ='5 - Trasa 5'!J38 -> 0 | AZ101: ='5 - Trasa 5'!F35 -> 0 | BA101: ='5 - Trasa 5'!F36 -> 0 | BB101: ='5 - Trasa 5'!F37 -> 0 | BC101: ='5 - Trasa 5'!F38 -> 0 | BD101: ='5 - Trasa 5'!F39 -> 0 | BT101: 2 | BV101: IMPORT | BW101: {b5f39b62-5480-43ef-96a0-b4975f8f21d5} | BX101: {62870c06-e927-4a76-a01c-824320868b8e}
A102: / | E102: 6 | K102: Trasa 6 | AG102: ='6 - Trasa 6'!J32 -> 0 | AN102: =SUM(AG102,AT102) -> 0 | AQ102: Soupis | AS102: 0 | AT102: =ROUND(SUM(AV102:AW102),2) -> 0 | AU102: ='6 - Trasa 6'!P129 -> 0 | AV102: ='6 - Trasa 6'!J35 -> 0 | AW102: ='6 - Trasa 6'!J36 -> 0 | AX102: ='6 - Trasa 6'!J37 -> 0 | AY102: ='6 - Trasa 6'!J38 -> 0 | AZ102: ='6 - Trasa 6'!F35 -> 0 | BA102: ='6 - Trasa 6'!F36 -> 0 | BB102: ='6 - Trasa 6'!F37 -> 0 | BC102: ='6 - Trasa 6'!F38 -> 0 | BD102: ='6 - Trasa 6'!F39 -> 0 | BT102: 2 | BV102: IMPORT | BW102: {cd78d682-2214-420e-9cfa-878d59042099} | BX102: {62870c06-e927-4a76-a01c-824320868b8e}

Sheet 1 - Trasa 1
AT2: {55b39cfe-a3a9-4c17-9c2e-d69b7b6d0d96}
AT3: 2
D4: KRYCÍ LIST SOUPISU PRACÍ | M4: v --- níže se nacházejí doplnkové a pomocné údaje k sestavám --- v | AT4: False
D6: Stavba:
E7: ='Rekapitulace stavby'!K6 -> Mimoň - zpevněné plochy
D8: Objekt:
E9: SO 101 - Smetanova
D10: Soupis:
E11: 1 - Trasa 1
D13: KSO: | I13: CC-CZ:
D14: Místo: | F14: Mimoň | I14: Datum: | J14: ='Rekapitulace stavby'!AN8 -> 44123
D16: Zadavatel: | I16: IČ:
E17: Město Mimoň | I17: DIČ:
D19: Uchazeč: | I19: IČ: | J19: ='Rekapitulace stavby'!AN13 -> Vyplň údaj
E20: ='Rekapitulace stavby'!E14 -> Vyplň údaj | I20: DIČ: | J20: ='Rekapitulace stavby'!AN14 -> Vyplň údaj
D22: Projektant: | I22: IČ:
E23: Ing. Martina Hřebřinová | I23: DIČ:
D25: Zpracovatel: | I25: IČ: | J25: =IF('Rekapitulace stavby'!AN19="","",'Rekapitulace stavby'!AN19)
E26: =IF('Rekapitulace stavby'!E20="","",'Rekapitulace stavby'!E20) | I26: DIČ: | J26: =IF('Rekapitulace stavby'!AN20="","",'Rekapitulace stavby'!AN20)
D28: Poznámka:
D32: Cena bez DPH | J32: =ROUND(J130, 2) -> 0
F34: Základ daně | I34: Sazba daně | J34: Výše daně
D35: DPH | E35: základní | F35: =ROUND((SUM(BE130:BE325)), 2) -> 0 | I35: 0.21 | J35: =ROUND(((SUM(BE130:BE325))*I35), 2) -> 0
E36: snížená | F36: =ROUND((SUM(BF130:BF325)), 2) -> 0 | I36: 0.15 | J36: =ROUND(((SUM(BF130:BF325))*I36), 2) -> 0
E37: zákl. přenesená | F37: =ROUND((SUM(BG130:BG325)), 2) -> 0 | I37: 0.21 | J37: =0 -> 0
E38: sníž. přenesená | F38: =ROUND((SUM(BH130:BH325)), 2) -> 0 | I38: 0.15 | J38: =0 -> 0
E39: nulová | F39: =ROUND((SUM(BI130:BI325)), 2) -> 0 | I39: 0 | J39: =0 -> 0
D41: Cena s DPH | G41: v | H41: CZK | J41: =SUM(J32:J39) -> 0
D50: Projektant | G50: Zpracovatel
D61: Datum a podpis: | F61: Razítko | G61: Datum a podpis: | J61: Razítko
D65: Objednavatel | G65: Uchazeč
D76: Datum a podpis: | F76: Razítko | G76: Datum a podpis: | J76: Razítko
C82: REKAPITULACE ČLENĚNÍ SOUPISU PRACÍ
C84: Stavba:
E85: =E7 -> Mimoň - zpevněné plochy
C86: Objekt:
E87: SO 101 - Smetanova
C88: Soupis:
E89: =E11 -> 1 - Trasa 1
C91: Místo: | F91: =F14 -> Mimoň | I91: Datum: | J91: =IF(J14="","",J14) -> 44123
C93: Zadavatel: | F93: =E17 -> Město Mimoň | I93: Projektant: | J93: =E23 -> Ing. Martina Hřebřinová
C94: Uchazeč: | F94: =IF(E20="","",E20) -> Vyplň údaj | I94: Zpracovatel: | J94: =E26
C96: Kód dílu - Popis | J96: Cena celkem [CZK]
C98: Náklady ze soupisu prací | J98: =J130 -> 0 | AU98: -1
D99: HSV - Práce a dodávky HSV | J99: =J131 -> 0
D100: 1 - Zemní práce | J100: =J132 -> 0
D101: 2 - Zakládání | J101: =J194 -> 0
D102: 4 - Vodorovné konstrukce | J102: =J214 -> 0
D103: 5 - Komunikace pozemní | J103: =J229 -> 0
D104: 8 - Trubní vedení | J104: =J252 -> 0
D105: 9 - Ostatní konstrukce a práce, bourání | J105: =J255 -> 0
D106: 997 - Přesun sutě | J106: =J296 -> 0
D107: 998 - Přesun hmot | J107: =J305 -> 0
D108: VRN - Vedlejší rozpočtové náklady | J108: =J308 -> 0
C115: SOUPIS PRACÍ
C117: Stavba:
E118: =E7 -> Mimoň - zpevněné plochy
C119: Objekt:
E120: SO 101 - Smetanova
C121: Soupis:
E122: =E11 -> 1 - Trasa 1
C124: Místo: | F124: =F14 -> Mimoň | I124: Datum: | J124: =IF(J14="","",J14) -> 44123
C126: Zadavatel: | F126: =E17 -> Město Mimoň | I126: Projektant: | J126: =E23 -> Ing. Martina Hřebřinová
C127: Uchazeč: | F127: =IF(E20="","",E20) -> Vyplň údaj | I127: Zpracovatel: | J127: =E26
C129: PČ | D129: Typ | E129: Kód | F129: Popis | G129: MJ | H129: Množství | I129: J.cena [CZK] | J129: Cena celkem [CZK] | K129: Cenová soustava | N129: DPH | O129: J. Nh [h] | P129: Nh celkem [h] | Q129: J. hmotnost [t] | R129: Hmotnost celkem [t] | S129: J. suť [t] | T129: Suť Celkem [t]
C130: Náklady soupisu celkem | J130: =BK130 -> 0 | P130: =P131+P308 -> 0 | R130: =R131+R308 -> 219.79071 | T130: =T131+T308 -> 234.059 | AT130: D | AU130: -1 | BK130: =BK131+BK308 -> 0
D131: D | E131: HSV | F131: Práce a dodávky HSV | J131: =BK131 -> 0 | P131: =P132+P194+P214+P229+P252+P255+P296+P305 -> 0 | R131: =R132+R194+R214+R229+R252+R255+R296+R305 -> 219.79071 | T131: =T132+T194+T214+T229+T252+T255+T296+T305 -> 234.059 | AR131: 1 | AT131: D | AU131: 0 | AY131: ROZPOCET | BK131: =BK132+BK194+BK214+BK229+BK252+BK255+BK296+BK305 -> 0
D132: D | E132: 1 | F132: Zemní práce | J132: =BK132 -> 0 | P132: =SUM(P133:P193) -> 0 | R132: =SUM(R133:R193) -> 20.4015 | T132: =SUM(T133:T193) -> 234.059 | AR132: 1 | AT132: D | AU132: 1 | AY132: ROZPOCET | BK132: =SUM(BK133:BK193) -> 0
C133: 1 | D133: K | E133: 113106134 | F133: Rozebrání dlažeb ze zámkových dlaždic komunikací pro pěší strojně pl do 50 m2 | G133: m2 | H133: 3.4 | J133: =ROUND(I133*H133,2) -> 0 | K133: CS ÚRS 2020 02 | N133: základní | P133: =O133*H133 -> 0 | Q133: 0 | R133: =Q133*H133 -> 0 | S133: 0.26 | T133: =S133*H133 -> 0.884 | AR133: 4 | AT133: K | AU133: 2 | AY133: ROZPOCET | BE133: =IF(N133="základní",J133,0) -> 0 | BF133: =IF(N133="snížená",J133,0) -> 0 | BG133: =IF(N133="zákl. přenesená",J133,0) -> 0 | BH133: =IF(N133="sníž. přenesená",J133,0) -> 0 | BI133: =IF(N133="nulová",J133,0) -> 0 | BJ133: 1 | BK133: =ROUND(I133*H133,2) -> 0 | BL133: 4 | BM133: 606503795
D134: PP | F134: Rozebrání dlažeb komunikací pro pěší s přemístěním hmot na skládku na vzdálenost do 3 m nebo s naložením na dopravní prostředek s ložem z kameniva nebo živice a s jakoukoliv výplní spár strojně plochy jednotlivě do 50 m2 ze zámkové dlažby | AT134: PP | AU134: 2
D135: VV | F135: rozebrání betonové zámkové dlažby | AT135: VV | AU135: 2 | AV135: 1 | AW135: True | AX135: 0 | AY135: ROZPOCET
D136: VV | F136: 3,4 | H136: 3.4 | AT136: VV | AU136: 2 | AV136: 2 | AW136: True | AX136: 1 | AY136: ROZPOCET
C137: 2 | D137: K | E137: 113107225 | F137: Odstranění podkladu z kameniva drceného tl 500 mm strojně pl přes 200 m2 | G137: m2 | H137: 310.9 | J137: =ROUND(I137*H137,2) -> 0 | K137: CS ÚRS 2020 02 | N137: základní | P137: =O137*H137 -> 0 | Q137: 0 | R137: =Q137*H137 -> 0 | S137: 0.75 | T137: =S137*H137 -> 233.175 | AR137: 4 | AT137: K | AU137: 2 | AY137: ROZPOCET | BE137: =IF(N137="základní",J137,0) -> 0 | BF137: =IF(N137="snížená",J137,0) -> 0 | BG137: =IF(N137="zákl. přenesená",J137,0) -> 0 | BH137: =IF(N137="sníž. přenesená",J137,0) -> 0 | BI137: =IF(N137="nulová",J137,0) -> 0 | BJ137: 1 | BK137: =ROUND(I137*H137,2) -> 0 | BL137: 4 | BM137: -1252985379
D138: PP | F138: Odstranění podkladů nebo krytů strojně plochy jednotlivě přes 200 m2 s přemístěním hmot na skládku na vzdálenost do 20 m nebo s naložením na dopravní prostředek z kameniva hrubého drceného, o tl. vrstvy přes 400 do 500 mm | AT138: PP | AU138: 2
D139: VV | F139: odstranění nestmeleného povrchu (štěrk) vč. podkladu | AT139: VV | AU139: 2 | AV139: 1 | AW139: True | AX139: 0 | AY139: ROZPOCET
D140: VV | F140: 310,9 | H140: 310.9 | AT140: VV | AU140: 2 | AV140: 2 | AW140: True | AX140: 1 | AY140: ROZPOCET
C141: 3 | D141: K | E141: 121151117 | F141: Sejmutí ornice plochy do 500 m2 tl vrstvy do 500 mm strojně | G141: m2 | H141: 283.1 | J141: =ROUND(I141*H141,2) -> 0 | K141: CS ÚRS 2020 02 | N141: základní | P141: =O141*H141 -> 0 | Q141: 0 | R141: =Q141*H141 -> 0 | S141: 0 | T141: =S141*H141 -> 0 | AR141: 4 | AT141: K | AU141: 2 | AY141: ROZPOCET | BE141: =IF(N141="základní",J141,0) -> 0 | BF141: =IF(N141="snížená",J141,0) -> 0 | BG141: =IF(N141="zákl. přenesená",J141,0) -> 0 | BH141: =IF(N141="sníž. přenesená",J141,0) -> 0 | BI141: =IF(N141="nulová",J141,0) -> 0 | BJ141: 1 | BK141: =ROUND(I141*H141,2) -> 0 | BL141: 4 | BM141: 1532904274
D142: PP | F142: Sejmutí ornice strojně při souvislé ploše přes 100 do 500 m2, tl. vrstvy přes 400 do 500 mm | AT142: PP | AU142: 2
D143: VV | F143: odstranění humózní vrstvy včetně podkladu | AT143: VV | AU143: 2 | AV143: 1 | AW143: True | AX143: 0 | AY143: ROZPOCET
D144: VV | F144: 283,10 | H144: 283.1 | AT144: VV | AU144: 2 | AV144: 2 | AW144: True | AX144: 1 | AY144: ROZPOCET
C145: 4 | D145: K | E145: 132251101 | F145: Hloubení rýh nezapažených š do 800 mm v hornině třídy těžitelnosti I, skupiny 3 objem do 20 m3 strojně | G145: m3 | H145: 16.2 | J145: =ROUND(I145*H145,2) -> 0 | K145: CS ÚRS 2020 02 | N145: základní | P145: =O145*H145 -> 0 | Q145: 0 | R145: =Q145*H145 -> 0 | S145: 0 | T145: =S145*H145 -> 0 | AR145: 4 | AT145: K | AU145: 2 | AY145: ROZPOCET | BE145: =IF(N145="základní",J145,0) -> 0 | BF145: =IF(N145="snížená",J145,0) -> 0 | BG145: =IF(N145="zákl. přenesená",J145,0) -> 0 | BH145: =IF(N145="sníž. přenesená",J145,0) -> 0 | BI145: =IF(N145="nulová",J145,0) -> 0 | BJ145: 1 | BK145: =ROUND(I145*H145,2) -> 0 | BL145: 4 | BM145: 1729725661
D146: PP | F146: Hloubení nezapažených rýh šířky do 800 mm strojně s urovnáním dna do předepsaného profilu a spádu v hornině třídy těžitelnosti I skupiny 3 do 20 m3 | AT146: PP | AU146: 2
D147: VV | F147: drenážní trativot DN 100 | AT147: VV | AU147: 2 | AV147: 1 | AW147: True | AX147: 0 | AY147: ROZPOCET
D148: VV | F148: 0,3*0,4*85,0 | H148: 10.2 | AT148: VV | AU148: 2 | AV148: 2 | AW148: True | AX148: 0 | AY148: ROZPOCET
D149: VV | F149: vsakovací retenční rýha | AT149: VV | AU149: 2 | AV149: 1 | AW149: True | AX149: 0 | AY149: ROZPOCET
D150: VV | F150: 6,0 | H150: 6 | AT150: VV | AU150: 2 | AV150: 2 | AW150: True | AX150: 0 | AY150: ROZPOCET
D151: VV | F151: Součet | H151: 16.2 | AT151: VV | AU151: 2 | AV151: 4 | AW151: True | AX151: 1 | AY151: ROZPOCET
C152: 5 | D152: K | E152: 16270110R | F152: Vodorovné přemístění výkopku/sypaniny z horniny tř. 1 až 4 - na skládku dle dodavatele | G152: m3 | H152: 16.2 | J152: =ROUND(I152*H152,2) -> 0 | N152: základní | P152: =O152*H152 -> 0 | Q152: 0 | R152: =Q152*H152 -> 0 | S152: 0 | T152: =S152*H152 -> 0 | AR152: 4 | AT152: K | AU152: 2 | AY152: ROZPOCET | BE152: =IF(N152="základní",J152,0) -> 0 | BF152: =IF(N152="snížená",J152,0) -> 0 | BG152: =IF(N152="zákl. přenesená",J152,0) -> 0 | BH152: =IF(N152="sníž. přenesená",J152,0) -> 0 | BI152: =IF(N152="nulová",J152,0) -> 0 | BJ152: 1 | BK152: =ROUND(I152*H152,2) -> 0 | BL152: 4 | BM152: 1316236538
D153: PP | F153: Vodorovné přemístění výkopku/sypaniny z horniny tř. 1 až 4 - na skládku dle dodavatele | AT153: PP | AU153: 2
D154: VV | F154: 16,2 "rýhy | H154: 16.2 | AT154: VV | AU154: 2 | AV154: 2 | AW154: True | AX154: 0 | AY154: ROZPOCET
D155: VV | F155: Součet | H155: 16.2 | AT155: VV | AU155: 2 | AV155: 4 | AW155: True | AX155: 1 | AY155: ROZPOCET
C156: 6 | D156: K | E156: 167151101 | F156: Nakládání výkopku z hornin třídy těžitelnosti I, skupiny 1 až 3 do 100 m3 | G156: m3 | H156: 16.2 | J156: =ROUND(I156*H156,2) -> 0 | K156: CS ÚRS 2020 02 | N156: základní | P156: =O156*H156 -> 0 | Q156: 0 | R156: =Q156*H156 -> 0 | S156: 0 | T156: =S156*H156 -> 0 | AR156: 4 | AT156: K | AU156: 2 | AY156: ROZPOCET | BE156: =IF(N156="základní",J156,0) -> 0 | BF156: =IF(N156="snížená",J156,0) -> 0 | BG156: =IF(N156="zákl. přenesená",J156,0) -> 0 | BH156: =IF(N156="sníž. přenesená",J156,0) -> 0 | BI156: =IF(N156="nulová",J156,0) -> 0 | BJ156: 1 | BK156: =ROUND(I156*H156,2) -> 0 | BL156: 4 | BM156: 1237119445
D157: PP | F157: Nakládání, skládání a překládání neulehlého výkopku nebo sypaniny strojně nakládání, množství do 100 m3, z horniny třídy těžitelnosti I, skupiny 1 až 3 | AT157: PP | AU157: 2
D158: VV | F158: 16,2 "rýhy | H158: 16.2 | AT158: VV | AU158: 2 | AV158: 2 | AW158: True | AX158: 0 | AY158: ROZPOCET
D159: VV | F159: Součet | H159: 16.2 | AT159: VV | AU159: 2 | AV159: 4 | AW159: True | AX159: 1 | AY159: ROZPOCET
C160: 7 | D160: K | E160: 171152101 | F160: Uložení sypaniny z hornin soudržných do násypů zhutněných silnic a dálnic | G160: m3 | H160: 12 | J160: =ROUND(I160*H160,2) -> 0 | K160: CS ÚRS 2020 02 | N160: základní | P160: =O160*H160 -> 0 | Q160: 0 | R160: =Q160*H160 -> 0 | S160: 0 | T160: =S160*H160 -> 0 | AR160: 4 | AT160: K | AU160: 2 | AY160: ROZPOCET | BE160: =IF(N160="základní",J160,0) -> 0 | BF160: =IF(N160="snížená",J160,0) -> 0 | BG160: =IF(N160="zákl. přenesená",J160,0) -> 0 | BH160: =IF(N160="sníž. přenesená",J160,0) -> 0 | BI160: =IF(N160="nulová",J160,0) -> 0 | BJ160: 1 | BK160: =ROUND(I160*H160,2) -> 0 | BL160: 4 | BM160: 1238679149
D161: PP | F161: Uložení sypaniny do zhutněných násypů pro silnice, dálnice a letiště s rozprostřením sypaniny ve vrstvách, s hrubým urovnáním a uzavřením povrchu násypu z hornin soudržných | AT161: PP | AU161: 2
D162: VV | F162: využití humózní vrstvy | AT162: VV | AU162: 2 | AV162: 1 | AW162: True | AX162: 0 | AY162: ROZPOCET
D163: VV | F163: 12,0 | H163: 12 | AT163: VV | AU163: 2 | AV163: 2 | AW163: True | AX163: 1 | AY163: ROZPOCET
C164: 8 | D164: K | E164: 171201201 | F164: Uložení sypaniny na skládky nebo meziskládky | G164: m3 | H164: 16.2 | J164: =ROUND(I164*H164,2) -> 0 | K164: CS ÚRS 2020 02 | N164: základní | P164: =O164*H164 -> 0 | Q164: 0 | R164: =Q164*H164 -> 0 | S164: 0 | T164: =S164*H164 -> 0 | AR164: 4 | AT164: K | AU164: 2 | AY164: ROZPOCET | BE164: =IF(N164="základní",J164,0) -> 0 | BF164: =IF(N164="snížená",J164,0) -> 0 | BG164: =IF(N164="zákl. přenesená",J164,0) -> 0 | BH164: =IF(N164="sníž. přenesená",J164,0) -> 0 | BI164: =IF(N164="nulová",J164,0) -> 0 | BJ164: 1 | BK164: =ROUND(I164*H164,2) -> 0 | BL164: 4 | BM164: -1533007389
...

Sheet 2 - Trasa 2
AT2: {757461a3-0240-47ed-9c9a-125b255f1869}
AT3: 2
D4: KRYCÍ LIST SOUPISU PRACÍ | M4: v --- níže se nacházejí doplnkové a pomocné údaje k sestavám --- v | AT4: False
D6: Stavba:
E7: ='Rekapitulace stavby'!K6 -> Mimoň - zpevněné plochy
D8: Objekt:
E9: SO 101 - Smetanova
D10: Soupis:
E11: 2 - Trasa 2
D13: KSO: | I13: CC-CZ:
D14: Místo: | F14: Mimoň | I14: Datum: | J14: ='Rekapitulace stavby'!AN8 -> 44123
D16: Zadavatel: | I16: IČ:
E17: Město Mimoň | I17: DIČ:
D19: Uchazeč: | I19: IČ: | J19: ='Rekapitulace stavby'!AN13 -> Vyplň údaj
E20: ='Rekapitulace stavby'!E14 -> Vyplň údaj | I20: DIČ: | J20: ='Rekapitulace stavby'!AN14 -> Vyplň údaj
D22: Projektant: | I22: IČ:
E23: Ing. Martina Hřebřinová | I23: DIČ:
D25: Zpracovatel: | I25: IČ: | J25: =IF('Rekapitulace stavby'!AN19="","",'Rekapitulace stavby'!AN19)
E26: =IF('Rekapitulace stavby'!E20="","",'Rekapitulace stavby'!E20) | I26: DIČ: | J26: =IF('Rekapitulace stavby'!AN20="","",'Rekapitulace stavby'!AN20)
D28: Poznámka:
D32: Cena bez DPH | J32: =ROUND(J129, 2) -> 0
F34: Základ daně | I34: Sazba daně | J34: Výše daně
D35: DPH | E35: základní | F35: =ROUND((SUM(BE129:BE323)), 2) -> 0 | I35: 0.21 | J35: =ROUND(((SUM(BE129:BE323))*I35), 2) -> 0
E36: snížená | F36: =ROUND((SUM(BF129:BF323)), 2) -> 0 | I36: 0.15 | J36: =ROUND(((SUM(BF129:BF323))*I36), 2) -> 0
E37: zákl. přenesená | F37: =ROUND((SUM(BG129:BG323)), 2) -> 0 | I37: 0.21 | J37: =0 -> 0
E38: sníž. přenesená | F38: =ROUND((SUM(BH129:BH323)), 2) -> 0 | I38: 0.15 | J38: =0 -> 0
E39: nulová | F39: =ROUND((SUM(BI129:BI323)), 2) -> 0 | I39: 0 | J39: =0 -> 0
D41: Cena s DPH | G41: v | H41: CZK | J41: =SUM(J32:J39) -> 0
D50: Projektant | G50: Zpracovatel
D61: Datum a podpis: | F61: Razítko | G61: Datum a podpis: | J61: Razítko
D65: Objednavatel | G65: Uchazeč
D76: Datum a podpis: | F76: Razítko | G76: Datum a podpis: | J76: Razítko
C82: REKAPITULACE ČLENĚNÍ SOUPISU PRACÍ
C84: Stavba:
E85: =E7 -> Mimoň - zpevněné plochy
C86: Objekt:
E87: SO 101 - Smetanova
C88: Soupis:
E89: =E11 -> 2 - Trasa 2
C91: Místo: | F91: =F14 -> Mimoň | I91: Datum: | J91: =IF(J14="","",J14) -> 44123
C93: Zadavatel: | F93: =E17 -> Město Mimoň | I93: Projektant: | J93: =E23 -> Ing. Martina Hřebřinová
C94: Uchazeč: | F94: =IF(E20="","",E20) -> Vyplň údaj | I94: Zpracovatel: | J94: =E26
C96: Kód dílu - Popis | J96: Cena celkem [CZK]
C98: Náklady ze soupisu prací | J98: =J129 -> 0 | AU98: -1
D99: HSV - Práce a dodávky HSV | J99: =J130 -> 0
D100: 1 - Zemní práce | J100: =J131 -> 0
D101: 2 - Zakládání | J101: =J212 -> 0
D102: 4 - Vodorovné konstrukce | J102: =J232 -> 0
D103: 5 - Komunikace pozemní | J103: =J247 -> 0
D104: 8 - Trubní vedení | J104: =J259 -> 0
D105: 9 - Ostatní konstrukce a práce, bourání | J105: =J262 -> 0
D106: 998 - Přesun hmot | J106: =J303 -> 0
D107: VRN - Vedlejší rozpočtové náklady | J107: =J306 -> 0
C114: SOUPIS PRACÍ
C116: Stavba:
E117: =E7 -> Mimoň - zpevněné plochy
C118: Objekt:
E119: SO 101 - Smetanova
C120: Soupis:
E121: =E11 -> 2 - Trasa 2
C123: Místo: | F123: =F14 -> Mimoň | I123: Datum: | J123: =IF(J14="","",J14) -> 44123
C125: Zadavatel: | F125: =E17 -> Město Mimoň | I125: Projektant: | J125: =E23 -> Ing. Martina Hřebřinová
C126: Uchazeč: | F126: =IF(E20="","",E20) -> Vyplň údaj | I126: Zpracovatel: | J126: =E26
C128: PČ | D128: Typ | E128: Kód | F128: Popis | G128: MJ | H128: Množství | I128: J.cena [CZK] | J128: Cena celkem [CZK] | K128: Cenová soustava | N128: DPH | O128: J. Nh [h] | P128: Nh celkem [h] | Q128: J. hmotnost [t] | R128: Hmotnost celkem [t] | S128: J. suť [t] | T128: Suť Celkem [t]
C129: Náklady soupisu celkem | J129: =BK129 -> 0 | P129: =P130+P306 -> 0 | R129: =R130+R306 -> 111.07019 | T129: =T130+T306 -> 0 | AT129: D | AU129: -1 | BK129: =BK130+BK306 -> 0
D130: D | E130: HSV | F130: Práce a dodávky HSV | J130: =BK130 -> 0 | P130: =P131+P212+P232+P247+P259+P262+P303 -> 0 | R130: =R131+R212+R232+R247+R259+R262+R303 -> 111.07019 | T130: =T131+T212+T232+T247+T259+T262+T303 -> 0 | AR130: 1 | AT130: D | AU130: 0 | AY130: ROZPOCET | BK130: =BK131+BK212+BK232+BK247+BK259+BK262+BK303 -> 0
D131: D | E131: 1 | F131: Zemní práce | J131: =BK131 -> 0 | P131: =SUM(P132:P211) -> 0 | R131: =SUM(R132:R211) -> 29.58129 | T131: =SUM(T132:T211) -> 0 | AR131: 1 | AT131: D | AU131: 1 | AY131: ROZPOCET | BK131: =SUM(BK132:BK211) -> 0
C132: 1 | D132: K | E132: 112151112 | F132: Směrové kácení stromů s rozřezáním a odvětvením D kmene do 300 mm | G132: kus | H132: 3 | J132: =ROUND(I132*H132,2) -> 0 | K132: CS ÚRS 2020 02 | N132: základní | P132: =O132*H132 -> 0 | Q132: 0 | R132: =Q132*H132 -> 0 | S132: 0 | T132: =S132*H132 -> 0 | AR132: 4 | AT132: K | AU132: 2 | AY132: ROZPOCET | BE132: =IF(N132="základní",J132,0) -> 0 | BF132: =IF(N132="snížená",J132,0) -> 0 | BG132: =IF(N132="zákl. přenesená",J132,0) -> 0 | BH132: =IF(N132="sníž. přenesená",J132,0) -> 0 | BI132: =IF(N132="nulová",J132,0) -> 0 | BJ132: 1 | BK132: =ROUND(I132*H132,2) -> 0 | BL132: 4 | BM132: -1455094338
D133: PP | F133: Pokácení stromu směrové v celku s odřezáním kmene a s odvětvením průměru kmene přes 200 do 300 mm | AT133: PP | AU133: 2
D134: VV | F134: kácení stromů | AT134: VV | AU134: 2 | AV134: 1 | AW134: True | AX134: 0 | AY134: ROZPOCET
D135: VV | F135: 3 | H135: 3 | AT135: VV | AU135: 2 | AV135: 2 | AW135: True | AX135: 1 | AY135: ROZPOCET
C136: 2 | D136: K | E136: 112201112 | F136: Odstranění pařezů D do 0,3 m v rovině a svahu 1:5 s odklizením do 20 m a zasypáním jámy | G136: kus | H136: 3 | J136: =ROUND(I136*H136,2) -> 0 | K136: CS ÚRS 2020 02 | N136: základní | P136: =O136*H136 -> 0 | Q136: 0 | R136: =Q136*H136 -> 0 | S136: 0 | T136: =S136*H136 -> 0 | AR136: 4 | AT136: K | AU136: 2 | AY136: ROZPOCET | BE136: =IF(N136="základní",J136,0) -> 0 | BF136: =IF(N136="snížená",J136,0) -> 0 | BG136: =IF(N136="zákl. přenesená",J136,0) -> 0 | BH136: =IF(N136="sníž. přenesená",J136,0) -> 0 | BI136: =IF(N136="nulová",J136,0) -> 0 | BJ136: 1 | BK136: =ROUND(I136*H136,2) -> 0 | BL136: 4 | BM136: -839534676
D137: PP | F137: Odstranění pařezu v rovině nebo na svahu do 1:5 o průměru pařezu na řezné ploše přes 200 do 300 mm | AT137: PP | AU137: 2
D138: VV | F138: kácení stromů | AT138: VV | AU138: 2 | AV138: 1 | AW138: True | AX138: 0 | AY138: ROZPOCET
D139: VV | F139: 3 | H139: 3 | AT139: VV | AU139: 2 | AV139: 2 | AW139: True | AX139: 1 | AY139: ROZPOCET
C140: 3 | D140: K | E140: 121151103 | F140: Sejmutí ornice plochy do 100 m2 tl vrstvy do 200 mm strojně | G140: m2 | H140: 140 | J140: =ROUND(I140*H140,2) -> 0 | K140: CS ÚRS 2020 02 | N140: základní | P140: =O140*H140 -> 0 | Q140: 0 | R140: =Q140*H140 -> 0 | S140: 0 | T140: =S140*H140 -> 0 | AR140: 4 | AT140: K | AU140: 2 | AY140: ROZPOCET | BE140: =IF(N140="základní",J140,0) -> 0 | BF140: =IF(N140="snížená",J140,0) -> 0 | BG140: =IF(N140="zákl. přenesená",J140,0) -> 0 | BH140: =IF(N140="sníž. přenesená",J140,0) -> 0 | BI140: =IF(N140="nulová",J140,0) -> 0 | BJ140: 1 | BK140: =ROUND(I140*H140,2) -> 0 | BL140: 4 | BM140: 1066626207
D141: PP | F141: Sejmutí ornice strojně při souvislé ploše do 100 m2, tl. vrstvy do 200 mm | AT141: PP | AU141: 2
D142: VV | F142: 2,6*2,5 | H142: 6.5 | AT142: VV | AU142: 2 | AV142: 2 | AW142: True | AX142: 0 | AY142: ROZPOCET
D143: VV | F143: 3,1*2,5+2,5*3,1 | H143: 15.5 | AT143: VV | AU143: 2 | AV143: 2 | AW143: True | AX143: 0 | AY143: ROZPOCET
D144: VV | F144: 4,2*5 | H144: 21 | AT144: VV | AU144: 2 | AV144: 2 | AW144: True | AX144: 0 | AY144: ROZPOCET
D145: VV | F145: 5,0*5 | H145: 25 | AT145: VV | AU145: 2 | AV145: 2 | AW145: True | AX145: 0 | AY145: ROZPOCET
D146: VV | F146: 5,0*5 | H146: 25 | AT146: VV | AU146: 2 | AV146: 2 | AW146: True | AX146: 0 | AY146: ROZPOCET
D147: VV | F147: 5,7*5 | H147: 28.5 | AT147: VV | AU147: 2 | AV147: 2 | AW147: True | AX147: 0 | AY147: ROZPOCET
D148: VV | F148: 7,4*2,5 | H148: 18.5 | AT148: VV | AU148: 2 | AV148: 2 | AW148: True | AX148: 0 | AY148: ROZPOCET
D149: VV | F149: Součet | H149: 140 | AT149: VV | AU149: 2 | AV149: 4 | AW149: True | AX149: 1 | AY149: ROZPOCET
C150: 4 | D150: K | E150: 122251101 | F150: Odkopávky a prokopávky nezapažené v hornině třídy těžitelnosti I, skupiny 3 objem do 20 m3 strojně | G150: m3 | H150: 137.65 | J150: =ROUND(I150*H150,2) -> 0 | K150: CS ÚRS 2020 02 | N150: základní | P150: =O150*H150 -> 0 | Q150: 0 | R150: =Q150*H150 -> 0 | S150: 0 | T150: =S150*H150 -> 0 | AR150: 4 | AT150: K | AU150: 2 | AY150: ROZPOCET | BE150: =IF(N150="základní",J150,0) -> 0 | BF150: =IF(N150="snížená",J150,0) -> 0 | BG150: =IF(N150="zákl. přenesená",J150,0) -> 0 | BH150: =IF(N150="sníž. přenesená",J150,0) -> 0 | BI150: =IF(N150="nulová",J150,0) -> 0 | BJ150: 1 | BK150: =ROUND(I150*H150,2) -> 0 | BL150: 4 | BM150: 555736708
D151: PP | F151: Odkopávky a prokopávky nezapažené strojně v hornině třídy těžitelnosti I skupiny 3 do 20 m3 | AT151: PP | AU151: 2
D152: VV | F152: 3,7*2,5 | H152: 9.25 | AT152: VV | AU152: 2 | AV152: 2 | AW152: True | AX152: 0 | AY152: ROZPOCET
D153: VV | F153: 3,9*5,0 | H153: 19.5 | AT153: VV | AU153: 2 | AV153: 2 | AW153: True | AX153: 0 | AY153: ROZPOCET
D154: VV | F154: 4,2*5,0 | H154: 21 | AT154: VV | AU154: 2 | AV154: 2 | AW154: True | AX154: 0 | AY154: ROZPOCET
D155: VV | F155: 3,5*5,0 | H155: 17.5 | AT155: VV | AU155: 2 | AV155: 2 | AW155: True | AX155: 0 | AY155: ROZPOCET
D156: VV | F156: 5,2*5 | H156: 26 | AT156: VV | AU156: 2 | AV156: 2 | AW156: True | AX156: 0 | AY156: ROZPOCET
D157: VV | F157: 4,7*5 | H157: 23.5 | AT157: VV | AU157: 2 | AV157: 2 | AW157: True | AX157: 0 | AY157: ROZPOCET
D158: VV | F158: 7,4*3,75 | H158: 27.75 | AT158: VV | AU158: 2 | AV158: 2 | AW158: True | AX158: 0 | AY158: ROZPOCET
D159: VV | F159: 2,6*2,75 | H159: 7.15 | AT159: VV | AU159: 2 | AV159: 2 | AW159: True | AX159: 0 | AY159: ROZPOCET
D160: VV | F160: Mezisoučet | H160: 151.65 | AT160: VV | AU160: 2 | AV160: 3 | AW160: True | AX160: 0 | AY160: ROZPOCET
D161: VV | F161: -14,0 | H161: -14 | AT161: VV | AU161: 2 | AV161: 2 | AW161: True | AX161: 0 | AY161: ROZPOCET
D162: VV | F162: Součet | H162: 137.65 | AT162: VV | AU162: 2 | AV162: 4 | AW162: True | AX162: 1 | AY162: ROZPOCET
C163: 5 | D163: K | E163: 132251101 | F163: Hloubení rýh nezapažených š do 800 mm v hornině třídy těžitelnosti I, skupiny 3 objem do 20 m3 strojně | G163: m3 | H163: 9.96 | J163: =ROUND(I163*H163,2) -> 0 | K163: CS ÚRS 2020 02 | N163: základní | P163: =O163*H163 -> 0 | Q163: 0 | R163: =Q163*H163 -> 0 | S163: 0 | T163: =S163*H163 -> 0 | AR163: 4 | AT163: K | AU163: 2 | AY163: ROZPOCET | BE163: =IF(N163="základní",J163,0) -> 0 | BF163: =IF(N163="snížená",J163,0) -> 0 | BG163: =IF(N163="zákl. přenesená",J163,0) -> 0 | BH163: =IF(N163="sníž. přenesená",J163,0) -> 0 | BI163: =IF(N163="nulová",J163,0) -> 0 | BJ163: 1 | BK163: =ROUND(I163*H163,2) -> 0 | BL163: 4 | BM163: 103828318
D164: PP | F164: Hloubení nezapažených rýh šířky do 800 mm strojně s urovnáním dna do předepsaného profilu a spádu v hornině třídy těžitelnosti I skupiny 3 do 20 m3 | AT164: PP | AU164: 2
...

Sheet 3 - Trasa 3
AT2: {9651d3c8-210a-4426-99cb-d5fabf50b318}
AT3: 2
D4: KRYCÍ LIST SOUPISU PRACÍ | M4: v --- níže se nacházejí doplnkové a pomocné údaje k sestavám --- v | AT4: False
D6: Stavba:
E7: ='Rekapitulace stavby'!K6 -> Mimoň - zpevněné plochy
D8: Objekt:
E9: SO 102 - U Nemocnice
D10: Soupis:
E11: 3 - Trasa 3
D13: KSO: | I13: CC-CZ:
D14: Místo: | F14: Mimoň | I14: Datum: | J14: ='Rekapitulace stavby'!AN8 -> 44123
D16: Zadavatel: | I16: IČ: | J16: =IF('Rekapitulace stavby'!AN10="","",'Rekapitulace stavby'!AN10)
E17: =IF('Rekapitulace stavby'!E11="","",'Rekapitulace stavby'!E11) | I17: DIČ: | J17: =IF('Rekapitulace stavby'!AN11="","",'Rekapitulace stavby'!AN11)
D19: Uchazeč: | I19: IČ: | J19: ='Rekapitulace stavby'!AN13 -> Vyplň údaj
E20: ='Rekapitulace stavby'!E14 -> Vyplň údaj | I20: DIČ: | J20: ='Rekapitulace stavby'!AN14 -> Vyplň údaj
D22: Projektant: | I22: IČ:
E23: Ing. Martina Hřebřinová | I23: DIČ:
D25: Zpracovatel: | I25: IČ: | J25: =IF('Rekapitulace stavby'!AN19="","",'Rekapitulace stavby'!AN19)
E26: =IF('Rekapitulace stavby'!E20="","",'Rekapitulace stavby'!E20) | I26: DIČ: | J26: =IF('Rekapitulace stavby'!AN20="","",'Rekapitulace stavby'!AN20)
D28: Poznámka:
D32: Cena bez DPH | J32: =ROUND(J129, 2) -> 0
F34: Základ daně | I34: Sazba daně | J34: Výše daně
D35: DPH | E35: základní | F35: =ROUND((SUM(BE129:BE325)), 2) -> 0 | I35: 0.21 | J35: =ROUND(((SUM(BE129:BE325))*I35), 2) -> 0
E36: snížená | F36: =ROUND((SUM(BF129:BF325)), 2) -> 0 | I36: 0.15 | J36: =ROUND(((SUM(BF129:BF325))*I36), 2) -> 0
E37: zákl. přenesená | F37: =ROUND((SUM(BG129:BG325)), 2) -> 0 | I37: 0.21 | J37: =0 -> 0
E38: sníž. přenesená | F38: =ROUND((SUM(BH129:BH325)), 2) -> 0 | I38: 0.15 | J38: =0 -> 0
E39: nulová | F39: =ROUND((SUM(BI129:BI325)), 2) -> 0 | I39: 0 | J39: =0 -> 0
D41: Cena s DPH | G41: v | H41: CZK | J41: =SUM(J32:J39) -> 0
D50: Projektant | G50: Zpracovatel
D61: Datum a podpis: | F61: Razítko | G61: Datum a podpis: | J61: Razítko
D65: Objednavatel | G65: Uchazeč
D76: Datum a podpis: | F76: Razítko | G76: Datum a podpis: | J76: Razítko
C82: REKAPITULACE ČLENĚNÍ SOUPISU PRACÍ
C84: Stavba:
E85: =E7 -> Mimoň - zpevněné plochy
C86: Objekt:
E87: SO 102 - U Nemocnice
C88: Soupis:
E89: =E11 -> 3 - Trasa 3
C91: Místo: | F91: =F14 -> Mimoň | I91: Datum: | J91: =IF(J14="","",J14) -> 44123
C93: Zadavatel: | F93: =E17 | I93: Projektant: | J93: =E23 -> Ing. Martina Hřebřinová
C94: Uchazeč: | F94: =IF(E20="","",E20) -> Vyplň údaj | I94: Zpracovatel: | J94: =E26
C96: Kód dílu - Popis | J96: Cena celkem [CZK]
C98: Náklady ze soupisu prací | J98: =J129 -> 0 | AU98: -1
D99: HSV - Práce a dodávky HSV | J99: =J130 -> 0
D100: 1 - Zemní práce | J100: =J131 -> 0
D101: 2 - Zakládání | J101: =J205 -> 0
D102: 4 - Vodorovné konstrukce | J102: =J225 -> 0
D103: 5 - Komunikace pozemní | J103: =J240 -> 0
D104: 9 - Ostatní konstrukce a práce, bourání | J104: =J252 -> 0
D105: 997 - Přesun sutě | J105: =J299 -> 0
D106: 998 - Přesun hmot | J106: =J305 -> 0
D107: VRN - Vedlejší rozpočtové náklady | J107: =J308 -> 0
C114: SOUPIS PRACÍ
C116: Stavba:
E117: =E7 -> Mimoň - zpevněné plochy
C118: Objekt:
E119: SO 102 - U Nemocnice
C120: Soupis:
E121: =E11 -> 3 - Trasa 3
C123: Místo: | F123: =F14 -> Mimoň | I123: Datum: | J123: =IF(J14="","",J14) -> 44123
C125: Zadavatel: | F125: =E17 | I125: Projektant: | J125: =E23 -> Ing. Martina Hřebřinová
C126: Uchazeč: | F126: =IF(E20="","",E20) -> Vyplň údaj | I126: Zpracovatel: | J126: =E26
C128: PČ | D128: Typ | E128: Kód | F128: Popis | G128: MJ | H128: Množství | I128: J.cena [CZK] | J128: Cena celkem [CZK] | K128: Cenová soustava | N128: DPH | O128: J. Nh [h] | P128: Nh celkem [h] | Q128: J. hmotnost [t] | R128: Hmotnost celkem [t] | S128: J. suť [t] | T128: Suť Celkem [t]
C129: Náklady soupisu celkem | J129: =BK129 -> 0 | P129: =P130+P308 -> 0 | R129: =R130+R308 -> 64.726497 | T129: =T130+T308 -> 4.715 | AT129: D | AU129: -1 | BK129: =BK130+BK308 -> 0
D130: D | E130: HSV | F130: Práce a dodávky HSV | J130: =BK130 -> 0 | P130: =P131+P205+P225+P240+P252+P299+P305 -> 0 | R130: =R131+R205+R225+R240+R252+R299+R305 -> 64.726497 | T130: =T131+T205+T225+T240+T252+T299+T305 -> 4.715 | AR130: 1 | AT130: D | AU130: 0 | AY130: ROZPOCET | BK130: =BK131+BK205+BK225+BK240+BK252+BK299+BK305 -> 0
D131: D | E131: 1 | F131: Zemní práce | J131: =BK131 -> 0 | P131: =SUM(P132:P204) -> 0 | R131: =SUM(R132:R204) -> 15.8106 | T131: =SUM(T132:T204) -> 4.715 | AR131: 1 | AT131: D | AU131: 1 | AY131: ROZPOCET | BK131: =SUM(BK132:BK204) -> 0
C132: 1 | D132: K | E132: 113202111 | F132: Vytrhání obrub krajníků obrubníků stojatých | G132: m | H132: 23 | J132: =ROUND(I132*H132,2) -> 0 | K132: CS ÚRS 2020 02 | N132: základní | P132: =O132*H132 -> 0 | Q132: 0 | R132: =Q132*H132 -> 0 | S132: 0.205 | T132: =S132*H132 -> 4.715 | AR132: 4 | AT132: K | AU132: 2 | AY132: ROZPOCET | BE132: =IF(N132="základní",J132,0) -> 0 | BF132: =IF(N132="snížená",J132,0) -> 0 | BG132: =IF(N132="zákl. přenesená",J132,0) -> 0 | BH132: =IF(N132="sníž. přenesená",J132,0) -> 0 | BI132: =IF(N132="nulová",J132,0) -> 0 | BJ132: 1 | BK132: =ROUND(I132*H132,2) -> 0 | BL132: 4 | BM132: 1719493704
D133: PP | F133: Vytrhání obrub s vybouráním lože, s přemístěním hmot na skládku na vzdálenost do 3 m nebo s naložením na dopravní prostředek z krajníků nebo obrubníků stojatých | AT133: PP | AU133: 2
D134: VV | F134: odstranění betonové obruby | AT134: VV | AU134: 2 | AV134: 1 | AW134: True | AX134: 0 | AY134: ROZPOCET
D135: VV | F135: 23,0 | H135: 23 | AT135: VV | AU135: 2 | AV135: 2 | AW135: True | AX135: 1 | AY135: ROZPOCET
C136: 2 | D136: K | E136: 121151103 | F136: Sejmutí ornice plochy do 100 m2 tl vrstvy do 200 mm strojně | G136: m2 | H136: 122.595 | J136: =ROUND(I136*H136,2) -> 0 | K136: CS ÚRS 2020 02 | N136: základní | P136: =O136*H136 -> 0 | Q136: 0 | R136: =Q136*H136 -> 0 | S136: 0 | T136: =S136*H136 -> 0 | AR136: 4 | AT136: K | AU136: 2 | AY136: ROZPOCET | BE136: =IF(N136="základní",J136,0) -> 0 | BF136: =IF(N136="snížená",J136,0) -> 0 | BG136: =IF(N136="zákl. přenesená",J136,0) -> 0 | BH136: =IF(N136="sníž. přenesená",J136,0) -> 0 | BI136: =IF(N136="nulová",J136,0) -> 0 | BJ136: 1 | BK136: =ROUND(I136*H136,2) -> 0 | BL136: 4 | BM136: 343323137
D137: PP | F137: Sejmutí ornice strojně při souvislé ploše do 100 m2, tl. vrstvy do 200 mm | AT137: PP | AU137: 2
D138: VV | F138: sejmutí trávy (ornice) - pro využití zpět na terénní úpravy | AT138: VV | AU138: 2 | AV138: 1 | AW138: True | AX138: 0 | AY138: ROZPOCET
D139: VV | F139: tl. 0,1 m | AT139: VV | AU139: 2 | AV139: 1 | AW139: True | AX139: 0 | AY139: ROZPOCET
D140: VV | F140: 5,9*1,95 | H140: 11.505 | AT140: VV | AU140: 2 | AV140: 2 | AW140: True | AX140: 0 | AY140: ROZPOCET
D141: VV | F141: 6,2*4,45 | H141: 27.59 | AT141: VV | AU141: 2 | AV141: 2 | AW141: True | AX141: 0 | AY141: ROZPOCET
D142: VV | F142: 5,8*5,0 | H142: 29 | AT142: VV | AU142: 2 | AV142: 2 | AW142: True | AX142: 0 | AY142: ROZPOCET
D143: VV | F143: 6,1*5,0 | H143: 30.5 | AT143: VV | AU143: 2 | AV143: 2 | AW143: True | AX143: 0 | AY143: ROZPOCET
D144: VV | F144: 6,0*4,0 | H144: 24 | AT144: VV | AU144: 2 | AV144: 2 | AW144: True | AX144: 0 | AY144: ROZPOCET
D145: VV | F145: Součet | H145: 122.595 | AT145: VV | AU145: 2 | AV145: 4 | AW145: True | AX145: 1 | AY145: ROZPOCET
C146: 3 | D146: K | E146: 122251101 | F146: Odkopávky a prokopávky nezapažené v hornině třídy těžitelnosti I, skupiny 3 objem do 20 m3 strojně | G146: m3 | H146: 56.49 | J146: =ROUND(I146*H146,2) -> 0 | K146: CS ÚRS 2020 02 | N146: základní | P146: =O146*H146 -> 0 | Q146: 0 | R146: =Q146*H146 -> 0 | S146: 0 | T146: =S146*H146 -> 0 | AR146: 4 | AT146: K | AU146: 2 | AY146: ROZPOCET | BE146: =IF(N146="základní",J146,0) -> 0 | BF146: =IF(N146="snížená",J146,0) -> 0 | BG146: =IF(N146="zákl. přenesená",J146,0) -> 0 | BH146: =IF(N146="sníž. přenesená",J146,0) -> 0 | BI146: =IF(N146="nulová",J146,0) -> 0 | BJ146: 1 | BK146: =ROUND(I146*H146,2) -> 0 | BL146: 4 | BM146: 1436004828
D147: PP | F147: Odkopávky a prokopávky nezapažené strojně v hornině třídy těžitelnosti I skupiny 3 do 20 m3 | AT147: PP | AU147: 2
D148: VV | F148: 3,8*1,95 | H148: 7.41 | AT148: VV | AU148: 2 | AV148: 2 | AW148: True | AX148: 0 | AY148: ROZPOCET
D149: VV | F149: 3,2*4,45 | H149: 14.24 | AT149: VV | AU149: 2 | AV149: 2 | AW149: True | AX149: 0 | AY149: ROZPOCET
D150: VV | F150: 3,0*5, | H150: 15 | AT150: VV | AU150: 2 | AV150: 2 | AW150: True | AX150: 0 | AY150: ROZPOCET
D151: VV | F151: 3,7*5,0 | H151: 18.5 | AT151: VV | AU151: 2 | AV151: 2 | AW151: True | AX151: 0 | AY151: ROZPOCET
D152: VV | F152: 3,4*4,0 | H152: 13.6 | AT152: VV | AU152: 2 | AV152: 2 | AW152: True | AX152: 0 | AY152: ROZPOCET
D153: VV | F153: Mezisoučet | H153: 68.75 | AT153: VV | AU153: 2 | AV153: 3 | AW153: True | AX153: 0 | AY153: ROZPOCET
D154: VV | F154: -12,26 | H154: -12.26 | AT154: VV | AU154: 2 | AV154: 2 | AW154: True | AX154: 0 | AY154: ROZPOCET
D155: VV | F155: Součet | H155: 56.49 | AT155: VV | AU155: 2 | AV155: 4 | AW155: True | AX155: 1 | AY155: ROZPOCET
C156: 4 | D156: K | E156: 132251101 | F156: Hloubení rýh nezapažených š do 800 mm v hornině třídy těžitelnosti I, skupiny 3 objem do 20 m3 strojně | G156: m3 | H156: 7.04 | J156: =ROUND(I156*H156,2) -> 0 | K156: CS ÚRS 2020 02 | N156: základní | P156: =O156*H156 -> 0 | Q156: 0 | R156: =Q156*H156 -> 0 | S156: 0 | T156: =S156*H156 -> 0 | AR156: 4 | AT156: K | AU156: 2 | AY156: ROZPOCET | BE156: =IF(N156="základní",J156,0) -> 0 | BF156: =IF(N156="snížená",J156,0) -> 0 | BG156: =IF(N156="zákl. přenesená",J156,0) -> 0 | BH156: =IF(N156="sníž. přenesená",J156,0) -> 0 | BI156: =IF(N156="nulová",J156,0) -> 0 | BJ156: 1 | BK156: =ROUND(I156*H156,2) -> 0 | BL156: 4 | BM156: 379691436
D157: PP | F157: Hloubení nezapažených rýh šířky do 800 mm strojně s urovnáním dna do předepsaného profilu a spádu v hornině třídy těžitelnosti I skupiny 3 do 20 m3 | AT157: PP | AU157: 2
D158: VV | F158: drenážní trativot DN 100 | AT158: VV | AU158: 2 | AV158: 1 | AW158: True | AX158: 0 | AY158: ROZPOCET
D159: VV | F159: 0,3*0,4*22,0 | H159: 2.64 | AT159: VV | AU159: 2 | AV159: 2 | AW159: True | AX159: 0 | AY159: ROZPOCET
D160: VV | F160: vsakovací retenční rýha | AT160: VV | AU160: 2 | AV160: 1 | AW160: True | AX160: 0 | AY160: ROZPOCET
D161: VV | F161: 4,4 | H161: 4.4 | AT161: VV | AU161: 2 | AV161: 2 | AW161: True | AX161: 0 | AY161: ROZPOCET
D162: VV | F162: Součet | H162: 7.04 | AT162: VV | AU162: 2 | AV162: 4 | AW162: True | AX162: 1 | AY162: ROZPOCET
C163: 5 | D163: K | E163: 16270110R | F163: Vodorovné přemístění výkopku/sypaniny z horniny tř. 1 až 4 - na skládku dle dodavatele | G163: m3 | H163: 63.53 | J163: =ROUND(I163*H163,2) -> 0 | N163: základní | P163: =O163*H163 -> 0 | Q163: 0 | R163: =Q163*H163 -> 0 | S163: 0 | T163: =S163*H163 -> 0 | AR163: 4 | AT163: K | AU163: 2 | AY163: ROZPOCET | BE163: =IF(N163="základní",J163,0) -> 0 | BF163: =IF(N163="snížená",J163,0) -> 0 | BG163: =IF(N163="zákl. přenesená",J163,0) -> 0 | BH163: =IF(N163="sníž. přenesená",J163,0) -> 0 | BI163: =IF(N163="nulová",J163,0) -> 0 | BJ163: 1 | BK163: =ROUND(I163*H163,2) -> 0 | BL163: 4 | BM163: -1561390403
D164: PP | F164: Vodorovné přemístění výkopku/sypaniny z horniny tř. 1 až 4 - na skládku dle dodavatele | AT164: PP | AU164: 2
...

Sheet 4 - Trasa 4
AT2: {f344e9af-2abe-431d-8911-1756b5333afe}
AT3: 2
D4: KRYCÍ LIST SOUPISU PRACÍ | M4: v --- níže se nacházejí doplnkové a pomocné údaje k sestavám --- v | AT4: False
D6: Stavba:
E7: ='Rekapitulace stavby'!K6 -> Mimoň - zpevněné plochy
D8: Objekt:
E9: SO 102 - U Nemocnice
D10: Soupis:
E11: 4 - Trasa 4
D13: KSO: | I13: CC-CZ:
D14: Místo: | F14: Mimoň | I14: Datum: | J14: ='Rekapitulace stavby'!AN8 -> 44123
D16: Zadavatel: | I16: IČ: | J16: =IF('Rekapitulace stavby'!AN10="","",'Rekapitulace stavby'!AN10)
E17: =IF('Rekapitulace stavby'!E11="","",'Rekapitulace stavby'!E11) | I17: DIČ: | J17: =IF('Rekapitulace stavby'!AN11="","",'Rekapitulace stavby'!AN11)
D19: Uchazeč: | I19: IČ: | J19: ='Rekapitulace stavby'!AN13 -> Vyplň údaj
E20: ='Rekapitulace stavby'!E14 -> Vyplň údaj | I20: DIČ: | J20: ='Rekapitulace stavby'!AN14 -> Vyplň údaj
D22: Projektant: | I22: IČ:
E23: Ing. Martina Hřebřinová | I23: DIČ:
D25: Zpracovatel: | I25: IČ: | J25: =IF('Rekapitulace stavby'!AN19="","",'Rekapitulace stavby'!AN19)
E26: =IF('Rekapitulace stavby'!E20="","",'Rekapitulace stavby'!E20) | I26: DIČ: | J26: =IF('Rekapitulace stavby'!AN20="","",'Rekapitulace stavby'!AN20)
D28: Poznámka:
D32: Cena bez DPH | J32: =ROUND(J129, 2) -> 0
F34: Základ daně | I34: Sazba daně | J34: Výše daně
D35: DPH | E35: základní | F35: =ROUND((SUM(BE129:BE315)), 2) -> 0 | I35: 0.21 | J35: =ROUND(((SUM(BE129:BE315))*I35), 2) -> 0
E36: snížená | F36: =ROUND((SUM(BF129:BF315)), 2) -> 0 | I36: 0.15 | J36: =ROUND(((SUM(BF129:BF315))*I36), 2) -> 0
E37: zákl. přenesená | F37: =ROUND((SUM(BG129:BG315)), 2) -> 0 | I37: 0.21 | J37: =0 -> 0
E38: sníž. přenesená | F38: =ROUND((SUM(BH129:BH315)), 2) -> 0 | I38: 0.15 | J38: =0 -> 0
E39: nulová | F39: =ROUND((SUM(BI129:BI315)), 2) -> 0 | I39: 0 | J39: =0 -> 0
D41: Cena s DPH | G41: v | H41: CZK | J41: =SUM(J32:J39) -> 0
D50: Projektant | G50: Zpracovatel
D61: Datum a podpis: | F61: Razítko | G61: Datum a podpis: | J61: Razítko
D65: Objednavatel | G65: Uchazeč
D76: Datum a podpis: | F76: Razítko | G76: Datum a podpis: | J76: Razítko
C82: REKAPITULACE ČLENĚNÍ SOUPISU PRACÍ
C84: Stavba:
E85: =E7 -> Mimoň - zpevněné plochy
C86: Objekt:
E87: SO 102 - U Nemocnice
C88: Soupis:
E89: =E11 -> 4 - Trasa 4
C91: Místo: | F91: =F14 -> Mimoň | I91: Datum: | J91: =IF(J14="","",J14) -> 44123
C93: Zadavatel: | F93: =E17 | I93: Projektant: | J93: =E23 -> Ing. Martina Hřebřinová
C94: Uchazeč: | F94: =IF(E20="","",E20) -> Vyplň údaj | I94: Zpracovatel: | J94: =E26
C96: Kód dílu - Popis | J96: Cena celkem [CZK]
C98: Náklady ze soupisu prací | J98: =J129 -> 0 | AU98: -1
D99: HSV - Práce a dodávky HSV | J99: =J130 -> 0
D100: 1 - Zemní práce | J100: =J131 -> 0
D101: 2 - Zakládání | J101: =J195 -> 0
D102: 4 - Vodorovné konstrukce | J102: =J215 -> 0
D103: 5 - Komunikace pozemní | J103: =J230 -> 0
D104: 9 - Ostatní konstrukce a práce, bourání | J104: =J242 -> 0
D105: 997 - Přesun sutě | J105: =J289 -> 0
D106: 998 - Přesun hmot | J106: =J295 -> 0
D107: VRN - Vedlejší rozpočtové náklady | J107: =J298 -> 0
C114: SOUPIS PRACÍ
C116: Stavba:
E117: =E7 -> Mimoň - zpevněné plochy
C118: Objekt:
E119: SO 102 - U Nemocnice
C120: Soupis:
E121: =E11 -> 4 - Trasa 4
C123: Místo: | F123: =F14 -> Mimoň | I123: Datum: | J123: =IF(J14="","",J14) -> 44123
C125: Zadavatel: | F125: =E17 | I125: Projektant: | J125: =E23 -> Ing. Martina Hřebřinová
C126: Uchazeč: | F126: =IF(E20="","",E20) -> Vyplň údaj | I126: Zpracovatel: | J126: =E26
C128: PČ | D128: Typ | E128: Kód | F128: Popis | G128: MJ | H128: Množství | I128: J.cena [CZK] | J128: Cena celkem [CZK] | K128: Cenová soustava | N128: DPH | O128: J. Nh [h] | P128: Nh celkem [h] | Q128: J. hmotnost [t] | R128: Hmotnost celkem [t] | S128: J. suť [t] | T128: Suť Celkem [t]
C129: Náklady soupisu celkem | J129: =BK129 -> 0 | P129: =P130+P298 -> 0 | R129: =R130+R298 -> 87.125692 | T129: =T130+T298 -> 7.79 | AT129: D | AU129: -1 | BK129: =BK130+BK298 -> 0
D130: D | E130: HSV | F130: Práce a dodávky HSV | J130: =BK130 -> 0 | P130: =P131+P195+P215+P230+P242+P289+P295 -> 0 | R130: =R131+R195+R215+R230+R242+R289+R295 -> 87.125692 | T130: =T131+T195+T215+T230+T242+T289+T295 -> 7.79 | AR130: 1 | AT130: D | AU130: 0 | AY130: ROZPOCET | BK130: =BK131+BK195+BK215+BK230+BK242+BK289+BK295 -> 0
D131: D | E131: 1 | F131: Zemní práce | J131: =BK131 -> 0 | P131: =SUM(P132:P194) -> 0 | R131: =SUM(R132:R194) -> 8.075485 | T131: =SUM(T132:T194) -> 7.79 | AR131: 1 | AT131: D | AU131: 1 | AY131: ROZPOCET | BK131: =SUM(BK132:BK194) -> 0
C132: 1 | D132: K | E132: 113202111 | F132: Vytrhání obrub krajníků obrubníků stojatých | G132: m | H132: 38 | J132: =ROUND(I132*H132,2) -> 0 | K132: CS ÚRS 2020 02 | N132: základní | P132: =O132*H132 -> 0 | Q132: 0 | R132: =Q132*H132 -> 0 | S132: 0.205 | T132: =S132*H132 -> 7.79 | AR132: 4 | AT132: K | AU132: 2 | AY132: ROZPOCET | BE132: =IF(N132="základní",J132,0) -> 0 | BF132: =IF(N132="snížená",J132,0) -> 0 | BG132: =IF(N132="zákl. přenesená",J132,0) -> 0 | BH132: =IF(N132="sníž. přenesená",J132,0) -> 0 | BI132: =IF(N132="nulová",J132,0) -> 0 | BJ132: 1 | BK132: =ROUND(I132*H132,2) -> 0 | BL132: 4 | BM132: -78302372
D133: PP | F133: Vytrhání obrub s vybouráním lože, s přemístěním hmot na skládku na vzdálenost do 3 m nebo s naložením na dopravní prostředek z krajníků nebo obrubníků stojatých | AT133: PP | AU133: 2
D134: VV | F134: odstranění betonové obruby | AT134: VV | AU134: 2 | AV134: 1 | AW134: True | AX134: 0 | AY134: ROZPOCET
D135: VV | F135: 38,0 | H135: 38 | AT135: VV | AU135: 2 | AV135: 2 | AW135: True | AX135: 1 | AY135: ROZPOCET
C136: 2 | D136: K | E136: 121151103 | F136: Sejmutí ornice plochy do 100 m2 tl vrstvy do 200 mm strojně | G136: m2 | H136: 210.6 | J136: =ROUND(I136*H136,2) -> 0 | K136: CS ÚRS 2020 02 | N136: základní | P136: =O136*H136 -> 0 | Q136: 0 | R136: =Q136*H136 -> 0 | S136: 0 | T136: =S136*H136 -> 0 | AR136: 4 | AT136: K | AU136: 2 | AY136: ROZPOCET | BE136: =IF(N136="základní",J136,0) -> 0 | BF136: =IF(N136="snížená",J136,0) -> 0 | BG136: =IF(N136="zákl. přenesená",J136,0) -> 0 | BH136: =IF(N136="sníž. přenesená",J136,0) -> 0 | BI136: =IF(N136="nulová",J136,0) -> 0 | BJ136: 1 | BK136: =ROUND(I136*H136,2) -> 0 | BL136: 4 | BM136: -156485484
D137: PP | F137: Sejmutí ornice strojně při souvislé ploše do 100 m2, tl. vrstvy do 200 mm | AT137: PP | AU137: 2
D138: VV | F138: sejmutí trávy (ornice) - pro využití zpět na terénní úpravy | AT138: VV | AU138: 2 | AV138: 1 | AW138: True | AX138: 0 | AY138: ROZPOCET
D139: VV | F139: tl. 0,1 m | AT139: VV | AU139: 2 | AV139: 1 | AW139: True | AX139: 0 | AY139: ROZPOCET
D140: VV | F140: 5,85*36,0 | H140: 210.6 | AT140: VV | AU140: 2 | AV140: 2 | AW140: True | AX140: 1 | AY140: ROZPOCET
C141: 3 | D141: K | E141: 122251102 | F141: Odkopávky a prokopávky nezapažené v hornině třídy těžitelnosti I, skupiny 3 objem do 50 m3 strojně | G141: m3 | H141: 36.855 | J141: =ROUND(I141*H141,2) -> 0 | K141: CS ÚRS 2020 02 | N141: základní | P141: =O141*H141 -> 0 | Q141: 0 | R141: =Q141*H141 -> 0 | S141: 0 | T141: =S141*H141 -> 0 | AR141: 4 | AT141: K | AU141: 2 | AY141: ROZPOCET | BE141: =IF(N141="základní",J141,0) -> 0 | BF141: =IF(N141="snížená",J141,0) -> 0 | BG141: =IF(N141="zákl. přenesená",J141,0) -> 0 | BH141: =IF(N141="sníž. přenesená",J141,0) -> 0 | BI141: =IF(N141="nulová",J141,0) -> 0 | BJ141: 1 | BK141: =ROUND(I141*H141,2) -> 0 | BL141: 4 | BM141: -1416056523
D142: PP | F142: Odkopávky a prokopávky nezapažené strojně v hornině třídy těžitelnosti I skupiny 3 přes 20 do 50 m3 | AT142: PP | AU142: 2
D143: VV | F143: 0,275*5,85*36,0 | H143: 57.915 | AT143: VV | AU143: 2 | AV143: 2 | AW143: True | AX143: 0 | AY143: ROZPOCET
D144: VV | F144: -21,06 | H144: -21.06 | AT144: VV | AU144: 2 | AV144: 2 | AW144: True | AX144: 0 | AY144: ROZPOCET
D145: VV | F145: Součet | H145: 36.855 | AT145: VV | AU145: 2 | AV145: 4 | AW145: True | AX145: 1 | AY145: ROZPOCET
C146: 4 | D146: K | E146: 132251101 | F146: Hloubení rýh nezapažených š do 800 mm v hornině třídy těžitelnosti I, skupiny 3 objem do 20 m3 strojně | G146: m3 | H146: 8.84 | J146: =ROUND(I146*H146,2) -> 0 | K146: CS ÚRS 2020 02 | N146: základní | P146: =O146*H146 -> 0 | Q146: 0 | R146: =Q146*H146 -> 0 | S146: 0 | T146: =S146*H146 -> 0 | AR146: 4 | AT146: K | AU146: 2 | AY146: ROZPOCET | BE146: =IF(N146="základní",J146,0) -> 0 | BF146: =IF(N146="snížená",J146,0) -> 0 | BG146: =IF(N146="zákl. přenesená",J146,0) -> 0 | BH146: =IF(N146="sníž. přenesená",J146,0) -> 0 | BI146: =IF(N146="nulová",J146,0) -> 0 | BJ146: 1 | BK146: =ROUND(I146*H146,2) -> 0 | BL146: 4 | BM146: 782713953
D147: PP | F147: Hloubení nezapažených rýh šířky do 800 mm strojně s urovnáním dna do předepsaného profilu a spádu v hornině třídy těžitelnosti I skupiny 3 do 20 m3 | AT147: PP | AU147: 2
D148: VV | F148: drenážní trativot DN 100 | AT148: VV | AU148: 2 | AV148: 1 | AW148: True | AX148: 0 | AY148: ROZPOCET
D149: VV | F149: 0,3*0,4*37,0 | H149: 4.44 | AT149: VV | AU149: 2 | AV149: 2 | AW149: True | AX149: 0 | AY149: ROZPOCET
D150: VV | F150: vsakovací retenční rýha | AT150: VV | AU150: 2 | AV150: 1 | AW150: True | AX150: 0 | AY150: ROZPOCET
D151: VV | F151: 4,4 | H151: 4.4 | AT151: VV | AU151: 2 | AV151: 2 | AW151: True | AX151: 0 | AY151: ROZPOCET
D152: VV | F152: Součet | H152: 8.84 | AT152: VV | AU152: 2 | AV152: 4 | AW152: True | AX152: 1 | AY152: ROZPOCET
C153: 5 | D153: K | E153: 16270110R | F153: Vodorovné přemístění výkopku/sypaniny z horniny tř. 1 až 4 - na skládku dle dodavatele | G153: m3 | H153: 45.695 | J153: =ROUND(I153*H153,2) -> 0 | N153: základní | P153: =O153*H153 -> 0 | Q153: 0 | R153: =Q153*H153 -> 0 | S153: 0 | T153: =S153*H153 -> 0 | AR153: 4 | AT153: K | AU153: 2 | AY153: ROZPOCET | BE153: =IF(N153="základní",J153,0) -> 0 | BF153: =IF(N153="snížená",J153,0) -> 0 | BG153: =IF(N153="zákl. přenesená",J153,0) -> 0 | BH153: =IF(N153="sníž. přenesená",J153,0) -> 0 | BI153: =IF(N153="nulová",J153,0) -> 0 | BJ153: 1 | BK153: =ROUND(I153*H153,2) -> 0 | BL153: 4 | BM153: 1126992715
D154: PP | F154: Vodorovné přemístění výkopku/sypaniny z horniny tř. 1 až 4 - na skládku dle dodavatele | AT154: PP | AU154: 2
D155: VV | F155: 8,84 "rýhy | H155: 8.84 | AT155: VV | AU155: 2 | AV155: 2 | AW155: True | AX155: 0 | AY155: ROZPOCET
D156: VV | F156: 36,855 "odkopávky | H156: 36.855 | AT156: VV | AU156: 2 | AV156: 2 | AW156: True | AX156: 0 | AY156: ROZPOCET
D157: VV | F157: Součet | H157: 45.695 | AT157: VV | AU157: 2 | AV157: 4 | AW157: True | AX157: 1 | AY157: ROZPOCET
C158: 6 | D158: K | E158: 167151101 | F158: Nakládání výkopku z hornin třídy těžitelnosti I, skupiny 1 až 3 do 100 m3 | G158: m3 | H158: 45.695 | J158: =ROUND(I158*H158,2) -> 0 | K158: CS ÚRS 2020 02 | N158: základní | P158: =O158*H158 -> 0 | Q158: 0 | R158: =Q158*H158 -> 0 | S158: 0 | T158: =S158*H158 -> 0 | AR158: 4 | AT158: K | AU158: 2 | AY158: ROZPOCET | BE158: =IF(N158="základní",J158,0) -> 0 | BF158: =IF(N158="snížená",J158,0) -> 0 | BG158: =IF(N158="zákl. přenesená",J158,0) -> 0 | BH158: =IF(N158="sníž. přenesená",J158,0) -> 0 | BI158: =IF(N158="nulová",J158,0) -> 0 | BJ158: 1 | BK158: =ROUND(I158*H158,2) -> 0 | BL158: 4 | BM158: 1363867897
D159: PP | F159: Nakládání, skládání a překládání neulehlého výkopku nebo sypaniny strojně nakládání, množství do 100 m3, z horniny třídy těžitelnosti I, skupiny 1 až 3 | AT159: PP | AU159: 2
D160: VV | F160: 8,84 "rýhy | H160: 8.84 | AT160: VV | AU160: 2 | AV160: 2 | AW160: True | AX160: 0 | AY160: ROZPOCET
D161: VV | F161: 36,855 "odkopávky | H161: 36.855 | AT161: VV | AU161: 2 | AV161: 2 | AW161: True | AX161: 0 | AY161: ROZPOCET
D162: VV | F162: Součet | H162: 45.695 | AT162: VV | AU162: 2 | AV162: 4 | AW162: True | AX162: 1 | AY162: ROZPOCET
C163: 7 | D163: K | E163: 171201201 | F163: Uložení sypaniny na skládky | G163: m3 | H163: 45.695 | J163: =ROUND(I163*H163,2) -> 0 | N163: základní | P163: =O163*H163 -> 0 | Q163: 0 | R163: =Q163*H163 -> 0 | S163: 0 | T163: =S163*H163 -> 0 | AR163: 4 | AT163: K | AU163: 2 | AY163: ROZPOCET | BE163: =IF(N163="základní",J163,0) -> 0 | BF163: =IF(N163="snížená",J163,0) -> 0 | BG163: =IF(N163="zákl. přenesená",J163,0) -> 0 | BH163: =IF(N163="sníž. přenesená",J163,0) -> 0 | BI163: =IF(N163="nulová",J163,0) -> 0 | BJ163: 1 | BK163: =ROUND(I163*H163,2) -> 0 | BL163: 4 | BM163: 172099875
D164: PP | F164: Uložení sypaniny na skládky | AT164: PP | AU164: 2
...

Sheet 5 - Trasa 5
AT2: {b5f39b62-5480-43ef-96a0-b4975f8f21d5}
AT3: 2
D4: KRYCÍ LIST SOUPISU PRACÍ | M4: v --- níže se nacházejí doplnkové a pomocné údaje k sestavám --- v | AT4: False
D6: Stavba:
E7: ='Rekapitulace stavby'!K6 -> Mimoň - zpevněné plochy
D8: Objekt:
E9: SO 102 - U Nemocnice
D10: Soupis:
E11: 5 - Trasa 5
D13: KSO: | I13: CC-CZ:
D14: Místo: | F14: Mimoň | I14: Datum: | J14: ='Rekapitulace stavby'!AN8 -> 44123
D16: Zadavatel: | I16: IČ: | J16: =IF('Rekapitulace stavby'!AN10="","",'Rekapitulace stavby'!AN10)
E17: =IF('Rekapitulace stavby'!E11="","",'Rekapitulace stavby'!E11) | I17: DIČ: | J17: =IF('Rekapitulace stavby'!AN11="","",'Rekapitulace stavby'!AN11)
D19: Uchazeč: | I19: IČ: | J19: ='Rekapitulace stavby'!AN13 -> Vyplň údaj
E20: ='Rekapitulace stavby'!E14 -> Vyplň údaj | I20: DIČ: | J20: ='Rekapitulace stavby'!AN14 -> Vyplň údaj
D22: Projektant: | I22: IČ:
E23: Ing. Martina Hřebřinová | I23: DIČ:
D25: Zpracovatel: | I25: IČ: | J25: =IF('Rekapitulace stavby'!AN19="","",'Rekapitulace stavby'!AN19)
E26: =IF('Rekapitulace stavby'!E20="","",'Rekapitulace stavby'!E20) | I26: DIČ: | J26: =IF('Rekapitulace stavby'!AN20="","",'Rekapitulace stavby'!AN20)
D28: Poznámka:
D32: Cena bez DPH | J32: =ROUND(J129, 2) -> 0
F34: Základ daně | I34: Sazba daně | J34: Výše daně
D35: DPH | E35: základní | F35: =ROUND((SUM(BE129:BE317)), 2) -> 0 | I35: 0.21 | J35: =ROUND(((SUM(BE129:BE317))*I35), 2) -> 0
E36: snížená | F36: =ROUND((SUM(BF129:BF317)), 2) -> 0 | I36: 0.15 | J36: =ROUND(((SUM(BF129:BF317))*I36), 2) -> 0
E37: zákl. přenesená | F37: =ROUND((SUM(BG129:BG317)), 2) -> 0 | I37: 0.21 | J37: =0 -> 0
E38: sníž. přenesená | F38: =ROUND((SUM(BH129:BH317)), 2) -> 0 | I38: 0.15 | J38: =0 -> 0
E39: nulová | F39: =ROUND((SUM(BI129:BI317)), 2) -> 0 | I39: 0 | J39: =0 -> 0
D41: Cena s DPH | G41: v | H41: CZK | J41: =SUM(J32:J39) -> 0
D50: Projektant | G50: Zpracovatel
D61: Datum a podpis: | F61: Razítko | G61: Datum a podpis: | J61: Razítko
D65: Objednavatel | G65: Uchazeč
D76: Datum a podpis: | F76: Razítko | G76: Datum a podpis: | J76: Razítko
C82: REKAPITULACE ČLENĚNÍ SOUPISU PRACÍ
C84: Stavba:
E85: =E7 -> Mimoň - zpevněné plochy
C86: Objekt:
E87: SO 102 - U Nemocnice
C88: Soupis:
E89: =E11 -> 5 - Trasa 5
C91: Místo: | F91: =F14 -> Mimoň | I91: Datum: | J91: =IF(J14="","",J14) -> 44123
C93: Zadavatel: | F93: =E17 | I93: Projektant: | J93: =E23 -> Ing. Martina Hřebřinová
C94: Uchazeč: | F94: =IF(E20="","",E20) -> Vyplň údaj | I94: Zpracovatel: | J94: =E26
C96: Kód dílu - Popis | J96: Cena celkem [CZK]
C98: Náklady ze soupisu prací | J98: =J129 -> 0 | AU98: -1
D99: HSV - Práce a dodávky HSV | J99: =J130 -> 0
D100: 1 - Zemní práce | J100: =J131 -> 0
D101: 2 - Zakládání | J101: =J196 -> 0
D102: 4 - Vodorovné konstrukce | J102: =J216 -> 0
D103: 5 - Komunikace pozemní | J103: =J231 -> 0
D104: 9 - Ostatní konstrukce a práce, bourání | J104: =J243 -> 0
D105: 997 - Přesun sutě | J105: =J290 -> 0
D106: 998 - Přesun hmot | J106: =J297 -> 0
D107: VRN - Vedlejší rozpočtové náklady | J107: =J300 -> 0
C114: SOUPIS PRACÍ
C116: Stavba:
E117: =E7 -> Mimoň - zpevněné plochy
C118: Objekt:
E119: SO 102 - U Nemocnice
C120: Soupis:
E121: =E11 -> 5 - Trasa 5
C123: Místo: | F123: =F14 -> Mimoň | I123: Datum: | J123: =IF(J14="","",J14) -> 44123
C125: Zadavatel: | F125: =E17 | I125: Projektant: | J125: =E23 -> Ing. Martina Hřebřinová
C126: Uchazeč: | F126: =IF(E20="","",E20) -> Vyplň údaj | I126: Zpracovatel: | J126: =E26
C128: PČ | D128: Typ | E128: Kód | F128: Popis | G128: MJ | H128: Množství | I128: J.cena [CZK] | J128: Cena celkem [CZK] | K128: Cenová soustava | N128: DPH | O128: J. Nh [h] | P128: Nh celkem [h] | Q128: J. hmotnost [t] | R128: Hmotnost celkem [t] | S128: J. suť [t] | T128: Suť Celkem [t]
C129: Náklady soupisu celkem | J129: =BK129 -> 0 | P129: =P130+P300 -> 0 | R129: =R130+R300 -> 86.414717 | T129: =T130+T300 -> 7.831 | AT129: D | AU129: -1 | BK129: =BK130+BK300 -> 0
D130: D | E130: HSV | F130: Práce a dodávky HSV | J130: =BK130 -> 0 | P130: =P131+P196+P216+P231+P243+P290+P297 -> 0 | R130: =R131+R196+R216+R231+R243+R290+R297 -> 86.414717 | T130: =T131+T196+T216+T231+T243+T290+T297 -> 7.831 | AR130: 1 | AT130: D | AU130: 0 | AY130: ROZPOCET | BK130: =BK131+BK196+BK216+BK231+BK243+BK290+BK297 -> 0
D131: D | E131: 1 | F131: Zemní práce | J131: =BK131 -> 0 | P131: =SUM(P132:P195) -> 0 | R131: =SUM(R132:R195) -> 8.075465 | T131: =SUM(T132:T195) -> 7.831 | AR131: 1 | AT131: D | AU131: 1 | AY131: ROZPOCET | BK131: =SUM(BK132:BK195) -> 0
C132: 1 | D132: K | E132: 113202111 | F132: Vytrhání obrub krajníků obrubníků stojatých | G132: m | H132: 38.2 | J132: =ROUND(I132*H132,2) -> 0 | K132: CS ÚRS 2020 02 | N132: základní | P132: =O132*H132 -> 0 | Q132: 0 | R132: =Q132*H132 -> 0 | S132: 0.205 | T132: =S132*H132 -> 7.831 | AR132: 4 | AT132: K | AU132: 2 | AY132: ROZPOCET | BE132: =IF(N132="základní",J132,0) -> 0 | BF132: =IF(N132="snížená",J132,0) -> 0 | BG132: =IF(N132="zákl. přenesená",J132,0) -> 0 | BH132: =IF(N132="sníž. přenesená",J132,0) -> 0 | BI132: =IF(N132="nulová",J132,0) -> 0 | BJ132: 1 | BK132: =ROUND(I132*H132,2) -> 0 | BL132: 4 | BM132: 1379612241
D133: PP | F133: Vytrhání obrub s vybouráním lože, s přemístěním hmot na skládku na vzdálenost do 3 m nebo s naložením na dopravní prostředek z krajníků nebo obrubníků stojatých | AT133: PP | AU133: 2
D134: VV | F134: odstranění betonové obruby | AT134: VV | AU134: 2 | AV134: 1 | AW134: True | AX134: 0 | AY134: ROZPOCET
D135: VV | F135: 36,2+2,0 | H135: 38.2 | AT135: VV | AU135: 2 | AV135: 2 | AW135: True | AX135: 1 | AY135: ROZPOCET
C136: 2 | D136: K | E136: 121151103 | F136: Sejmutí ornice plochy do 100 m2 tl vrstvy do 200 mm strojně | G136: m2 | H136: 208.8 | J136: =ROUND(I136*H136,2) -> 0 | K136: CS ÚRS 2020 02 | N136: základní | P136: =O136*H136 -> 0 | Q136: 0 | R136: =Q136*H136 -> 0 | S136: 0 | T136: =S136*H136 -> 0 | AR136: 4 | AT136: K | AU136: 2 | AY136: ROZPOCET | BE136: =IF(N136="základní",J136,0) -> 0 | BF136: =IF(N136="snížená",J136,0) -> 0 | BG136: =IF(N136="zákl. přenesená",J136,0) -> 0 | BH136: =IF(N136="sníž. přenesená",J136,0) -> 0 | BI136: =IF(N136="nulová",J136,0) -> 0 | BJ136: 1 | BK136: =ROUND(I136*H136,2) -> 0 | BL136: 4 | BM136: -162079294
D137: PP | F137: Sejmutí ornice strojně při souvislé ploše do 100 m2, tl. vrstvy do 200 mm | AT137: PP | AU137: 2
D138: VV | F138: sejmutí trávy (ornice) - pro využití zpět na terénní úpravy | AT138: VV | AU138: 2 | AV138: 1 | AW138: True | AX138: 0 | AY138: ROZPOCET
D139: VV | F139: tl. 0,1 m | AT139: VV | AU139: 2 | AV139: 1 | AW139: True | AX139: 0 | AY139: ROZPOCET
D140: VV | F140: 5,8*36,0 | H140: 208.8 | AT140: VV | AU140: 2 | AV140: 2 | AW140: True | AX140: 1 | AY140: ROZPOCET
C141: 3 | D141: K | E141: 122251102 | F141: Odkopávky a prokopávky nezapažené v hornině třídy těžitelnosti I, skupiny 3 objem do 50 m3 strojně | G141: m3 | H141: 36.54 | J141: =ROUND(I141*H141,2) -> 0 | K141: CS ÚRS 2020 02 | N141: základní | P141: =O141*H141 -> 0 | Q141: 0 | R141: =Q141*H141 -> 0 | S141: 0 | T141: =S141*H141 -> 0 | AR141: 4 | AT141: K | AU141: 2 | AY141: ROZPOCET | BE141: =IF(N141="základní",J141,0) -> 0 | BF141: =IF(N141="snížená",J141,0) -> 0 | BG141: =IF(N141="zákl. přenesená",J141,0) -> 0 | BH141: =IF(N141="sníž. přenesená",J141,0) -> 0 | BI141: =IF(N141="nulová",J141,0) -> 0 | BJ141: 1 | BK141: =ROUND(I141*H141,2) -> 0 | BL141: 4 | BM141: -106079506
D142: PP | F142: Odkopávky a prokopávky nezapažené strojně v hornině třídy těžitelnosti I skupiny 3 přes 20 do 50 m3 | AT142: PP | AU142: 2
D143: VV | F143: pro podkladní vrstvy | AT143: VV | AU143: 2 | AV143: 1 | AW143: True | AX143: 0 | AY143: ROZPOCET
D144: VV | F144: 0,275*5,8*36,0 | H144: 57.42 | AT144: VV | AU144: 2 | AV144: 2 | AW144: True | AX144: 0 | AY144: ROZPOCET
D145: VV | F145: -20,88 | H145: -20.88 | AT145: VV | AU145: 2 | AV145: 2 | AW145: True | AX145: 0 | AY145: ROZPOCET
D146: VV | F146: Součet | H146: 36.54 | AT146: VV | AU146: 2 | AV146: 4 | AW146: True | AX146: 1 | AY146: ROZPOCET
C147: 4 | D147: K | E147: 132251101 | F147: Hloubení rýh nezapažených š do 800 mm v hornině třídy těžitelnosti I, skupiny 3 objem do 20 m3 strojně | G147: m3 | H147: 8.84 | J147: =ROUND(I147*H147,2) -> 0 | K147: CS ÚRS 2020 02 | N147: základní | P147: =O147*H147 -> 0 | Q147: 0 | R147: =Q147*H147 -> 0 | S147: 0 | T147: =S147*H147 -> 0 | AR147: 4 | AT147: K | AU147: 2 | AY147: ROZPOCET | BE147: =IF(N147="základní",J147,0) -> 0 | BF147: =IF(N147="snížená",J147,0) -> 0 | BG147: =IF(N147="zákl. přenesená",J147,0) -> 0 | BH147: =IF(N147="sníž. přenesená",J147,0) -> 0 | BI147: =IF(N147="nulová",J147,0) -> 0 | BJ147: 1 | BK147: =ROUND(I147*H147,2) -> 0 | BL147: 4 | BM147: -1406405298
D148: PP | F148: Hloubení nezapažených rýh šířky do 800 mm strojně s urovnáním dna do předepsaného profilu a spádu v hornině třídy těžitelnosti I skupiny 3 do 20 m3 | AT148: PP | AU148: 2
D149: VV | F149: drenážní trativot DN 100 | AT149: VV | AU149: 2 | AV149: 1 | AW149: True | AX149: 0 | AY149: ROZPOCET
D150: VV | F150: 0,3*0,4*37,0 | H150: 4.44 | AT150: VV | AU150: 2 | AV150: 2 | AW150: True | AX150: 0 | AY150: ROZPOCET
D151: VV | F151: vsakovací retenční rýha | AT151: VV | AU151: 2 | AV151: 1 | AW151: True | AX151: 0 | AY151: ROZPOCET
D152: VV | F152: 4,4 | H152: 4.4 | AT152: VV | AU152: 2 | AV152: 2 | AW152: True | AX152: 0 | AY152: ROZPOCET
D153: VV | F153: Součet | H153: 8.84 | AT153: VV | AU153: 2 | AV153: 4 | AW153: True | AX153: 1 | AY153: ROZPOCET
C154: 5 | D154: K | E154: 16270110R | F154: Vodorovné přemístění výkopku/sypaniny z horniny tř. 1 až 4 - na skládku dle dodavatele | G154: m3 | H154: 45.695 | J154: =ROUND(I154*H154,2) -> 0 | N154: základní | P154: =O154*H154 -> 0 | Q154: 0 | R154: =Q154*H154 -> 0 | S154: 0 | T154: =S154*H154 -> 0 | AR154: 4 | AT154: K | AU154: 2 | AY154: ROZPOCET | BE154: =IF(N154="základní",J154,0) -> 0 | BF154: =IF(N154="snížená",J154,0) -> 0 | BG154: =IF(N154="zákl. přenesená",J154,0) -> 0 | BH154: =IF(N154="sníž. přenesená",J154,0) -> 0 | BI154: =IF(N154="nulová",J154,0) -> 0 | BJ154: 1 | BK154: =ROUND(I154*H154,2) -> 0 | BL154: 4 | BM154: -1350169516
D155: PP | F155: Vodorovné přemístění výkopku/sypaniny z horniny tř. 1 až 4 - na skládku dle dodavatele | AT155: PP | AU155: 2
D156: VV | F156: 8,84 "rýhy | H156: 8.84 | AT156: VV | AU156: 2 | AV156: 2 | AW156: True | AX156: 0 | AY156: ROZPOCET
D157: VV | F157: 36,855 "odkopávky | H157: 36.855 | AT157: VV | AU157: 2 | AV157: 2 | AW157: True | AX157: 0 | AY157: ROZPOCET
D158: VV | F158: Součet | H158: 45.695 | AT158: VV | AU158: 2 | AV158: 4 | AW158: True | AX158: 1 | AY158: ROZPOCET
C159: 6 | D159: K | E159: 167151101 | F159: Nakládání výkopku z hornin třídy těžitelnosti I, skupiny 1 až 3 do 100 m3 | G159: m3 | H159: 45.695 | J159: =ROUND(I159*H159,2) -> 0 | K159: CS ÚRS 2020 02 | N159: základní | P159: =O159*H159 -> 0 | Q159: 0 | R159: =Q159*H159 -> 0 | S159: 0 | T159: =S159*H159 -> 0 | AR159: 4 | AT159: K | AU159: 2 | AY159: ROZPOCET | BE159: =IF(N159="základní",J159,0) -> 0 | BF159: =IF(N159="snížená",J159,0) -> 0 | BG159: =IF(N159="zákl. přenesená",J159,0) -> 0 | BH159: =IF(N159="sníž. přenesená",J159,0) -> 0 | BI159: =IF(N159="nulová",J159,0) -> 0 | BJ159: 1 | BK159: =ROUND(I159*H159,2) -> 0 | BL159: 4 | BM159: 1818792854
D160: PP | F160: Nakládání, skládání a překládání neulehlého výkopku nebo sypaniny strojně nakládání, množství do 100 m3, z horniny třídy těžitelnosti I, skupiny 1 až 3 | AT160: PP | AU160: 2
D161: VV | F161: 8,84 "rýhy | H161: 8.84 | AT161: VV | AU161: 2 | AV161: 2 | AW161: True | AX161: 0 | AY161: ROZPOCET
D162: VV | F162: 36,855 "odkopávky | H162: 36.855 | AT162: VV | AU162: 2 | AV162: 2 | AW162: True | AX162: 0 | AY162: ROZPOCET
D163: VV | F163: Součet | H163: 45.695 | AT163: VV | AU163: 2 | AV163: 4 | AW163: True | AX163: 1 | AY163: ROZPOCET
C164: 7 | D164: K | E164: 171201201 | F164: Uložení sypaniny na skládky | G164: m3 | H164: 45.695 | J164: =ROUND(I164*H164,2) -> 0 | N164: základní | P164: =O164*H164 -> 0 | Q164: 0 | R164: =Q164*H164 -> 0 | S164: 0 | T164: =S164*H164 -> 0 | AR164: 4 | AT164: K | AU164: 2 | AY164: ROZPOCET | BE164: =IF(N164="základní",J164,0) -> 0 | BF164: =IF(N164="snížená",J164,0) -> 0 | BG164: =IF(N164="zákl. přenesená",J164,0) -> 0 | BH164: =IF(N164="sníž. přenesená",J164,0) -> 0 | BI164: =IF(N164="nulová",J164,0) -> 0 | BJ164: 1 | BK164: =ROUND(I164*H164,2) -> 0 | BL164: 4 | BM164: 624231654
...

Sheet 6 - Trasa 6
AT2: {cd78d682-2214-420e-9cfa-878d59042099}
AT3: 2
D4: KRYCÍ LIST SOUPISU PRACÍ | M4: v --- níže se nacházejí doplnkové a pomocné údaje k sestavám --- v | AT4: False
D6: Stavba:
E7: ='Rekapitulace stavby'!K6 -> Mimoň - zpevněné plochy
D8: Objekt:
E9: SO 102 - U Nemocnice
D10: Soupis:
E11: 6 - Trasa 6
D13: KSO: | I13: CC-CZ:
D14: Místo: | F14: Mimoň | I14: Datum: | J14: ='Rekapitulace stavby'!AN8 -> 44123
D16: Zadavatel: | I16: IČ: | J16: =IF('Rekapitulace stavby'!AN10="","",'Rekapitulace stavby'!AN10)
E17: =IF('Rekapitulace stavby'!E11="","",'Rekapitulace stavby'!E11) | I17: DIČ: | J17: =IF('Rekapitulace stavby'!AN11="","",'Rekapitulace stavby'!AN11)
D19: Uchazeč: | I19: IČ: | J19: ='Rekapitulace stavby'!AN13 -> Vyplň údaj
E20: ='Rekapitulace stavby'!E14 -> Vyplň údaj | I20: DIČ: | J20: ='Rekapitulace stavby'!AN14 -> Vyplň údaj
D22: Projektant: | I22: IČ:
E23: Ing. Martina Hřebřinová | I23: DIČ:
D25: Zpracovatel: | I25: IČ: | J25: =IF('Rekapitulace stavby'!AN19="","",'Rekapitulace stavby'!AN19)
E26: =IF('Rekapitulace stavby'!E20="","",'Rekapitulace stavby'!E20) | I26: DIČ: | J26: =IF('Rekapitulace stavby'!AN20="","",'Rekapitulace stavby'!AN20)
D28: Poznámka:
D32: Cena bez DPH | J32: =ROUND(J129, 2) -> 0
F34: Základ daně | I34: Sazba daně | J34: Výše daně
D35: DPH | E35: základní | F35: =ROUND((SUM(BE129:BE327)), 2) -> 0 | I35: 0.21 | J35: =ROUND(((SUM(BE129:BE327))*I35), 2) -> 0
E36: snížená | F36: =ROUND((SUM(BF129:BF327)), 2) -> 0 | I36: 0.15 | J36: =ROUND(((SUM(BF129:BF327))*I36), 2) -> 0
E37: zákl. přenesená | F37: =ROUND((SUM(BG129:BG327)), 2) -> 0 | I37: 0.21 | J37: =0 -> 0
E38: sníž. přenesená | F38: =ROUND((SUM(BH129:BH327)), 2) -> 0 | I38: 0.15 | J38: =0 -> 0
E39: nulová | F39: =ROUND((SUM(BI129:BI327)), 2) -> 0 | I39: 0 | J39: =0 -> 0
D41: Cena s DPH | G41: v | H41: CZK | J41: =SUM(J32:J39) -> 0
D50: Projektant | G50: Zpracovatel
D61: Datum a podpis: | F61: Razítko | G61: Datum a podpis: | J61: Razítko
D65: Objednavatel | G65: Uchazeč
D76: Datum a podpis: | F76: Razítko | G76: Datum a podpis: | J76: Razítko
C82: REKAPITULACE ČLENĚNÍ SOUPISU PRACÍ
C84: Stavba:
E85: =E7 -> Mimoň - zpevněné plochy
C86: Objekt:
E87: SO 102 - U Nemocnice
C88: Soupis:
E89: =E11 -> 6 - Trasa 6
C91: Místo: | F91: =F14 -> Mimoň | I91: Datum: | J91: =IF(J14="","",J14) -> 44123
C93: Zadavatel: | F93: =E17 | I93: Projektant: | J93: =E23 -> Ing. Martina Hřebřinová
C94: Uchazeč: | F94: =IF(E20="","",E20) -> Vyplň údaj | I94: Zpracovatel: | J94: =E26
C96: Kód dílu - Popis | J96: Cena celkem [CZK]
C98: Náklady ze soupisu prací | J98: =J129 -> 0 | AU98: -1
D99: HSV - Práce a dodávky HSV | J99: =J130 -> 0
D100: 1 - Zemní práce | J100: =J131 -> 0
D101: 2 - Zakládání | J101: =J210 -> 0
D102: 4 - Vodorovné konstrukce | J102: =J230 -> 0
D103: 5 - Komunikace pozemní | J103: =J245 -> 0
D104: 9 - Ostatní konstrukce a práce, bourání | J104: =J257 -> 0
D105: 997 - Přesun sutě | J105: =J300 -> 0
D106: 998 - Přesun hmot | J106: =J307 -> 0
D107: VRN - Vedlejší rozpočtové náklady | J107: =J310 -> 0
C114: SOUPIS PRACÍ
C116: Stavba:
E117: =E7 -> Mimoň - zpevněné plochy
C118: Objekt:
E119: SO 102 - U Nemocnice
C120: Soupis:
E121: =E11 -> 6 - Trasa 6
C123: Místo: | F123: =F14 -> Mimoň | I123: Datum: | J123: =IF(J14="","",J14) -> 44123
C125: Zadavatel: | F125: =E17 | I125: Projektant: | J125: =E23 -> Ing. Martina Hřebřinová
C126: Uchazeč: | F126: =IF(E20="","",E20) -> Vyplň údaj | I126: Zpracovatel: | J126: =E26
C128: PČ | D128: Typ | E128: Kód | F128: Popis | G128: MJ | H128: Množství | I128: J.cena [CZK] | J128: Cena celkem [CZK] | K128: Cenová soustava | N128: DPH | O128: J. Nh [h] | P128: Nh celkem [h] | Q128: J. hmotnost [t] | R128: Hmotnost celkem [t] | S128: J. suť [t] | T128: Suť Celkem [t]
C129: Náklady soupisu celkem | J129: =BK129 -> 0 | P129: =P130+P310 -> 0 | R129: =R130+R310 -> 96.146731 | T129: =T130+T310 -> 7.626 | AT129: D | AU129: -1 | BK129: =BK130+BK310 -> 0
D130: D | E130: HSV | F130: Práce a dodávky HSV | J130: =BK130 -> 0 | P130: =P131+P210+P230+P245+P257+P300+P307 -> 0 | R130: =R131+R210+R230+R245+R257+R300+R307 -> 96.146731 | T130: =T131+T210+T230+T245+T257+T300+T307 -> 7.626 | AR130: 1 | AT130: D | AU130: 0 | AY130: ROZPOCET | BK130: =BK131+BK210+BK230+BK245+BK257+BK300+BK307 -> 0
D131: D | E131: 1 | F131: Zemní práce | J131: =BK131 -> 0 | P131: =SUM(P132:P209) -> 0 | R131: =SUM(R132:R209) -> 23.2065 | T131: =SUM(T132:T209) -> 7.626 | AR131: 1 | AT131: D | AU131: 1 | AY131: ROZPOCET | BK131: =SUM(BK132:BK209) -> 0
C132: 1 | D132: K | E132: 113202111 | F132: Vytrhání obrub krajníků obrubníků stojatých | G132: m | H132: 37.2 | J132: =ROUND(I132*H132,2) -> 0 | K132: CS ÚRS 2020 02 | N132: základní | P132: =O132*H132 -> 0 | Q132: 0 | R132: =Q132*H132 -> 0 | S132: 0.205 | T132: =S132*H132 -> 7.626 | AR132: 4 | AT132: K | AU132: 2 | AY132: ROZPOCET | BE132: =IF(N132="základní",J132,0) -> 0 | BF132: =IF(N132="snížená",J132,0) -> 0 | BG132: =IF(N132="zákl. přenesená",J132,0) -> 0 | BH132: =IF(N132="sníž. přenesená",J132,0) -> 0 | BI132: =IF(N132="nulová",J132,0) -> 0 | BJ132: 1 | BK132: =ROUND(I132*H132,2) -> 0 | BL132: 4 | BM132: 661425812
D133: PP | F133: Vytrhání obrub s vybouráním lože, s přemístěním hmot na skládku na vzdálenost do 3 m nebo s naložením na dopravní prostředek z krajníků nebo obrubníků stojatých | AT133: PP | AU133: 2
D134: VV | F134: odstranění betonové obruby | AT134: VV | AU134: 2 | AV134: 1 | AW134: True | AX134: 0 | AY134: ROZPOCET
D135: VV | F135: 35,7+1,5 | H135: 37.2 | AT135: VV | AU135: 2 | AV135: 2 | AW135: True | AX135: 1 | AY135: ROZPOCET
C136: 2 | D136: K | E136: 121151103 | F136: Sejmutí ornice plochy do 100 m2 tl vrstvy do 200 mm strojně | G136: m2 | H136: 226.84 | J136: =ROUND(I136*H136,2) -> 0 | K136: CS ÚRS 2020 02 | N136: základní | P136: =O136*H136 -> 0 | Q136: 0 | R136: =Q136*H136 -> 0 | S136: 0 | T136: =S136*H136 -> 0 | AR136: 4 | AT136: K | AU136: 2 | AY136: ROZPOCET | BE136: =IF(N136="základní",J136,0) -> 0 | BF136: =IF(N136="snížená",J136,0) -> 0 | BG136: =IF(N136="zákl. přenesená",J136,0) -> 0 | BH136: =IF(N136="sníž. přenesená",J136,0) -> 0 | BI136: =IF(N136="nulová",J136,0) -> 0 | BJ136: 1 | BK136: =ROUND(I136*H136,2) -> 0 | BL136: 4 | BM136: 1526730377
D137: PP | F137: Sejmutí ornice strojně při souvislé ploše do 100 m2, tl. vrstvy do 200 mm | AT137: PP | AU137: 2
D138: VV | F138: sejmutí trávy (ornice) - pro využití zpět na terénní úpravy | AT138: VV | AU138: 2 | AV138: 1 | AW138: True | AX138: 0 | AY138: ROZPOCET
D139: VV | F139: tl. 0,1 m | AT139: VV | AU139: 2 | AV139: 1 | AW139: True | AX139: 0 | AY139: ROZPOCET
D140: VV | F140: 7,1*1,95 | H140: 13.845 | AT140: VV | AU140: 2 | AV140: 2 | AW140: True | AX140: 0 | AY140: ROZPOCET
D141: VV | F141: 6,7*4,45 | H141: 29.815 | AT141: VV | AU141: 2 | AV141: 2 | AW141: True | AX141: 0 | AY141: ROZPOCET
D142: VV | F142: 6,6*5,0 | H142: 33 | AT142: VV | AU142: 2 | AV142: 2 | AW142: True | AX142: 0 | AY142: ROZPOCET
D143: VV | F143: 2*6,7*5,0 | H143: 67 | AT143: VV | AU143: 2 | AV143: 2 | AW143: True | AX143: 0 | AY143: ROZPOCET
D144: VV | F144: 6,8*5,0 | H144: 34 | AT144: VV | AU144: 2 | AV144: 2 | AW144: True | AX144: 0 | AY144: ROZPOCET
D145: VV | F145: 6,8*5,0 | H145: 34 | AT145: VV | AU145: 2 | AV145: 2 | AW145: True | AX145: 0 | AY145: ROZPOCET
D146: VV | F146: 6,9*2,2 | H146: 15.18 | AT146: VV | AU146: 2 | AV146: 2 | AW146: True | AX146: 0 | AY146: ROZPOCET
D147: VV | F147: Součet | H147: 226.84 | AT147: VV | AU147: 2 | AV147: 4 | AW147: True | AX147: 1 | AY147: ROZPOCET
C148: 3 | D148: K | E148: 122251102 | F148: Odkopávky a prokopávky nezapažené v hornině třídy těžitelnosti I, skupiny 3 objem do 50 m3 strojně | G148: m3 | H148: 146.711 | J148: =ROUND(I148*H148,2) -> 0 | K148: CS ÚRS 2020 02 | N148: základní | P148: =O148*H148 -> 0 | Q148: 0 | R148: =Q148*H148 -> 0 | S148: 0 | T148: =S148*H148 -> 0 | AR148: 4 | AT148: K | AU148: 2 | AY148: ROZPOCET | BE148: =IF(N148="základní",J148,0) -> 0 | BF148: =IF(N148="snížená",J148,0) -> 0 | BG148: =IF(N148="zákl. přenesená",J148,0) -> 0 | BH148: =IF(N148="sníž. přenesená",J148,0) -> 0 | BI148: =IF(N148="nulová",J148,0) -> 0 | BJ148: 1 | BK148: =ROUND(I148*H148,2) -> 0 | BL148: 4 | BM148: 116410726
D149: PP | F149: Odkopávky a prokopávky nezapažené strojně v hornině třídy těžitelnosti I skupiny 3 přes 20 do 50 m3 | AT149: PP | AU149: 2
D150: VV | F150: pro podkladní vrstvy | AT150: VV | AU150: 2 | AV150: 1 | AW150: True | AX150: 0 | AY150: ROZPOCET
D151: VV | F151: 5,6*1,95 | H151: 10.92 | AT151: VV | AU151: 2 | AV151: 2 | AW151: True | AX151: 0 | AY151: ROZPOCET
D152: VV | F152: 4,7*4,45 | H152: 20.915 | AT152: VV | AU152: 2 | AV152: 2 | AW152: True | AX152: 0 | AY152: ROZPOCET
D153: VV | F153: 4,4*5,0 | H153: 22 | AT153: VV | AU153: 2 | AV153: 2 | AW153: True | AX153: 0 | AY153: ROZPOCET
D154: VV | F154: 4,5*5,0 | H154: 22.5 | AT154: VV | AU154: 2 | AV154: 2 | AW154: True | AX154: 0 | AY154: ROZPOCET
D155: VV | F155: 4,7*5,0 | H155: 23.5 | AT155: VV | AU155: 2 | AV155: 2 | AW155: True | AX155: 0 | AY155: ROZPOCET
D156: VV | F156: 2*4,9*5,0 | H156: 49 | AT156: VV | AU156: 2 | AV156: 2 | AW156: True | AX156: 0 | AY156: ROZPOCET
D157: VV | F157: 4,8*2,2 | H157: 10.56 | AT157: VV | AU157: 2 | AV157: 2 | AW157: True | AX157: 0 | AY157: ROZPOCET
D158: VV | F158: Mezisoučet | H158: 159.395 | AT158: VV | AU158: 2 | AV158: 3 | AW158: True | AX158: 0 | AY158: ROZPOCET
D159: VV | F159: -12,684 | H159: -12.684 | AT159: VV | AU159: 2 | AV159: 2 | AW159: True | AX159: 0 | AY159: ROZPOCET
D160: VV | F160: Součet | H160: 146.711 | AT160: VV | AU160: 2 | AV160: 4 | AW160: True | AX160: 1 | AY160: ROZPOCET
C161: 4 | D161: K | E161: 132251101 | F161: Hloubení rýh nezapažených š do 800 mm v hornině třídy těžitelnosti I, skupiny 3 objem do 20 m3 strojně | G161: m3 | H161: 8.84 | J161: =ROUND(I161*H161,2) -> 0 | K161: CS ÚRS 2020 02 | N161: základní | P161: =O161*H161 -> 0 | Q161: 0 | R161: =Q161*H161 -> 0 | S161: 0 | T161: =S161*H161 -> 0 | AR161: 4 | AT161: K | AU161: 2 | AY161: ROZPOCET | BE161: =IF(N161="základní",J161,0) -> 0 | BF161: =IF(N161="snížená",J161,0) -> 0 | BG161: =IF(N161="zákl. přenesená",J161,0) -> 0 | BH161: =IF(N161="sníž. přenesená",J161,0) -> 0 | BI161: =IF(N161="nulová",J161,0) -> 0 | BJ161: 1 | BK161: =ROUND(I161*H161,2) -> 0 | BL161: 4 | BM161: 397834116
D162: PP | F162: Hloubení nezapažených rýh šířky do 800 mm strojně s urovnáním dna do předepsaného profilu a spádu v hornině třídy těžitelnosti I skupiny 3 do 20 m3 | AT162: PP | AU162: 2
D163: VV | F163: drenážní trativot DN 100 | AT163: VV | AU163: 2 | AV163: 1 | AW163: True | AX163: 0 | AY163: ROZPOCET
D164: VV | F164: 0,3*0,4*37,0 | H164: 4.44 | AT164: VV | AU164: 2 | AV164: 2 | AW164: True | AX164: 0 | AY164: ROZPOCET
...
