Workbook

Sheet Rekapitulace stavby
A1: Export Komplet | BA1: 2.0 | BT1: False | BU1: False | BV1: {299c1ee9-c756-4b55-ad48-33cb66850f05}
AR2: >> skryté sloupce << | BS2: 0,01 | BT2: 21
BS3: 0,01 | BT3: 15
D4: REKAPITULACE STAVBY | AS4: v --- níže se nacházejí doplnkové a pomocné údaje k sestavám --- v | BE4: Návod na vyplnění | BS4: 0,001
D5: Kód: | K5: _202006 | BE5: Měnit lze pouze buňky se žlutým podbarvením!_x000D_ _x000D_ 1) na prvním listu Rekapitulace stavby vyplňte v sestavě_x000D_ _x000D_ a) Souhrnný list_x000D_ - údaje o Uchazeči_x000D_ (přenesou se do ostatních sestav i v jiných listech)_x000D_ _x000D_ b) Rekapitulace objektů_x000D_ - potřebné Ostatní náklady_x000D_ _x000D_ 2) na vybraných listech vyplňte v sestavě_x000D_ _x000D_ a) Krycí list_x000D_ - údaje o Uchazeči, pokud se liší od údajů o Uchazeči na Souhrnném listu_x000D_ (údaje se přenesou do ostatních sestav v daném listu)_x000D_ _x000D_ b) Rekapitulace rozpočtu_x000D_ - potřebné Ostatní náklady_x000D_ _x000D_ c) Celkové náklady za stavbu_x000D_ - ceny u položek_x000D_ - množství, pokud má žluté podbarvení_x000D_ - a v případě potřeby poznámku (ta je ve skrytém sloupci) | BS5: 0,01
D6: Stavba: | K6: MIMOŇ - UL. NOVOPOLNÍ | BS6: 0,01
D7: KSO: | AK7: CC-CZ: | BS7: 0,01
D8: Místo: | AK8: Datum: | AN8: 24. 6. 2020 | BS8: 0,01
BS9: 0,01
D10: Zadavatel: | AK10: IČ: | BS10: 0,01
E11: Město Mimoň | AK11: DIČ: | BS11: 0,01
BS12: 0,01
D13: Uchazeč: | AK13: IČ: | AN13: Vyplň údaj | BS13: 0,01
E14: Vyplň údaj | AK14: DIČ: | AN14: Vyplň údaj | BS14: 0,01
BS15: False
D16: Projektant: | AK16: IČ: | BS16: False
E17: Ing. Jiří Sobol | AK17: DIČ: | BS17: True
BS18: 0,01
D19: Zpracovatel: | AK19: IČ: | BS19: 0,01
E20: Ing. Dominik Šlajer | AK20: DIČ: | BS20: True
D22: Poznámka:
D26: Cena bez DPH | AK26: =ROUND(AG94,2) -> 0
L28: Sazba daně | W28: Základ daně | AK28: Výše daně
D29: DPH | F29: základní | L29: 0.21 | W29: =ROUND(AZ94, 2) -> 0 | AK29: =ROUND(AV94, 2) -> 0
F30: snížená | L30: 0.15 | W30: =ROUND(BA94, 2) -> 0 | AK30: =ROUND(AW94, 2) -> 0
F31: zákl. přenesená | L31: 0.21 | W31: =ROUND(BB94, 2) -> 0 | AK31: 0
F32: sníž. přenesená | L32: 0.15 | W32: =ROUND(BC94, 2) -> 0 | AK32: 0
F33: nulová | L33: 0 | W33: =ROUND(BD94, 2) -> 0 | AK33: 0
D35: Cena s DPH | T35: v | X35: CZK | AK35: =SUM(AK26:AK33) -> 0
D49: Projektant | AH49: Zpracovatel
D60: Datum a podpis: | V60: Razítko | AH60: Datum a podpis: | AM60: Razítko
D64: Objednavatel | AH64: Uchazeč
D75: Datum a podpis: | V75: Razítko | AH75: Datum a podpis: | AM75: Razítko
C82: REKAPITULACE OBJEKTŮ STAVBY A SOUPISŮ PRACÍ
C84: Kód: | L84: =K5 -> _202006
C85: Stavba: | L85: =K6 -> MIMOŇ - UL. NOVOPOLNÍ
C87: Místo: | L87: =IF(K8="","",K8) | AI87: Datum: | AM87: =IF(AN8= "","",AN8) -> 24. 6. 2020
C89: Zadavatel: | L89: =IF(E11= "","",E11) -> Město Mimoň | AI89: Projektant: | AM89: =IF(E17="","",E17) -> Ing. Jiří Sobol | AS89: Informatívní údaje z listů zakázek
C90: Uchazeč: | L90: =IF(E14= "Vyplň údaj","",E14) | AI90: Zpracovatel: | AM90: =IF(E20="","",E20) -> Ing. Dominik Šlajer
C92: Kód | I92: Popis | AG92: Cena bez DPH [CZK] | AN92: Cena s DPH [CZK] | AQ92: Typ | AS92: z toho Ostat._x000D_ náklady [CZK] | AT92: DPH [CZK] | AU92: Normohodiny [h] | AV92: DPH základní [CZK] | AW92: DPH snížená [CZK] | AX92: DPH základní přenesená_x000D_ [CZK] | AY92: DPH snížená přenesená_x000D_ [CZK] | AZ92: Základna_x000D_ DPH základní | BA92: Základna_x000D_ DPH snížená | BB92: Základna_x000D_ DPH zákl. přenesená | BC92: Základna_x000D_ DPH sníž. přenesená | BD92: Základna_x000D_ DPH nulová
C94: Náklady z rozpočtů | AG94: =ROUND(SUM(AG95:AG96),2) -> 0 | AN94: =SUM(AG94,AT94) -> 0 | AS94: =ROUND(SUM(AS95:AS96),2) -> 0 | AT94: =ROUND(SUM(AV94:AW94),2) -> 0 | AU94: =ROUND(SUM(AU95:AU96),5) -> 0 | AV94: =ROUND(AZ94*L29,2) -> 0 | AW94: =ROUND(BA94*L30,2) -> 0 | AX94: =ROUND(BB94*L29,2) -> 0 | AY94: =ROUND(BC94*L30,2) -> 0 | AZ94: =ROUND(SUM(AZ95:AZ96),2) -> 0 | BA94: =ROUND(SUM(BA95:BA96),2) -> 0 | BB94: =ROUND(SUM(BB95:BB96),2) -> 0 | BC94: =ROUND(SUM(BC95:BC96),2) -> 0 | BD94: =ROUND(SUM(BD95:BD96),2) -> 0 | BS94: D | BT94: 0 | BU94: ###NOIMPORT### | BV94: IMPORT | BW94: {299c1ee9-c756-4b55-ad48-33cb66850f05} | BX94: {00000000-0000-0000-0000-000000000000}
A95: / | D95: 00 | J95: Vedlejší rozpočtové náklady | AG95: ='00 - Vedlejší rozpočtové ...'!J30 -> 0 | AN95: =SUM(AG95,AT95) -> 0 | AQ95: STA | AS95: 0 | AT95: =ROUND(SUM(AV95:AW95),2) -> 0 | AU95: ='00 - Vedlejší rozpočtové ...'!P117 -> 0 | AV95: ='00 - Vedlejší rozpočtové ...'!J33 -> 0 | AW95: ='00 - Vedlejší rozpočtové ...'!J34 -> 0 | AX95: ='00 - Vedlejší rozpočtové ...'!J35 -> 0 | AY95: ='00 - Vedlejší rozpočtové ...'!J36 -> 0 | AZ95: ='00 - Vedlejší rozpočtové ...'!F33 -> 0 | BA95: ='00 - Vedlejší rozpočtové ...'!F34 -> 0 | BB95: ='00 - Vedlejší rozpočtové ...'!F35 -> 0 | BC95: ='00 - Vedlejší rozpočtové ...'!F36 -> 0 | BD95: ='00 - Vedlejší rozpočtové ...'!F37 -> 0 | BT95: 1 | BV95: IMPORT | BW95: {92508d83-61a7-4258-8fa8-da4a80554e59} | BX95: {299c1ee9-c756-4b55-ad48-33cb66850f05} | CM95: 2
A96: / | D96: 01 | J96: Komunikace a zpevněné plochy | AG96: ='01 - Komunikace a zpevněn...'!J30 -> 0 | AN96: =SUM(AG96,AT96) -> 0 | AQ96: STA | AS96: 0 | AT96: =ROUND(SUM(AV96:AW96),2) -> 0 | AU96: ='01 - Komunikace a zpevněn...'!P125 -> 0 | AV96: ='01 - Komunikace a zpevněn...'!J33 -> 0 | AW96: ='01 - Komunikace a zpevněn...'!J34 -> 0 | AX96: ='01 - Komunikace a zpevněn...'!J35 -> 0 | AY96: ='01 - Komunikace a zpevněn...'!J36 -> 0 | AZ96: ='01 - Komunikace a zpevněn...'!F33 -> 0 | BA96: ='01 - Komunikace a zpevněn...'!F34 -> 0 | BB96: ='01 - Komunikace a zpevněn...'!F35 -> 0 | BC96: ='01 - Komunikace a zpevněn...'!F36 -> 0 | BD96: ='01 - Komunikace a zpevněn...'!F37 -> 0 | BT96: 1 | BV96: IMPORT | BW96: {d5424bbf-8121-40d1-af19-c5b8b19bcf87} | BX96: {299c1ee9-c756-4b55-ad48-33cb66850f05} | CM96: 2

Sheet 00 - Vedlejší rozpočtové ...
L2: >> skryté sloupce << | AT2: {92508d83-61a7-4258-8fa8-da4a80554e59}
AT3: 2
D4: KRYCÍ LIST SOUPISU PRACÍ | M4: v --- níže se nacházejí doplnkové a pomocné údaje k sestavám --- v | AT4: False
D6: Stavba:
E7: ='Rekapitulace stavby'!K6 -> MIMOŇ - UL. NOVOPOLNÍ
D8: Objekt:
E9: 00 - Vedlejší rozpočtové náklady
D11: KSO: | I11: CC-CZ:
D12: Místo: | I12: Datum: | J12: ='Rekapitulace stavby'!AN8 -> 24. 6. 2020
D14: Zadavatel: | I14: IČ: | J14: =IF('Rekapitulace stavby'!AN10="","",'Rekapitulace stavby'!AN10)
E15: =IF('Rekapitulace stavby'!E11="","",'Rekapitulace stavby'!E11) -> Město Mimoň | I15: DIČ: | J15: =IF('Rekapitulace stavby'!AN11="","",'Rekapitulace stavby'!AN11)
D17: Uchazeč: | I17: IČ: | J17: ='Rekapitulace stavby'!AN13 -> Vyplň údaj
E18: ='Rekapitulace stavby'!E14 -> Vyplň údaj | I18: DIČ: | J18: ='Rekapitulace stavby'!AN14 -> Vyplň údaj
D20: Projektant: | I20: IČ: | J20: =IF('Rekapitulace stavby'!AN16="","",'Rekapitulace stavby'!AN16)
E21: =IF('Rekapitulace stavby'!E17="","",'Rekapitulace stavby'!E17) -> Ing. Jiří Sobol | I21: DIČ: | J21: =IF('Rekapitulace stavby'!AN17="","",'Rekapitulace stavby'!AN17)
D23: Zpracovatel: | I23: IČ: | J23: =IF('Rekapitulace stavby'!AN19="","",'Rekapitulace stavby'!AN19)
E24: =IF('Rekapitulace stavby'!E20="","",'Rekapitulace stavby'!E20) -> Ing. Dominik Šlajer | I24: DIČ: | J24: =IF('Rekapitulace stavby'!AN20="","",'Rekapitulace stavby'!AN20)
D26: Poznámka:
D30: Cena bez DPH | J30: =ROUND(J117, 2) -> 0
F32: Základ daně | I32: Sazba daně | J32: Výše daně
D33: DPH | E33: základní | F33: =ROUND((SUM(BE117:BE132)), 2) -> 0 | I33: 0.21 | J33: =ROUND(((SUM(BE117:BE132))*I33), 2) -> 0
E34: snížená | F34: =ROUND((SUM(BF117:BF132)), 2) -> 0 | I34: 0.15 | J34: =ROUND(((SUM(BF117:BF132))*I34), 2) -> 0
E35: zákl. přenesená | F35: =ROUND((SUM(BG117:BG132)), 2) -> 0 | I35: 0.21 | J35: =0 -> 0
E36: sníž. přenesená | F36: =ROUND((SUM(BH117:BH132)), 2) -> 0 | I36: 0.15 | J36: =0 -> 0
E37: nulová | F37: =ROUND((SUM(BI117:BI132)), 2) -> 0 | I37: 0 | J37: =0 -> 0
D39: Cena s DPH | G39: v | H39: CZK | J39: =SUM(J30:J37) -> 0
D50: Projektant | G50: Zpracovatel
D61: Datum a podpis: | F61: Razítko | G61: Datum a podpis: | J61: Razítko
D65: Objednavatel | G65: Uchazeč
D76: Datum a podpis: | F76: Razítko | G76: Datum a podpis: | J76: Razítko
C82: REKAPITULACE ČLENĚNÍ SOUPISU PRACÍ
C84: Stavba:
E85: =E7 -> MIMOŇ - UL. NOVOPOLNÍ
C86: Objekt:
E87: =E9 -> 00 - Vedlejší rozpočtové náklady
C89: Místo: | F89: =F12 | I89: Datum: | J89: =IF(J12="","",J12) -> 24. 6. 2020
C91: Zadavatel: | F91: =E15 -> Město Mimoň | I91: Projektant: | J91: =E21 -> Ing. Jiří Sobol
C92: Uchazeč: | F92: =IF(E18="","",E18) -> Vyplň údaj | I92: Zpracovatel: | J92: =E24 -> Ing. Dominik Šlajer
C94: Kód dílu - Popis | J94: Cena celkem [CZK]
C96: Náklady ze soupisu prací | J96: =J117 -> 0 | AU96: -1
D97: N00 - VŠEOBECNÉ PODMÍNKY | J97: =J118 -> 0
C104: SOUPIS PRACÍ
C106: Stavba:
E107: =E7 -> MIMOŇ - UL. NOVOPOLNÍ
C108: Objekt:
E109: =E9 -> 00 - Vedlejší rozpočtové náklady
C111: Místo: | F111: =F12 | I111: Datum: | J111: =IF(J12="","",J12) -> 24. 6. 2020
C113: Zadavatel: | F113: =E15 -> Město Mimoň | I113: Projektant: | J113: =E21 -> Ing. Jiří Sobol
C114: Uchazeč: | F114: =IF(E18="","",E18) -> Vyplň údaj | I114: Zpracovatel: | J114: =E24 -> Ing. Dominik Šlajer
C116: PČ | D116: Typ | E116: Kód | F116: Popis | G116: MJ | H116: Množství | I116: J.cena [CZK] | J116: Cena celkem [CZK] | K116: Cenová soustava | N116: DPH | O116: J. Nh [h] | P116: Nh celkem [h] | Q116: J. hmotnost [t] | R116: Hmotnost celkem [t] | S116: J. suť [t] | T116: Suť Celkem [t] | U116: Dodavatel
C117: Náklady soupisu celkem | J117: =BK117 -> 0 | P117: =P118 -> 0 | R117: =R118 -> 0 | T117: =T118 -> 0 | AT117: D | AU117: -1 | BK117: =BK118 -> 0
D118: D | E118: N00 | F118: VŠEOBECNÉ PODMÍNKY | J118: =BK118 -> 0 | P118: =SUM(P119:P132) -> 0 | R118: =SUM(R119:R132) -> 0 | T118: =SUM(T119:T132) -> 0 | AR118: 4 | AT118: D | AU118: 0 | AY118: ROZPOCET | BK118: =SUM(BK119:BK132) -> 0
C119: 1 | D119: K | E119: 02720-1 | F119: NÁKLADY NA DIO VČ. PROJEDNÁNÍ PŘECH. ZNAČENÍ | G119: KČ | H119: 1 | J119: =ROUND(I119*H119,2) -> 0 | N119: základní | P119: =O119*H119 -> 0 | Q119: 0 | R119: =Q119*H119 -> 0 | S119: 0 | T119: =S119*H119 -> 0 | AR119: 512 | AT119: K | AU119: 1 | AY119: ROZPOCET | BE119: =IF(N119="základní",J119,0) -> 0 | BF119: =IF(N119="snížená",J119,0) -> 0 | BG119: =IF(N119="zákl. přenesená",J119,0) -> 0 | BH119: =IF(N119="sníž. přenesená",J119,0) -> 0 | BI119: =IF(N119="nulová",J119,0) -> 0 | BJ119: 1 | BK119: =ROUND(I119*H119,2) -> 0 | BL119: 512 | BM119: -1906092451
D120: PP | F120: NÁKLADY NA DIO VČ. PROJEDNÁNÍ PŘECH. ZNAČENÍ | AT120: PP | AU120: 1
C121: 2 | D121: K | E121: 02730 | F121: POMOC PRÁCE ZŘÍZ NEBO ZAJIŠŤ OCHRANU INŽENÝRSKÝCH SÍTÍ | G121: KČ | H121: 1 | J121: =ROUND(I121*H121,2) -> 0 | K121: CS OTSKP | N121: základní | P121: =O121*H121 -> 0 | Q121: 0 | R121: =Q121*H121 -> 0 | S121: 0 | T121: =S121*H121 -> 0 | AR121: 512 | AT121: K | AU121: 1 | AY121: ROZPOCET | BE121: =IF(N121="základní",J121,0) -> 0 | BF121: =IF(N121="snížená",J121,0) -> 0 | BG121: =IF(N121="zákl. přenesená",J121,0) -> 0 | BH121: =IF(N121="sníž. přenesená",J121,0) -> 0 | BI121: =IF(N121="nulová",J121,0) -> 0 | BJ121: 1 | BK121: =ROUND(I121*H121,2) -> 0 | BL121: 512 | BM121: 220489309
D122: PP | F122: POMOC PRÁCE ZŘÍZ NEBO ZAJIŠŤ OCHRANU INŽENÝRSKÝCH SÍTÍ | AT122: PP | AU122: 1
C123: 3 | D123: K | E123: 02911 | F123: OSTATNÍ POŽADAVKY - GEODETICKÉ ZAMĚŘENÍ | G123: kpl | H123: 1 | J123: =ROUND(I123*H123,2) -> 0 | K123: CS OTSKP | N123: základní | P123: =O123*H123 -> 0 | Q123: 0 | R123: =Q123*H123 -> 0 | S123: 0 | T123: =S123*H123 -> 0 | AR123: 512 | AT123: K | AU123: 1 | AY123: ROZPOCET | BE123: =IF(N123="základní",J123,0) -> 0 | BF123: =IF(N123="snížená",J123,0) -> 0 | BG123: =IF(N123="zákl. přenesená",J123,0) -> 0 | BH123: =IF(N123="sníž. přenesená",J123,0) -> 0 | BI123: =IF(N123="nulová",J123,0) -> 0 | BJ123: 1 | BK123: =ROUND(I123*H123,2) -> 0 | BL123: 512 | BM123: 630225893
D124: PP | F124: OSTATNÍ POŽADAVKY - GEODETICKÉ ZAMĚŘENÍ | AT124: PP | AU124: 1
C125: 4 | D125: K | E125: 02911-1 | F125: OSTATNÍ POŽADAVKY - VYTYČENÍ ING. SÍTÍ | G125: kpl | H125: 1 | J125: =ROUND(I125*H125,2) -> 0 | N125: základní | P125: =O125*H125 -> 0 | Q125: 0 | R125: =Q125*H125 -> 0 | S125: 0 | T125: =S125*H125 -> 0 | AR125: 512 | AT125: K | AU125: 1 | AY125: ROZPOCET | BE125: =IF(N125="základní",J125,0) -> 0 | BF125: =IF(N125="snížená",J125,0) -> 0 | BG125: =IF(N125="zákl. přenesená",J125,0) -> 0 | BH125: =IF(N125="sníž. přenesená",J125,0) -> 0 | BI125: =IF(N125="nulová",J125,0) -> 0 | BJ125: 1 | BK125: =ROUND(I125*H125,2) -> 0 | BL125: 512 | BM125: -1346100849
D126: PP | F126: OSTATNÍ POŽADAVKY- VYTYČENÍ ING. SÍTÍ | AT126: PP | AU126: 1
C127: 5 | D127: K | E127: 02944 | F127: OSTAT POŽADAVKY - DOKUMENTACE RDS, DSPS V TIŠTĚNÉ A DIGIT FORMĚ | G127: KČ | H127: 1 | J127: =ROUND(I127*H127,2) -> 0 | K127: CS OTSKP | N127: základní | P127: =O127*H127 -> 0 | Q127: 0 | R127: =Q127*H127 -> 0 | S127: 0 | T127: =S127*H127 -> 0 | AR127: 512 | AT127: K | AU127: 1 | AY127: ROZPOCET | BE127: =IF(N127="základní",J127,0) -> 0 | BF127: =IF(N127="snížená",J127,0) -> 0 | BG127: =IF(N127="zákl. přenesená",J127,0) -> 0 | BH127: =IF(N127="sníž. přenesená",J127,0) -> 0 | BI127: =IF(N127="nulová",J127,0) -> 0 | BJ127: 1 | BK127: =ROUND(I127*H127,2) -> 0 | BL127: 512 | BM127: -360651398
D128: PP | F128: OSTAT POŽADAVKY - DOKUMENTACE RDS, DSPS V DIGIT FORMĚ | AT128: PP | AU128: 1
C129: 6 | D129: K | E129: 02991 | F129: OSTATNÍ POŽADAVKY - INFORMAČNÍ TABULE | G129: KUS | H129: 2 | J129: =ROUND(I129*H129,2) -> 0 | K129: CS OTSKP | N129: základní | P129: =O129*H129 -> 0 | Q129: 0 | R129: =Q129*H129 -> 0 | S129: 0 | T129: =S129*H129 -> 0 | AR129: 512 | AT129: K | AU129: 1 | AY129: ROZPOCET | BE129: =IF(N129="základní",J129,0) -> 0 | BF129: =IF(N129="snížená",J129,0) -> 0 | BG129: =IF(N129="zákl. přenesená",J129,0) -> 0 | BH129: =IF(N129="sníž. přenesená",J129,0) -> 0 | BI129: =IF(N129="nulová",J129,0) -> 0 | BJ129: 1 | BK129: =ROUND(I129*H129,2) -> 0 | BL129: 512 | BM129: 353375109
D130: PP | F130: OSTATNÍ POŽADAVKY - INFORMAČNÍ TABULE | AT130: PP | AU130: 1
C131: 7 | D131: K | E131: 03100 | F131: ZAŘÍZENÍ STAVENIŠTĚ - ZŘÍZENÍ, PROVOZ, DEMONTÁŽ | G131: KČ | H131: 1 | J131: =ROUND(I131*H131,2) -> 0 | K131: CS OTSKP | N131: základní | P131: =O131*H131 -> 0 | Q131: 0 | R131: =Q131*H131 -> 0 | S131: 0 | T131: =S131*H131 -> 0 | AR131: 512 | AT131: K | AU131: 1 | AY131: ROZPOCET | BE131: =IF(N131="základní",J131,0) -> 0 | BF131: =IF(N131="snížená",J131,0) -> 0 | BG131: =IF(N131="zákl. přenesená",J131,0) -> 0 | BH131: =IF(N131="sníž. přenesená",J131,0) -> 0 | BI131: =IF(N131="nulová",J131,0) -> 0 | BJ131: 1 | BK131: =ROUND(I131*H131,2) -> 0 | BL131: 512 | BM131: 2003986023
D132: PP | F132: ZAŘÍZENÍ STAVENIŠTĚ - ZŘÍZENÍ, PROVOZ, DEMONTÁŽ | AT132: PP | AU132: 1

Sheet 01 - Komunikace a zpevněn...
L2: >> skryté sloupce << | AT2: {d5424bbf-8121-40d1-af19-c5b8b19bcf87}
AT3: 2
D4: KRYCÍ LIST SOUPISU PRACÍ | M4: v --- níže se nacházejí doplnkové a pomocné údaje k sestavám --- v | AT4: False
D6: Stavba:
E7: ='Rekapitulace stavby'!K6 -> MIMOŇ - UL. NOVOPOLNÍ
D8: Objekt:
E9: 01 - Komunikace a zpevněné plochy
D11: KSO: | I11: CC-CZ:
D12: Místo: | I12: Datum: | J12: ='Rekapitulace stavby'!AN8 -> 24. 6. 2020
D14: Zadavatel: | I14: IČ:
E15: Město Mimoň | I15: DIČ:
D17: Uchazeč: | I17: IČ: | J17: ='Rekapitulace stavby'!AN13 -> Vyplň údaj
E18: ='Rekapitulace stavby'!E14 -> Vyplň údaj | I18: DIČ: | J18: ='Rekapitulace stavby'!AN14 -> Vyplň údaj
D20: Projektant: | I20: IČ:
E21: Ing. Jiří Sobol | I21: DIČ:
D23: Zpracovatel: | I23: IČ:
E24: Ing. Dominik Šlajer | I24: DIČ:
D26: Poznámka:
D30: Cena bez DPH | J30: =ROUND(J125, 2) -> 0
F32: Základ daně | I32: Sazba daně | J32: Výše daně
D33: DPH | E33: základní | F33: =ROUND((SUM(BE125:BE275)), 2) -> 0 | I33: 0.21 | J33: =ROUND(((SUM(BE125:BE275))*I33), 2) -> 0
E34: snížená | F34: =ROUND((SUM(BF125:BF275)), 2) -> 0 | I34: 0.15 | J34: =ROUND(((SUM(BF125:BF275))*I34), 2) -> 0
E35: zákl. přenesená | F35: =ROUND((SUM(BG125:BG275)), 2) -> 0 | I35: 0.21 | J35: =0 -> 0
E36: sníž. přenesená | F36: =ROUND((SUM(BH125:BH275)), 2) -> 0 | I36: 0.15 | J36: =0 -> 0
E37: nulová | F37: =ROUND((SUM(BI125:BI275)), 2) -> 0 | I37: 0 | J37: =0 -> 0
D39: Cena s DPH | G39: v | H39: CZK | J39: =SUM(J30:J37) -> 0
D50: Projektant | G50: Zpracovatel
D61: Datum a podpis: | F61: Razítko | G61: Datum a podpis: | J61: Razítko
D65: Objednavatel | G65: Uchazeč
D76: Datum a podpis: | F76: Razítko | G76: Datum a podpis: | J76: Razítko
C82: REKAPITULACE ČLENĚNÍ SOUPISU PRACÍ
C84: Stavba:
E85: =E7 -> MIMOŇ - UL. NOVOPOLNÍ
C86: Objekt:
E87: =E9 -> 01 - Komunikace a zpevněné plochy
C89: Místo: | F89: =F12 | I89: Datum: | J89: =IF(J12="","",J12) -> 24. 6. 2020
C91: Zadavatel: | F91: =E15 -> Město Mimoň | I91: Projektant: | J91: =E21 -> Ing. Jiří Sobol
C92: Uchazeč: | F92: =IF(E18="","",E18) -> Vyplň údaj | I92: Zpracovatel: | J92: =E24 -> Ing. Dominik Šlajer
C94: Kód dílu - Popis | J94: Cena celkem [CZK]
C96: Náklady ze soupisu prací | J96: =J125 -> 0 | AU96: -1
D97: HSV - Práce a dodávky HSV | J97: =J126 -> 0
D98: 1 - Zemní práce | J98: =J127 -> 0
D99: 2 - Zakládání | J99: =J176 -> 0
D100: 5 - Komunikace pozemní | J100: =J180 -> 0
D101: 8 - Trubní vedení | J101: =J223 -> 0
D102: 9 - Ostatní konstrukce a práce, bourání | J102: =J232 -> 0
D103: N00 - VŠEOBECNÉ PODMÍNKY | J103: =J258 -> 0
D104: PSV - Práce a dodávky PSV | J104: =J271 -> 0
D105: 711 - Izolace proti vodě, vlhkosti a plynům | J105: =J272 -> 0
C112: SOUPIS PRACÍ
C114: Stavba:
E115: =E7 -> MIMOŇ - UL. NOVOPOLNÍ
C116: Objekt:
E117: =E9 -> 01 - Komunikace a zpevněné plochy
C119: Místo: | F119: =F12 | I119: Datum: | J119: =IF(J12="","",J12) -> 24. 6. 2020
C121: Zadavatel: | F121: =E15 -> Město Mimoň | I121: Projektant: | J121: =E21 -> Ing. Jiří Sobol
C122: Uchazeč: | F122: =IF(E18="","",E18) -> Vyplň údaj | I122: Zpracovatel: | J122: =E24 -> Ing. Dominik Šlajer
C124: PČ | D124: Typ | E124: Kód | F124: Popis | G124: MJ | H124: Množství | I124: J.cena [CZK] | J124: Cena celkem [CZK] | K124: Cenová soustava | N124: DPH | O124: J. Nh [h] | P124: Nh celkem [h] | Q124: J. hmotnost [t] | R124: Hmotnost celkem [t] | S124: J. suť [t] | T124: Suť Celkem [t] | U124: Dodavatel
C125: Náklady soupisu celkem | J125: =BK125 -> 0 | P125: =P126+P271 -> 0 | R125: =R126+R271 -> 0 | T125: =T126+T271 -> 0 | AT125: D | AU125: -1 | BK125: =BK126+BK271 -> 0
D126: D | E126: HSV | F126: Práce a dodávky HSV | J126: =BK126 -> 0 | P126: =P127+P176+P180+P223+P232+P258 -> 0 | R126: =R127+R176+R180+R223+R232+R258 -> 0 | T126: =T127+T176+T180+T223+T232+T258 -> 0 | AR126: 1 | AT126: D | AU126: 0 | AY126: ROZPOCET | BK126: =BK127+BK176+BK180+BK223+BK232+BK258 -> 0
D127: D | E127: 1 | F127: Zemní práce | J127: =BK127 -> 0 | P127: =SUM(P128:P175) -> 0 | R127: =SUM(R128:R175) -> 0 | T127: =SUM(T128:T175) -> 0 | AR127: 1 | AT127: D | AU127: 1 | AY127: ROZPOCET | BK127: =SUM(BK128:BK175) -> 0
C128: 1 | D128: K | E128: 111204 | F128: ODSTRANĚNÍ KŘOVIN S ODVOZEM DO 5KM | G128: M2 | H128: 50 | J128: =ROUND(I128*H128,2) -> 0 | K128: OTSKP 2019 | N128: základní | P128: =O128*H128 -> 0 | Q128: 0 | R128: =Q128*H128 -> 0 | S128: 0 | T128: =S128*H128 -> 0 | AR128: 4 | AT128: K | AU128: 2 | AY128: ROZPOCET | BE128: =IF(N128="základní",J128,0) -> 0 | BF128: =IF(N128="snížená",J128,0) -> 0 | BG128: =IF(N128="zákl. přenesená",J128,0) -> 0 | BH128: =IF(N128="sníž. přenesená",J128,0) -> 0 | BI128: =IF(N128="nulová",J128,0) -> 0 | BJ128: 1 | BK128: =ROUND(I128*H128,2) -> 0 | BL128: 4 | BM128: 1426889024
D129: PP | F129: Technická specifikace: odstranění křovin a stromů do průměru 100 mm doprava dřevin na předepsanou vzdálenost spálení na hromadách nebo štěpkování | AT129: PP | AU129: 2
C130: 2 | D130: K | E130: 112014 | F130: KÁCENÍ STROMŮ D KMENE DO 0,5M S ODSTRANĚNÍM PAŘEZŮ, ODVOZ DO 5KM | G130: KUS | H130: 1 | J130: =ROUND(I130*H130,2) -> 0 | K130: OTSKP 2019 | N130: základní | P130: =O130*H130 -> 0 | Q130: 0 | R130: =Q130*H130 -> 0 | S130: 0 | T130: =S130*H130 -> 0 | AR130: 4 | AT130: K | AU130: 2 | AY130: ROZPOCET | BE130: =IF(N130="základní",J130,0) -> 0 | BF130: =IF(N130="snížená",J130,0) -> 0 | BG130: =IF(N130="zákl. přenesená",J130,0) -> 0 | BH130: =IF(N130="sníž. přenesená",J130,0) -> 0 | BI130: =IF(N130="nulová",J130,0) -> 0 | BJ130: 1 | BK130: =ROUND(I130*H130,2) -> 0 | BL130: 4 | BM130: 1741983964
D131: PP | F131: Technická specifikace: Kácení stromů se měří v [ks] poražených stromů (průměr stromů se měří v místě řezu) a zahrnuje zejména: - poražení stromu a osekání větví - spálení větví na hromadách nebo štěpkování - dopravu a uložení kmenů, případné další práce s nimi dle pokynů zadávací dokumentace Odstranění pařezů se měří v [ks] vytrhaných nebo vykopaných pařezů a zahrnuje zejména: - vytrhání nebo vykopání pařezů - veškeré zemní práce spojené s odstraněním pařezů - dopravu a uložení pařezů, případně další práce s nimi dle pokynů zadávací dokumentace - zásyp jam po pařezech | AT131: PP | AU131: 2
C132: 3 | D132: K | E132: 113138 | F132: ODSTRANĚNÍ KRYTU ZPEVNĚNÝCH PLOCH S ASFALT POJIVEM, ODVOZ DO 20KM | G132: M3 | H132: 152.5 | J132: =ROUND(I132*H132,2) -> 0 | K132: OTSKP 2019 | N132: základní | P132: =O132*H132 -> 0 | Q132: 0 | R132: =Q132*H132 -> 0 | S132: 0 | T132: =S132*H132 -> 0 | AR132: 4 | AT132: K | AU132: 2 | AY132: ROZPOCET | BE132: =IF(N132="základní",J132,0) -> 0 | BF132: =IF(N132="snížená",J132,0) -> 0 | BG132: =IF(N132="zákl. přenesená",J132,0) -> 0 | BH132: =IF(N132="sníž. přenesená",J132,0) -> 0 | BI132: =IF(N132="nulová",J132,0) -> 0 | BJ132: 1 | BK132: =ROUND(I132*H132,2) -> 0 | BL132: 4 | BM132: -1024161323
D133: PP | F133: Technická specifikace: Položka zahrnuje veškerou manipulaci s vybouranou sutí a s vybouranými hmotami vč. uložení na skládku. Nezahrnuje poplatek za skládku, který se vykazuje v položce 0141** (s výjimkou malého množství bouraného materiálu, kde je možné poplatek zahrnout do jednotkové ceny bourání – tento fakt musí být uveden v doplňujícím textu k položce). | AT133: PP | AU133: 2
D134: VV | F134: "dobourání asfaltových vrstev komunikace"1300*0,1 | H134: 130 | AT134: VV | AU134: 2 | AV134: 2 | AW134: True | AX134: 0 | AY134: ROZPOCET
D135: VV | F135: "vybourání současných chodníků"250*0,05 | H135: 12.5 | AT135: VV | AU135: 2 | AV135: 2 | AW135: True | AX135: 0 | AY135: ROZPOCET
D136: VV | F136: "dobourání asfaltových vrstev navrhovaného parkoviště"100*0,1 | H136: 10 | AT136: VV | AU136: 2 | AV136: 2 | AW136: True | AX136: 0 | AY136: ROZPOCET
C137: 4 | D137: K | E137: 113184 | F137: ODSTRANĚNÍ KRYTU ZPEVNĚNÝCH PLOCH Z DLAŽDIC, ODVOZ DO 5KM | G137: M3 | H137: 35 | J137: =ROUND(I137*H137,2) -> 0 | K137: OTSKP 2019 | N137: základní | P137: =O137*H137 -> 0 | Q137: 0 | R137: =Q137*H137 -> 0 | S137: 0 | T137: =S137*H137 -> 0 | AR137: 4 | AT137: K | AU137: 2 | AY137: ROZPOCET | BE137: =IF(N137="základní",J137,0) -> 0 | BF137: =IF(N137="snížená",J137,0) -> 0 | BG137: =IF(N137="zákl. přenesená",J137,0) -> 0 | BH137: =IF(N137="sníž. přenesená",J137,0) -> 0 | BI137: =IF(N137="nulová",J137,0) -> 0 | BJ137: 1 | BK137: =ROUND(I137*H137,2) -> 0 | BL137: 4 | BM137: 2134911072
D138: PP | F138: Technická specifikace: Položka zahrnuje veškerou manipulaci s vybouranou sutí a s vybouranými hmotami vč. uložení na skládku. Nezahrnuje poplatek za skládku, který se vykazuje v položce 0141** (s výjimkou malého množství bouraného materiálu, kde je možné poplatek zahrnout do jednotkové ceny bourání – tento fakt musí být uveden v doplňujícím textu k položce). | AT138: PP | AU138: 2
D139: VV | F139: "stávající chodníky z bet. dlažby"350*0,1 | H139: 35 | AT139: VV | AU139: 2 | AV139: 2 | AW139: True | AX139: 1 | AY139: ROZPOCET
C140: 5 | D140: K | E140: 113328 | F140: ODSTRAN PODKL ZPEVNĚNÝCH PLOCH Z KAMENIVA NESTMEL, ODVOZ DO 20KM | G140: M3 | H140: 552.3 | J140: =ROUND(I140*H140,2) -> 0 | K140: OTSKP 2019 | N140: základní | P140: =O140*H140 -> 0 | Q140: 0 | R140: =Q140*H140 -> 0 | S140: 0 | T140: =S140*H140 -> 0 | AR140: 4 | AT140: K | AU140: 2 | AY140: ROZPOCET | BE140: =IF(N140="základní",J140,0) -> 0 | BF140: =IF(N140="snížená",J140,0) -> 0 | BG140: =IF(N140="zákl. přenesená",J140,0) -> 0 | BH140: =IF(N140="sníž. přenesená",J140,0) -> 0 | BI140: =IF(N140="nulová",J140,0) -> 0 | BJ140: 1 | BK140: =ROUND(I140*H140,2) -> 0 | BL140: 4 | BM140: -1547365622
D141: PP | F141: Technická specifikace: Položka zahrnuje veškerou manipulaci s vybouranou sutí a s vybouranými hmotami vč. uložení na skládku. Nezahrnuje poplatek za skládku, který se vykazuje v položce 0141** (s výjimkou malého množství bouraného materiálu, kde je možné poplatek zahrnout do jednotkové ceny bourání – tento fakt musí být uveden v doplňujícím textu k položce). | AT141: PP | AU141: 2
D142: VV | F142: "konstrukční vrstvy komunikace"1300*0,27*1,05 | H142: 368.55 | AT142: VV | AU142: 2 | AV142: 2 | AW142: True | AX142: 0 | AY142: ROZPOCET
D143: VV | F143: "konstrukční vrstvy chodníků"600*0,25*1,05 | H143: 157.5 | AT143: VV | AU143: 2 | AV143: 2 | AW143: True | AX143: 0 | AY143: ROZPOCET
D144: VV | F144: "dobourání konstrukčních vrstev navrhovaného parkoviště"100*0,25*1,05 | H144: 26.25 | AT144: VV | AU144: 2 | AV144: 2 | AW144: True | AX144: 0 | AY144: ROZPOCET
C145: 6 | D145: K | E145: 113524 | F145: ODSTRANĚNÍ CHODNÍKOVÝCH OBRUBNÍKŮ BETONOVÝCH, ODVOZ DO 5KM | G145: M | H145: 655 | J145: =ROUND(I145*H145,2) -> 0 | K145: OTSKP 2019 | N145: základní | P145: =O145*H145 -> 0 | Q145: 0 | R145: =Q145*H145 -> 0 | S145: 0 | T145: =S145*H145 -> 0 | AR145: 4 | AT145: K | AU145: 2 | AY145: ROZPOCET | BE145: =IF(N145="základní",J145,0) -> 0 | BF145: =IF(N145="snížená",J145,0) -> 0 | BG145: =IF(N145="zákl. přenesená",J145,0) -> 0 | BH145: =IF(N145="sníž. přenesená",J145,0) -> 0 | BI145: =IF(N145="nulová",J145,0) -> 0 | BJ145: 1 | BK145: =ROUND(I145*H145,2) -> 0 | BL145: 4 | BM145: 2080973543
D146: PP | F146: Technická specifikace: Položka zahrnuje veškerou manipulaci s vybouranou sutí a s vybouranými hmotami vč. uložení na skládku. Nezahrnuje poplatek za skládku, který se vykazuje v položce 0141** (s výjimkou malého množství bouraného materiálu, kde je možné poplatek zahrnout do jednotkové ceny bourání – tento fakt musí být uveden v doplňujícím textu k položce). | AT146: PP | AU146: 2
D147: VV | F147: "vytrhání betonových obrubníků silničních"260+40+132+10+3+30 | H147: 475 | AT147: VV | AU147: 2 | AV147: 2 | AW147: True | AX147: 0 | AY147: ROZPOCET
D148: VV | F148: "vytrhání záhonových obrub"150+30 | H148: 180 | AT148: VV | AU148: 2 | AV148: 2 | AW148: True | AX148: 0 | AY148: ROZPOCET
C149: 7 | D149: K | E149: 113728 | F149: FRÉZOVÁNÍ ZPEVNĚNÝCH PLOCH ASFALTOVÝCH, ODVOZ DO 20KM | G149: M3 | H149: 70 | J149: =ROUND(I149*H149,2) -> 0 | K149: OTSKP 2019 | N149: základní | P149: =O149*H149 -> 0 | Q149: 0 | R149: =Q149*H149 -> 0 | S149: 0 | T149: =S149*H149 -> 0 | AR149: 4 | AT149: K | AU149: 2 | AY149: ROZPOCET | BE149: =IF(N149="základní",J149,0) -> 0 | BF149: =IF(N149="snížená",J149,0) -> 0 | BG149: =IF(N149="zákl. přenesená",J149,0) -> 0 | BH149: =IF(N149="sníž. přenesená",J149,0) -> 0 | BI149: =IF(N149="nulová",J149,0) -> 0 | BJ149: 1 | BK149: =ROUND(I149*H149,2) -> 0 | BL149: 4 | BM149: 1403432785
D150: PP | F150: Technická specifikace: Položka zahrnuje veškerou manipulaci s vybouranou sutí a s vybouranými hmotami vč. uložení na skládku. Nezahrnuje poplatek za skládku, který se vykazuje v položce 0141** (s výjimkou malého množství bouraného materiálu, kde je možné poplatek zahrnout do jednotkové ceny bourání – tento fakt musí být uveden v doplňujícím textu k položce). | AT150: PP | AU150: 2
D151: VV | F151: "frézování vozovky"1300*0,05 | H151: 65 | AT151: VV | AU151: 2 | AV151: 2 | AW151: True | AX151: 0 | AY151: ROZPOCET
D152: VV | F152: "frézování navrhovaného parkoviště"100*0,05 | H152: 5 | AT152: VV | AU152: 2 | AV152: 2 | AW152: True | AX152: 0 | AY152: ROZPOCET
C153: 8 | D153: K | E153: 113772 | F153: FRÉZOVÁNÍ DRÁŽKY PRŮŘEZU DO 200MM2 V BETONOVÉ VOZOVCE | G153: M | H153: 42 | J153: =ROUND(I153*H153,2) -> 0 | K153: OTSKP 2019 | N153: základní | P153: =O153*H153 -> 0 | Q153: 0 | R153: =Q153*H153 -> 0 | S153: 0 | T153: =S153*H153 -> 0 | AR153: 4 | AT153: K | AU153: 2 | AY153: ROZPOCET | BE153: =IF(N153="základní",J153,0) -> 0 | BF153: =IF(N153="snížená",J153,0) -> 0 | BG153: =IF(N153="zákl. přenesená",J153,0) -> 0 | BH153: =IF(N153="sníž. přenesená",J153,0) -> 0 | BI153: =IF(N153="nulová",J153,0) -> 0 | BJ153: 1 | BK153: =ROUND(I153*H153,2) -> 0 | BL153: 4 | BM153: -748193514
D154: PP | F154: Technická specifikace: Položka zahrnuje veškerou manipulaci s vybouranou sutí a s vybouranými hmotami vč. uložení na skládku. | AT154: PP | AU154: 2
D155: VV | F155: "spáry"7+5,5+5+4,5+7 | H155: 29 | AT155: VV | AU155: 2 | AV155: 2 | AW155: True | AX155: 0 | AY155: ROZPOCET
D156: VV | F156: "úprava před obrubou"13 | H156: 13 | AT156: VV | AU156: 2 | AV156: 2 | AW156: True | AX156: 0 | AY156: ROZPOCET
C157: 9 | D157: K | E157: 121106 | F157: SEJMUTÍ ORNICE NEBO LESNÍ PŮDY S ODVOZEM DO 12KM | G157: M3 | H157: 89.85 | J157: =ROUND(I157*H157,2) -> 0 | K157: OTSKP 2019 | N157: základní | P157: =O157*H157 -> 0 | Q157: 0 | R157: =Q157*H157 -> 0 | S157: 0 | T157: =S157*H157 -> 0 | AR157: 4 | AT157: K | AU157: 2 | AY157: ROZPOCET | BE157: =IF(N157="základní",J157,0) -> 0 | BF157: =IF(N157="snížená",J157,0) -> 0 | BG157: =IF(N157="zákl. přenesená",J157,0) -> 0 | BH157: =IF(N157="sníž. přenesená",J157,0) -> 0 | BI157: =IF(N157="nulová",J157,0) -> 0 | BJ157: 1 | BK157: =ROUND(I157*H157,2) -> 0 | BL157: 4 | BM157: -1203376462
D158: PP | F158: Technická specifikace: položka zahrnuje sejmutí ornice bez ohledu na tloušťku vrstvy a její vodorovnou dopravu nezahrnuje uložení na trvalou skládku | AT158: PP | AU158: 2
D159: VV | F159: "nové chodníky"(150+1,5*4,5*2)*0,5*0,2 | H159: 16.35 | AT159: VV | AU159: 2 | AV159: 2 | AW159: True | AX159: 0 | AY159: ROZPOCET
D160: VV | F160: "nová parkovací stání"350*0,2*1,05 | H160: 73.5 | AT160: VV | AU160: 2 | AV160: 2 | AW160: True | AX160: 0 | AY160: ROZPOCET
C161: 10 | D161: K | E161: 122736 | F161: ODKOPÁVKY A PROKOPÁVKY OBECNÉ TŘ. I, ODVOZ DO 12KM | G161: M3 | H161: 109.598 | J161: =ROUND(I161*H161,2) -> 0 | K161: OTSKP 2019 | N161: základní | P161: =O161*H161 -> 0 | Q161: 0 | R161: =Q161*H161 -> 0 | S161: 0 | T161: =S161*H161 -> 0 | AR161: 4 | AT161: K | AU161: 2 | AY161: ROZPOCET | BE161: =IF(N161="základní",J161,0) -> 0 | BF161: =IF(N161="snížená",J161,0) -> 0 | BG161: =IF(N161="zákl. přenesená",J161,0) -> 0 | BH161: =IF(N161="sníž. přenesená",J161,0) -> 0 | BI161: =IF(N161="nulová",J161,0) -> 0 | BJ161: 1 | BK161: =ROUND(I161*H161,2) -> 0 | BL161: 4 | BM161: -470715660
D162: PP | F162: Technická specifikace: položka zahrnuje: - vodorovná a svislá doprava, přemístění, přeložení, manipulace s výkopkem - kompletní provedení vykopávky nezapažené i zapažené - ošetření výkopiště po celou dobu práce v něm vč. klimatických opatření - ztížení vykopávek v blízkosti podzemního vedení, konstrukcí a objektů vč. jejich dočasného zajištění - ztížení pod vodou, v okolí výbušnin, ve stísněných prostorech a pod. - příplatek za lepivost - těžení po vrstvách, pásech a po jiných nutných částech (figurách) - čerpání vody vč. čerpacích jímek, potrubí a pohotovostní čerpací soupravy (viz ustanovení k pol. 1151,2) - potřebné snížení hladiny podzemní vody - těžení a rozpojování jednotlivých balvanů - vytahování a nošení výkopku - svahování a přesvah. svahů do konečného tvaru, výměna hornin v podloží a v pláni znehodnocené klimatickými vlivy - ruční vykopávky, odstranění kořenů a napadávek - pažení, vzepření a rozepření vč. přepažování (vyjma štětových stěn) - úpravu, ochranu a očištění dna, základové spáry, stěn a svahů - zhutnění podloží, případně i svahů vč. svahování - zřízení stupňů v podloží a lavic na svazích, není-li pro tyto práce zřízena samostatná položka - udržování výkopiště a jeho ochrana proti vodě - odvedení nebo obvedení vody v okolí výkopiště a ve výkopišti - třídění výkopku - veškeré pomocné konstrukce umožňující provedení vykopávky (příjezdy, sjezdy, nájezdy, lešení, podpěr. konstr., přemostění, zpevněné plochy, zakrytí a pod.) - nezahrnuje uložení zeminy (na skládku, do násypu) ani poplatky za skládku, vykazují se v položce č.0141** | AT162: PP | AU162: 2
D163: VV | F163: "nové parkovací stání"350*0,17*1,05 | H163: 62.475 | AT163: VV | AU163: 2 | AV163: 2 | AW163: True | AX163: 0 | AY163: ROZPOCET
D164: VV | F164: "nové chodníky"150*0,5*0,1+1,5*4,5*0,17 | H164: 8.648 | AT164: VV | AU164: 2 | AV164: 2 | AW164: True | AX164: 0 | AY164: ROZPOCET
D165: VV | F165: "drenážní rýha"0,3*0,45*(195+90) | H165: 38.475 | AT165: VV | AU165: 2 | AV165: 2 | AW165: True | AX165: 0 | AY165: ROZPOCET
C166: 11 | D166: K | E166: 18110 | F166: ÚPRAVA PLÁNĚ SE ZHUTNĚNÍM V HORNINĚ TŘ. I | G166: M2 | H166: 2475 | J166: =ROUND(I166*H166,2) -> 0 | K166: OTSKP 2019 | N166: základní | P166: =O166*H166 -> 0 | Q166: 0 | R166: =Q166*H166 -> 0 | S166: 0 | T166: =S166*H166 -> 0 | AR166: 4 | AT166: K | AU166: 2 | AY166: ROZPOCET | BE166: =IF(N166="základní",J166,0) -> 0 | BF166: =IF(N166="snížená",J166,0) -> 0 | BG166: =IF(N166="zákl. přenesená",J166,0) -> 0 | BH166: =IF(N166="sníž. přenesená",J166,0) -> 0 | BI166: =IF(N166="nulová",J166,0) -> 0 | BJ166: 1 | BK166: =ROUND(I166*H166,2) -> 0 | BL166: 4 | BM166: -1731037146
...
