Workbook

Sheet Rekapitulace stavby
A1: Export Komplet | AZ1: VZ | BA1: 2.0 | BB1: ZAMOK | BT1: False | BU1: False | BV1: {82866479-4f9d-433b-b82b-675a467aae7d}
BS2: 0,01 | BT2: 21
BS3: 0,01 | BT3: 15
D4: REKAPITULACE STAVBY | AS4: v --- níže se nacházejí doplnkové a pomocné údaje k sestavám --- v | BE4: Návod na vyplnění | BS4: 0,001
D5: Kód: | K5: TAVOD180 | BE5: Měnit lze pouze buňky se žlutým podbarvením!_x000D_ _x000D_ 1) v Rekapitulaci stavby vyplňte údaje o Uchazeči (přenesou se do ostatních sestav i v jiných listech)_x000D_ _x000D_ 2) na vybraných listech vyplňte v sestavě Soupis prací ceny u položek | BS5: 0,01
D6: Stavba: | K6: Mimoň, Smetanova - kanalizace | BS6: 0,1
D7: KSO: | AK7: CC-CZ: | BS7: 1
D8: Místo: | K8: Mimoň | AK8: Datum: | AN8: 24. 5. 2020 | BS8: 10
BS9: 100
D10: Zadavatel: | AK10: IČ: | BS10: 0,1
E11: Město Mimoň | AK11: DIČ: | BS11: 0,1
BS12: 0,1
D13: Uchazeč: | AK13: IČ: | AN13: Vyplň údaj | BS13: 0,1
E14: Vyplň údaj | AK14: DIČ: | AN14: Vyplň údaj | BS14: 0,1
BS15: False
D16: Projektant: | AK16: IČ: | BS16: False
E17: Vodohospodářské projekty s.r.o. | AK17: DIČ: | BS17: True
BS18: 0,01
D19: Zpracovatel: | AK19: IČ: | BS19: 0,01
E20: Martin Růžička | AK20: DIČ: | BS20: True
D22: Poznámka:
E23: Soupis prací je sestaven za využití položek Cenové soustavy ÚRS. Cenové a technické podmínky položek Cenové soustavy ÚRS, které nejsou uvedeny v soupisu prací (tzv.úvodní části katalogů), jsou neomezeně dálkově k dispozici na www.cs-urs.cz. Položky, které nemají ve sloupci "Cenová soustava" uveden žádný údaj, nepochází z Cenové soustavy ÚRS.
D26: Cena bez DPH | AK26: =ROUND(AG54,2) -> 0
L28: Sazba daně | W28: Základ daně | AK28: Výše daně
D29: DPH | F29: základní | L29: 0.21 | W29: =ROUND(AZ54, 2) -> 0 | AK29: =ROUND(AV54, 2) -> 0
F30: snížená | L30: 0.15 | W30: =ROUND(BA54, 2) -> 0 | AK30: =ROUND(AW54, 2) -> 0
F31: zákl. přenesená | L31: 0.21 | W31: =ROUND(BB54, 2) -> 0 | AK31: 0
F32: sníž. přenesená | L32: 0.15 | W32: =ROUND(BC54, 2) -> 0 | AK32: 0
F33: nulová | L33: 0 | W33: =ROUND(BD54, 2) -> 0 | AK33: 0
D35: Cena s DPH | T35: v | X35: CZK | AK35: =SUM(AK26:AK33) -> 0
C42: REKAPITULACE OBJEKTŮ STAVBY A SOUPISŮ PRACÍ
C44: Kód: | L44: =K5 -> TAVOD180
C45: Stavba: | L45: =K6 -> Mimoň, Smetanova - kanalizace
C47: Místo: | L47: =IF(K8="","",K8) -> Mimoň | AI47: Datum: | AM47: =IF(AN8= "","",AN8) -> 24. 5. 2020
C49: Zadavatel: | L49: =IF(E11= "","",E11) -> Město Mimoň | AI49: Projektant: | AM49: =IF(E17="","",E17) -> Vodohospodářské projekty s.r.o. | AS49: Informatívní údaje z listů zakázek
C50: Uchazeč: | L50: =IF(E14= "Vyplň údaj","",E14) | AI50: Zpracovatel: | AM50: =IF(E20="","",E20) -> Martin Růžička
C52: Kód | I52: Popis | AG52: Cena bez DPH [CZK] | AN52: Cena s DPH [CZK] | AQ52: Typ | AS52: z toho Ostat._x000D_ náklady [CZK] | AT52: DPH [CZK] | AU52: Normohodiny [h] | AV52: DPH základní [CZK] | AW52: DPH snížená [CZK] | AX52: DPH základní přenesená_x000D_ [CZK] | AY52: DPH snížená přenesená_x000D_ [CZK] | AZ52: Základna_x000D_ DPH základní | BA52: Základna_x000D_ DPH snížená | BB52: Základna_x000D_ DPH zákl. přenesená | BC52: Základna_x000D_ DPH sníž. přenesená | BD52: Základna_x000D_ DPH nulová
C54: Náklady stavby celkem | AG54: =ROUND(SUM(AG55:AG57),2) -> 0 | AN54: =SUM(AG54,AT54) -> 0 | AS54: =ROUND(SUM(AS55:AS57),2) -> 0 | AT54: =ROUND(SUM(AV54:AW54),2) -> 0 | AU54: =ROUND(SUM(AU55:AU57),5) -> 0 | AV54: =ROUND(AZ54*L29,2) -> 0 | AW54: =ROUND(BA54*L30,2) -> 0 | AX54: =ROUND(BB54*L29,2) -> 0 | AY54: =ROUND(BC54*L30,2) -> 0 | AZ54: =ROUND(SUM(AZ55:AZ57),2) -> 0 | BA54: =ROUND(SUM(BA55:BA57),2) -> 0 | BB54: =ROUND(SUM(BB55:BB57),2) -> 0 | BC54: =ROUND(SUM(BC55:BC57),2) -> 0 | BD54: =ROUND(SUM(BD55:BD57),2) -> 0 | BS54: D | BT54: 0 | BU54: ###NOIMPORT### | BV54: IMPORT | BW54: {82866479-4f9d-433b-b82b-675a467aae7d} | BX54: {00000000-0000-0000-0000-000000000000}
A55: / | D55: IO 01 | J55: Tlaková kanalizační stoka | AG55: ='IO 01 - Tlaková kanalizač...'!J30 -> 0 | AN55: =SUM(AG55,AT55) -> 0 | AQ55: ING | AS55: 0 | AT55: =ROUND(SUM(AV55:AW55),2) -> 0 | AU55: ='IO 01 - Tlaková kanalizač...'!P86 -> 0 | AV55: ='IO 01 - Tlaková kanalizač...'!J33 -> 0 | AW55: ='IO 01 - Tlaková kanalizač...'!J34 -> 0 | AX55: ='IO 01 - Tlaková kanalizač...'!J35 -> 0 | AY55: ='IO 01 - Tlaková kanalizač...'!J36 -> 0 | AZ55: ='IO 01 - Tlaková kanalizač...'!F33 -> 0 | BA55: ='IO 01 - Tlaková kanalizač...'!F34 -> 0 | BB55: ='IO 01 - Tlaková kanalizač...'!F35 -> 0 | BC55: ='IO 01 - Tlaková kanalizač...'!F36 -> 0 | BD55: ='IO 01 - Tlaková kanalizač...'!F37 -> 0 | BT55: 1 | BV55: IMPORT | BW55: {6051dc27-2437-42e6-9fac-b09d9d9db60e} | BX55: {82866479-4f9d-433b-b82b-675a467aae7d} | CL55: 827 19 | CM55: 2
A56: / | D56: IO 02 | J56: Kanalizační přípojky tlakové a domovní čerpací jímky | AG56: ='IO 02 - Kanalizační přípo...'!J30 -> 0 | AN56: =SUM(AG56,AT56) -> 0 | AQ56: ING | AS56: 0 | AT56: =ROUND(SUM(AV56:AW56),2) -> 0 | AU56: ='IO 02 - Kanalizační přípo...'!P87 -> 0 | AV56: ='IO 02 - Kanalizační přípo...'!J33 -> 0 | AW56: ='IO 02 - Kanalizační přípo...'!J34 -> 0 | AX56: ='IO 02 - Kanalizační přípo...'!J35 -> 0 | AY56: ='IO 02 - Kanalizační přípo...'!J36 -> 0 | AZ56: ='IO 02 - Kanalizační přípo...'!F33 -> 0 | BA56: ='IO 02 - Kanalizační přípo...'!F34 -> 0 | BB56: ='IO 02 - Kanalizační přípo...'!F35 -> 0 | BC56: ='IO 02 - Kanalizační přípo...'!F36 -> 0 | BD56: ='IO 02 - Kanalizační přípo...'!F37 -> 0 | BT56: 1 | BV56: IMPORT | BW56: {91fd0022-cd6c-49fb-96b1-5ba7fdfe2d41} | BX56: {82866479-4f9d-433b-b82b-675a467aae7d} | CL56: 827 19 | CM56: 2
...

Sheet IO 01 - Tlaková kanalizač...
AT2: {6051dc27-2437-42e6-9fac-b09d9d9db60e}
AT3: 2
D4: KRYCÍ LIST SOUPISU PRACÍ | M4: v --- níže se nacházejí doplnkové a pomocné údaje k sestavám --- v | AT4: False
D6: Stavba:
E7: ='Rekapitulace stavby'!K6 -> Mimoň, Smetanova - kanalizace
D8: Objekt:
E9: IO 01 - Tlaková kanalizační stoka
D11: KSO: | F11: 827 19 | I11: CC-CZ: | J11: 2222
D12: Místo: | F12: Mimoň | I12: Datum: | J12: ='Rekapitulace stavby'!AN8 -> 24. 5. 2020
D14: Zadavatel: | I14: IČ:
E15: Město Mimoň | I15: DIČ:
D17: Uchazeč: | I17: IČ: | J17: ='Rekapitulace stavby'!AN13 -> Vyplň údaj
E18: ='Rekapitulace stavby'!E14 -> Vyplň údaj | I18: DIČ: | J18: ='Rekapitulace stavby'!AN14 -> Vyplň údaj
D20: Projektant: | I20: IČ:
E21: Vodohospodářské projekty s.r.o. | I21: DIČ:
D23: Zpracovatel: | I23: IČ:
E24: Martin Růžička | I24: DIČ:
D26: Poznámka:
E27: Soupis prací je sestaven za využití položek Cenové soustavy ÚRS. Cenové a technické podmínky položek Cenové soustavy ÚRS, které nejsou uvedeny v soupisu prací (tzv.úvodní části katalogů), jsou neomezeně dálkově k dispozici na www.cs-urs.cz. Položky, které nemají ve sloupci "Cenová soustava" uveden žádný údaj, nepochází z Cenové soustavy ÚRS.
D30: Cena bez DPH | J30: =ROUND(J86, 2) -> 0
F32: Základ daně | I32: Sazba daně | J32: Výše daně
D33: DPH | E33: základní | F33: =ROUND((SUM(BE86:BE395)), 2) -> 0 | I33: 0.21 | J33: =ROUND(((SUM(BE86:BE395))*I33), 2) -> 0
E34: snížená | F34: =ROUND((SUM(BF86:BF395)), 2) -> 0 | I34: 0.15 | J34: =ROUND(((SUM(BF86:BF395))*I34), 2) -> 0
E35: zákl. přenesená | F35: =ROUND((SUM(BG86:BG395)), 2) -> 0 | I35: 0.21 | J35: =0 -> 0
E36: sníž. přenesená | F36: =ROUND((SUM(BH86:BH395)), 2) -> 0 | I36: 0.15 | J36: =0 -> 0
E37: nulová | F37: =ROUND((SUM(BI86:BI395)), 2) -> 0 | I37: 0 | J37: =0 -> 0
D39: Cena s DPH | G39: v | H39: CZK | J39: =SUM(J30:J37) -> 0
C45: REKAPITULACE ČLENĚNÍ SOUPISU PRACÍ
C47: Stavba:
E48: =E7 -> Mimoň, Smetanova - kanalizace
C49: Objekt:
E50: =E9 -> IO 01 - Tlaková kanalizační stoka
C52: Místo: | F52: =F12 -> Mimoň | I52: Datum: | J52: =IF(J12="","",J12) -> 24. 5. 2020
C54: Zadavatel: | F54: =E15 -> Město Mimoň | I54: Projektant: | J54: =E21 -> Vodohospodářské projekty s.r.o.
C55: Uchazeč: | F55: =IF(E18="","",E18) -> Vyplň údaj | I55: Zpracovatel: | J55: =E24 -> Martin Růžička
C57: Kód dílu - Popis | J57: Cena celkem [CZK]
C59: Náklady stavby celkem | J59: =J86 -> 0 | AU59: -1
D60: HSV - Práce a dodávky HSV | J60: =J87 -> 0
D61: 1 - Zemní práce | J61: =J88 -> 0
D62: 4 - Vodorovné konstrukce | J62: =J211 -> 0
...

Sheet IO 02 - Kanalizační přípo...
AT2: {91fd0022-cd6c-49fb-96b1-5ba7fdfe2d41}
AT3: 2
D4: KRYCÍ LIST SOUPISU PRACÍ | M4: v --- níže se nacházejí doplnkové a pomocné údaje k sestavám --- v | AT4: False
D6: Stavba:
E7: ='Rekapitulace stavby'!K6 -> Mimoň, Smetanova - kanalizace
D8: Objekt:
E9: IO 02 - Kanalizační přípojky tlakové a domovní čerpací jímky
D11: KSO: | F11: 827 19 | I11: CC-CZ: | J11: 2222
D12: Místo: | F12: Mimoň | I12: Datum: | J12: ='Rekapitulace stavby'!AN8 -> 24. 5. 2020
D14: Zadavatel: | I14: IČ:
E15: Město Mimoň | I15: DIČ:
D17: Uchazeč: | I17: IČ: | J17: ='Rekapitulace stavby'!AN13 -> Vyplň údaj
E18: ='Rekapitulace stavby'!E14 -> Vyplň údaj | I18: DIČ: | J18: ='Rekapitulace stavby'!AN14 -> Vyplň údaj
D20: Projektant: | I20: IČ:
E21: Vodohospodářské projekty s.r.o. | I21: DIČ:
D23: Zpracovatel: | I23: IČ:
E24: Martin Růžička | I24: DIČ:
D26: Poznámka:
E27: Soupis prací je sestaven za využití položek Cenové soustavy ÚRS. Cenové a technické podmínky položek Cenové soustavy ÚRS, které nejsou uvedeny v soupisu prací (tzv.úvodní části katalogů), jsou neomezeně dálkově k dispozici na www.cs-urs.cz. Položky, které nemají ve sloupci "Cenová soustava" uveden žádný údaj, nepochází z Cenové soustavy ÚRS.
D30: Cena bez DPH | J30: =ROUND(J87, 2) -> 0
F32: Základ daně | I32: Sazba daně | J32: Výše daně
D33: DPH | E33: základní | F33: =ROUND((SUM(BE87:BE409)), 2) -> 0 | I33: 0.21 | J33: =ROUND(((SUM(BE87:BE409))*I33), 2) -> 0
E34: snížená | F34: =ROUND((SUM(BF87:BF409)), 2) -> 0 | I34: 0.15 | J34: =ROUND(((SUM(BF87:BF409))*I34), 2) -> 0
E35: zákl. přenesená | F35: =ROUND((SUM(BG87:BG409)), 2) -> 0 | I35: 0.21 | J35: =0 -> 0
E36: sníž. přenesená | F36: =ROUND((SUM(BH87:BH409)), 2) -> 0 | I36: 0.15 | J36: =0 -> 0
E37: nulová | F37: =ROUND((SUM(BI87:BI409)), 2) -> 0 | I37: 0 | J37: =0 -> 0
D39: Cena s DPH | G39: v | H39: CZK | J39: =SUM(J30:J37) -> 0
C45: REKAPITULACE ČLENĚNÍ SOUPISU PRACÍ
C47: Stavba:
E48: =E7 -> Mimoň, Smetanova - kanalizace
C49: Objekt:
E50: =E9 -> IO 02 - Kanalizační přípojky tlakové a domovní čerpací jímky
C52: Místo: | F52: =F12 -> Mimoň | I52: Datum: | J52: =IF(J12="","",J12) -> 24. 5. 2020
C54: Zadavatel: | F54: =E15 -> Město Mimoň | I54: Projektant: | J54: =E21 -> Vodohospodářské projekty s.r.o.
C55: Uchazeč: | F55: =IF(E18="","",E18) -> Vyplň údaj | I55: Zpracovatel: | J55: =E24 -> Martin Růžička
C57: Kód dílu - Popis | J57: Cena celkem [CZK]
C59: Náklady stavby celkem | J59: =J87 -> 0 | AU59: -1
D60: HSV - Práce a dodávky HSV | J60: =J88 -> 0
D61: 1 - Zemní práce | J61: =J89 -> 0
D62: 4 - Vodorovné konstrukce | J62: =J205 -> 0
...

Sheet VON - Vedlejší a ostatní ...
AT2: {af0993c5-47ef-48b9-a982-271e28da9279}
AT3: 2
D4: KRYCÍ LIST SOUPISU PRACÍ | M4: v --- níže se nacházejí doplnkové a pomocné údaje k sestavám --- v | AT4: False
D6: Stavba:
E7: ='Rekapitulace stavby'!K6 -> Mimoň, Smetanova - kanalizace
D8: Objekt:
E9: VON - Vedlejší a ostatní náklady
D11: KSO: | I11: CC-CZ:
D12: Místo: | F12: Mimoň | I12: Datum: | J12: ='Rekapitulace stavby'!AN8 -> 24. 5. 2020
D14: Zadavatel: | I14: IČ:
E15: Město Mimoň | I15: DIČ:
D17: Uchazeč: | I17: IČ: | J17: ='Rekapitulace stavby'!AN13 -> Vyplň údaj
E18: ='Rekapitulace stavby'!E14 -> Vyplň údaj | I18: DIČ: | J18: ='Rekapitulace stavby'!AN14 -> Vyplň údaj
D20: Projektant: | I20: IČ:
E21: Vodohospodářské projekty s.r.o. | I21: DIČ:
D23: Zpracovatel: | I23: IČ:
E24: Martin Růžička | I24: DIČ:
D26: Poznámka:
E27: Soupis prací je sestaven za využití položek Cenové soustavy ÚRS. Cenové a technické podmínky položek Cenové soustavy ÚRS, které nejsou uvedeny v soupisu prací (tzv.úvodní části katalogů), jsou neomezeně dálkově k dispozici na www.cs-urs.cz. Položky, které nemají ve sloupci "Cenová soustava" uveden žádný údaj, nepochází z Cenové soustavy ÚRS.
D30: Cena bez DPH | J30: =ROUND(J87, 2) -> 0
F32: Základ daně | I32: Sazba daně | J32: Výše daně
D33: DPH | E33: základní | F33: =ROUND((SUM(BE87:BE108)), 2) -> 0 | I33: 0.21 | J33: =ROUND(((SUM(BE87:BE108))*I33), 2) -> 0
E34: snížená | F34: =ROUND((SUM(BF87:BF108)), 2) -> 0 | I34: 0.15 | J34: =ROUND(((SUM(BF87:BF108))*I34), 2) -> 0
E35: zákl. přenesená | F35: =ROUND((SUM(BG87:BG108)), 2) -> 0 | I35: 0.21 | J35: =0 -> 0
E36: sníž. přenesená | F36: =ROUND((SUM(BH87:BH108)), 2) -> 0 | I36: 0.15 | J36: =0 -> 0
E37: nulová | F37: =ROUND((SUM(BI87:BI108)), 2) -> 0 | I37: 0 | J37: =0 -> 0
D39: Cena s DPH | G39: v | H39: CZK | J39: =SUM(J30:J37) -> 0
C45: REKAPITULACE ČLENĚNÍ SOUPISU PRACÍ
C47: Stavba:
E48: =E7 -> Mimoň, Smetanova - kanalizace
C49: Objekt:
E50: =E9 -> VON - Vedlejší a ostatní náklady
C52: Místo: | F52: =F12 -> Mimoň | I52: Datum: | J52: =IF(J12="","",J12) -> 24. 5. 2020
C54: Zadavatel: | F54: =E15 -> Město Mimoň | I54: Projektant: | J54: =E21 -> Vodohospodářské projekty s.r.o.
C55: Uchazeč: | F55: =IF(E18="","",E18) -> Vyplň údaj | I55: Zpracovatel: | J55: =E24 -> Martin Růžička
C57: Kód dílu - Popis | J57: Cena celkem [CZK]
C59: Náklady stavby celkem | J59: =J87 -> 0 | AU59: -1
D60: OST - Ostatní | J60: =J88 -> 0
D61: 9131 - Dopravní značení | J61: =J89 -> 0
D62: 9132 - Zkoušky hutnění | J62: =J91 -> 0
...

Sheet Pokyny pro vyplnění
C3: Struktura údajů, formát souboru a metodika pro zpracování
C4: Struktura
C6: Soubor je složen ze záložky Rekapitulace stavby a záložek s názvem soupisu prací pro jednotlivé objekty ve formátu XLSX. Každá ze záložek přitom obsahuje
C7: ještě samostatné sestavy vymezené orámovaním a nadpisem sestavy.
C9: Rekapitulace stavby obsahuje sestavu Rekapitulace stavby a Rekapitulace objektů stavby a soupisů prací.
D10: V sestavě Rekapitulace stavby jsou uvedeny informace identifikující předmět veřejné zakázky na stavební práce, KSO, CC-CZ, CZ-CPV, CZ-CPA a rekapitulaci
D11: celkové nabídkové ceny uchazeče.
D13: Termínem "uchazeč" (resp. zhotovitel) se myslí "účastník zadávacího řízení" ve smyslu zákona o zadávání veřejných zakázek.
D15: V sestavě Rekapitulace objektů stavby a soupisů prací je uvedena rekapitulace stavebních objektů, inženýrských objektů, provozních souborů,
D16: vedlejších a ostatních nákladů a ostatních nákladů s rekapitulací nabídkové ceny za jednotlivé soupisy prací. Na základě údaje Typ je možné
D17: identifikovat, zda se jedná o objekt nebo soupis prací pro daný objekt:
E18: STA | F18: Stavební objekt pozemní
E19: ING | F19: Stavební objekt inženýrský
E20: PRO | F20: Provozní soubor
E21: VON | F21: Vedlejší a ostatní náklady
E22: OST | F22: Ostatní
E23: Soupis | F23: Soupis prací pro daný typ objektu
C25: Soupis prací pro jednotlivé objekty obsahuje sestavy Krycí list soupisu prací, Rekapitulace členění soupisu prací, Soupis prací. Za soupis prací může být považován
C26: i objekt stavby v případě, že neobsahuje podřízenou zakázku.
D27: Krycí list soupisu obsahuje rekapitulaci informací o předmětu veřejné zakázky ze sestavy Rekapitulace stavby, informaci o zařazení objektu do KSO,
D28: CC-CZ, CZ-CPV, CZ-CPA a rekapitulaci celkové nabídkové ceny uchazeče za aktuální soupis prací.
D30: Rekapitulace členění soupisu prací obsahuje rekapitulaci soupisu prací ve všech úrovních členění soupisu tak, jak byla tato členění použita (např.
D31: stavební díly, funkční díly, případně jiné členění) s rekapitulací nabídkové ceny.
D33: Soupis prací obsahuje položky veškerých stavebních nebo montážních prací, dodávek materiálů a služeb nezbytných pro zhotovení stavebního objektu,
D34: inženýrského objektu, provozního souboru, vedlejších a ostatních nákladů.
D35: Pro položky soupisu prací se zobrazují následující informace:
E36: PČ | G36: Pořadové číslo položky v aktuálním soupisu
E37: TYP | G37: Typ položky: K - konstrukce, M - materiál, PP - plný popis, PSC - poznámka k souboru cen, P - poznámka k položce, VV - výkaz výměr
E38: Kód | G38: Kód položky
E39: Popis | G39: Zkrácený popis položky
E40: MJ | G40: Měrná jednotka položky
E41: Množství | G41: Množství v měrné jednotce
E42: J.cena | G42: Jednotková cena položky. Zadaní může obsahovat namísto J.ceny sloupce J.materiál a J.montáž, jejichž součet definuje
G43: J.cenu položky.
E44: Cena celkem | G44: Celková cena položky daná jako součin množství a j.ceny
E45: Cenová soustava | G45: Příslušnost položky do cenové soustavy
D47: Ke každé položce soupisu prací se na samostatných řádcích může zobrazovat:
E48: Plný popis položky
E49: Poznámka k souboru cen a poznámka zadavatele
E50: Výkaz výměr
...
