Workbook

Sheet Rekapitulace stavby
A1: Export Komplet | AZ1: VZ | BA1: 2.0 | BB1: ZAMOK | BT1: False | BU1: False | BV1: {82866479-4f9d-433b-b82b-675a467aae7d}
BS2: 0,01 | BT2: 21
BS3: 0,01 | BT3: 15
D4: REKAPITULACE STAVBY | AS4: v --- níže se nacházejí doplnkové a pomocné údaje k sestavám --- v | BE4: Návod na vyplnění | BS4: 0,001
D5: Kód: | K5: TAVOD180 | BE5: Měnit lze pouze buňky se žlutým podbarvením!_x000D_ _x000D_ 1) v Rekapitulaci stavby vyplňte údaje o Uchazeči (přenesou se do ostatních sestav i v jiných listech)_x000D_ _x000D_ 2) na vybraných listech vyplňte v sestavě Soupis prací ceny u položek | BS5: 0,01
D6: Stavba: | K6: Mimoň, Smetanova - kanalizace | BS6: 0,1
D7: KSO: | AK7: CC-CZ: | BS7: 1
D8: Místo: | K8: Mimoň | AK8: Datum: | AN8: 24. 5. 2020 | BS8: 10
BS9: 100
D10: Zadavatel: | AK10: IČ: | BS10: 0,1
E11: Město Mimoň | AK11: DIČ: | BS11: 0,1
BS12: 0,1
D13: Uchazeč: | AK13: IČ: | AN13: Vyplň údaj | BS13: 0,1
E14: Vyplň údaj | AK14: DIČ: | AN14: Vyplň údaj | BS14: 0,1
BS15: False
D16: Projektant: | AK16: IČ: | BS16: False
E17: Vodohospodářské projekty s.r.o. | AK17: DIČ: | BS17: True
BS18: 0,01
D19: Zpracovatel: | AK19: IČ: | BS19: 0,01
E20: Martin Růžička | AK20: DIČ: | BS20: True
D22: Poznámka:
E23: Soupis prací je sestaven za využití položek Cenové soustavy ÚRS. Cenové a technické podmínky položek Cenové soustavy ÚRS, které nejsou uvedeny v soupisu prací (tzv.úvodní části katalogů), jsou neomezeně dálkově k dispozici na www.cs-urs.cz. Položky, které nemají ve sloupci "Cenová soustava" uveden žádný údaj, nepochází z Cenové soustavy ÚRS.
D26: Cena bez DPH | AK26: =ROUND(AG54,2) -> 0
L28: Sazba daně | W28: Základ daně | AK28: Výše daně
D29: DPH | F29: základní | L29: 0.21 | W29: =ROUND(AZ54, 2) -> 0 | AK29: =ROUND(AV54, 2) -> 0
F30: snížená | L30: 0.15 | W30: =ROUND(BA54, 2) -> 0 | AK30: =ROUND(AW54, 2) -> 0
F31: zákl. přenesená | L31: 0.21 | W31: =ROUND(BB54, 2) -> 0 | AK31: 0
F32: sníž. přenesená | L32: 0.15 | W32: =ROUND(BC54, 2) -> 0 | AK32: 0
F33: nulová | L33: 0 | W33: =ROUND(BD54, 2) -> 0 | AK33: 0
D35: Cena s DPH | T35: v | X35: CZK | AK35: =SUM(AK26:AK33) -> 0
C42: REKAPITULACE OBJEKTŮ STAVBY A SOUPISŮ PRACÍ
C44: Kód: | L44: =K5 -> TAVOD180
C45: Stavba: | L45: =K6 -> Mimoň, Smetanova - kanalizace
C47: Místo: | L47: =IF(K8="","",K8) -> Mimoň | AI47: Datum: | AM47: =IF(AN8= "","",AN8) -> 24. 5. 2020
C49: Zadavatel: | L49: =IF(E11= "","",E11) -> Město Mimoň | AI49: Projektant: | AM49: =IF(E17="","",E17) -> Vodohospodářské projekty s.r.o. | AS49: Informatívní údaje z listů zakázek
C50: Uchazeč: | L50: =IF(E14= "Vyplň údaj","",E14) | AI50: Zpracovatel: | AM50: =IF(E20="","",E20) -> Martin Růžička
C52: Kód | I52: Popis | AG52: Cena bez DPH [CZK] | AN52: Cena s DPH [CZK] | AQ52: Typ | AS52: z toho Ostat._x000D_ náklady [CZK] | AT52: DPH [CZK] | AU52: Normohodiny [h] | AV52: DPH základní [CZK] | AW52: DPH snížená [CZK] | AX52: DPH základní přenesená_x000D_ [CZK] | AY52: DPH snížená přenesená_x000D_ [CZK] | AZ52: Základna_x000D_ DPH základní | BA52: Základna_x000D_ DPH snížená | BB52: Základna_x000D_ DPH zákl. přenesená | BC52: Základna_x000D_ DPH sníž. přenesená | BD52: Základna_x000D_ DPH nulová
C54: Náklady stavby celkem | AG54: =ROUND(SUM(AG55:AG57),2) -> 0 | AN54: =SUM(AG54,AT54) -> 0 | AS54: =ROUND(SUM(AS55:AS57),2) -> 0 | AT54: =ROUND(SUM(AV54:AW54),2) -> 0 | AU54: =ROUND(SUM(AU55:AU57),5) -> 0 | AV54: =ROUND(AZ54*L29,2) -> 0 | AW54: =ROUND(BA54*L30,2) -> 0 | AX54: =ROUND(BB54*L29,2) -> 0 | AY54: =ROUND(BC54*L30,2) -> 0 | AZ54: =ROUND(SUM(AZ55:AZ57),2) -> 0 | BA54: =ROUND(SUM(BA55:BA57),2) -> 0 | BB54: =ROUND(SUM(BB55:BB57),2) -> 0 | BC54: =ROUND(SUM(BC55:BC57),2) -> 0 | BD54: =ROUND(SUM(BD55:BD57),2) -> 0 | BS54: D | BT54: 0 | BU54: ###NOIMPORT### | BV54: IMPORT | BW54: {82866479-4f9d-433b-b82b-675a467aae7d} | BX54: {00000000-0000-0000-0000-000000000000}
A55: / | D55: IO 01 | J55: Tlaková kanalizační stoka | AG55: ='IO 01 - Tlaková kanalizač...'!J30 -> 0 | AN55: =SUM(AG55,AT55) -> 0 | AQ55: ING | AS55: 0 | AT55: =ROUND(SUM(AV55:AW55),2) -> 0 | AU55: ='IO 01 - Tlaková kanalizač...'!P86 -> 0 | AV55: ='IO 01 - Tlaková kanalizač...'!J33 -> 0 | AW55: ='IO 01 - Tlaková kanalizač...'!J34 -> 0 | AX55: ='IO 01 - Tlaková kanalizač...'!J35 -> 0 | AY55: ='IO 01 - Tlaková kanalizač...'!J36 -> 0 | AZ55: ='IO 01 - Tlaková kanalizač...'!F33 -> 0 | BA55: ='IO 01 - Tlaková kanalizač...'!F34 -> 0 | BB55: ='IO 01 - Tlaková kanalizač...'!F35 -> 0 | BC55: ='IO 01 - Tlaková kanalizač...'!F36 -> 0 | BD55: ='IO 01 - Tlaková kanalizač...'!F37 -> 0 | BT55: 1 | BV55: IMPORT | BW55: {6051dc27-2437-42e6-9fac-b09d9d9db60e} | BX55: {82866479-4f9d-433b-b82b-675a467aae7d} | CL55: 827 19 | CM55: 2
A56: / | D56: IO 02 | J56: Kanalizační přípojky tlakové a domovní čerpací jímky | AG56: ='IO 02 - Kanalizační přípo...'!J30 -> 0 | AN56: =SUM(AG56,AT56) -> 0 | AQ56: ING | AS56: 0 | AT56: =ROUND(SUM(AV56:AW56),2) -> 0 | AU56: ='IO 02 - Kanalizační přípo...'!P87 -> 0 | AV56: ='IO 02 - Kanalizační přípo...'!J33 -> 0 | AW56: ='IO 02 - Kanalizační přípo...'!J34 -> 0 | AX56: ='IO 02 - Kanalizační přípo...'!J35 -> 0 | AY56: ='IO 02 - Kanalizační přípo...'!J36 -> 0 | AZ56: ='IO 02 - Kanalizační přípo...'!F33 -> 0 | BA56: ='IO 02 - Kanalizační přípo...'!F34 -> 0 | BB56: ='IO 02 - Kanalizační přípo...'!F35 -> 0 | BC56: ='IO 02 - Kanalizační přípo...'!F36 -> 0 | BD56: ='IO 02 - Kanalizační přípo...'!F37 -> 0 | BT56: 1 | BV56: IMPORT | BW56: {91fd0022-cd6c-49fb-96b1-5ba7fdfe2d41} | BX56: {82866479-4f9d-433b-b82b-675a467aae7d} | CL56: 827 19 | CM56: 2
A57: / | D57: VON | J57: Vedlejší a ostatní náklady | AG57: ='VON - Vedlejší a ostatní ...'!J30 -> 0 | AN57: =SUM(AG57,AT57) -> 0 | AQ57: VON | AS57: 0 | AT57: =ROUND(SUM(AV57:AW57),2) -> 0 | AU57: ='VON - Vedlejší a ostatní ...'!P87 -> 0 | AV57: ='VON - Vedlejší a ostatní ...'!J33 -> 0 | AW57: ='VON - Vedlejší a ostatní ...'!J34 -> 0 | AX57: ='VON - Vedlejší a ostatní ...'!J35 -> 0 | AY57: ='VON - Vedlejší a ostatní ...'!J36 -> 0 | AZ57: ='VON - Vedlejší a ostatní ...'!F33 -> 0 | BA57: ='VON - Vedlejší a ostatní ...'!F34 -> 0 | BB57: ='VON - Vedlejší a ostatní ...'!F35 -> 0 | BC57: ='VON - Vedlejší a ostatní ...'!F36 -> 0 | BD57: ='VON - Vedlejší a ostatní ...'!F37 -> 0 | BT57: 1 | BV57: IMPORT | BW57: {af0993c5-47ef-48b9-a982-271e28da9279} | BX57: {82866479-4f9d-433b-b82b-675a467aae7d} | CM57: 2

Sheet IO 01 - Tlaková kanalizač...
AT2: {6051dc27-2437-42e6-9fac-b09d9d9db60e}
AT3: 2
D4: KRYCÍ LIST SOUPISU PRACÍ | M4: v --- níže se nacházejí doplnkové a pomocné údaje k sestavám --- v | AT4: False
D6: Stavba:
E7: ='Rekapitulace stavby'!K6 -> Mimoň, Smetanova - kanalizace
D8: Objekt:
E9: IO 01 - Tlaková kanalizační stoka
D11: KSO: | F11: 827 19 | I11: CC-CZ: | J11: 2222
D12: Místo: | F12: Mimoň | I12: Datum: | J12: ='Rekapitulace stavby'!AN8 -> 24. 5. 2020
D14: Zadavatel: | I14: IČ:
E15: Město Mimoň | I15: DIČ:
D17: Uchazeč: | I17: IČ: | J17: ='Rekapitulace stavby'!AN13 -> Vyplň údaj
E18: ='Rekapitulace stavby'!E14 -> Vyplň údaj | I18: DIČ: | J18: ='Rekapitulace stavby'!AN14 -> Vyplň údaj
D20: Projektant: | I20: IČ:
E21: Vodohospodářské projekty s.r.o. | I21: DIČ:
D23: Zpracovatel: | I23: IČ:
E24: Martin Růžička | I24: DIČ:
D26: Poznámka:
E27: Soupis prací je sestaven za využití položek Cenové soustavy ÚRS. Cenové a technické podmínky položek Cenové soustavy ÚRS, které nejsou uvedeny v soupisu prací (tzv.úvodní části katalogů), jsou neomezeně dálkově k dispozici na www.cs-urs.cz. Položky, které nemají ve sloupci "Cenová soustava" uveden žádný údaj, nepochází z Cenové soustavy ÚRS.
D30: Cena bez DPH | J30: =ROUND(J86, 2) -> 0
F32: Základ daně | I32: Sazba daně | J32: Výše daně
D33: DPH | E33: základní | F33: =ROUND((SUM(BE86:BE395)), 2) -> 0 | I33: 0.21 | J33: =ROUND(((SUM(BE86:BE395))*I33), 2) -> 0
E34: snížená | F34: =ROUND((SUM(BF86:BF395)), 2) -> 0 | I34: 0.15 | J34: =ROUND(((SUM(BF86:BF395))*I34), 2) -> 0
E35: zákl. přenesená | F35: =ROUND((SUM(BG86:BG395)), 2) -> 0 | I35: 0.21 | J35: =0 -> 0
E36: sníž. přenesená | F36: =ROUND((SUM(BH86:BH395)), 2) -> 0 | I36: 0.15 | J36: =0 -> 0
E37: nulová | F37: =ROUND((SUM(BI86:BI395)), 2) -> 0 | I37: 0 | J37: =0 -> 0
D39: Cena s DPH | G39: v | H39: CZK | J39: =SUM(J30:J37) -> 0
C45: REKAPITULACE ČLENĚNÍ SOUPISU PRACÍ
C47: Stavba:
E48: =E7 -> Mimoň, Smetanova - kanalizace
C49: Objekt:
E50: =E9 -> IO 01 - Tlaková kanalizační stoka
C52: Místo: | F52: =F12 -> Mimoň | I52: Datum: | J52: =IF(J12="","",J12) -> 24. 5. 2020
C54: Zadavatel: | F54: =E15 -> Město Mimoň | I54: Projektant: | J54: =E21 -> Vodohospodářské projekty s.r.o.
C55: Uchazeč: | F55: =IF(E18="","",E18) -> Vyplň údaj | I55: Zpracovatel: | J55: =E24 -> Martin Růžička
C57: Kód dílu - Popis | J57: Cena celkem [CZK]
C59: Náklady stavby celkem | J59: =J86 -> 0 | AU59: -1
D60: HSV - Práce a dodávky HSV | J60: =J87 -> 0
D61: 1 - Zemní práce | J61: =J88 -> 0
D62: 4 - Vodorovné konstrukce | J62: =J211 -> 0
D63: 8 - Trubní vedení | J63: =J226 -> 0
D64: 99 - Přesun hmot | J64: =J299 -> 0
D65: K - Komunikace | J65: =J302 -> 0
D66: KB - Komunikace - bourání | J66: =J346 -> 0
C73: SOUPIS PRACÍ
C75: Stavba:
E76: =E7 -> Mimoň, Smetanova - kanalizace
C77: Objekt:
E78: =E9 -> IO 01 - Tlaková kanalizační stoka
C80: Místo: | F80: =F12 -> Mimoň | I80: Datum: | J80: =IF(J12="","",J12) -> 24. 5. 2020
C82: Zadavatel: | F82: =E15 -> Město Mimoň | I82: Projektant: | J82: =E21 -> Vodohospodářské projekty s.r.o.
C83: Uchazeč: | F83: =IF(E18="","",E18) -> Vyplň údaj | I83: Zpracovatel: | J83: =E24 -> Martin Růžička
C85: PČ | D85: Typ | E85: Kód | F85: Popis | G85: MJ | H85: Množství | I85: J.cena [CZK] | J85: Cena celkem [CZK] | K85: Cenová soustava | N85: DPH | O85: J. Nh [h] | P85: Nh celkem [h] | Q85: J. hmotnost [t] | R85: Hmotnost celkem [t] | S85: J. suť [t] | T85: Suť Celkem [t]
C86: Náklady soupisu celkem | J86: =BK86 -> 0 | P86: =P87 -> 0 | R86: =R87 -> 326.02658 | T86: =T87 -> 215.61944 | AT86: D | AU86: -1 | BK86: =BK87 -> 0
D87: D | E87: HSV | F87: Práce a dodávky HSV | J87: =BK87 -> 0 | P87: =P88+P211+P226+P299+P302+P346 -> 0 | R87: =R88+R211+R226+R299+R302+R346 -> 326.02658 | T87: =T88+T211+T226+T299+T302+T346 -> 215.61944 | AR87: 1 | AT87: D | AU87: 0 | AY87: ROZPOCET | BK87: =BK88+BK211+BK226+BK299+BK302+BK346 -> 0
D88: D | E88: 1 | F88: Zemní práce | J88: =BK88 -> 0 | P88: =SUM(P89:P210) -> 0 | R88: =SUM(R89:R210) -> 0.7212274 | T88: =SUM(T89:T210) -> 0 | AR88: 1 | AT88: D | AU88: 1 | AY88: ROZPOCET | BK88: =SUM(BK89:BK210) -> 0
C89: 1 | D89: K | E89: 115101201 | F89: Čerpání vody na dopravní výšku do 10 m průměrný přítok do 500 l/min | G89: hod | H89: 60 | J89: =ROUND(I89*H89,2) -> 0 | K89: CS ÚRS 2020 01 | N89: základní | P89: =O89*H89 -> 0 | Q89: 3e-05 | R89: =Q89*H89 -> 0.0018 | S89: 0 | T89: =S89*H89 -> 0 | AR89: 4 | AT89: K | AU89: 2 | AY89: ROZPOCET | BE89: =IF(N89="základní",J89,0) -> 0 | BF89: =IF(N89="snížená",J89,0) -> 0 | BG89: =IF(N89="zákl. přenesená",J89,0) -> 0 | BH89: =IF(N89="sníž. přenesená",J89,0) -> 0 | BI89: =IF(N89="nulová",J89,0) -> 0 | BJ89: 1 | BK89: =ROUND(I89*H89,2) -> 0 | BL89: 4 | BM89: 1347493538
D90: PP | F90: Čerpání vody na dopravní výšku do 10 m s uvažovaným průměrným přítokem do 500 l/min | AT90: PP | AU90: 2
D91: VV | F91: (bude upřesněno dle skutečnosti s měřením motohodin) | AT91: VV | AU91: 2 | AV91: 1 | AW91: True | AX91: 0 | AY91: ROZPOCET
D92: VV | F92: 10*6 | H92: 60 | AT92: VV | AU92: 2 | AV92: 2 | AW92: True | AX92: 1 | AY92: ROZPOCET
C93: 2 | D93: K | E93: 115101301 | F93: Pohotovost čerpací soupravy pro dopravní výšku do 10 m přítok do 500 l/min | G93: den | H93: 10 | J93: =ROUND(I93*H93,2) -> 0 | K93: CS ÚRS 2020 01 | N93: základní | P93: =O93*H93 -> 0 | Q93: 0 | R93: =Q93*H93 -> 0 | S93: 0 | T93: =S93*H93 -> 0 | AR93: 4 | AT93: K | AU93: 2 | AY93: ROZPOCET | BE93: =IF(N93="základní",J93,0) -> 0 | BF93: =IF(N93="snížená",J93,0) -> 0 | BG93: =IF(N93="zákl. přenesená",J93,0) -> 0 | BH93: =IF(N93="sníž. přenesená",J93,0) -> 0 | BI93: =IF(N93="nulová",J93,0) -> 0 | BJ93: 1 | BK93: =ROUND(I93*H93,2) -> 0 | BL93: 4 | BM93: 351465940
D94: PP | F94: Pohotovost záložní čerpací soupravy pro dopravní výšku do 10 m s uvažovaným průměrným přítokem do 500 l/min | AT94: PP | AU94: 2
D95: VV | F95: (bude upřesněno dle skutečnosti s měřením motohodin) | AT95: VV | AU95: 2 | AV95: 1 | AW95: True | AX95: 0 | AY95: ROZPOCET
D96: VV | F96: 10 | H96: 10 | AT96: VV | AU96: 2 | AV96: 2 | AW96: True | AX96: 1 | AY96: ROZPOCET
C97: 3 | D97: K | E97: 119001401 | F97: Dočasné zajištění potrubí ocelového nebo litinového DN do 200 mm | G97: m | H97: 7 | J97: =ROUND(I97*H97,2) -> 0 | K97: CS ÚRS 2020 01 | N97: základní | P97: =O97*H97 -> 0 | Q97: 0.00868 | R97: =Q97*H97 -> 0.06076 | S97: 0 | T97: =S97*H97 -> 0 | AR97: 4 | AT97: K | AU97: 2 | AY97: ROZPOCET | BE97: =IF(N97="základní",J97,0) -> 0 | BF97: =IF(N97="snížená",J97,0) -> 0 | BG97: =IF(N97="zákl. přenesená",J97,0) -> 0 | BH97: =IF(N97="sníž. přenesená",J97,0) -> 0 | BI97: =IF(N97="nulová",J97,0) -> 0 | BJ97: 1 | BK97: =ROUND(I97*H97,2) -> 0 | BL97: 4 | BM97: -939947292
D98: PP | F98: Dočasné zajištění podzemního potrubí nebo vedení ve výkopišti ve stavu i poloze, ve kterých byla na začátku zemních prací a to s podepřením, vzepřením nebo vyvěšením, příp. s ochranným bedněním, se zřízením a odstraněním zajišťovací konstrukce, s opotřebením hmot potrubí ocelového nebo litinového, jmenovité světlosti DN do 200 mm | AT98: PP | AU98: 2
C99: 4 | D99: K | E99: 119001421 | F99: Dočasné zajištění kabelů a kabelových tratí ze 3 volně ložených kabelů | G99: m | H99: 2 | J99: =ROUND(I99*H99,2) -> 0 | K99: CS ÚRS 2020 01 | N99: základní | P99: =O99*H99 -> 0 | Q99: 0.0369 | R99: =Q99*H99 -> 0.0738 | S99: 0 | T99: =S99*H99 -> 0 | AR99: 4 | AT99: K | AU99: 2 | AY99: ROZPOCET | BE99: =IF(N99="základní",J99,0) -> 0 | BF99: =IF(N99="snížená",J99,0) -> 0 | BG99: =IF(N99="zákl. přenesená",J99,0) -> 0 | BH99: =IF(N99="sníž. přenesená",J99,0) -> 0 | BI99: =IF(N99="nulová",J99,0) -> 0 | BJ99: 1 | BK99: =ROUND(I99*H99,2) -> 0 | BL99: 4 | BM99: -125043948
D100: PP | F100: Dočasné zajištění podzemního potrubí nebo vedení ve výkopišti ve stavu i poloze, ve kterých byla na začátku zemních prací a to s podepřením, vzepřením nebo vyvěšením, příp. s ochranným bedněním, se zřízením a odstraněním zajišťovací konstrukce, s opotřebením hmot kabelů a kabelových tratí z volně ložených kabelů a to do 3 kabelů | AT100: PP | AU100: 2
C101: 5 | D101: K | E101: 120001101 | F101: Příplatek za ztížení odkopávky nebo prokopávky v blízkosti inženýrských sítí | G101: m3 | H101: 20.28 | J101: =ROUND(I101*H101,2) -> 0 | K101: CS ÚRS 2020 01 | N101: základní | P101: =O101*H101 -> 0 | Q101: 0 | R101: =Q101*H101 -> 0 | S101: 0 | T101: =S101*H101 -> 0 | AR101: 4 | AT101: K | AU101: 2 | AY101: ROZPOCET | BE101: =IF(N101="základní",J101,0) -> 0 | BF101: =IF(N101="snížená",J101,0) -> 0 | BG101: =IF(N101="zákl. přenesená",J101,0) -> 0 | BH101: =IF(N101="sníž. přenesená",J101,0) -> 0 | BI101: =IF(N101="nulová",J101,0) -> 0 | BJ101: 1 | BK101: =ROUND(I101*H101,2) -> 0 | BL101: 4 | BM101: -1582514378
D102: PP | F102: Příplatek k cenám vykopávek za ztížení vykopávky v blízkosti podzemního vedení nebo výbušnin v horninách jakékoliv třídy | AT102: PP | AU102: 2
D103: VV | F103: "křížení sítí" 9,00*1,20*1,60 | H103: 17.28 | AT103: VV | AU103: 2 | AV103: 2 | AW103: True | AX103: 0 | AY103: ROZPOCET
D104: VV | F104: "stávající šachta" 3,00 | H104: 3 | AT104: VV | AU104: 2 | AV104: 2 | AW104: True | AX104: 0 | AY104: ROZPOCET
D105: VV | F105: Součet | H105: 20.28 | AT105: VV | AU105: 2 | AV105: 4 | AW105: True | AX105: 1 | AY105: ROZPOCET
C106: 6 | D106: K | E106: 131213101 | F106: Hloubení jam v soudržných horninách třídy těžitelnosti I, skupiny 3 ručně | G106: m3 | H106: 1.35 | J106: =ROUND(I106*H106,2) -> 0 | K106: CS ÚRS 2020 01 | N106: základní | P106: =O106*H106 -> 0 | Q106: 0 | R106: =Q106*H106 -> 0 | S106: 0 | T106: =S106*H106 -> 0 | AR106: 4 | AT106: K | AU106: 2 | AY106: ROZPOCET | BE106: =IF(N106="základní",J106,0) -> 0 | BF106: =IF(N106="snížená",J106,0) -> 0 | BG106: =IF(N106="zákl. přenesená",J106,0) -> 0 | BH106: =IF(N106="sníž. přenesená",J106,0) -> 0 | BI106: =IF(N106="nulová",J106,0) -> 0 | BJ106: 1 | BK106: =ROUND(I106*H106,2) -> 0 | BL106: 4 | BM106: 674415588
D107: PP | F107: Hloubení jam ručně zapažených i nezapažených s urovnáním dna do předepsaného profilu a spádu v hornině třídy těžitelnosti I skupiny 3 soudržných | AT107: PP | AU107: 2
D108: VV | F108: hor.3 - 50% | AT108: VV | AU108: 2 | AV108: 1 | AW108: True | AX108: 0 | AY108: ROZPOCET
D109: VV | F109: sondy | AT109: VV | AU109: 2 | AV109: 1 | AW109: True | AX109: 0 | AY109: ROZPOCET
D110: VV | F110: 1,00*1,00*1,95*2 | H110: 3.9 | AT110: VV | AU110: 2 | AV110: 2 | AW110: True | AX110: 0 | AY110: ROZPOCET
D111: VV | F111: "odpočet místní komunikace asfalt" -1,00*1,00*0,60*2 | H111: -1.2 | AT111: VV | AU111: 2 | AV111: 2 | AW111: True | AX111: 0 | AY111: ROZPOCET
D112: VV | F112: Mezisoučet | H112: 2.7 | AT112: VV | AU112: 2 | AV112: 3 | AW112: True | AX112: 0 | AY112: ROZPOCET
D113: VV | F113: "odp.ostatních hornin" -2,7*0,50 | H113: -1.35 | AT113: VV | AU113: 2 | AV113: 2 | AW113: True | AX113: 0 | AY113: ROZPOCET
D114: VV | F114: Součet | H114: 1.35 | AT114: VV | AU114: 2 | AV114: 4 | AW114: True | AX114: 1 | AY114: ROZPOCET
C115: 7 | D115: K | E115: 131313101 | F115: Hloubení jam v soudržných horninách třídy těžitelnosti II, skupiny 4 ručně | G115: m3 | H115: 1.35 | J115: =ROUND(I115*H115,2) -> 0 | K115: CS ÚRS 2020 01 | N115: základní | P115: =O115*H115 -> 0 | Q115: 0 | R115: =Q115*H115 -> 0 | S115: 0 | T115: =S115*H115 -> 0 | AR115: 4 | AT115: K | AU115: 2 | AY115: ROZPOCET | BE115: =IF(N115="základní",J115,0) -> 0 | BF115: =IF(N115="snížená",J115,0) -> 0 | BG115: =IF(N115="zákl. přenesená",J115,0) -> 0 | BH115: =IF(N115="sníž. přenesená",J115,0) -> 0 | BI115: =IF(N115="nulová",J115,0) -> 0 | BJ115: 1 | BK115: =ROUND(I115*H115,2) -> 0 | BL115: 4 | BM115: 2011176916
D116: PP | F116: Hloubení jam ručně zapažených i nezapažených s urovnáním dna do předepsaného profilu a spádu v hornině třídy těžitelnosti II skupiny 4 soudržných | AT116: PP | AU116: 2
D117: VV | F117: hor.4 - 50% | AT117: VV | AU117: 2 | AV117: 1 | AW117: True | AX117: 0 | AY117: ROZPOCET
D118: VV | F118: 2,7*0,50 | H118: 1.35 | AT118: VV | AU118: 2 | AV118: 2 | AW118: True | AX118: 1 | AY118: ROZPOCET
C119: 8 | D119: K | E119: 132254204 | F119: Hloubení zapažených rýh š do 2000 mm v hornině třídy těžitelnosti I, skupiny 3 objem do 500 m3 | G119: m3 | H119: 118.1 | J119: =ROUND(I119*H119,2) -> 0 | K119: CS ÚRS 2020 01 | N119: základní | P119: =O119*H119 -> 0 | Q119: 0 | R119: =Q119*H119 -> 0 | S119: 0 | T119: =S119*H119 -> 0 | AR119: 4 | AT119: K | AU119: 2 | AY119: ROZPOCET | BE119: =IF(N119="základní",J119,0) -> 0 | BF119: =IF(N119="snížená",J119,0) -> 0 | BG119: =IF(N119="zákl. přenesená",J119,0) -> 0 | BH119: =IF(N119="sníž. přenesená",J119,0) -> 0 | BI119: =IF(N119="nulová",J119,0) -> 0 | BJ119: 1 | BK119: =ROUND(I119*H119,2) -> 0 | BL119: 4 | BM119: 904101686
D120: PP | F120: Hloubení zapažených rýh šířky přes 800 do 2 000 mm strojně s urovnáním dna do předepsaného profilu a spádu v hornině třídy těžitelnosti I skupiny 3 přes 100 do 500 m3 | AT120: PP | AU120: 2
D121: VV | F121: hor.3 - 50% | AT121: VV | AU121: 2 | AV121: 1 | AW121: True | AX121: 0 | AY121: ROZPOCET
D122: VV | F122: 174,50*1,00*1,95 | H122: 340.275 | AT122: VV | AU122: 2 | AV122: 2 | AW122: True | AX122: 0 | AY122: ROZPOCET
D123: VV | F123: "místní komunikace asfalt" -174,50*1,00*0,60 | H123: -104.7 | AT123: VV | AU123: 2 | AV123: 2 | AW123: True | AX123: 0 | AY123: ROZPOCET
D124: VV | F124: drenáž | AT124: VV | AU124: 2 | AV124: 1 | AW124: True | AX124: 0 | AY124: ROZPOCET
D125: VV | F125: 10,00*0,25*0,25 | H125: 0.625 | AT125: VV | AU125: 2 | AV125: 2 | AW125: True | AX125: 0 | AY125: ROZPOCET
D126: VV | F126: Mezisoučet | H126: 236.2 | AT126: VV | AU126: 2 | AV126: 3 | AW126: True | AX126: 0 | AY126: ROZPOCET
D127: VV | F127: "odp.ostatních hornin" -236,2*0,50 | H127: -118.1 | AT127: VV | AU127: 2 | AV127: 2 | AW127: True | AX127: 0 | AY127: ROZPOCET
D128: VV | F128: Součet | H128: 118.1 | AT128: VV | AU128: 2 | AV128: 4 | AW128: True | AX128: 1 | AY128: ROZPOCET
C129: 9 | D129: K | E129: 132354204 | F129: Hloubení zapažených rýh š do 2000 mm v hornině třídy těžitelnosti II, skupiny 4 objem do 500 m3 | G129: m3 | H129: 118.1 | J129: =ROUND(I129*H129,2) -> 0 | K129: CS ÚRS 2020 01 | N129: základní | P129: =O129*H129 -> 0 | Q129: 0 | R129: =Q129*H129 -> 0 | S129: 0 | T129: =S129*H129 -> 0 | AR129: 4 | AT129: K | AU129: 2 | AY129: ROZPOCET | BE129: =IF(N129="základní",J129,0) -> 0 | BF129: =IF(N129="snížená",J129,0) -> 0 | BG129: =IF(N129="zákl. přenesená",J129,0) -> 0 | BH129: =IF(N129="sníž. přenesená",J129,0) -> 0 | BI129: =IF(N129="nulová",J129,0) -> 0 | BJ129: 1 | BK129: =ROUND(I129*H129,2) -> 0 | BL129: 4 | BM129: -1276785989
D130: PP | F130: Hloubení zapažených rýh šířky přes 800 do 2 000 mm strojně s urovnáním dna do předepsaného profilu a spádu v hornině třídy těžitelnosti II skupiny 4 přes 100 do 500 m3 | AT130: PP | AU130: 2
D131: VV | F131: hor.4 - 50% | AT131: VV | AU131: 2 | AV131: 1 | AW131: True | AX131: 0 | AY131: ROZPOCET
D132: VV | F132: 236,2*0,50 | H132: 118.1 | AT132: VV | AU132: 2 | AV132: 2 | AW132: True | AX132: 1 | AY132: ROZPOCET
...

Sheet IO 02 - Kanalizační přípo...
AT2: {91fd0022-cd6c-49fb-96b1-5ba7fdfe2d41}
AT3: 2
D4: KRYCÍ LIST SOUPISU PRACÍ | M4: v --- níže se nacházejí doplnkové a pomocné údaje k sestavám --- v | AT4: False
D6: Stavba:
E7: ='Rekapitulace stavby'!K6 -> Mimoň, Smetanova - kanalizace
D8: Objekt:
E9: IO 02 - Kanalizační přípojky tlakové a domovní čerpací jímky
D11: KSO: | F11: 827 19 | I11: CC-CZ: | J11: 2222
D12: Místo: | F12: Mimoň | I12: Datum: | J12: ='Rekapitulace stavby'!AN8 -> 24. 5. 2020
D14: Zadavatel: | I14: IČ:
E15: Město Mimoň | I15: DIČ:
D17: Uchazeč: | I17: IČ: | J17: ='Rekapitulace stavby'!AN13 -> Vyplň údaj
E18: ='Rekapitulace stavby'!E14 -> Vyplň údaj | I18: DIČ: | J18: ='Rekapitulace stavby'!AN14 -> Vyplň údaj
D20: Projektant: | I20: IČ:
E21: Vodohospodářské projekty s.r.o. | I21: DIČ:
D23: Zpracovatel: | I23: IČ:
E24: Martin Růžička | I24: DIČ:
D26: Poznámka:
E27: Soupis prací je sestaven za využití položek Cenové soustavy ÚRS. Cenové a technické podmínky položek Cenové soustavy ÚRS, které nejsou uvedeny v soupisu prací (tzv.úvodní části katalogů), jsou neomezeně dálkově k dispozici na www.cs-urs.cz. Položky, které nemají ve sloupci "Cenová soustava" uveden žádný údaj, nepochází z Cenové soustavy ÚRS.
D30: Cena bez DPH | J30: =ROUND(J87, 2) -> 0
F32: Základ daně | I32: Sazba daně | J32: Výše daně
D33: DPH | E33: základní | F33: =ROUND((SUM(BE87:BE409)), 2) -> 0 | I33: 0.21 | J33: =ROUND(((SUM(BE87:BE409))*I33), 2) -> 0
E34: snížená | F34: =ROUND((SUM(BF87:BF409)), 2) -> 0 | I34: 0.15 | J34: =ROUND(((SUM(BF87:BF409))*I34), 2) -> 0
E35: zákl. přenesená | F35: =ROUND((SUM(BG87:BG409)), 2) -> 0 | I35: 0.21 | J35: =0 -> 0
E36: sníž. přenesená | F36: =ROUND((SUM(BH87:BH409)), 2) -> 0 | I36: 0.15 | J36: =0 -> 0
E37: nulová | F37: =ROUND((SUM(BI87:BI409)), 2) -> 0 | I37: 0 | J37: =0 -> 0
D39: Cena s DPH | G39: v | H39: CZK | J39: =SUM(J30:J37) -> 0
C45: REKAPITULACE ČLENĚNÍ SOUPISU PRACÍ
C47: Stavba:
E48: =E7 -> Mimoň, Smetanova - kanalizace
C49: Objekt:
E50: =E9 -> IO 02 - Kanalizační přípojky tlakové a domovní čerpací jímky
C52: Místo: | F52: =F12 -> Mimoň | I52: Datum: | J52: =IF(J12="","",J12) -> 24. 5. 2020
C54: Zadavatel: | F54: =E15 -> Město Mimoň | I54: Projektant: | J54: =E21 -> Vodohospodářské projekty s.r.o.
C55: Uchazeč: | F55: =IF(E18="","",E18) -> Vyplň údaj | I55: Zpracovatel: | J55: =E24 -> Martin Růžička
C57: Kód dílu - Popis | J57: Cena celkem [CZK]
C59: Náklady stavby celkem | J59: =J87 -> 0 | AU59: -1
D60: HSV - Práce a dodávky HSV | J60: =J88 -> 0
D61: 1 - Zemní práce | J61: =J89 -> 0
D62: 4 - Vodorovné konstrukce | J62: =J205 -> 0
D63: 8 - Trubní vedení | J63: =J216 -> 0
D64: DČJ - Domovní čerpací jednotka | J64: =J257 -> 0
D65: 99 - Přesun hmot | J65: =J287 -> 0
D66: K - Komunikace | J66: =J290 -> 0
D67: KB - Komunikace - bourání | J67: =J342 -> 0
C74: SOUPIS PRACÍ
C76: Stavba:
E77: =E7 -> Mimoň, Smetanova - kanalizace
C78: Objekt:
E79: =E9 -> IO 02 - Kanalizační přípojky tlakové a domovní čerpací jímky
C81: Místo: | F81: =F12 -> Mimoň | I81: Datum: | J81: =IF(J12="","",J12) -> 24. 5. 2020
C83: Zadavatel: | F83: =E15 -> Město Mimoň | I83: Projektant: | J83: =E21 -> Vodohospodářské projekty s.r.o.
C84: Uchazeč: | F84: =IF(E18="","",E18) -> Vyplň údaj | I84: Zpracovatel: | J84: =E24 -> Martin Růžička
C86: PČ | D86: Typ | E86: Kód | F86: Popis | G86: MJ | H86: Množství | I86: J.cena [CZK] | J86: Cena celkem [CZK] | K86: Cenová soustava | N86: DPH | O86: J. Nh [h] | P86: Nh celkem [h] | Q86: J. hmotnost [t] | R86: Hmotnost celkem [t] | S86: J. suť [t] | T86: Suť Celkem [t]
C87: Náklady soupisu celkem | J87: =BK87 -> 0 | P87: =P88 -> 0 | R87: =R88 -> 84.120093 | T87: =T88 -> 21.47225 | AT87: D | AU87: -1 | BK87: =BK88 -> 0
D88: D | E88: HSV | F88: Práce a dodávky HSV | J88: =BK88 -> 0 | P88: =P89+P205+P216+P257+P287+P290+P342 -> 0 | R88: =R89+R205+R216+R257+R287+R290+R342 -> 84.120093 | T88: =T89+T205+T216+T257+T287+T290+T342 -> 21.47225 | AR88: 1 | AT88: D | AU88: 0 | AY88: ROZPOCET | BK88: =BK89+BK205+BK216+BK257+BK287+BK290+BK342 -> 0
D89: D | E89: 1 | F89: Zemní práce | J89: =BK89 -> 0 | P89: =SUM(P90:P204) -> 0 | R89: =SUM(R90:R204) -> 0.746742 | T89: =SUM(T90:T204) -> 0 | AR89: 1 | AT89: D | AU89: 1 | AY89: ROZPOCET | BK89: =SUM(BK90:BK204) -> 0
C90: 1 | D90: K | E90: 115101201 | F90: Čerpání vody na dopravní výšku do 10 m průměrný přítok do 500 l/min | G90: hod | H90: 18 | J90: =ROUND(I90*H90,2) -> 0 | K90: CS ÚRS 2020 01 | N90: základní | P90: =O90*H90 -> 0 | Q90: 3e-05 | R90: =Q90*H90 -> 0.00054 | S90: 0 | T90: =S90*H90 -> 0 | AR90: 4 | AT90: K | AU90: 2 | AY90: ROZPOCET | BE90: =IF(N90="základní",J90,0) -> 0 | BF90: =IF(N90="snížená",J90,0) -> 0 | BG90: =IF(N90="zákl. přenesená",J90,0) -> 0 | BH90: =IF(N90="sníž. přenesená",J90,0) -> 0 | BI90: =IF(N90="nulová",J90,0) -> 0 | BJ90: 1 | BK90: =ROUND(I90*H90,2) -> 0 | BL90: 4 | BM90: 1347493538
D91: PP | F91: Čerpání vody na dopravní výšku do 10 m s uvažovaným průměrným přítokem do 500 l/min | AT91: PP | AU91: 2
D92: VV | F92: (bude upřesněno dle skutečnosti s měřením motohodin) | AT92: VV | AU92: 2 | AV92: 1 | AW92: True | AX92: 0 | AY92: ROZPOCET
D93: VV | F93: 3*6 | H93: 18 | AT93: VV | AU93: 2 | AV93: 2 | AW93: True | AX93: 1 | AY93: ROZPOCET
C94: 2 | D94: K | E94: 115101301 | F94: Pohotovost čerpací soupravy pro dopravní výšku do 10 m přítok do 500 l/min | G94: den | H94: 3 | J94: =ROUND(I94*H94,2) -> 0 | K94: CS ÚRS 2020 01 | N94: základní | P94: =O94*H94 -> 0 | Q94: 0 | R94: =Q94*H94 -> 0 | S94: 0 | T94: =S94*H94 -> 0 | AR94: 4 | AT94: K | AU94: 2 | AY94: ROZPOCET | BE94: =IF(N94="základní",J94,0) -> 0 | BF94: =IF(N94="snížená",J94,0) -> 0 | BG94: =IF(N94="zákl. přenesená",J94,0) -> 0 | BH94: =IF(N94="sníž. přenesená",J94,0) -> 0 | BI94: =IF(N94="nulová",J94,0) -> 0 | BJ94: 1 | BK94: =ROUND(I94*H94,2) -> 0 | BL94: 4 | BM94: 351465940
D95: PP | F95: Pohotovost záložní čerpací soupravy pro dopravní výšku do 10 m s uvažovaným průměrným přítokem do 500 l/min | AT95: PP | AU95: 2
D96: VV | F96: (bude upřesněno dle skutečnosti s měřením motohodin) | AT96: VV | AU96: 2 | AV96: 1 | AW96: True | AX96: 0 | AY96: ROZPOCET
D97: VV | F97: 3 | H97: 3 | AT97: VV | AU97: 2 | AV97: 2 | AW97: True | AX97: 1 | AY97: ROZPOCET
C98: 3 | D98: K | E98: 119001421 | F98: Dočasné zajištění kabelů a kabelových tratí ze 3 volně ložených kabelů | G98: m | H98: 13 | J98: =ROUND(I98*H98,2) -> 0 | K98: CS ÚRS 2020 01 | N98: základní | P98: =O98*H98 -> 0 | Q98: 0.0369 | R98: =Q98*H98 -> 0.4797 | S98: 0 | T98: =S98*H98 -> 0 | AR98: 4 | AT98: K | AU98: 2 | AY98: ROZPOCET | BE98: =IF(N98="základní",J98,0) -> 0 | BF98: =IF(N98="snížená",J98,0) -> 0 | BG98: =IF(N98="zákl. přenesená",J98,0) -> 0 | BH98: =IF(N98="sníž. přenesená",J98,0) -> 0 | BI98: =IF(N98="nulová",J98,0) -> 0 | BJ98: 1 | BK98: =ROUND(I98*H98,2) -> 0 | BL98: 4 | BM98: -125043948
D99: PP | F99: Dočasné zajištění podzemního potrubí nebo vedení ve výkopišti ve stavu i poloze, ve kterých byla na začátku zemních prací a to s podepřením, vzepřením nebo vyvěšením, příp. s ochranným bedněním, se zřízením a odstraněním zajišťovací konstrukce, s opotřebením hmot kabelů a kabelových tratí z volně ložených kabelů a to do 3 kabelů | AT99: PP | AU99: 2
C100: 4 | D100: K | E100: 120001101 | F100: Příplatek za ztížení odkopávky nebo prokopávky v blízkosti inženýrských sítí | G100: m3 | H100: 38.88 | J100: =ROUND(I100*H100,2) -> 0 | K100: CS ÚRS 2020 01 | N100: základní | P100: =O100*H100 -> 0 | Q100: 0 | R100: =Q100*H100 -> 0 | S100: 0 | T100: =S100*H100 -> 0 | AR100: 4 | AT100: K | AU100: 2 | AY100: ROZPOCET | BE100: =IF(N100="základní",J100,0) -> 0 | BF100: =IF(N100="snížená",J100,0) -> 0 | BG100: =IF(N100="zákl. přenesená",J100,0) -> 0 | BH100: =IF(N100="sníž. přenesená",J100,0) -> 0 | BI100: =IF(N100="nulová",J100,0) -> 0 | BJ100: 1 | BK100: =ROUND(I100*H100,2) -> 0 | BL100: 4 | BM100: -1582514378
D101: PP | F101: Příplatek k cenám vykopávek za ztížení vykopávky v blízkosti podzemního vedení nebo výbušnin v horninách jakékoliv třídy | AT101: PP | AU101: 2
D102: VV | F102: "křížení sítí" 13,00*1,10*1,60 | H102: 22.88 | AT102: VV | AU102: 2 | AV102: 2 | AW102: True | AX102: 0 | AY102: ROZPOCET
D103: VV | F103: "oplocení" 16,00 | H103: 16 | AT103: VV | AU103: 2 | AV103: 2 | AW103: True | AX103: 0 | AY103: ROZPOCET
D104: VV | F104: Součet | H104: 38.88 | AT104: VV | AU104: 2 | AV104: 4 | AW104: True | AX104: 1 | AY104: ROZPOCET
C105: 5 | D105: K | E105: 121151103 | F105: Sejmutí ornice plochy do 100 m2 tl vrstvy do 200 mm strojně | G105: m2 | H105: 255.57 | J105: =ROUND(I105*H105,2) -> 0 | K105: CS ÚRS 2020 01 | N105: základní | P105: =O105*H105 -> 0 | Q105: 0 | R105: =Q105*H105 -> 0 | S105: 0 | T105: =S105*H105 -> 0 | AR105: 4 | AT105: K | AU105: 2 | AY105: ROZPOCET | BE105: =IF(N105="základní",J105,0) -> 0 | BF105: =IF(N105="snížená",J105,0) -> 0 | BG105: =IF(N105="zákl. přenesená",J105,0) -> 0 | BH105: =IF(N105="sníž. přenesená",J105,0) -> 0 | BI105: =IF(N105="nulová",J105,0) -> 0 | BJ105: 1 | BK105: =ROUND(I105*H105,2) -> 0 | BL105: 4 | BM105: -1704746285
D106: PP | F106: Sejmutí ornice strojně při souvislé ploše do 100 m2, tl. vrstvy do 200 mm | AT106: PP | AU106: 2
D107: VV | F107: "dle výkresu C.4.1" 6,56+249,01 | H107: 255.57 | AT107: VV | AU107: 2 | AV107: 2 | AW107: True | AX107: 1 | AY107: ROZPOCET
C108: 6 | D108: K | E108: 132254204 | F108: Hloubení zapažených rýh š do 2000 mm v hornině třídy těžitelnosti I, skupiny 3 objem do 500 m3 | G108: m3 | H108: 84.48 | J108: =ROUND(I108*H108,2) -> 0 | K108: CS ÚRS 2020 01 | N108: základní | P108: =O108*H108 -> 0 | Q108: 0 | R108: =Q108*H108 -> 0 | S108: 0 | T108: =S108*H108 -> 0 | AR108: 4 | AT108: K | AU108: 2 | AY108: ROZPOCET | BE108: =IF(N108="základní",J108,0) -> 0 | BF108: =IF(N108="snížená",J108,0) -> 0 | BG108: =IF(N108="zákl. přenesená",J108,0) -> 0 | BH108: =IF(N108="sníž. přenesená",J108,0) -> 0 | BI108: =IF(N108="nulová",J108,0) -> 0 | BJ108: 1 | BK108: =ROUND(I108*H108,2) -> 0 | BL108: 4 | BM108: 904101686
D109: PP | F109: Hloubení zapažených rýh šířky přes 800 do 2 000 mm strojně s urovnáním dna do předepsaného profilu a spádu v hornině třídy těžitelnosti I skupiny 3 přes 100 do 500 m3 | AT109: PP | AU109: 2
D110: VV | F110: hor.3 - 50% | AT110: VV | AU110: 2 | AV110: 1 | AW110: True | AX110: 0 | AY110: ROZPOCET
D111: VV | F111: 56,75*1,00*1,80 | H111: 102.15 | AT111: VV | AU111: 2 | AV111: 2 | AW111: True | AX111: 0 | AY111: ROZPOCET
D112: VV | F112: "DČJ" (11,00)*8 | H112: 88 | AT112: VV | AU112: 2 | AV112: 2 | AW112: True | AX112: 0 | AY112: ROZPOCET
D113: VV | F113: "místní komunikace asfalt" -9,00*1,00*0,60 | H113: -5.4 | AT113: VV | AU113: 2 | AV113: 2 | AW113: True | AX113: 0 | AY113: ROZPOCET
D114: VV | F114: "chodník beton" -1,60*1,00*0,40 | H114: -0.64 | AT114: VV | AU114: 2 | AV114: 2 | AW114: True | AX114: 0 | AY114: ROZPOCET
D115: VV | F115: "chodník asfalt" -8,50*1,00*0,32 | H115: -2.72 | AT115: VV | AU115: 2 | AV115: 2 | AW115: True | AX115: 0 | AY115: ROZPOCET
D116: VV | F116: "ornice" -(37,65*1,00+3,50*7)*0,20 | H116: -12.43 | AT116: VV | AU116: 2 | AV116: 2 | AW116: True | AX116: 0 | AY116: ROZPOCET
D117: VV | F117: Mezisoučet | H117: 168.96 | AT117: VV | AU117: 2 | AV117: 3 | AW117: True | AX117: 0 | AY117: ROZPOCET
D118: VV | F118: "odp.ostatních hornin" -168,96*0,50 | H118: -84.48 | AT118: VV | AU118: 2 | AV118: 2 | AW118: True | AX118: 0 | AY118: ROZPOCET
D119: VV | F119: Součet | H119: 84.48 | AT119: VV | AU119: 2 | AV119: 4 | AW119: True | AX119: 1 | AY119: ROZPOCET
C120: 7 | D120: K | E120: 132354204 | F120: Hloubení zapažených rýh š do 2000 mm v hornině třídy těžitelnosti II, skupiny 4 objem do 500 m3 | G120: m3 | H120: 84.48 | J120: =ROUND(I120*H120,2) -> 0 | K120: CS ÚRS 2020 01 | N120: základní | P120: =O120*H120 -> 0 | Q120: 0 | R120: =Q120*H120 -> 0 | S120: 0 | T120: =S120*H120 -> 0 | AR120: 4 | AT120: K | AU120: 2 | AY120: ROZPOCET | BE120: =IF(N120="základní",J120,0) -> 0 | BF120: =IF(N120="snížená",J120,0) -> 0 | BG120: =IF(N120="zákl. přenesená",J120,0) -> 0 | BH120: =IF(N120="sníž. přenesená",J120,0) -> 0 | BI120: =IF(N120="nulová",J120,0) -> 0 | BJ120: 1 | BK120: =ROUND(I120*H120,2) -> 0 | BL120: 4 | BM120: -1276785989
D121: PP | F121: Hloubení zapažených rýh šířky přes 800 do 2 000 mm strojně s urovnáním dna do předepsaného profilu a spádu v hornině třídy těžitelnosti II skupiny 4 přes 100 do 500 m3 | AT121: PP | AU121: 2
D122: VV | F122: hor.4 - 50% | AT122: VV | AU122: 2 | AV122: 1 | AW122: True | AX122: 0 | AY122: ROZPOCET
D123: VV | F123: 168,96*0,50 | H123: 84.48 | AT123: VV | AU123: 2 | AV123: 2 | AW123: True | AX123: 1 | AY123: ROZPOCET
C124: 8 | D124: K | E124: 151101101 | F124: Zřízení příložného pažení a rozepření stěn rýh hl do 2 m | G124: m2 | H124: 204.3 | J124: =ROUND(I124*H124,2) -> 0 | K124: CS ÚRS 2020 01 | N124: základní | P124: =O124*H124 -> 0 | Q124: 0.00084 | R124: =Q124*H124 -> 0.171612 | S124: 0 | T124: =S124*H124 -> 0 | AR124: 4 | AT124: K | AU124: 2 | AY124: ROZPOCET | BE124: =IF(N124="základní",J124,0) -> 0 | BF124: =IF(N124="snížená",J124,0) -> 0 | BG124: =IF(N124="zákl. přenesená",J124,0) -> 0 | BH124: =IF(N124="sníž. přenesená",J124,0) -> 0 | BI124: =IF(N124="nulová",J124,0) -> 0 | BJ124: 1 | BK124: =ROUND(I124*H124,2) -> 0 | BL124: 4 | BM124: 319327316
D125: PP | F125: Zřízení pažení a rozepření stěn rýh pro podzemní vedení příložné pro jakoukoliv mezerovitost, hloubky do 2 m | AT125: PP | AU125: 2
D126: VV | F126: 56,75*2*1,80 | H126: 204.3 | AT126: VV | AU126: 2 | AV126: 2 | AW126: True | AX126: 1 | AY126: ROZPOCET
C127: 9 | D127: K | E127: 151101111 | F127: Odstranění příložného pažení a rozepření stěn rýh hl do 2 m | G127: m2 | H127: 204.3 | J127: =ROUND(I127*H127,2) -> 0 | K127: CS ÚRS 2020 01 | N127: základní | P127: =O127*H127 -> 0 | Q127: 0 | R127: =Q127*H127 -> 0 | S127: 0 | T127: =S127*H127 -> 0 | AR127: 4 | AT127: K | AU127: 2 | AY127: ROZPOCET | BE127: =IF(N127="základní",J127,0) -> 0 | BF127: =IF(N127="snížená",J127,0) -> 0 | BG127: =IF(N127="zákl. přenesená",J127,0) -> 0 | BH127: =IF(N127="sníž. přenesená",J127,0) -> 0 | BI127: =IF(N127="nulová",J127,0) -> 0 | BJ127: 1 | BK127: =ROUND(I127*H127,2) -> 0 | BL127: 4 | BM127: -1861270040
D128: PP | F128: Odstranění pažení a rozepření stěn rýh pro podzemní vedení s uložením materiálu na vzdálenost do 3 m od kraje výkopu příložné, hloubky do 2 m | AT128: PP | AU128: 2
C129: 10 | D129: K | E129: 151101102 | F129: Zřízení příložného pažení a rozepření stěn rýh hl do 4 m | G129: m2 | H129: 96 | J129: =ROUND(I129*H129,2) -> 0 | K129: CS ÚRS 2020 01 | N129: základní | P129: =O129*H129 -> 0 | Q129: 0.00085 | R129: =Q129*H129 -> 0.0816 | S129: 0 | T129: =S129*H129 -> 0 | AR129: 4 | AT129: K | AU129: 2 | AY129: ROZPOCET | BE129: =IF(N129="základní",J129,0) -> 0 | BF129: =IF(N129="snížená",J129,0) -> 0 | BG129: =IF(N129="zákl. přenesená",J129,0) -> 0 | BH129: =IF(N129="sníž. přenesená",J129,0) -> 0 | BI129: =IF(N129="nulová",J129,0) -> 0 | BJ129: 1 | BK129: =ROUND(I129*H129,2) -> 0 | BL129: 4 | BM129: 915343752
D130: PP | F130: Zřízení pažení a rozepření stěn rýh pro podzemní vedení příložné pro jakoukoliv mezerovitost, hloubky do 4 m | AT130: PP | AU130: 2
D131: VV | F131: "DČJ" (12,00)*8 | H131: 96 | AT131: VV | AU131: 2 | AV131: 2 | AW131: True | AX131: 1 | AY131: ROZPOCET
C132: 11 | D132: K | E132: 151101112 | F132: Odstranění příložného pažení a rozepření stěn rýh hl do 4 m | G132: m2 | H132: 96 | J132: =ROUND(I132*H132,2) -> 0 | K132: CS ÚRS 2020 01 | N132: základní | P132: =O132*H132 -> 0 | Q132: 0 | R132: =Q132*H132 -> 0 | S132: 0 | T132: =S132*H132 -> 0 | AR132: 4 | AT132: K | AU132: 2 | AY132: ROZPOCET | BE132: =IF(N132="základní",J132,0) -> 0 | BF132: =IF(N132="snížená",J132,0) -> 0 | BG132: =IF(N132="zákl. přenesená",J132,0) -> 0 | BH132: =IF(N132="sníž. přenesená",J132,0) -> 0 | BI132: =IF(N132="nulová",J132,0) -> 0 | BJ132: 1 | BK132: =ROUND(I132*H132,2) -> 0 | BL132: 4 | BM132: -1008100277
...

Sheet VON - Vedlejší a ostatní ...
AT2: {af0993c5-47ef-48b9-a982-271e28da9279}
AT3: 2
D4: KRYCÍ LIST SOUPISU PRACÍ | M4: v --- níže se nacházejí doplnkové a pomocné údaje k sestavám --- v | AT4: False
D6: Stavba:
E7: ='Rekapitulace stavby'!K6 -> Mimoň, Smetanova - kanalizace
D8: Objekt:
E9: VON - Vedlejší a ostatní náklady
D11: KSO: | I11: CC-CZ:
D12: Místo: | F12: Mimoň | I12: Datum: | J12: ='Rekapitulace stavby'!AN8 -> 24. 5. 2020
D14: Zadavatel: | I14: IČ:
E15: Město Mimoň | I15: DIČ:
D17: Uchazeč: | I17: IČ: | J17: ='Rekapitulace stavby'!AN13 -> Vyplň údaj
E18: ='Rekapitulace stavby'!E14 -> Vyplň údaj | I18: DIČ: | J18: ='Rekapitulace stavby'!AN14 -> Vyplň údaj
D20: Projektant: | I20: IČ:
E21: Vodohospodářské projekty s.r.o. | I21: DIČ:
D23: Zpracovatel: | I23: IČ:
E24: Martin Růžička | I24: DIČ:
D26: Poznámka:
E27: Soupis prací je sestaven za využití položek Cenové soustavy ÚRS. Cenové a technické podmínky položek Cenové soustavy ÚRS, které nejsou uvedeny v soupisu prací (tzv.úvodní části katalogů), jsou neomezeně dálkově k dispozici na www.cs-urs.cz. Položky, které nemají ve sloupci "Cenová soustava" uveden žádný údaj, nepochází z Cenové soustavy ÚRS.
D30: Cena bez DPH | J30: =ROUND(J87, 2) -> 0
F32: Základ daně | I32: Sazba daně | J32: Výše daně
D33: DPH | E33: základní | F33: =ROUND((SUM(BE87:BE108)), 2) -> 0 | I33: 0.21 | J33: =ROUND(((SUM(BE87:BE108))*I33), 2) -> 0
E34: snížená | F34: =ROUND((SUM(BF87:BF108)), 2) -> 0 | I34: 0.15 | J34: =ROUND(((SUM(BF87:BF108))*I34), 2) -> 0
E35: zákl. přenesená | F35: =ROUND((SUM(BG87:BG108)), 2) -> 0 | I35: 0.21 | J35: =0 -> 0
E36: sníž. přenesená | F36: =ROUND((SUM(BH87:BH108)), 2) -> 0 | I36: 0.15 | J36: =0 -> 0
E37: nulová | F37: =ROUND((SUM(BI87:BI108)), 2) -> 0 | I37: 0 | J37: =0 -> 0
D39: Cena s DPH | G39: v | H39: CZK | J39: =SUM(J30:J37) -> 0
C45: REKAPITULACE ČLENĚNÍ SOUPISU PRACÍ
C47: Stavba:
E48: =E7 -> Mimoň, Smetanova - kanalizace
C49: Objekt:
E50: =E9 -> VON - Vedlejší a ostatní náklady
C52: Místo: | F52: =F12 -> Mimoň | I52: Datum: | J52: =IF(J12="","",J12) -> 24. 5. 2020
C54: Zadavatel: | F54: =E15 -> Město Mimoň | I54: Projektant: | J54: =E21 -> Vodohospodářské projekty s.r.o.
C55: Uchazeč: | F55: =IF(E18="","",E18) -> Vyplň údaj | I55: Zpracovatel: | J55: =E24 -> Martin Růžička
C57: Kód dílu - Popis | J57: Cena celkem [CZK]
C59: Náklady stavby celkem | J59: =J87 -> 0 | AU59: -1
D60: OST - Ostatní | J60: =J88 -> 0
D61: 9131 - Dopravní značení | J61: =J89 -> 0
D62: 9132 - Zkoušky hutnění | J62: =J91 -> 0
D63: O02 - Zařízení staveniště | J63: =J93 -> 0
D64: O01 - Ostatní náklady | J64: =J95 -> 0
D65: O03 - Projektová dokumentace | J65: =J97 -> 0
D66: O04 - Geodetická zaměření | J66: =J100 -> 0
D67: O05 - Poplatky za zvláštní užívání komunikací a ploch pro zařízení staveniště | J67: =J107 -> 0
C74: SOUPIS PRACÍ
C76: Stavba:
E77: =E7 -> Mimoň, Smetanova - kanalizace
C78: Objekt:
E79: =E9 -> VON - Vedlejší a ostatní náklady
C81: Místo: | F81: =F12 -> Mimoň | I81: Datum: | J81: =IF(J12="","",J12) -> 24. 5. 2020
C83: Zadavatel: | F83: =E15 -> Město Mimoň | I83: Projektant: | J83: =E21 -> Vodohospodářské projekty s.r.o.
C84: Uchazeč: | F84: =IF(E18="","",E18) -> Vyplň údaj | I84: Zpracovatel: | J84: =E24 -> Martin Růžička
C86: PČ | D86: Typ | E86: Kód | F86: Popis | G86: MJ | H86: Množství | I86: J.cena [CZK] | J86: Cena celkem [CZK] | K86: Cenová soustava | N86: DPH | O86: J. Nh [h] | P86: Nh celkem [h] | Q86: J. hmotnost [t] | R86: Hmotnost celkem [t] | S86: J. suť [t] | T86: Suť Celkem [t]
C87: Náklady soupisu celkem | J87: =BK87 -> 0 | P87: =P88 -> 0 | R87: =R88 -> 0 | T87: =T88 -> 0 | AT87: D | AU87: -1 | BK87: =BK88 -> 0
D88: D | E88: OST | F88: Ostatní | J88: =BK88 -> 0 | P88: =P89+P91+P93+P95+P97+P100+P107 -> 0 | R88: =R89+R91+R93+R95+R97+R100+R107 -> 0 | T88: =T89+T91+T93+T95+T97+T100+T107 -> 0 | AR88: 4 | AT88: D | AU88: 0 | AY88: ROZPOCET | BK88: =BK89+BK91+BK93+BK95+BK97+BK100+BK107 -> 0
D89: D | E89: 9131 | F89: Dopravní značení | J89: =BK89 -> 0 | P89: =P90 -> 0 | R89: =R90 -> 0 | T89: =T90 -> 0 | AR89: 1 | AT89: D | AU89: 1 | AY89: ROZPOCET | BK89: =BK90 -> 0
C90: 1 | D90: K | E90: 91320 | F90: Dopravní značení v průběhu výstavby | G90: kpl | H90: 1 | J90: =ROUND(I90*H90,2) -> 0 | N90: základní | P90: =O90*H90 -> 0 | Q90: 0 | R90: =Q90*H90 -> 0 | S90: 0 | T90: =S90*H90 -> 0 | AR90: 1024 | AT90: K | AU90: 2 | AY90: ROZPOCET | BE90: =IF(N90="základní",J90,0) -> 0 | BF90: =IF(N90="snížená",J90,0) -> 0 | BG90: =IF(N90="zákl. přenesená",J90,0) -> 0 | BH90: =IF(N90="sníž. přenesená",J90,0) -> 0 | BI90: =IF(N90="nulová",J90,0) -> 0 | BJ90: 1 | BK90: =ROUND(I90*H90,2) -> 0 | BL90: 1024 | BM90: -2110391579
D91: D | E91: 9132 | F91: Zkoušky hutnění | J91: =BK91 -> 0 | P91: =P92 -> 0 | R91: =R92 -> 0 | T91: =T92 -> 0 | AR91: 1 | AT91: D | AU91: 1 | AY91: ROZPOCET | BK91: =BK92 -> 0
C92: 2 | D92: K | E92: 950000000 | F92: Zkoušky hutnění-statické zatěžovací zkoušky | G92: kpl | H92: 1 | J92: =ROUND(I92*H92,2) -> 0 | N92: základní | P92: =O92*H92 -> 0 | Q92: 0 | R92: =Q92*H92 -> 0 | S92: 0 | T92: =S92*H92 -> 0 | AR92: 1024 | AT92: K | AU92: 2 | AY92: ROZPOCET | BE92: =IF(N92="základní",J92,0) -> 0 | BF92: =IF(N92="snížená",J92,0) -> 0 | BG92: =IF(N92="zákl. přenesená",J92,0) -> 0 | BH92: =IF(N92="sníž. přenesená",J92,0) -> 0 | BI92: =IF(N92="nulová",J92,0) -> 0 | BJ92: 1 | BK92: =ROUND(I92*H92,2) -> 0 | BL92: 1024 | BM92: -431305185
D93: D | E93: O02 | F93: Zařízení staveniště | J93: =BK93 -> 0 | P93: =P94 -> 0 | R93: =R94 -> 0 | T93: =T94 -> 0 | AR93: 1 | AT93: D | AU93: 1 | AY93: ROZPOCET | BK93: =BK94 -> 0
C94: 3 | D94: K | E94: 100004 | F94: Zařízení staveniště | G94: kpl | H94: 1 | J94: =ROUND(I94*H94,2) -> 0 | N94: základní | P94: =O94*H94 -> 0 | Q94: 0 | R94: =Q94*H94 -> 0 | S94: 0 | T94: =S94*H94 -> 0 | AR94: 1024 | AT94: K | AU94: 2 | AY94: ROZPOCET | BE94: =IF(N94="základní",J94,0) -> 0 | BF94: =IF(N94="snížená",J94,0) -> 0 | BG94: =IF(N94="zákl. přenesená",J94,0) -> 0 | BH94: =IF(N94="sníž. přenesená",J94,0) -> 0 | BI94: =IF(N94="nulová",J94,0) -> 0 | BJ94: 1 | BK94: =ROUND(I94*H94,2) -> 0 | BL94: 1024 | BM94: 1076655936
D95: D | E95: O01 | F95: Ostatní náklady | J95: =BK95 -> 0 | P95: =P96 -> 0 | R95: =R96 -> 0 | T95: =T96 -> 0 | AR95: 4 | AT95: D | AU95: 1 | AY95: ROZPOCET | BK95: =BK96 -> 0
C96: 4 | D96: K | E96: 100009 | F96: Kompletační činnost, inženýrská činnost zhotovitele | G96: kpl | H96: 1 | J96: =ROUND(I96*H96,2) -> 0 | N96: základní | P96: =O96*H96 -> 0 | Q96: 0 | R96: =Q96*H96 -> 0 | S96: 0 | T96: =S96*H96 -> 0 | AR96: 1024 | AT96: K | AU96: 2 | AY96: ROZPOCET | BE96: =IF(N96="základní",J96,0) -> 0 | BF96: =IF(N96="snížená",J96,0) -> 0 | BG96: =IF(N96="zákl. přenesená",J96,0) -> 0 | BH96: =IF(N96="sníž. přenesená",J96,0) -> 0 | BI96: =IF(N96="nulová",J96,0) -> 0 | BJ96: 1 | BK96: =ROUND(I96*H96,2) -> 0 | BL96: 1024 | BM96: 979283169
D97: D | E97: O03 | F97: Projektová dokumentace | J97: =BK97 -> 0 | P97: =SUM(P98:P99) -> 0 | R97: =SUM(R98:R99) -> 0 | T97: =SUM(T98:T99) -> 0 | AR97: 4 | AT97: D | AU97: 1 | AY97: ROZPOCET | BK97: =SUM(BK98:BK99) -> 0
C98: 5 | D98: K | E98: 100005 | F98: Projektová dokumentace skutečného provedení | G98: kpl | H98: 1 | J98: =ROUND(I98*H98,2) -> 0 | N98: základní | P98: =O98*H98 -> 0 | Q98: 0 | R98: =Q98*H98 -> 0 | S98: 0 | T98: =S98*H98 -> 0 | AR98: 1024 | AT98: K | AU98: 2 | AY98: ROZPOCET | BE98: =IF(N98="základní",J98,0) -> 0 | BF98: =IF(N98="snížená",J98,0) -> 0 | BG98: =IF(N98="zákl. přenesená",J98,0) -> 0 | BH98: =IF(N98="sníž. přenesená",J98,0) -> 0 | BI98: =IF(N98="nulová",J98,0) -> 0 | BJ98: 1 | BK98: =ROUND(I98*H98,2) -> 0 | BL98: 1024 | BM98: 1243335290
C99: 6 | D99: K | E99: 100016 | F99: Fotodokumentace | G99: kpl | H99: 1 | J99: =ROUND(I99*H99,2) -> 0 | N99: základní | P99: =O99*H99 -> 0 | Q99: 0 | R99: =Q99*H99 -> 0 | S99: 0 | T99: =S99*H99 -> 0 | AR99: 1024 | AT99: K | AU99: 2 | AY99: ROZPOCET | BE99: =IF(N99="základní",J99,0) -> 0 | BF99: =IF(N99="snížená",J99,0) -> 0 | BG99: =IF(N99="zákl. přenesená",J99,0) -> 0 | BH99: =IF(N99="sníž. přenesená",J99,0) -> 0 | BI99: =IF(N99="nulová",J99,0) -> 0 | BJ99: 1 | BK99: =ROUND(I99*H99,2) -> 0 | BL99: 1024 | BM99: 1127944633
D100: D | E100: O04 | F100: Geodetická zaměření | J100: =BK100 -> 0 | P100: =SUM(P101:P106) -> 0 | R100: =SUM(R101:R106) -> 0 | T100: =SUM(T101:T106) -> 0 | AR100: 4 | AT100: D | AU100: 1 | AY100: ROZPOCET | BK100: =SUM(BK101:BK106) -> 0
C101: 7 | D101: K | E101: 100006 | F101: Vytýčení inženýrských sítí před zahájením prací | G101: kpl | H101: 1 | J101: =ROUND(I101*H101,2) -> 0 | N101: základní | P101: =O101*H101 -> 0 | Q101: 0 | R101: =Q101*H101 -> 0 | S101: 0 | T101: =S101*H101 -> 0 | AR101: 1024 | AT101: K | AU101: 2 | AY101: ROZPOCET | BE101: =IF(N101="základní",J101,0) -> 0 | BF101: =IF(N101="snížená",J101,0) -> 0 | BG101: =IF(N101="zákl. přenesená",J101,0) -> 0 | BH101: =IF(N101="sníž. přenesená",J101,0) -> 0 | BI101: =IF(N101="nulová",J101,0) -> 0 | BJ101: 1 | BK101: =ROUND(I101*H101,2) -> 0 | BL101: 1024 | BM101: 1825489951
C102: 8 | D102: K | E102: 100007 | F102: Geodetické práce před výstavbou - vytýčení bodů | G102: kpl | H102: 1 | J102: =ROUND(I102*H102,2) -> 0 | N102: základní | P102: =O102*H102 -> 0 | Q102: 0 | R102: =Q102*H102 -> 0 | S102: 0 | T102: =S102*H102 -> 0 | AR102: 1024 | AT102: K | AU102: 2 | AY102: ROZPOCET | BE102: =IF(N102="základní",J102,0) -> 0 | BF102: =IF(N102="snížená",J102,0) -> 0 | BG102: =IF(N102="zákl. přenesená",J102,0) -> 0 | BH102: =IF(N102="sníž. přenesená",J102,0) -> 0 | BI102: =IF(N102="nulová",J102,0) -> 0 | BJ102: 1 | BK102: =ROUND(I102*H102,2) -> 0 | BL102: 1024 | BM102: 2064985160
C103: 9 | D103: K | E103: 1000071 | F103: Geodetické práce při provádění stavby | G103: kpl | H103: 1 | J103: =ROUND(I103*H103,2) -> 0 | N103: základní | P103: =O103*H103 -> 0 | Q103: 0 | R103: =Q103*H103 -> 0 | S103: 0 | T103: =S103*H103 -> 0 | AR103: 1024 | AT103: K | AU103: 2 | AY103: ROZPOCET | BE103: =IF(N103="základní",J103,0) -> 0 | BF103: =IF(N103="snížená",J103,0) -> 0 | BG103: =IF(N103="zákl. přenesená",J103,0) -> 0 | BH103: =IF(N103="sníž. přenesená",J103,0) -> 0 | BI103: =IF(N103="nulová",J103,0) -> 0 | BJ103: 1 | BK103: =ROUND(I103*H103,2) -> 0 | BL103: 1024 | BM103: -1938013563
C104: 10 | D104: K | E104: 100008 | F104: Geodetické práce po výstavbě | G104: kpl | H104: 1 | J104: =ROUND(I104*H104,2) -> 0 | N104: základní | P104: =O104*H104 -> 0 | Q104: 0 | R104: =Q104*H104 -> 0 | S104: 0 | T104: =S104*H104 -> 0 | AR104: 1024 | AT104: K | AU104: 2 | AY104: ROZPOCET | BE104: =IF(N104="základní",J104,0) -> 0 | BF104: =IF(N104="snížená",J104,0) -> 0 | BG104: =IF(N104="zákl. přenesená",J104,0) -> 0 | BH104: =IF(N104="sníž. přenesená",J104,0) -> 0 | BI104: =IF(N104="nulová",J104,0) -> 0 | BJ104: 1 | BK104: =ROUND(I104*H104,2) -> 0 | BL104: 1024 | BM104: -1151401803
C105: 11 | D105: K | E105: 100013 | F105: Označení stavby | G105: kpl | H105: 1 | J105: =ROUND(I105*H105,2) -> 0 | N105: základní | P105: =O105*H105 -> 0 | Q105: 0 | R105: =Q105*H105 -> 0 | S105: 0 | T105: =S105*H105 -> 0 | AR105: 1024 | AT105: K | AU105: 2 | AY105: ROZPOCET | BE105: =IF(N105="základní",J105,0) -> 0 | BF105: =IF(N105="snížená",J105,0) -> 0 | BG105: =IF(N105="zákl. přenesená",J105,0) -> 0 | BH105: =IF(N105="sníž. přenesená",J105,0) -> 0 | BI105: =IF(N105="nulová",J105,0) -> 0 | BJ105: 1 | BK105: =ROUND(I105*H105,2) -> 0 | BL105: 1024 | BM105: -749600176
C106: 12 | D106: K | E106: 100014 | F106: Ostatní náklady zhotovitele jinde neuvedené | G106: kpl | H106: 1 | J106: =ROUND(I106*H106,2) -> 0 | N106: základní | P106: =O106*H106 -> 0 | Q106: 0 | R106: =Q106*H106 -> 0 | S106: 0 | T106: =S106*H106 -> 0 | AR106: 1024 | AT106: K | AU106: 2 | AY106: ROZPOCET | BE106: =IF(N106="základní",J106,0) -> 0 | BF106: =IF(N106="snížená",J106,0) -> 0 | BG106: =IF(N106="zákl. přenesená",J106,0) -> 0 | BH106: =IF(N106="sníž. přenesená",J106,0) -> 0 | BI106: =IF(N106="nulová",J106,0) -> 0 | BJ106: 1 | BK106: =ROUND(I106*H106,2) -> 0 | BL106: 1024 | BM106: 924981437
D107: D | E107: O05 | F107: Poplatky za zvláštní užívání komunikací a ploch pro zařízení staveniště | J107: =BK107 -> 0 | P107: =P108 -> 0 | R107: =R108 -> 0 | T107: =T108 -> 0 | AR107: 4 | AT107: D | AU107: 1 | AY107: ROZPOCET | BK107: =BK108 -> 0
C108: 13 | D108: K | E108: 100003 | F108: Zábor pozemku nebo komunikace pro zařízení staveniště a výkopy | G108: kpl | H108: 1 | J108: =ROUND(I108*H108,2) -> 0 | N108: základní | P108: =O108*H108 -> 0 | Q108: 0 | R108: =Q108*H108 -> 0 | S108: 0 | T108: =S108*H108 -> 0 | AR108: 1024 | AT108: K | AU108: 2 | AY108: ROZPOCET | BE108: =IF(N108="základní",J108,0) -> 0 | BF108: =IF(N108="snížená",J108,0) -> 0 | BG108: =IF(N108="zákl. přenesená",J108,0) -> 0 | BH108: =IF(N108="sníž. přenesená",J108,0) -> 0 | BI108: =IF(N108="nulová",J108,0) -> 0 | BJ108: 1 | BK108: =ROUND(I108*H108,2) -> 0 | BL108: 1024 | BM108: 401987031

Sheet Pokyny pro vyplnění
C3: Struktura údajů, formát souboru a metodika pro zpracování
C4: Struktura
C6: Soubor je složen ze záložky Rekapitulace stavby a záložek s názvem soupisu prací pro jednotlivé objekty ve formátu XLSX. Každá ze záložek přitom obsahuje
C7: ještě samostatné sestavy vymezené orámovaním a nadpisem sestavy.
C9: Rekapitulace stavby obsahuje sestavu Rekapitulace stavby a Rekapitulace objektů stavby a soupisů prací.
D10: V sestavě Rekapitulace stavby jsou uvedeny informace identifikující předmět veřejné zakázky na stavební práce, KSO, CC-CZ, CZ-CPV, CZ-CPA a rekapitulaci
D11: celkové nabídkové ceny uchazeče.
D13: Termínem "uchazeč" (resp. zhotovitel) se myslí "účastník zadávacího řízení" ve smyslu zákona o zadávání veřejných zakázek.
D15: V sestavě Rekapitulace objektů stavby a soupisů prací je uvedena rekapitulace stavebních objektů, inženýrských objektů, provozních souborů,
D16: vedlejších a ostatních nákladů a ostatních nákladů s rekapitulací nabídkové ceny za jednotlivé soupisy prací. Na základě údaje Typ je možné
D17: identifikovat, zda se jedná o objekt nebo soupis prací pro daný objekt:
E18: STA | F18: Stavební objekt pozemní
E19: ING | F19: Stavební objekt inženýrský
E20: PRO | F20: Provozní soubor
E21: VON | F21: Vedlejší a ostatní náklady
E22: OST | F22: Ostatní
E23: Soupis | F23: Soupis prací pro daný typ objektu
C25: Soupis prací pro jednotlivé objekty obsahuje sestavy Krycí list soupisu prací, Rekapitulace členění soupisu prací, Soupis prací. Za soupis prací může být považován
C26: i objekt stavby v případě, že neobsahuje podřízenou zakázku.
D27: Krycí list soupisu obsahuje rekapitulaci informací o předmětu veřejné zakázky ze sestavy Rekapitulace stavby, informaci o zařazení objektu do KSO,
D28: CC-CZ, CZ-CPV, CZ-CPA a rekapitulaci celkové nabídkové ceny uchazeče za aktuální soupis prací.
D30: Rekapitulace členění soupisu prací obsahuje rekapitulaci soupisu prací ve všech úrovních členění soupisu tak, jak byla tato členění použita (např.
D31: stavební díly, funkční díly, případně jiné členění) s rekapitulací nabídkové ceny.
D33: Soupis prací obsahuje položky veškerých stavebních nebo montážních prací, dodávek materiálů a služeb nezbytných pro zhotovení stavebního objektu,
D34: inženýrského objektu, provozního souboru, vedlejších a ostatních nákladů.
D35: Pro položky soupisu prací se zobrazují následující informace:
E36: PČ | G36: Pořadové číslo položky v aktuálním soupisu
E37: TYP | G37: Typ položky: K - konstrukce, M - materiál, PP - plný popis, PSC - poznámka k souboru cen, P - poznámka k položce, VV - výkaz výměr
E38: Kód | G38: Kód položky
E39: Popis | G39: Zkrácený popis položky
E40: MJ | G40: Měrná jednotka položky
E41: Množství | G41: Množství v měrné jednotce
E42: J.cena | G42: Jednotková cena položky. Zadaní může obsahovat namísto J.ceny sloupce J.materiál a J.montáž, jejichž součet definuje
G43: J.cenu položky.
E44: Cena celkem | G44: Celková cena položky daná jako součin množství a j.ceny
E45: Cenová soustava | G45: Příslušnost položky do cenové soustavy
D47: Ke každé položce soupisu prací se na samostatných řádcích může zobrazovat:
E48: Plný popis položky
E49: Poznámka k souboru cen a poznámka zadavatele
E50: Výkaz výměr
D51: Pokud je k řádku výkazu výměr evidovaný údaj ve sloupci Kód, jedná se o definovaný odkaz, na který se může odvolávat výkaz výměr z jiné položky.
C52: Metodika pro zpracování
C54: Jednotlivé sestavy jsou v souboru provázány. Editovatelné pole jsou zvýrazněny žlutým podbarvením, ostatní pole neslouží k editaci a nesmí být jakkoliv
C55: modifikovány.
C57: Uchazeč je pro podání nabídky povinen vyplnit žlutě podbarvená pole:
D58: Pole Uchazeč v sestavě Rekapitulace stavby - zde uchazeč vyplní svůj název (název subjektu)
D59: Pole IČ a DIČ v sestavě Rekapitulace stavby - zde uchazeč vyplní svoje IČ a DIČ
D60: Datum v sestavě Rekapitulace stavby - zde uchazeč vyplní datum vytvoření nabídky
D61: J.cena = jednotková cena v sestavě Soupis prací o maximálním počtu desetinných míst uvedených v poli
D62: - pokud sestavy soupisů prací obsahují pole J.cena, měla by být všechna tato pole vyplněna nenulovými
D63: Poznámka - nepovinný údaj pro položku soupisu
D65: V případě, že sestavy soupisů prací neobsahují pole J.cena, potom ve všech soupisech prací obsahují pole:
D66: - J.materiál - jednotková cena materiálu
D67: - J.montáž - jednotková cena montáže
D68: Uchazeč v tomto případě by měl vyplnit všechna pole J.materiál a pole J.montáž nenulovými kladnými číslicemi. V případech, kdy položka
D69: neobsahuje žádný materiál je přípustné, aby pole J.materiál bylo vyplněno nulou. V případech, kdy položka neobsahuje žádnou montáž je přípustné,
D70: aby pole J.montáž bylo vyplněno nulou. Obě pole - J.materiál, J.Montáž u jedné položky by však neměly být vyplněny nulou.
C75: Rekapitulace stavby
C76: Název | F76: Povinný | H76: Popis | I76: Typ | J76: Max. počet
C77: atributu | F77: (A/N) | J77: znaků
C79: Kód | F79: A | H79: Kód stavby | I79: String | J79: 20
C80: Stavba | F80: A | H80: Název stavby | I80: String | J80: 120
C81: Místo | F81: N | H81: Místo stavby | I81: String | J81: 50
C82: Datum | F82: A | H82: Datum vykonaného exportu | I82: Date
C83: KSO | F83: N | H83: Klasifikace stavebního objektu | I83: String | J83: 15
C84: CC-CZ | F84: N | H84: Klasifikace stavbeních děl | I84: String | J84: 15
C85: CZ-CPV | F85: N | H85: Společný slovník pro veřejné zakázky | I85: String | J85: 20
C86: CZ-CPA | F86: N | H86: Klasifikace produkce podle činností | I86: String | J86: 20
C87: Zadavatel | F87: N | H87: Zadavatel zadaní | I87: String | J87: 50
C88: IČ | F88: N | H88: IČ zadavatele zadaní | I88: String | J88: 20
C89: DIČ | F89: N | H89: DIČ zadavatele zadaní | I89: String | J89: 20
C90: Uchazeč | F90: N | H90: Uchazeč veřejné zakázky | I90: String | J90: 50
C91: Projektant | F91: N | H91: Projektant | I91: String | J91: 50
C92: Poznámka | F92: N | H92: Poznámka k zadání | I92: String | J92: 255
C93: Sazba DPH | F93: A | H93: Rekapitulace sazeb DPH u položek soupisů | I93: eGSazbaDph
C94: Základna DPH | F94: A | H94: Základna DPH určena součtem celkové ceny z položek soupisů | I94: Double
C95: Hodnota DPH | F95: A | H95: Hodnota DPH | I95: Double
C96: Cena bez DPH | F96: A | H96: Celková cena bez DPH za celou stavbu. Sčítává se ze všech listů. | I96: Double
C97: Cena s DPH | F97: A | H97: Celková cena s DPH za celou stavbu | I97: Double
C102: Rekapitulace objektů stavby a soupisů prací
C103: Název | F103: Povinný | H103: Popis | I103: Typ | J103: Max. počet
C104: atributu | F104: (A/N) | J104: znaků
C106: Kód | F106: A | H106: Přebírá se z Rekapitulace stavby | I106: String | J106: 20
C107: Stavba | F107: A | H107: Přebírá se z Rekapitulace stavby | I107: String | J107: 120
C108: Místo | F108: N | H108: Přebírá se z Rekapitulace stavby | I108: String | J108: 50
C109: Datum | F109: A | H109: Přebírá se z Rekapitulace stavby | I109: Date
C110: Zadavatel | F110: N | H110: Přebírá se z Rekapitulace stavby | I110: String | J110: 50
C111: Projektant | F111: N | H111: Přebírá se z Rekapitulace stavby | I111: String | J111: 50
C112: Uchazeč | F112: N | H112: Přebírá se z Rekapitulace stavby | I112: String | J112: 50
C113: Kód | F113: A | H113: Kód objektu | I113: String | J113: 20
C114: Objektu, Soupis prací | F114: A | H114: Název objektu | I114: String | J114: 120
C115: Cena bez DPH | F115: A | H115: Cena bez DPH za daný objekt | I115: Double
C116: Cena s DPH | F116: A | H116: Cena spolu s DPH za daný objekt | I116: Double
C117: Typ | F117: A | H117: Typ zakázky | I117: eGTypZakazky
C122: Krycí list soupisu
C123: Název | F123: Povinný | H123: Popis | I123: Typ | J123: Max. počet
C124: atributu | F124: (A/N) | J124: znaků
C126: Stavba | F126: A | H126: Přebírá se z Rekapitulace stavby | I126: String | J126: 120
C127: Objekt | F127: A | H127: Kód a název objektu | I127: String | J127: 20 + 120
C128: Soupis | F128: A | H128: Kód a název soupisu | I128: String | J128: 20 + 120
...
