Workbook

Sheet Rekapitulace stavby
A1: Export Komplet | BA1: 2.0 | BT1: False | BU1: False | BV1: {50ee8d06-5ac2-4e71-a653-91514adab957}
AR2: >> skryté sloupce << | BS2: 0,01 | BT2: 21
BS3: 0,01 | BT3: 15
D4: REKAPITULACE STAVBY | AS4: v --- níže se nacházejí doplnkové a pomocné údaje k sestavám --- v | BS4: 0,001
D5: Kód: | K5: _201903 | BS5: 0,01
D6: Stavba: | K6: Mimoň chodníky sídiliště pod Ralskem | BS6: 0,01
D7: KSO: | AK7: CC-CZ: | BS7: 0,01
D8: Místo: | K8: Mimoň | AK8: Datum: | AN8: 43979 | BS8: 0,01
BS9: 0,01
D10: Zadavatel: | AK10: IČ: | BS10: 0,01
AK11: DIČ: | BS11: 0,01
BS12: 0,01
D13: Zhotovitel: | AK13: IČ: | BS13: 0,01
AK14: DIČ: | BS14: 0,01
BS15: False
D16: Projektant: | AK16: IČ: | BS16: False
E17: Ing. Jiří Sobol | AK17: DIČ: | BS17: True
BS18: 0,01
D19: Zpracovatel: | AK19: IČ: | BS19: 0,01
E20: Ing. Dominik Šlajer | AK20: DIČ: | BS20: True
D22: Poznámka:
D26: Cena bez DPH | AK26: =ROUND(AG94,2) -> 0
L28: Sazba daně | W28: Základ daně | AK28: Výše daně
D29: DPH | F29: základní | L29: 0.21 | W29: =ROUND(AZ94, 2) -> 0 | AK29: =ROUND(AV94, 2) -> 0
F30: snížená | L30: 0.15 | W30: =ROUND(BA94, 2) -> 0 | AK30: =ROUND(AW94, 2) -> 0
F31: zákl. přenesená | L31: 0.21 | W31: =ROUND(BB94, 2) -> 0 | AK31: 0
F32: sníž. přenesená | L32: 0.15 | W32: =ROUND(BC94, 2) -> 0 | AK32: 0
F33: nulová | L33: 0 | W33: =ROUND(BD94, 2) -> 0 | AK33: 0
D35: Cena s DPH | T35: v | X35: CZK | AK35: =SUM(AK26:AK33) -> 0
D49: Projektant | AH49: Zpracovatel
D60: Datum a podpis: | V60: Razítko | AH60: Datum a podpis: | AM60: Razítko
D64: Objednavatel | AH64: Zhotovitel
D75: Datum a podpis: | V75: Razítko | AH75: Datum a podpis: | AM75: Razítko
C82: REKAPITULACE OBJEKTŮ STAVBY A SOUPISŮ PRACÍ
C84: Kód: | L84: =K5 -> _201903
C85: Stavba: | L85: =K6 -> Mimoň chodníky sídiliště pod Ralskem
C87: Místo: | L87: =IF(K8="","",K8) -> Mimoň | AI87: Datum: | AM87: =IF(AN8= "","",AN8) -> 43979
C89: Zadavatel: | L89: =IF(E11= "","",E11) | AI89: Projektant: | AM89: =IF(E17="","",E17) -> Ing. Jiří Sobol | AS89: Informatívní údaje z listů zakázek
C90: Zhotovitel: | L90: =IF(E14="","",E14) | AI90: Zpracovatel: | AM90: =IF(E20="","",E20) -> Ing. Dominik Šlajer
C92: Kód | I92: Popis | AG92: Cena bez DPH [CZK] | AN92: Cena s DPH [CZK] | AQ92: Typ | AS92: z toho Ostat._x000D_ náklady [CZK] | AT92: DPH [CZK] | AU92: Normohodiny [h] | AV92: DPH základní [CZK] | AW92: DPH snížená [CZK] | AX92: DPH základní přenesená_x000D_ [CZK] | AY92: DPH snížená přenesená_x000D_ [CZK] | AZ92: Základna_x000D_ DPH základní | BA92: Základna_x000D_ DPH snížená | BB92: Základna_x000D_ DPH zákl. přenesená | BC92: Základna_x000D_ DPH sníž. přenesená | BD92: Základna_x000D_ DPH nulová
C94: Náklady z rozpočtů | AG94: =ROUND(SUM(AG95:AG96),2) -> 0 | AN94: =SUM(AG94,AT94) -> 0 | AS94: =ROUND(SUM(AS95:AS96),2) -> 0 | AT94: =ROUND(SUM(AV94:AW94),2) -> 0 | AU94: =ROUND(SUM(AU95:AU96),5) -> #REF! | AV94: =ROUND(AZ94*L29,2) -> 0 | AW94: =ROUND(BA94*L30,2) -> 0 | AX94: =ROUND(BB94*L29,2) -> 0 | AY94: =ROUND(BC94*L30,2) -> 0 | AZ94: =ROUND(SUM(AZ95:AZ96),2) -> 0 | BA94: =ROUND(SUM(BA95:BA96),2) -> 0 | BB94: =ROUND(SUM(BB95:BB96),2) -> 0 | BC94: =ROUND(SUM(BC95:BC96),2) -> 0 | BD94: =ROUND(SUM(BD95:BD96),2) -> 0 | BS94: D | BT94: 0 | BU94: ###NOIMPORT### | BV94: IMPORT | BW94: {50ee8d06-5ac2-4e71-a653-91514adab957} | BX94: {00000000-0000-0000-0000-000000000000}
A95: / | D95: IO 101 a IO 102 | J95: Chodníky | AG95: ='IO 101 a IO 102'!J30 -> 0 | AN95: =SUM(AG95,AT95) -> 0 | AQ95: STA | AS95: 0 | AT95: =ROUND(SUM(AV95:AW95),2) -> 0 | AU95: ='IO 101 a IO 102'!P121 -> #REF! | AV95: ='IO 101 a IO 102'!J33 -> 0 | AW95: ='IO 101 a IO 102'!J34 -> 0 | AX95: ='IO 101 a IO 102'!J35 -> 0 | AY95: ='IO 101 a IO 102'!J36 -> 0 | AZ95: ='IO 101 a IO 102'!F33 -> 0 | BA95: ='IO 101 a IO 102'!F34 -> 0 | BB95: ='IO 101 a IO 102'!F35 -> 0 | BC95: ='IO 101 a IO 102'!F36 -> 0 | BD95: ='IO 101 a IO 102'!F37 -> 0 | BT95: 1 | BV95: IMPORT | BW95: {9971989a-02bd-4096-be57-8ca56546e57f} | BX95: {50ee8d06-5ac2-4e71-a653-91514adab957} | CM95: 2
A96: / | D96: 00 | J96: Vedlejší rozpočtové náklady | AG96: ='00 - Vedlejší rozpočtové ...'!J30 -> 0 | AN96: =SUM(AG96,AT96) -> 0 | AQ96: STA | AS96: 0 | AT96: =ROUND(SUM(AV96:AW96),2) -> 0 | AU96: ='00 - Vedlejší rozpočtové ...'!P117 -> 0 | AV96: ='00 - Vedlejší rozpočtové ...'!J33 -> 0 | AW96: ='00 - Vedlejší rozpočtové ...'!J34 -> 0 | AX96: ='00 - Vedlejší rozpočtové ...'!J35 -> 0 | AY96: ='00 - Vedlejší rozpočtové ...'!J36 -> 0 | AZ96: ='00 - Vedlejší rozpočtové ...'!F33 -> 0 | BA96: ='00 - Vedlejší rozpočtové ...'!F34 -> 0 | BB96: ='00 - Vedlejší rozpočtové ...'!F35 -> 0 | BC96: ='00 - Vedlejší rozpočtové ...'!F36 -> 0 | BD96: ='00 - Vedlejší rozpočtové ...'!F37 -> 0 | BT96: 1 | BV96: IMPORT | BW96: {fdd8fa71-155b-4fce-be48-a2bd4d00a42b} | BX96: {50ee8d06-5ac2-4e71-a653-91514adab957} | CM96: 2

Sheet IO 101 a IO 102
L2: >> skryté sloupce << | AT2: {9971989a-02bd-4096-be57-8ca56546e57f}
AT3: 2
D4: KRYCÍ LIST SOUPISU PRACÍ | M4: v --- níže se nacházejí doplnkové a pomocné údaje k sestavám --- v | AT4: False
D6: Stavba:
E7: ='Rekapitulace stavby'!K6 -> Mimoň chodníky sídiliště pod Ralskem
D8: Objekt:
E9: IO 101 a IO 102 - Chodníky
D11: KSO: | I11: CC-CZ:
D12: Místo: | F12: Mimoň | I12: Datum: | J12: ='Rekapitulace stavby'!AN8 -> 43979
D14: Zadavatel: | I14: IČ: | J14: =IF('Rekapitulace stavby'!AN10="","",'Rekapitulace stavby'!AN10)
E15: =IF('Rekapitulace stavby'!E11="","",'Rekapitulace stavby'!E11) | I15: DIČ: | J15: =IF('Rekapitulace stavby'!AN11="","",'Rekapitulace stavby'!AN11)
D17: Zhotovitel: | I17: IČ: | J17: ='Rekapitulace stavby'!AN13
E18: ='Rekapitulace stavby'!E14 | I18: DIČ: | J18: ='Rekapitulace stavby'!AN14
D20: Projektant: | I20: IČ:
E21: Ing. Jiří Sobol | I21: DIČ:
D23: Zpracovatel: | I23: IČ:
E24: Ing. Dominik Šlajer | I24: DIČ:
D26: Poznámka:
D30: Cena bez DPH | J30: =ROUND(J121, 2) -> 0
F32: Základ daně | I32: Sazba daně | J32: Výše daně
D33: DPH | E33: základní | F33: =ROUND((SUM(BE121:BE172)), 2) -> 0 | I33: 0.21 | J33: =ROUND(((SUM(BE121:BE172))*I33), 2) -> 0
E34: snížená | F34: =ROUND((SUM(BF121:BF172)), 2) -> 0 | I34: 0.15 | J34: =ROUND(((SUM(BF121:BF172))*I34), 2) -> 0
E35: zákl. přenesená | F35: =ROUND((SUM(BG121:BG172)), 2) -> 0 | I35: 0.21 | J35: =0 -> 0
E36: sníž. přenesená | F36: =ROUND((SUM(BH121:BH172)), 2) -> 0 | I36: 0.15 | J36: =0 -> 0
E37: nulová | F37: =ROUND((SUM(BI121:BI172)), 2) -> 0 | I37: 0 | J37: =0 -> 0
D39: Cena s DPH | G39: v | H39: CZK | J39: =SUM(J30:J37) -> 0
D50: Projektant | G50: Zpracovatel
D61: Datum a podpis: | F61: Razítko | G61: Datum a podpis: | J61: Razítko
D65: Objednavatel | G65: Zhotovitel
D76: Datum a podpis: | F76: Razítko | G76: Datum a podpis: | J76: Razítko
C82: REKAPITULACE ČLENĚNÍ SOUPISU PRACÍ
C84: Stavba:
E85: =E7 -> Mimoň chodníky sídiliště pod Ralskem
C86: Objekt:
E87: =E9 -> IO 101 a IO 102 - Chodníky
C89: Místo: | F89: =F12 -> Mimoň | I89: Datum: | J89: =IF(J12="","",J12) -> 43979
C91: Zadavatel: | F91: =E15 | I91: Projektant: | J91: =E21 -> Ing. Jiří Sobol
C92: Zhotovitel: | F92: =IF(E18="","",E18) | I92: Zpracovatel: | J92: =E24 -> Ing. Dominik Šlajer
C94: Kód dílu - Popis | J94: Cena celkem [CZK]
C96: Náklady ze soupisu prací | J96: =J121 -> 0 | AU96: -1
D97: HSV - Práce a dodávky HSV | J97: =J122 -> 0
D98: 1 - Zemní práce | J98: =J123 -> 0
D99: 5 - Komunikace pozemní | J99: =J143 -> 0
D100: 9 - Ostatní konstrukce a práce, bourání | J100: =J155 -> 0
D101: N00 - VŠEOBECNÉ PODMÍNKY | J101: =J168 -> 0
C108: SOUPIS PRACÍ
C110: Stavba:
E111: =E7 -> Mimoň chodníky sídiliště pod Ralskem
C112: Objekt:
E113: =E9 -> IO 101 a IO 102 - Chodníky
C115: Místo: | F115: =F12 -> Mimoň | I115: Datum: | J115: =IF(J12="","",J12) -> 43979
C117: Zadavatel: | F117: =E15 | I117: Projektant: | J117: =E21 -> Ing. Jiří Sobol
C118: Zhotovitel: | F118: =IF(E18="","",E18) | I118: Zpracovatel: | J118: =E24 -> Ing. Dominik Šlajer
C120: PČ | D120: Typ | E120: Kód | F120: Popis | G120: MJ | H120: Množství | I120: J.cena [CZK] | J120: Cena celkem [CZK] | K120: Cenová soustava | N120: DPH | O120: J. Nh [h] | P120: Nh celkem [h] | Q120: J. hmotnost [t] | R120: Hmotnost celkem [t] | S120: J. suť [t] | T120: Suť Celkem [t] | U120: Dodavatel
C121: Náklady soupisu celkem | J121: =SUBTOTAL(9,J122:J172) -> 0 | P121: =P122 -> #REF! | R121: =R122 -> #REF! | T121: =T122 -> #REF! | AT121: D | AU121: -1 | BK121: =BK122 -> #REF!
D122: D | E122: HSV | F122: Práce a dodávky HSV | J122: =SUBTOTAL(9,J123:J166) -> 0 | P122: =P123+#REF!+P143+#REF!+P155+P168 -> #REF! | R122: =R123+#REF!+R143+#REF!+R155+R168 -> #REF! | T122: =T123+#REF!+T143+#REF!+T155+T168 -> #REF! | AR122: 1 | AT122: D | AU122: 0 | AY122: ROZPOCET | BK122: =BK123+#REF!+BK143+#REF!+BK155+BK168 -> #REF!
D123: D | E123: 1 | F123: Zemní práce | J123: =SUBTOTAL(9,J124:J141) -> 0 | P123: =SUM(P124:P142) -> 0 | R123: =SUM(R124:R142) -> 0 | T123: =SUM(T124:T142) -> 0 | AR123: 1 | AT123: D | AU123: 1 | AY123: ROZPOCET | BK123: =SUM(BK124:BK142) -> 0
C124: 1 | D124: K | E124: 113138 | F124: ODSTRANĚNÍ KRYTU ZPEVNĚNÝCH PLOCH S ASFALT POJIVEM, ODVOZ DO 20KM | G124: M3 | H124: =SUM(H125:H126) -> 1.95 | I124: 0 | J124: =ROUND(I124*H124,2) -> 0 | K124: OTSKP-SPK 2017 | N124: základní | O124: 0 | P124: =O124*H124 -> 0 | Q124: 0 | R124: =Q124*H124 -> 0 | S124: 0 | T124: =S124*H124 -> 0 | AR124: 4 | AT124: K | AU124: 2 | AY124: ROZPOCET | BE124: =IF(N124="základní",J124,0) -> 0 | BF124: =IF(N124="snížená",J124,0) -> 0 | BG124: =IF(N124="zákl. přenesená",J124,0) -> 0 | BH124: =IF(N124="sníž. přenesená",J124,0) -> 0 | BI124: =IF(N124="nulová",J124,0) -> 0 | BJ124: 1 | BK124: =ROUND(I124*H124,2) -> 0 | BL124: 4 | BM124: -2034517318
D125: PP | F125: Technická specifikace: Položka zahrnuje veškerou manipulaci s vybouranou sutí a s vybouranými hmotami vč. uložení na skládku. Nezahrnuje poplatek za skládku, který se vykazuje v položce 0141** (s výjimkou malého množství bouraného materiálu, kde je možné poplatek zahrnout do jednotkové ceny bourání – tento fakt musí být uveden v doplňujícím textu k položce). | AT125: PP | AU125: 2
D126: VV | F126: "odstranění současných zpevněných ploch"0,3*65*0,1 | H126: =65*0.1*0.3 -> 1.95 | AT126: VV | AU126: 2 | AV126: 2 | AW126: True | AX126: 1 | AY126: ROZPOCET
C127: 6 | D127: K | E127: 113772 | F127: FRÉZOVÁNÍ DRÁŽKY PRŮŘEZU DO 200MM2 V BETONOVÉ VOZOVCE | G127: M | H127: 65 | I127: 0 | J127: =ROUND(I127*H127,2) -> 0 | K127: OTSKP-SPK 2017 | N127: základní | O127: 0 | P127: =O127*H127 -> 0 | Q127: 0 | R127: =Q127*H127 -> 0 | S127: 0 | T127: =S127*H127 -> 0 | AR127: 4 | AT127: K | AU127: 2 | AY127: ROZPOCET | BE127: =IF(N127="základní",J127,0) -> 0 | BF127: =IF(N127="snížená",J127,0) -> 0 | BG127: =IF(N127="zákl. přenesená",J127,0) -> 0 | BH127: =IF(N127="sníž. přenesená",J127,0) -> 0 | BI127: =IF(N127="nulová",J127,0) -> 0 | BJ127: 1 | BK127: =ROUND(I127*H127,2) -> 0 | BL127: 4 | BM127: -290776093
D128: PP | F128: Technická specifikace: Položka zahrnuje veškerou manipulaci s vybouranou sutí a s vybouranými hmotami vč. uložení na skládku. | AT128: PP | AU128: 2
C129: 7 | D129: K | E129: 121105 | F129: SEJMUTÍ ORNICE NEBO LESNÍ PŮDY S ODVOZEM DO 8KM | G129: M3 | H129: =SUM(H130:H131) -> 40 | I129: 0 | J129: =ROUND(I129*H129,2) -> 0 | K129: OTSKP-SPK 2017 | N129: základní | O129: 0 | P129: =O129*H129 -> 0 | Q129: 0 | R129: =Q129*H129 -> 0 | S129: 0 | T129: =S129*H129 -> 0 | AR129: 4 | AT129: K | AU129: 2 | AY129: ROZPOCET | BE129: =IF(N129="základní",J129,0) -> 0 | BF129: =IF(N129="snížená",J129,0) -> 0 | BG129: =IF(N129="zákl. přenesená",J129,0) -> 0 | BH129: =IF(N129="sníž. přenesená",J129,0) -> 0 | BI129: =IF(N129="nulová",J129,0) -> 0 | BJ129: 1 | BK129: =ROUND(I129*H129,2) -> 0 | BL129: 4 | BM129: 1711130387
D130: PP | F130: Technická specifikace: položka zahrnuje sejmutí ornice bez ohledu na tloušťku vrstvy a její vodorovnou dopravu nezahrnuje uložení na trvalou skládku | AT130: PP | AU130: 2
D131: VV | F131: "nové chodníky (70% plochy na současné zeleni)"200*0,2 | H131: =0.2*200 -> 40 | AT131: VV | AU131: 2 | AV131: 2 | AW131: True | AX131: 0 | AY131: ROZPOCET
C132: 8 | D132: K | E132: 122736 | F132: ODKOPÁVKY A PROKOPÁVKY OBECNÉ TŘ. I, ODVOZ DO 12KM | G132: M3 | H132: =SUM(H134:H134) -> 20 | I132: 0 | J132: =ROUND(I132*H132,2) -> 0 | K132: OTSKP-SPK 2017 | N132: základní | O132: 0 | P132: =O132*H132 -> 0 | Q132: 0 | R132: =Q132*H132 -> 0 | S132: 0 | T132: =S132*H132 -> 0 | AR132: 4 | AT132: K | AU132: 2 | AY132: ROZPOCET | BE132: =IF(N132="základní",J132,0) -> 0 | BF132: =IF(N132="snížená",J132,0) -> 0 | BG132: =IF(N132="zákl. přenesená",J132,0) -> 0 | BH132: =IF(N132="sníž. přenesená",J132,0) -> 0 | BI132: =IF(N132="nulová",J132,0) -> 0 | BJ132: 1 | BK132: =ROUND(I132*H132,2) -> 0 | BL132: 4 | BM132: -533924724
D133: PP | F133: Technická specifikace: položka zahrnuje: - vodorovná a svislá doprava, přemístění, přeložení, manipulace s výkopkem - kompletní provedení vykopávky nezapažené i zapažené - ošetření výkopiště po celou dobu práce v něm vč. klimatických opatření - ztížení vykopávek v blízkosti podzemního vedení, konstrukcí a objektů vč. jejich dočasného zajištění - ztížení pod vodou, v okolí výbušnin, ve stísněných prostorech a pod. - příplatek za lepivost - těžení po vrstvách, pásech a po jiných nutných částech (figurách) - čerpání vody vč. čerpacích jímek, potrubí a pohotovostní čerpací soupravy (viz ustanovení k pol. 1151,2) - potřebné snížení hladiny podzemní vody - těžení a rozpojování jednotlivých balvanů - vytahování a nošení výkopku - svahování a přesvah. svahů do konečného tvaru, výměna hornin v podloží a v pláni znehodnocené klimatickými vlivy - ruční vykopávky, odstranění kořenů a napadávek - pažení, vzepření a rozepření vč. přepažování (vyjma štětových stěn) - úpravu, ochranu a očištění dna, základové spáry, stěn a svahů - zhutnění podloží, případně i svahů vč. svahování - zřízení stupňů v podloží a lavic na svazích, není-li pro tyto práce zřízena samostatná položka - udržování výkopiště a jeho ochrana proti vodě - odvedení nebo obvedení vody v okolí výkopiště a ve výkopišti - třídění výkopku - veškeré pomocné konstrukce umožňující provedení vykopávky (příjezdy, sjezdy, nájezdy, lešení, podpěr. konstr., přemostění, zpevněné plochy, zakrytí a pod.) - nezahrnuje uložení zeminy (na skládku, do násypu) ani poplatky za skládku, vykazují se v položce č.0141** | AT133: PP | AU133: 2
D134: VV | F134: "zemní práce pro nové konstrukce"200*0,1 | H134: =200*0.1 -> 20 | AT134: VV | AU134: 2 | AV134: 2 | AW134: True | AX134: 0 | AY134: ROZPOCET
C135: 9 | D135: K | E135: 18110 | F135: ÚPRAVA PLÁNĚ SE ZHUTNĚNÍM V HORNINĚ TŘ. I | G135: M2 | H135: =SUM(H137:H137) -> 190 | I135: 0 | J135: =ROUND(I135*H135,2) -> 0 | K135: OTSKP-SPK 2017 | N135: základní | O135: 0 | P135: =O135*H135 -> 0 | Q135: 0 | R135: =Q135*H135 -> 0 | S135: 0 | T135: =S135*H135 -> 0 | AR135: 4 | AT135: K | AU135: 2 | AY135: ROZPOCET | BE135: =IF(N135="základní",J135,0) -> 0 | BF135: =IF(N135="snížená",J135,0) -> 0 | BG135: =IF(N135="zákl. přenesená",J135,0) -> 0 | BH135: =IF(N135="sníž. přenesená",J135,0) -> 0 | BI135: =IF(N135="nulová",J135,0) -> 0 | BJ135: 1 | BK135: =ROUND(I135*H135,2) -> 0 | BL135: 4 | BM135: -584886136
D136: PP | F136: Technická specifikace: položka zahrnuje úpravu pláně včetně vyrovnání výškových rozdílů. Míru zhutnění určuje projekt. | AT136: PP | AU136: 2
D137: VV | F137: "chodníky"190 | H137: 190 | AT137: VV | AU137: 2 | AV137: 2 | AW137: True | AX137: 0 | AY137: ROZPOCET
C138: 10 | D138: K | E138: 18224 | F138: ROZPROSTŘENÍ ORNICE VE SVAHU V TL DO 0,25M | G138: M2 | H138: =SUM(H139:H140) -> 135 | I138: 0 | J138: =ROUND(I138*H138,2) -> 0 | K138: OTSKP-SPK 2017 | N138: základní | O138: 0 | P138: =O138*H138 -> 0 | Q138: 0 | R138: =Q138*H138 -> 0 | S138: 0 | T138: =S138*H138 -> 0 | AR138: 4 | AT138: K | AU138: 2 | AY138: ROZPOCET | BE138: =IF(N138="základní",J138,0) -> 0 | BF138: =IF(N138="snížená",J138,0) -> 0 | BG138: =IF(N138="zákl. přenesená",J138,0) -> 0 | BH138: =IF(N138="sníž. přenesená",J138,0) -> 0 | BI138: =IF(N138="nulová",J138,0) -> 0 | BJ138: 1 | BK138: =ROUND(I138*H138,2) -> 0 | BL138: 4 | BM138: -1909008017
D139: PP | F139: Technická specifikace: položka zahrnuje: nutné přemístění ornice z dočasných skládek vzdálených do 50m rozprostření ornice v předepsané tloušťce ve svahu přes 1:5 | AT139: PP | AU139: 2
D140: VV | F140: "úprava za obrubou"(65+35*2)*0,5*2 | H140: =(65+35*2)*0.5*2 -> 135 | AT140: VV | AU140: 2 | AV140: 2 | AW140: True | AX140: 0 | AY140: ROZPOCET
C141: 12 | D141: K | E141: 18241 | F141: ZALOŽENÍ TRÁVNÍKU RUČNÍM VÝSEVEM | G141: M2 | H141: 135 | I141: 0 | J141: =ROUND(I141*H141,2) -> 0 | K141: OTSKP-SPK 2017 | N141: základní | O141: 0 | P141: =O141*H141 -> 0 | Q141: 0 | R141: =Q141*H141 -> 0 | S141: 0 | T141: =S141*H141 -> 0 | AR141: 4 | AT141: K | AU141: 2 | AY141: ROZPOCET | BE141: =IF(N141="základní",J141,0) -> 0 | BF141: =IF(N141="snížená",J141,0) -> 0 | BG141: =IF(N141="zákl. přenesená",J141,0) -> 0 | BH141: =IF(N141="sníž. přenesená",J141,0) -> 0 | BI141: =IF(N141="nulová",J141,0) -> 0 | BJ141: 1 | BK141: =ROUND(I141*H141,2) -> 0 | BL141: 4 | BM141: 99324852
D142: PP | F142: Technická specifikace: Zahrnuje dodání předepsané travní směsi, její výsev na ornici, zalévání, první pokosení, to vše bez ohledu na sklon terénu | AT142: PP | AU142: 2
D143: D | E143: 5 | F143: Komunikace pozemní | J143: =SUBTOTAL(9,J144:J153) -> 0 | P143: =SUM(P146:P154) -> 0 | R143: =SUM(R146:R154) -> 0 | T143: =SUM(T146:T154) -> 0 | AR143: 1 | AT143: D | AU143: 1 | AY143: ROZPOCET | BK143: =SUM(BK146:BK154) -> 0
C144: 19 | D144: K | E144: 574A43 | F144: ASFALTOVÝ BETON PRO OBRUSNÉ VRSTVY ACO 11 TL. 50MM | G144: M2 | H144: =65*0.3 -> 19.5 | I144: 0 | J144: =ROUND(I144*H144,2) -> 0 | K144: OTSKP-SPK 2017 | N144: základní | O144: 0 | P144: =O144*H144 -> 0 | Q144: 0 | R144: =Q144*H144 -> 0 | S144: 0 | T144: =S144*H144 -> 0 | AR144: 4 | AT144: K | AU144: 2 | AY144: ROZPOCET | BE144: =IF(N144="základní",J144,0) -> 0 | BF144: =IF(N144="snížená",J144,0) -> 0 | BG144: =IF(N144="zákl. přenesená",J144,0) -> 0 | BH144: =IF(N144="sníž. přenesená",J144,0) -> 0 | BI144: =IF(N144="nulová",J144,0) -> 0 | BJ144: 1 | BK144: =ROUND(I144*H144,2) -> 0 | BL144: 4 | BM144: -1025867060
D145: PP | F145: Technická specifikace: - dodání směsi v požadované kvalitě - očištění podkladu - uložení směsi dle předepsaného technologického předpisu, zhutnění vrstvy v předepsané tloušťce - zřízení vrstvy bez rozlišení šířky, pokládání vrstvy po etapách, včetně pracovních spar a spojů - úpravu napojení, ukončení podél obrubníků, dilatačních zařízení, odvodňovacích proužků, odvodňovačů, vpustí, šachet a pod. - nezahrnuje postřiky, nátěry - nezahrnuje těsnění podél obrubníků, dilatačních zařízení, odvodňovacích proužků, odvodňovačů, vpustí, šachet a pod. | AT145: PP | AU145: 2
C146: 15 | D146: K | E146: 56330 | F146: VOZOVKOVÉ VRSTVY ZE ŠTĚRKODRTI | G146: M3 | H146: =SUM(H147:H148) -> 38 | I146: 0 | J146: =ROUND(I146*H146,2) -> 0 | K146: OTSKP-SPK 2017 | N146: základní | O146: 0 | P146: =O146*H146 -> 0 | Q146: 0 | R146: =Q146*H146 -> 0 | S146: 0 | T146: =S146*H146 -> 0 | AR146: 4 | AT146: K | AU146: 2 | AY146: ROZPOCET | BE146: =IF(N146="základní",J146,0) -> 0 | BF146: =IF(N146="snížená",J146,0) -> 0 | BG146: =IF(N146="zákl. přenesená",J146,0) -> 0 | BH146: =IF(N146="sníž. přenesená",J146,0) -> 0 | BI146: =IF(N146="nulová",J146,0) -> 0 | BJ146: 1 | BK146: =ROUND(I146*H146,2) -> 0 | BL146: 4 | BM146: 512314242
D147: PP | F147: Technická specifikace: - dodání kameniva předepsané kvality a zrnitosti - rozprostření a zhutnění vrstvy v předepsané tloušťce - zřízení vrstvy bez rozlišení šířky, pokládání vrstvy po etapách - nezahrnuje postřiky, nátěry | AT147: PP | AU147: 2
D148: VV | F148: "chodníky"0,2*190 | H148: =190*0.2 -> 38 | AT148: VV | AU148: 2 | AV148: 2 | AW148: True | AX148: 0 | AY148: ROZPOCET
C149: 22 | D149: K | E149: 582611 | F149: KRYTY Z BETON DLAŽDIC SE ZÁMKEM ŠEDÝCH TL 60MM DO LOŽE Z KAM | G149: M2 | H149: =H151 -> 180 | I149: 0 | J149: =ROUND(I149*H149,2) -> 0 | K149: OTSKP-SPK 2017 | N149: základní | O149: 0 | P149: =O149*H149 -> 0 | Q149: 0 | R149: =Q149*H149 -> 0 | S149: 0 | T149: =S149*H149 -> 0 | AR149: 4 | AT149: K | AU149: 2 | AY149: ROZPOCET | BE149: =IF(N149="základní",J149,0) -> 0 | BF149: =IF(N149="snížená",J149,0) -> 0 | BG149: =IF(N149="zákl. přenesená",J149,0) -> 0 | BH149: =IF(N149="sníž. přenesená",J149,0) -> 0 | BI149: =IF(N149="nulová",J149,0) -> 0 | BJ149: 1 | BK149: =ROUND(I149*H149,2) -> 0 | BL149: 4 | BM149: -378390911
D150: PP | F150: Technická specifikace: - dodání dlažebního materiálu v požadované kvalitě, dodání materiálu pro předepsané lože v tloušťce předepsané dokumentací a pro předepsanou výplň spar - očištění podkladu - uložení dlažby dle předepsaného technologického předpisu včetně předepsané podkladní vrstvy a předepsané výplně spar - zřízení vrstvy bez rozlišení šířky, pokládání vrstvy po etapách - úpravu napojení, ukončení podél obrubníků, dilatačních zařízení, odvodňovacích proužků, odvodňovačů, vpustí, šachet a pod., nestanoví-li zadávací dokumentace jinak - nezahrnuje postřiky, nátěry - nezahrnuje těsnění podél obrubníků, dilatačních zařízení, odvodňovacích proužků, odvodňovačů, vpustí, šachet a pod. | AT150: PP | AU150: 2
D151: VV | F151: "chodníky"180 | H151: 180 | AT151: VV | AU151: 2 | AV151: 2 | AW151: True | AX151: 1 | AY151: ROZPOCET
C152: 24 | D152: K | E152: 582614 | F152: KRYTY Z BETON DLAŽDIC SE ZÁMKEM BAREV TL 60MM DO LOŽE Z KAM | G152: M2 | H152: =H154 -> 10 | I152: 0 | J152: =ROUND(I152*H152,2) -> 0 | K152: OTSKP-SPK 2017 | N152: základní | O152: 0 | P152: =O152*H152 -> 0 | Q152: 0 | R152: =Q152*H152 -> 0 | S152: 0 | T152: =S152*H152 -> 0 | AR152: 4 | AT152: K | AU152: 2 | AY152: ROZPOCET | BE152: =IF(N152="základní",J152,0) -> 0 | BF152: =IF(N152="snížená",J152,0) -> 0 | BG152: =IF(N152="zákl. přenesená",J152,0) -> 0 | BH152: =IF(N152="sníž. přenesená",J152,0) -> 0 | BI152: =IF(N152="nulová",J152,0) -> 0 | BJ152: 1 | BK152: =ROUND(I152*H152,2) -> 0 | BL152: 4 | BM152: 121283918
D153: PP | F153: Technická specifikace: - dodání dlažebního materiálu v požadované kvalitě, dodání materiálu pro předepsané lože v tloušťce předepsané dokumentací a pro předepsanou výplň spar - očištění podkladu - uložení dlažby dle předepsaného technologického předpisu včetně předepsané podkladní vrstvy a předepsané výplně spar - zřízení vrstvy bez rozlišení šířky, pokládání vrstvy po etapách - úpravu napojení, ukončení podél obrubníků, dilatačních zařízení, odvodňovacích proužků, odvodňovačů, vpustí, šachet a pod., nestanoví-li zadávací dokumentace jinak - nezahrnuje postřiky, nátěry - nezahrnuje těsnění podél obrubníků, dilatačních zařízení, odvodňovacích proužků, odvodňovačů, vpustí, šachet a pod. | AT153: PP | AU153: 2
D154: VV | F154: "reliéfní dlažby"10 | H154: 10 | AT154: VV | AU154: 2 | AV154: 2 | AW154: True | AX154: 1 | AY154: ROZPOCET
D155: D | E155: 9 | F155: Ostatní konstrukce a práce, bourání | J155: =SUBTOTAL(9,J156:J167) -> 0 | P155: =SUM(P156:P167) -> 0 | R155: =SUM(R156:R167) -> 0 | T155: =SUM(T156:T167) -> 0 | AR155: 1 | AT155: D | AU155: 1 | AY155: ROZPOCET | BK155: =SUM(BK156:BK167) -> 0
C156: 35 | D156: K | E156: 917211 | F156: ZÁHONOVÉ OBRUBY Z BETONOVÝCH OBRUBNÍKŮ ŠÍŘ 50MM | G156: M | H156: =H158 -> 135 | I156: 0 | J156: =ROUND(I156*H156,2) -> 0 | K156: OTSKP-SPK 2017 | N156: základní | O156: 0 | P156: =O156*H156 -> 0 | Q156: 0 | R156: =Q156*H156 -> 0 | S156: 0 | T156: =S156*H156 -> 0 | AR156: 4 | AT156: K | AU156: 2 | AY156: ROZPOCET | BE156: =IF(N156="základní",J156,0) -> 0 | BF156: =IF(N156="snížená",J156,0) -> 0 | BG156: =IF(N156="zákl. přenesená",J156,0) -> 0 | BH156: =IF(N156="sníž. přenesená",J156,0) -> 0 | BI156: =IF(N156="nulová",J156,0) -> 0 | BJ156: 1 | BK156: =ROUND(I156*H156,2) -> 0 | BL156: 4 | BM156: -1419580674
D157: PP | F157: Technická specifikace: Položka zahrnuje: dodání a pokládku betonových obrubníků o rozměrech předepsaných zadávací dokumentací betonové lože i boční betonovou opěrku. | AT157: PP | AU157: 2
D158: VV | F158: "záhonové obruby"65+35*2 | H158: =65+35*2 -> 135 | AT158: VV | AU158: 2 | AV158: 2 | AW158: True | AX158: 1 | AY158: ROZPOCET
C159: 36 | D159: K | E159: 917224 | F159: SILNIČNÍ A CHODNÍKOVÉ OBRUBY Z BETONOVÝCH OBRUBNÍKŮ ŠÍŘ 150MM | G159: M | H159: =H161 -> 65 | I159: 0 | J159: =ROUND(I159*H159,2) -> 0 | K159: OTSKP-SPK 2017 | N159: základní | O159: 0 | P159: =O159*H159 -> 0 | Q159: 0 | R159: =Q159*H159 -> 0 | S159: 0 | T159: =S159*H159 -> 0 | AR159: 4 | AT159: K | AU159: 2 | AY159: ROZPOCET | BE159: =IF(N159="základní",J159,0) -> 0 | BF159: =IF(N159="snížená",J159,0) -> 0 | BG159: =IF(N159="zákl. přenesená",J159,0) -> 0 | BH159: =IF(N159="sníž. přenesená",J159,0) -> 0 | BI159: =IF(N159="nulová",J159,0) -> 0 | BJ159: 1 | BK159: =ROUND(I159*H159,2) -> 0 | BL159: 4 | BM159: 2096860509
D160: PP | F160: Technická specifikace: Položka zahrnuje: dodání a pokládku betonových obrubníků o rozměrech předepsaných zadávací dokumentací betonové lože i boční betonovou opěrku. | AT160: PP | AU160: 2
D161: VV | F161: "silniční obruby"65 | H161: 65 | AT161: VV | AU161: 2 | AV161: 2 | AW161: True | AX161: 1 | AY161: ROZPOCET
C162: 37 | D162: K | E162: 919111 | F162: ŘEZÁNÍ ASFALTOVÉHO KRYTU VOZOVEK TL DO 50MM | G162: M | H162: =SUM(H163:H164) -> 65 | I162: 0 | J162: =ROUND(I162*H162,2) -> 0 | K162: OTSKP-SPK 2017 | N162: základní | O162: 0 | P162: =O162*H162 -> 0 | Q162: 0 | R162: =Q162*H162 -> 0 | S162: 0 | T162: =S162*H162 -> 0 | AR162: 4 | AT162: K | AU162: 2 | AY162: ROZPOCET | BE162: =IF(N162="základní",J162,0) -> 0 | BF162: =IF(N162="snížená",J162,0) -> 0 | BG162: =IF(N162="zákl. přenesená",J162,0) -> 0 | BH162: =IF(N162="sníž. přenesená",J162,0) -> 0 | BI162: =IF(N162="nulová",J162,0) -> 0 | BJ162: 1 | BK162: =ROUND(I162*H162,2) -> 0 | BL162: 4 | BM162: -1806984054
D163: PP | F163: Technická specifikace: položka zahrnuje řezání vozovkové vrstvy v předepsané tloušťce, včetně spotřeby vody | AT163: PP | AU163: 2
D164: VV | F164: "napojení na stávající vrstvy"65 | H164: 65 | AT164: VV | AU164: 2 | AV164: 2 | AW164: True | AX164: 0 | AY164: ROZPOCET
C165: 39 | D165: K | E165: 931312 | F165: TĚSNĚNÍ DILATAČ SPAR ASF ZÁLIVKOU PRŮŘ DO 200MM2 | G165: M | H165: =H167 -> 130 | I165: 0 | J165: =ROUND(I165*H165,2) -> 0 | K165: OTSKP-SPK 2017 | N165: základní | O165: 0 | P165: =O165*H165 -> 0 | Q165: 0 | R165: =Q165*H165 -> 0 | S165: 0 | T165: =S165*H165 -> 0 | AR165: 4 | AT165: K | AU165: 2 | AY165: ROZPOCET | BE165: =IF(N165="základní",J165,0) -> 0 | BF165: =IF(N165="snížená",J165,0) -> 0 | BG165: =IF(N165="zákl. přenesená",J165,0) -> 0 | BH165: =IF(N165="sníž. přenesená",J165,0) -> 0 | BI165: =IF(N165="nulová",J165,0) -> 0 | BJ165: 1 | BK165: =ROUND(I165*H165,2) -> 0 | BL165: 4 | BM165: 1345260856
D166: PP | F166: Technická specifikace: položka zahrnuje dodávku a osazení předepsaného materiálu, očištění ploch spáry před úpravou, očištění okolí spáry po úpravě nezahrnuje těsnící profil | AT166: PP | AU166: 2
...

Sheet 00 - Vedlejší rozpočtové ...
L2: >> skryté sloupce << | AT2: {fdd8fa71-155b-4fce-be48-a2bd4d00a42b}
AT3: 2
D4: KRYCÍ LIST SOUPISU PRACÍ | M4: v --- níže se nacházejí doplnkové a pomocné údaje k sestavám --- v | AT4: False
D6: Stavba:
E7: ='Rekapitulace stavby'!K6 -> Mimoň chodníky sídiliště pod Ralskem
D8: Objekt:
E9: 00 - Vedlejší rozpočtové náklady
D11: KSO: | I11: CC-CZ:
D12: Místo: | I12: Datum: | J12: ='Rekapitulace stavby'!AN8 -> 43979
D14: Zadavatel: | I14: IČ: | J14: =IF('Rekapitulace stavby'!AN10="","",'Rekapitulace stavby'!AN10)
E15: =IF('Rekapitulace stavby'!E11="","",'Rekapitulace stavby'!E11) | I15: DIČ: | J15: =IF('Rekapitulace stavby'!AN11="","",'Rekapitulace stavby'!AN11)
D17: Zhotovitel: | I17: IČ: | J17: ='Rekapitulace stavby'!AN13
E18: ='Rekapitulace stavby'!E14 | I18: DIČ: | J18: ='Rekapitulace stavby'!AN14
D20: Projektant: | I20: IČ: | J20: =IF('Rekapitulace stavby'!AN16="","",'Rekapitulace stavby'!AN16)
E21: =IF('Rekapitulace stavby'!E17="","",'Rekapitulace stavby'!E17) -> Ing. Jiří Sobol | I21: DIČ: | J21: =IF('Rekapitulace stavby'!AN17="","",'Rekapitulace stavby'!AN17)
D23: Zpracovatel: | I23: IČ: | J23: =IF('Rekapitulace stavby'!AN19="","",'Rekapitulace stavby'!AN19)
E24: =IF('Rekapitulace stavby'!E20="","",'Rekapitulace stavby'!E20) -> Ing. Dominik Šlajer | I24: DIČ: | J24: =IF('Rekapitulace stavby'!AN20="","",'Rekapitulace stavby'!AN20)
D26: Poznámka:
D30: Cena bez DPH | J30: =ROUND(J117, 2) -> 0
F32: Základ daně | I32: Sazba daně | J32: Výše daně
D33: DPH | E33: základní | F33: =ROUND((SUM(BE117:BE132)), 2) -> 0 | I33: 0.21 | J33: =ROUND(((SUM(BE117:BE132))*I33), 2) -> 0
E34: snížená | F34: =ROUND((SUM(BF117:BF132)), 2) -> 0 | I34: 0.15 | J34: =ROUND(((SUM(BF117:BF132))*I34), 2) -> 0
E35: zákl. přenesená | F35: =ROUND((SUM(BG117:BG132)), 2) -> 0 | I35: 0.21 | J35: =0 -> 0
E36: sníž. přenesená | F36: =ROUND((SUM(BH117:BH132)), 2) -> 0 | I36: 0.15 | J36: =0 -> 0
E37: nulová | F37: =ROUND((SUM(BI117:BI132)), 2) -> 0 | I37: 0 | J37: =0 -> 0
D39: Cena s DPH | G39: v | H39: CZK | J39: =SUM(J30:J37) -> 0
D50: Projektant | G50: Zpracovatel
D61: Datum a podpis: | F61: Razítko | G61: Datum a podpis: | J61: Razítko
D65: Objednavatel | G65: Zhotovitel
D76: Datum a podpis: | F76: Razítko | G76: Datum a podpis: | J76: Razítko
C82: REKAPITULACE ČLENĚNÍ SOUPISU PRACÍ
C84: Stavba:
E85: =E7 -> Mimoň chodníky sídiliště pod Ralskem
C86: Objekt:
E87: =E9 -> 00 - Vedlejší rozpočtové náklady
C89: Místo: | F89: =F12 | I89: Datum: | J89: =IF(J12="","",J12) -> 43979
C91: Zadavatel: | F91: =E15 | I91: Projektant: | J91: =E21 -> Ing. Jiří Sobol
C92: Zhotovitel: | F92: =IF(E18="","",E18) | I92: Zpracovatel: | J92: =E24 -> Ing. Dominik Šlajer
C94: Kód dílu - Popis | J94: Cena celkem [CZK]
C96: Náklady ze soupisu prací | J96: =J117 -> 0 | AU96: -1
D97: N00 - VŠEOBECNÉ PODMÍNKY | J97: =J118 -> 0
C104: SOUPIS PRACÍ
C106: Stavba:
E107: =E7 -> Mimoň chodníky sídiliště pod Ralskem
C108: Objekt:
E109: =E9 -> 00 - Vedlejší rozpočtové náklady
C111: Místo: | F111: =F12 | I111: Datum: | J111: =IF(J12="","",J12) -> 43979
C113: Zadavatel: | F113: =E15 | I113: Projektant: | J113: =E21 -> Ing. Jiří Sobol
C114: Zhotovitel: | F114: =IF(E18="","",E18) | I114: Zpracovatel: | J114: =E24 -> Ing. Dominik Šlajer
C116: PČ | D116: Typ | E116: Kód | F116: Popis | G116: MJ | H116: Množství | I116: J.cena [CZK] | J116: Cena celkem [CZK] | K116: Cenová soustava | N116: DPH | O116: J. Nh [h] | P116: Nh celkem [h] | Q116: J. hmotnost [t] | R116: Hmotnost celkem [t] | S116: J. suť [t] | T116: Suť Celkem [t] | U116: Dodavatel
C117: Náklady soupisu celkem | J117: =BK117 -> 0 | P117: =P118 -> 0 | R117: =R118 -> 0 | T117: =T118 -> 0 | AT117: D | AU117: -1 | BK117: =BK118 -> 0
D118: D | E118: N00 | F118: VŠEOBECNÉ PODMÍNKY | J118: =BK118 -> 0 | P118: =SUM(P119:P132) -> 0 | R118: =SUM(R119:R132) -> 0 | T118: =SUM(T119:T132) -> 0 | AR118: 4 | AT118: D | AU118: 0 | AY118: ROZPOCET | BK118: =SUM(BK119:BK132) -> 0
C119: 1 | D119: K | E119: 02720-1 | F119: NÁKLADY NA DIO VČ. PROJEDNÁNÍ PŘECH. ZNAČENÍ | G119: KČ | H119: 1 | I119: 0 | J119: =ROUND(I119*H119,2) -> 0 | N119: základní | O119: 0 | P119: =O119*H119 -> 0 | Q119: 0 | R119: =Q119*H119 -> 0 | S119: 0 | T119: =S119*H119 -> 0 | AR119: 512 | AT119: K | AU119: 1 | AY119: ROZPOCET | BE119: =IF(N119="základní",J119,0) -> 0 | BF119: =IF(N119="snížená",J119,0) -> 0 | BG119: =IF(N119="zákl. přenesená",J119,0) -> 0 | BH119: =IF(N119="sníž. přenesená",J119,0) -> 0 | BI119: =IF(N119="nulová",J119,0) -> 0 | BJ119: 1 | BK119: =ROUND(I119*H119,2) -> 0 | BL119: 512 | BM119: -1906092451
D120: PP | F120: NÁKLADY NA DIO VČ. PROJEDNÁNÍ PŘECH. ZNAČENÍ | AT120: PP | AU120: 1
C121: 2 | D121: K | E121: 02730 | F121: POMOC PRÁCE ZŘÍZ NEBO ZAJIŠŤ OCHRANU INŽENÝRSKÝCH SÍTÍ | G121: KČ | H121: 1 | I121: 0 | J121: =ROUND(I121*H121,2) -> 0 | K121: CS OTSKP | N121: základní | O121: 0 | P121: =O121*H121 -> 0 | Q121: 0 | R121: =Q121*H121 -> 0 | S121: 0 | T121: =S121*H121 -> 0 | AR121: 512 | AT121: K | AU121: 1 | AY121: ROZPOCET | BE121: =IF(N121="základní",J121,0) -> 0 | BF121: =IF(N121="snížená",J121,0) -> 0 | BG121: =IF(N121="zákl. přenesená",J121,0) -> 0 | BH121: =IF(N121="sníž. přenesená",J121,0) -> 0 | BI121: =IF(N121="nulová",J121,0) -> 0 | BJ121: 1 | BK121: =ROUND(I121*H121,2) -> 0 | BL121: 512 | BM121: 220489309
D122: PP | F122: POMOC PRÁCE ZŘÍZ NEBO ZAJIŠŤ OCHRANU INŽENÝRSKÝCH SÍTÍ | AT122: PP | AU122: 1
C123: 3 | D123: K | E123: 02911 | F123: OSTATNÍ POŽADAVKY - GEODETICKÉ ZAMĚŘENÍ | G123: kpl | H123: 1 | I123: 0 | J123: =ROUND(I123*H123,2) -> 0 | K123: CS OTSKP | N123: základní | O123: 0 | P123: =O123*H123 -> 0 | Q123: 0 | R123: =Q123*H123 -> 0 | S123: 0 | T123: =S123*H123 -> 0 | AR123: 512 | AT123: K | AU123: 1 | AY123: ROZPOCET | BE123: =IF(N123="základní",J123,0) -> 0 | BF123: =IF(N123="snížená",J123,0) -> 0 | BG123: =IF(N123="zákl. přenesená",J123,0) -> 0 | BH123: =IF(N123="sníž. přenesená",J123,0) -> 0 | BI123: =IF(N123="nulová",J123,0) -> 0 | BJ123: 1 | BK123: =ROUND(I123*H123,2) -> 0 | BL123: 512 | BM123: 630225893
D124: PP | F124: OSTATNÍ POŽADAVKY - GEODETICKÉ ZAMĚŘENÍ | AT124: PP | AU124: 1
C125: 4 | D125: K | E125: 02911-1 | F125: OSTATNÍ POŽADAVKY - VYTYČENÍ ING. SÍTÍ | G125: kpl | H125: 1 | I125: 0 | J125: =ROUND(I125*H125,2) -> 0 | N125: základní | O125: 0 | P125: =O125*H125 -> 0 | Q125: 0 | R125: =Q125*H125 -> 0 | S125: 0 | T125: =S125*H125 -> 0 | AR125: 512 | AT125: K | AU125: 1 | AY125: ROZPOCET | BE125: =IF(N125="základní",J125,0) -> 0 | BF125: =IF(N125="snížená",J125,0) -> 0 | BG125: =IF(N125="zákl. přenesená",J125,0) -> 0 | BH125: =IF(N125="sníž. přenesená",J125,0) -> 0 | BI125: =IF(N125="nulová",J125,0) -> 0 | BJ125: 1 | BK125: =ROUND(I125*H125,2) -> 0 | BL125: 512 | BM125: -1346100849
D126: PP | F126: OSTATNÍ POŽADAVKY- VYTYČENÍ ING. SÍTÍ | AT126: PP | AU126: 1
C127: 5 | D127: K | E127: 02944 | F127: OSTAT POŽADAVKY - DOKUMENTACE RDS, DSPS V TIŠTĚNÉ A DIGIT FORMĚ | G127: KČ | H127: 1 | I127: 0 | J127: =ROUND(I127*H127,2) -> 0 | K127: CS OTSKP | N127: základní | O127: 0 | P127: =O127*H127 -> 0 | Q127: 0 | R127: =Q127*H127 -> 0 | S127: 0 | T127: =S127*H127 -> 0 | AR127: 512 | AT127: K | AU127: 1 | AY127: ROZPOCET | BE127: =IF(N127="základní",J127,0) -> 0 | BF127: =IF(N127="snížená",J127,0) -> 0 | BG127: =IF(N127="zákl. přenesená",J127,0) -> 0 | BH127: =IF(N127="sníž. přenesená",J127,0) -> 0 | BI127: =IF(N127="nulová",J127,0) -> 0 | BJ127: 1 | BK127: =ROUND(I127*H127,2) -> 0 | BL127: 512 | BM127: -360651398
D128: PP | F128: OSTAT POŽADAVKY - DOKUMENTACE RDS, DSPS V DIGIT FORMĚ | AT128: PP | AU128: 1
C129: 6 | D129: K | E129: 02991 | F129: OSTATNÍ POŽADAVKY - INFORMAČNÍ TABULE | G129: KUS | H129: 2 | I129: 0 | J129: =ROUND(I129*H129,2) -> 0 | K129: CS OTSKP | N129: základní | O129: 0 | P129: =O129*H129 -> 0 | Q129: 0 | R129: =Q129*H129 -> 0 | S129: 0 | T129: =S129*H129 -> 0 | AR129: 512 | AT129: K | AU129: 1 | AY129: ROZPOCET | BE129: =IF(N129="základní",J129,0) -> 0 | BF129: =IF(N129="snížená",J129,0) -> 0 | BG129: =IF(N129="zákl. přenesená",J129,0) -> 0 | BH129: =IF(N129="sníž. přenesená",J129,0) -> 0 | BI129: =IF(N129="nulová",J129,0) -> 0 | BJ129: 1 | BK129: =ROUND(I129*H129,2) -> 0 | BL129: 512 | BM129: 353375109
D130: PP | F130: OSTATNÍ POŽADAVKY - INFORMAČNÍ TABULE | AT130: PP | AU130: 1
C131: 7 | D131: K | E131: 03100 | F131: ZAŘÍZENÍ STAVENIŠTĚ - ZŘÍZENÍ, PROVOZ, DEMONTÁŽ | G131: KČ | H131: 1 | I131: 0 | J131: =ROUND(I131*H131,2) -> 0 | K131: CS OTSKP | N131: základní | O131: 0 | P131: =O131*H131 -> 0 | Q131: 0 | R131: =Q131*H131 -> 0 | S131: 0 | T131: =S131*H131 -> 0 | AR131: 512 | AT131: K | AU131: 1 | AY131: ROZPOCET | BE131: =IF(N131="základní",J131,0) -> 0 | BF131: =IF(N131="snížená",J131,0) -> 0 | BG131: =IF(N131="zákl. přenesená",J131,0) -> 0 | BH131: =IF(N131="sníž. přenesená",J131,0) -> 0 | BI131: =IF(N131="nulová",J131,0) -> 0 | BJ131: 1 | BK131: =ROUND(I131*H131,2) -> 0 | BL131: 512 | BM131: 2003986023
D132: PP | F132: ZAŘÍZENÍ STAVENIŠTĚ - ZŘÍZENÍ, PROVOZ, DEMONTÁŽ | AT132: PP | AU132: 1
