Workbook
Name CelkemDPHVypocet: Stavba!$H$40
Name CenaCelkem: Stavba!$G$29
Name CenaCelkemBezDPH: Stavba!$G$28
Name CenaCelkemVypocet: Stavba!$I$40
Name cisloobjektu: Stavba!$D$3
Name CisloRozpoctu: '[1]Krycí list'!$C$2
Name CisloStavby: Stavba!$D$2
Name cislostavby: '[1]Krycí list'!$A$7
Name CisloStavebnihoRozpoctu: Stavba!$D$4
Name dadresa: Stavba!$D$12:$G$12
Name DIČ: Stavba!$I$12
Name dmisto: Stavba!$D$13:$G$13
Name DPHSni: Stavba!$G$24
Name DPHZakl: Stavba!$G$26
Name dpsc: Stavba!$C$13
Name IČO: Stavba!$I$11
Name Mena: Stavba!$J$29
Name MistoStavby: Stavba!$D$4
Name nazevobjektu: Stavba!$E$3
Name NazevRozpoctu: '[1]Krycí list'!$D$2
Name NazevStavby: Stavba!$E$2
Name nazevstavby: '[1]Krycí list'!$C$7
Name NazevStavebnihoRozpoctu: Stavba!$E$4
Name oadresa: Stavba!$D$6
Name Objednatel: Stavba!$D$5
Name Objekt: Stavba!$B$38
Name odic: Stavba!$I$6
Name oico: Stavba!$I$5
Name omisto: Stavba!$D$7
Name onazev: Stavba!$D$6
Name opsc: Stavba!$C$7
Name padresa: Stavba!$D$9
Name pdic: Stavba!$I$9
Name pico: Stavba!$I$8
Name pmisto: Stavba!$D$10
Name PocetMJ: #REF!
Name PoptavkaID: Stavba!$A$1
Name pPSC: Stavba!$C$10
Name Projektant: Stavba!$D$8
Name SazbaDPH1: Stavba!$E$23
Name SazbaDPH1: '[1]Krycí list'!$C$30
Name SazbaDPH2: Stavba!$E$25
Name SazbaDPH2: '[1]Krycí list'!$C$32
Name SloupecCC: #REF!
Name SloupecCisloPol: #REF!
Name SloupecJC: #REF!
Name SloupecMJ: #REF!
Name SloupecMnozstvi: #REF!
Name SloupecNazPol: #REF!
Name SloupecPC: #REF!
Name Vypracoval: Stavba!$D$14
Name ZakladDPHSni: Stavba!$G$23
Name ZakladDPHSniVypocet: Stavba!$F$40
Name ZakladDPHZakl: Stavba!$G$25
Name ZakladDPHZaklVypocet: Stavba!$G$40
Name Zaokrouhleni: Stavba!$G$27
Name Zhotovitel: Stavba!$D$11:$G$11

Sheet Pokyny pro vyplnění
A1: Pokyny pro vyplnění
A2: Ve všech listech tohoto souboru můžete měnit pouze buňky s modrým pozadím. Jedná se o tyto údaje : - údaje o firmě - jednotkové ceny položek zadané na maximálně dvě desetinná místa

Sheet Stavba
A1: #RTSROZP# | B1: Položkový rozpočet
B2: Zakázka: | E2: Obnova hřbitova v Mimoni - zpevněné plochy
B3: Objekt:
B4: Rozpočet:
B5: Objednatel: | D5: Město Mimoň | H5: IČ: | I5: 00260746
D6: Mírová 120 | H6: DIČ: | I6: CZ00260746
C7: 47124 | D7: Mimoň
B8: Projektant: | H8: IČ:
H9: DIČ:
B11: Zhotovitel: | H11: IČ:
H12: DIČ:
B14: Vypracoval: | D14: Ing. Tomáš Petr
B15: Rozpis ceny | I15: Celkem
A16: HSV | B16: HSV | I16: =SUMIF(F47:F49,A16,I47:I49)+SUMIF(F47:F49,"PSU",I47:I49) -> 0
A17: PSV | B17: PSV | I17: =SUMIF(F47:F49,A17,I47:I49) -> 0
A18: MON | B18: MON | I18: =SUMIF(F47:F49,A18,I47:I49) -> 0
A19: VN | B19: Vedlejší náklady | I19: =SUMIF(F47:F49,A19,I47:I49) -> 0
A20: ON | B20: Ostatní náklady | I20: =SUMIF(F47:F49,A20,I47:I49) -> 0
B21: Celkem | I21: =SUM(I16:J20) -> 0
B22: Rekapitulace daní
B23: Základ pro sníženou DPH | E23: 15 | F23: % | G23: =ZakladDPHSniVypocet -> 0 | J23: =Mena -> CZK
B24: Snížená DPH | E24: =SazbaDPH1 -> 15 | F24: % | G24: =ZakladDPHSni*SazbaDPH1/100 -> 0 | J24: =Mena -> CZK
B25: Základ pro základní DPH | E25: 21 | F25: % | G25: =ZakladDPHZaklVypocet -> 0 | J25: =Mena -> CZK
B26: Základní DPH | E26: =SazbaDPH2 -> 21 | F26: % | G26: =ZakladDPHZakl*SazbaDPH2/100 -> 0 | J26: =Mena -> CZK
B27: Zaokrouhlení | G27: =0 -> 0 | J27: =Mena -> CZK
B28: Cena celkem bez DPH | G28: =ZakladDPHSniVypocet+ZakladDPHZaklVypocet -> 0 | J28: =Mena -> CZK
B29: Cena celkem s DPH | G29: =ZakladDPHSni+DPHSni+ZakladDPHZakl+DPHZakl+Zaokrouhleni -> 0 | J29: CZK
C32: v | F32: dne | H32: =TODAY() -> 43551
D35: Za zhotovitele | H35: Za objednatele
B37: Rekapitulace dílčích částí
A38: #CASTI>> | B38: Číslo | C38: Název | F38: =B23 -> Základ pro sníženou DPH | G38: =B25 -> Základ pro základní DPH | H38: DPH celkem | I38: Cena celkem | J38: %
A39: 1 | F39: =' Pol'!AC39 -> 0 | G39: =' Pol'!AD39 -> 0 | H39: =(F39*SazbaDPH1/100)+(G39*SazbaDPH2/100) -> 0 | I39: =F39+G39+H39 -> 0 | J39: =IF(CenaCelkemVypocet=0,"",I39/CenaCelkemVypocet*100)
B40: Celkem za stavbu | F40: =SUMIF(A39:A39,"=1",F39:F39) -> 0 | G40: =SUMIF(A39:A39,"=1",G39:G39) -> 0 | H40: =SUMIF(A39:A39,"=1",H39:H39) -> 0 | I40: =SUMIF(A39:A39,"=1",I39:I39) -> 0 | J40: =SUMIF(A39:A39,"=1",J39:J39) -> 0
B44: Rekapitulace dílů
B46: Číslo | C46: Název | F46: Typ dílu | I46: Celkem
B47: 1 | C47: Zemní práce | F47: HSV | I47: =' Pol'!G8 -> 0
B48: 5 | C48: Komunikace | F48: HSV | I48: =' Pol'!G20 -> 0
B49: 91 | C49: Doplňující práce na komunikaci | F49: HSV | I49: =' Pol'!G31 -> 0
B50: Cena celkem | I50: =SUM(I47:I49) -> 0

Sheet VzorPolozky
A1: Položkový rozpočet
A2: Z:
A3: O:
A4: R:

Sheet  Pol
A1: Položkový rozpočet | AE1: #TypZaznamu#
A2: S: | C2: Obnova hřbitova v Mimoni - zpevněné plochy | AE2: STA
A3: O: | AE3: OBJ
A4: R: | AE4: ROZ
A5: C: | AE5: CAS_STR
A7: P.č. | B7: Číslo položky | C7: Název položky | D7: MJ | E7: množství | F7: cena / MJ | G7: Celkem | H7: Dodávka | I7: Dodávka celk. | J7: Montáž | K7: Montáž celk. | L7: DPH | M7: cena s DPH | N7: hmotnost / MJ | O7: hmotnost celk.(t) | P7: dem. hmotnost / MJ | Q7: dem. hmotnost celk.(t) | R7: Ceník | S7: Cen. soustava | T7: Nhod / MJ | U7: Nhod celk.
A8: Díl: | B8: 1 | C8: Zemní práce | G8: =SUMIF(AE9:AE19,"<>NOR",G9:G19) -> 0 | I8: =SUM(I9:I19) -> 0 | K8: =SUM(K9:K19) -> 0 | M8: =SUM(M9:M19) -> 0 | O8: =SUM(O9:O19) -> 0 | Q8: =SUM(Q9:Q19) -> 0 | U8: =SUM(U9:U19) -> 745.66 | AE8: DIL
A9: 1 | B9: 121101103R00 | C9: Sejmutí ornice s přemístěním přes 100 do 250 m, tl. 150-200 mm | D9: m3 | E9: 269.4 | G9: =ROUND(E9*F9,2) -> 0 | I9: =ROUND(E9*H9,2) -> 0 | K9: =ROUND(E9*J9,2) -> 0 | L9: 21 | M9: =G9*(1+L9/100) -> 0 | N9: 0 | O9: =ROUND(E9*N9,5) -> 0 | P9: 0 | Q9: =ROUND(E9*P9,5) -> 0 | T9: 0.0134 | U9: =ROUND(E9*T9,2) -> 3.61 | AE9: POL1_0
A10: 2 | B10: 181301113R00 | C10: Rozprostření ornice, rovina, tl.15-20 cm,nad 500m2 | D10: m2 | E10: 1129.17 | G10: =ROUND(E10*F10,2) -> 0 | I10: =ROUND(E10*H10,2) -> 0 | K10: =ROUND(E10*J10,2) -> 0 | L10: 21 | M10: =G10*(1+L10/100) -> 0 | N10: 0 | O10: =ROUND(E10*N10,5) -> 0 | P10: 0 | Q10: =ROUND(E10*P10,5) -> 0 | T10: 0.028 | U10: =ROUND(E10*T10,2) -> 31.62 | AE10: POL1_0
A11: 3 | B11: 122201101R00 | C11: Odkopávky nezapažené v hor. 3 do 100 m3 | D11: m3 | E11: 53.35 | G11: =ROUND(E11*F11,2) -> 0 | I11: =ROUND(E11*H11,2) -> 0 | K11: =ROUND(E11*J11,2) -> 0 | L11: 21 | M11: =G11*(1+L11/100) -> 0 | N11: 0 | O11: =ROUND(E11*N11,5) -> 0 | P11: 0 | Q11: =ROUND(E11*P11,5) -> 0 | T11: 0.368 | U11: =ROUND(E11*T11,2) -> 19.63 | AE11: POL1_0
A12: 4 | B12: 131201203R00 | C12: Hloubení zapažených jam v hor.3 do 10000 m3, sanační výkop hl. cca 3m s ručním vybráním ostatků | D12: m3 | E12: 382.95 | G12: =ROUND(E12*F12,2) -> 0 | I12: =ROUND(E12*H12,2) -> 0 | K12: =ROUND(E12*J12,2) -> 0 | L12: 21 | M12: =G12*(1+L12/100) -> 0 | N12: 0 | O12: =ROUND(E12*N12,5) -> 0 | P12: 0 | Q12: =ROUND(E12*P12,5) -> 0 | T12: 0.754 | U12: =ROUND(E12*T12,2) -> 288.74 | AE12: POL1_0
A13: 5 | B13: 167101101R00 | C13: Nakládání výkopku z hor.1-4 v množství do 100 m3 | D13: m3 | E13: 436.3 | G13: =ROUND(E13*F13,2) -> 0 | I13: =ROUND(E13*H13,2) -> 0 | K13: =ROUND(E13*J13,2) -> 0 | L13: 21 | M13: =G13*(1+L13/100) -> 0 | N13: 0 | O13: =ROUND(E13*N13,5) -> 0 | P13: 0 | Q13: =ROUND(E13*P13,5) -> 0 | T13: 0.652 | U13: =ROUND(E13*T13,2) -> 284.47 | AE13: POL1_0
A14: 6 | B14: 122201109R00 | C14: Příplatek za lepivost - odkopávky v hor. 3 | D14: m3 | E14: 436.3 | G14: =ROUND(E14*F14,2) -> 0 | I14: =ROUND(E14*H14,2) -> 0 | K14: =ROUND(E14*J14,2) -> 0 | L14: 21 | M14: =G14*(1+L14/100) -> 0 | N14: 0 | O14: =ROUND(E14*N14,5) -> 0 | P14: 0 | Q14: =ROUND(E14*P14,5) -> 0 | T14: 0.058 | U14: =ROUND(E14*T14,2) -> 25.31 | AE14: POL1_0
A15: 7 | B15: 174101101R00 | C15: Zásyp jam, rýh, šachet se zhutněním | D15: m3 | E15: 436.3 | G15: =ROUND(E15*F15,2) -> 0 | I15: =ROUND(E15*H15,2) -> 0 | K15: =ROUND(E15*J15,2) -> 0 | L15: 21 | M15: =G15*(1+L15/100) -> 0 | N15: 0 | O15: =ROUND(E15*N15,5) -> 0 | P15: 0 | Q15: =ROUND(E15*P15,5) -> 0 | T15: 0.202 | U15: =ROUND(E15*T15,2) -> 88.13 | AE15: POL1_0
A16: 8 | B16: 181101102R00 | C16: Úprava pláně v zářezech v hor. 1-4, se zhutněním | D16: m2 | E16: 197.66 | G16: =ROUND(E16*F16,2) -> 0 | I16: =ROUND(E16*H16,2) -> 0 | K16: =ROUND(E16*J16,2) -> 0 | L16: 21 | M16: =G16*(1+L16/100) -> 0 | N16: 0 | O16: =ROUND(E16*N16,5) -> 0 | P16: 0 | Q16: =ROUND(E16*P16,5) -> 0 | T16: 0.018 | U16: =ROUND(E16*T16,2) -> 3.56 | AE16: POL1_0
A17: 9 | B17: 162701105R00 | C17: Vodorovné přemístění výkopku z hor.1-4 do 10000 m | D17: m3 | E17: 53.35 | G17: =ROUND(E17*F17,2) -> 0 | I17: =ROUND(E17*H17,2) -> 0 | K17: =ROUND(E17*J17,2) -> 0 | L17: 21 | M17: =G17*(1+L17/100) -> 0 | N17: 0 | O17: =ROUND(E17*N17,5) -> 0 | P17: 0 | Q17: =ROUND(E17*P17,5) -> 0 | T17: 0.011 | U17: =ROUND(E17*T17,2) -> 0.59 | AE17: POL1_0
A18: 10 | B18: 162701109R00 | C18: Příplatek k vod. přemístění hor.1-4 za další 1 km | D18: m3 | E18: 160.05 | G18: =ROUND(E18*F18,2) -> 0 | I18: =ROUND(E18*H18,2) -> 0 | K18: =ROUND(E18*J18,2) -> 0 | L18: 21 | M18: =G18*(1+L18/100) -> 0 | N18: 0 | O18: =ROUND(E18*N18,5) -> 0 | P18: 0 | Q18: =ROUND(E18*P18,5) -> 0 | T18: 0 | U18: =ROUND(E18*T18,2) -> 0 | AE18: POL1_0
A19: 11 | B19: 199000005R00 | C19: Poplatek za skládku zeminy 1- 4, (VOKA Zahrádky) | D19: t | E19: 74.69 | G19: =ROUND(E19*F19,2) -> 0 | I19: =ROUND(E19*H19,2) -> 0 | K19: =ROUND(E19*J19,2) -> 0 | L19: 21 | M19: =G19*(1+L19/100) -> 0 | N19: 0 | O19: =ROUND(E19*N19,5) -> 0 | P19: 0 | Q19: =ROUND(E19*P19,5) -> 0 | T19: 0 | U19: =ROUND(E19*T19,2) -> 0 | AE19: POL1_0
A20: Díl: | B20: 5 | C20: Komunikace | G20: =SUMIF(AE21:AE30,"<>NOR",G21:G30) -> 0 | I20: =SUM(I21:I30) -> 0 | K20: =SUM(K21:K30) -> 0 | M20: =SUM(M21:M30) -> 0 | O20: =SUM(O21:O30) -> 158.16147 | Q20: =SUM(Q21:Q30) -> 0 | U20: =SUM(U21:U30) -> 94.78 | AE20: DIL
A21: 12 | B21: 569711111R01 | C21: Upravená lomová výsypka tl. 40mm , jemný podíl drceného kamene, hlinité příměsi | D21: m2 | E21: 114.91 | G21: =ROUND(E21*F21,2) -> 0 | I21: =ROUND(E21*H21,2) -> 0 | K21: =ROUND(E21*J21,2) -> 0 | L21: 21 | M21: =G21*(1+L21/100) -> 0 | N21: 0.1023 | O21: =ROUND(E21*N21,5) -> 11.75529 | P21: 0 | Q21: =ROUND(E21*P21,5) -> 0 | T21: 0.045 | U21: =ROUND(E21*T21,2) -> 5.17 | AE21: POL1_0
A22: 13 | B22: 564811112R01 | C22: Podklad ze štěrkodrti po zhutnění tloušťky 6 cm, fr. 0/32 | D22: m2 | E22: 114.91 | G22: =ROUND(E22*F22,2) -> 0 | I22: =ROUND(E22*H22,2) -> 0 | K22: =ROUND(E22*J22,2) -> 0 | L22: 21 | M22: =G22*(1+L22/100) -> 0 | N22: 0.1323 | O22: =ROUND(E22*N22,5) -> 15.20259 | P22: 0 | Q22: =ROUND(E22*P22,5) -> 0 | T22: 0.023 | U22: =ROUND(E22*T22,2) -> 2.64 | AE22: POL1_0
A23: 14 | B23: 564811112R02 | C23: Drcené kamenivo fr. 0/4, tl. 50 mm | D23: m2 | E23: 1.08 | G23: =ROUND(E23*F23,2) -> 0 | I23: =ROUND(E23*H23,2) -> 0 | K23: =ROUND(E23*J23,2) -> 0 | L23: 21 | M23: =G23*(1+L23/100) -> 0 | N23: 0.1323 | O23: =ROUND(E23*N23,5) -> 0.14288 | P23: 0 | Q23: =ROUND(E23*P23,5) -> 0 | T23: 0.023 | U23: =ROUND(E23*T23,2) -> 0.02 | AE23: POL1_0
A24: 15 | B24: 564851111R01 | C24: Podklad ze štěrkodrti po zhutnění tloušťky 15 cm, fr. 16/32 | D24: m2 | E24: 302.39 | G24: =ROUND(E24*F24,2) -> 0 | I24: =ROUND(E24*H24,2) -> 0 | K24: =ROUND(E24*J24,2) -> 0 | L24: 21 | M24: =G24*(1+L24/100) -> 0 | N24: 0.33075 | O24: =ROUND(E24*N24,5) -> 100.01549 | P24: 0 | Q24: =ROUND(E24*P24,5) -> 0 | T24: 0.026 | U24: =ROUND(E24*T24,2) -> 7.86 | AE24: POL1_0
A25: 16 | B25: 591111111R01 | C25: Kladení pískovcové dlažby na divoko, lože z kamen.tl. 5 cm | D25: m2 | E25: 40.33 | G25: =ROUND(E25*F25,2) -> 0 | I25: =ROUND(E25*H25,2) -> 0 | K25: =ROUND(E25*J25,2) -> 0 | L25: 21 | M25: =G25*(1+L25/100) -> 0 | N25: 0.11 | O25: =ROUND(E25*N25,5) -> 4.4363 | P25: 0 | Q25: =ROUND(E25*P25,5) -> 0 | T25: 0.427 | U25: =ROUND(E25*T25,2) -> 17.22 | AE25: POL1_0
A26: 17 | B26: 591111111R02 | C26: Kladení čedičové dlažby z kostek ~100mm, tl. ~ 80, lože z kamen.tl. 5 cm | D26: m2 | E26: 136.82 | G26: =ROUND(E26*F26,2) -> 0 | I26: =ROUND(E26*H26,2) -> 0 | K26: =ROUND(E26*J26,2) -> 0 | L26: 21 | M26: =G26*(1+L26/100) -> 0 | N26: 0.11 | O26: =ROUND(E26*N26,5) -> 15.0502 | P26: 0 | Q26: =ROUND(E26*P26,5) -> 0 | T26: 0.427 | U26: =ROUND(E26*T26,2) -> 58.42 | AE26: POL1_0
A27: 18 | B27: 596811111R00 | C27: Kladení dlaždic kom.pro pěší, lože z kameniva těž. | D27: m2 | E27: 9.21 | G27: =ROUND(E27*F27,2) -> 0 | I27: =ROUND(E27*H27,2) -> 0 | K27: =ROUND(E27*J27,2) -> 0 | L27: 21 | M27: =G27*(1+L27/100) -> 0 | N27: 0.072 | O27: =ROUND(E27*N27,5) -> 0.66312 | P27: 0 | Q27: =ROUND(E27*P27,5) -> 0 | T27: 0.375 | U27: =ROUND(E27*T27,2) -> 3.45 | AE27: POL1_0
A28: 19 | B28: 58384218R.1 | C28: Dlažba, pískovec nepravidelná štípaná hrana, tl. ~ 65 mm | D28: m2 | E28: 40.35 | G28: =ROUND(E28*F28,2) -> 0 | I28: =ROUND(E28*H28,2) -> 0 | K28: =ROUND(E28*J28,2) -> 0 | L28: 21 | M28: =G28*(1+L28/100) -> 0 | N28: 0.055 | O28: =ROUND(E28*N28,5) -> 2.21925 | P28: 0 | Q28: =ROUND(E28*P28,5) -> 0 | T28: 0 | U28: =ROUND(E28*T28,2) -> 0 | AE28: POL3_0
A29: 20 | B29: 58380820.1 | C29: Dlažba, čedičové kostky ~ 100/80 mm | D29: m2 | E29: 136.82 | G29: =ROUND(E29*F29,2) -> 0 | I29: =ROUND(E29*H29,2) -> 0 | K29: =ROUND(E29*J29,2) -> 0 | L29: 21 | M29: =G29*(1+L29/100) -> 0 | N29: 0.055 | O29: =ROUND(E29*N29,5) -> 7.5251 | P29: 0 | Q29: =ROUND(E29*P29,5) -> 0 | T29: 0 | U29: =ROUND(E29*T29,2) -> 0 | AE29: POL3_0
A30: 21 | B30: 59247901.1 | C30: Dlažba betonová přírodní hladká, tl. 80 mm, rozměr kostek 200 x 100 x 80 mm | D30: m2 | E30: 9.21 | G30: =ROUND(E30*F30,2) -> 0 | I30: =ROUND(E30*H30,2) -> 0 | K30: =ROUND(E30*J30,2) -> 0 | L30: 21 | M30: =G30*(1+L30/100) -> 0 | N30: 0.125 | O30: =ROUND(E30*N30,5) -> 1.15125 | P30: 0 | Q30: =ROUND(E30*P30,5) -> 0 | T30: 0 | U30: =ROUND(E30*T30,2) -> 0 | AE30: POL3_0
A31: Díl: | B31: 91 | C31: Doplňující práce na komunikaci | G31: =SUMIF(AE32:AE37,"<>NOR",G32:G37) -> 0 | I31: =SUM(I32:I37) -> 0 | K31: =SUM(K32:K37) -> 0 | M31: =SUM(M32:M37) -> 0 | O31: =SUM(O32:O37) -> 32.0194 | Q31: =SUM(Q32:Q37) -> 0 | U31: =SUM(U32:U37) -> 31.06 | AE31: DIL
A32: 22 | B32: 916561111R01 | C32: Osazení záhon.obrubníků do lože z C20/25 s opěrou | D32: m | E32: 97.28 | G32: =ROUND(E32*F32,2) -> 0 | I32: =ROUND(E32*H32,2) -> 0 | K32: =ROUND(E32*J32,2) -> 0 | L32: 21 | M32: =G32*(1+L32/100) -> 0 | N32: 0.1025 | O32: =ROUND(E32*N32,5) -> 9.9712 | P32: 0 | Q32: =ROUND(E32*P32,5) -> 0 | T32: 0.14 | U32: =ROUND(E32*T32,2) -> 13.62 | AE32: POL1_0
A33: 23 | B33: 916561121R01 | C33: Rozebrání a opět. usazení kamen. schodišť. stupňů, vč. rozebrání části ohradní zdi | D33: m | E33: 3 | G33: =ROUND(E33*F33,2) -> 0 | I33: =ROUND(E33*H33,2) -> 0 | K33: =ROUND(E33*J33,2) -> 0 | L33: 21 | M33: =G33*(1+L33/100) -> 0 | N33: 0.09471 | O33: =ROUND(E33*N33,5) -> 0.28413 | P33: 0 | Q33: =ROUND(E33*P33,5) -> 0 | T33: 0.106 | U33: =ROUND(E33*T33,2) -> 0.32 | AE33: POL1_0
A34: 24 | B34: 918101111R01 | C34: Lože pod obrubníky nebo obruby dlažeb z C20/25 | D34: m3 | E34: 4.93 | G34: =ROUND(E34*F34,2) -> 0 | I34: =ROUND(E34*H34,2) -> 0 | K34: =ROUND(E34*J34,2) -> 0 | L34: 21 | M34: =G34*(1+L34/100) -> 0 | N34: 2.525 | O34: =ROUND(E34*N34,5) -> 12.44825 | P34: 0 | Q34: =ROUND(E34*P34,5) -> 0 | T34: 1.442 | U34: =ROUND(E34*T34,2) -> 7.11 | AE34: POL1_0
A35: 25 | B35: 916531111R10 | C35: Výroba a osazení ocel. obrubníku vč. materiálu, pásovina 150/5 mm, trny roxor 10 mm, d = 430 mm | D35: m | E35: 94.4 | G35: =ROUND(E35*F35,2) -> 0 | I35: =ROUND(E35*H35,2) -> 0 | K35: =ROUND(E35*J35,2) -> 0 | L35: 21 | M35: =G35*(1+L35/100) -> 0 | N35: 0.09471 | O35: =ROUND(E35*N35,5) -> 8.94062 | P35: 0 | Q35: =ROUND(E35*P35,5) -> 0 | T35: 0.106 | U35: =ROUND(E35*T35,2) -> 10.01 | AE35: POL1_0
A36: 26 | B36: 58380351R | C36: Obrubník kamenný, 2x čedičová dlažební kostka 100/80 | D36: m | E36: 2.88 | G36: =ROUND(E36*F36,2) -> 0 | I36: =ROUND(E36*H36,2) -> 0 | K36: =ROUND(E36*J36,2) -> 0 | L36: 21 | M36: =G36*(1+L36/100) -> 0 | N36: 0.105 | O36: =ROUND(E36*N36,5) -> 0.3024 | P36: 0 | Q36: =ROUND(E36*P36,5) -> 0 | T36: 0 | U36: =ROUND(E36*T36,2) -> 0 | AE36: POL3_0
A37: 27 | B37: 59217337R.1 | C37: Obrubník zahradní betonový přírodní, 50 x 250 x 500 mm | D37: m | E37: 5.2 | G37: =ROUND(E37*F37,2) -> 0 | I37: =ROUND(E37*H37,2) -> 0 | K37: =ROUND(E37*J37,2) -> 0 | L37: 21 | M37: =G37*(1+L37/100) -> 0 | N37: 0.014 | O37: =ROUND(E37*N37,5) -> 0.0728 | P37: 0 | Q37: =ROUND(E37*P37,5) -> 0 | T37: 0 | U37: =ROUND(E37*T37,2) -> 0 | AE37: POL3_0
AC38: 15 | AD38: 21
B39: 26 | G39: =G8+G20+G31 -> 0 | AC39: =SUMIF(L7:L37,AC38,G7:G37) -> 0 | AD39: =SUMIF(L7:L37,AD38,G7:G37) -> 0 | AE39: SUM
A41: V položkách jsou zahrnuty veškeré VRN, neuvedené přesuny hmot a pomocné lešení.
AE43: POPUZIV
...
