Workbook

Sheet Rekapitulace stavby
A1: Export Komplet | AZ1: VZ | BA1: 2.0 | BB1: ZAMOK | BT1: False | BU1: False | BV1: {80df285b-19de-4bbe-81c5-98aa3166d13c}
BS2: 0,01 | BT2: 21
BS3: 0,01 | BT3: 15
D4: REKAPITULACE STAVBY | AS4: v --- níže se nacházejí doplnkové a pomocné údaje k sestavám --- v | BE4: Návod na vyplnění | BS4: 0,001
D5: Kód: | K5: 2017011 | BE5: Měnit lze pouze buňky se žlutým podbarvením!_x000D_ _x000D_ 1) v Rekapitulaci stavby vyplňte údaje o Uchazeči (přenesou se do ostatních sestav i v jiných listech)_x000D_ _x000D_ 2) na vybraných listech vyplňte v sestavě Soupis prací ceny u položek | BS5: 0,01
D6: Stavba: | K6: Humanizace ul. Nádražní v Mimoni | BS6: 0,01
D7: KSO: | AK7: CC-CZ: | BS7: 0,01
D8: Místo: | K8: Mimoň | AK8: Datum: | AN8: 27. 3. 2017 | BS8: 0,01
BS9: 0,01
D10: Zadavatel: | AK10: IČ: | BS10: 0,01
AK11: DIČ: | BS11: 0,01
BS12: 0,01
D13: Uchazeč: | AK13: IČ: | AN13: Vyplň údaj | BS13: 0,01
E14: Vyplň údaj | AK14: DIČ: | AN14: Vyplň údaj | BS14: 0,01
BS15: False
D16: Projektant: | AK16: IČ: | BS16: False
AK17: DIČ: | BS17: True
BS18: 0,01
D19: Zpracovatel: | AK19: IČ: | BS19: 0,01
AK20: DIČ: | BS20: True
D22: Poznámka:
E23: Soupis prací je sestaven s využitím Cenové soustavy ÚRS. Položky, které pochází z této cenové soustavy, jsou ve sloupci 'Cenová soustava' označeny popisem 'CS ÚRS' a úrovní příslušného kalendářního pololetí. Veškeré další informace vymezující popis a podmínky použití těchto položek z Cenové soustavy, které nejsou uvedeny přímo v soupisu prací, jsou neomezeně dálkově k dispozici na www.cs-urs.cz, sekce Cenové a technické podmínky.
D26: Cena bez DPH | AK26: =ROUND(AG54,2) -> 0
L28: Sazba daně | W28: Základ daně | AK28: Výše daně
D29: DPH | F29: základní | L29: 0.21 | W29: =ROUND(AZ54, 2) -> 0 | AK29: =ROUND(AV54, 2) -> 0
F30: snížená | L30: 0.15 | W30: =ROUND(BA54, 2) -> 0 | AK30: =ROUND(AW54, 2) -> 0
F31: zákl. přenesená | L31: 0.21 | W31: =ROUND(BB54, 2) -> 0 | AK31: 0
F32: sníž. přenesená | L32: 0.15 | W32: =ROUND(BC54, 2) -> 0 | AK32: 0
F33: nulová | L33: 0 | W33: =ROUND(BD54, 2) -> 0 | AK33: 0
D35: Cena s DPH | T35: v | X35: CZK | AK35: =SUM(AK26:AK33) -> 0
C42: REKAPITULACE OBJEKTŮ STAVBY A SOUPISŮ PRACÍ
C44: Kód: | L44: =K5 -> 2017011
C45: Stavba: | L45: =K6 -> Humanizace ul. Nádražní v Mimoni
C47: Místo: | L47: =IF(K8="","",K8) -> Mimoň | AI47: Datum: | AM47: =IF(AN8= "","",AN8) -> 27. 3. 2017
C49: Zadavatel: | L49: =IF(E11= "","",E11) | AI49: Projektant: | AM49: =IF(E17="","",E17) | AS49: Informatívní údaje z listů zakázek
C50: Uchazeč: | L50: =IF(E14= "Vyplň údaj","",E14) | AI50: Zpracovatel: | AM50: =IF(E20="","",E20)
C52: Kód | I52: Popis | AG52: Cena bez DPH [CZK] | AN52: Cena s DPH [CZK] | AQ52: Typ | AS52: z toho Ostat._x000D_ náklady [CZK] | AT52: DPH [CZK] | AU52: Normohodiny [h] | AV52: DPH základní [CZK] | AW52: DPH snížená [CZK] | AX52: DPH základní přenesená_x000D_ [CZK] | AY52: DPH snížená přenesená_x000D_ [CZK] | AZ52: Základna_x000D_ DPH základní | BA52: Základna_x000D_ DPH snížená | BB52: Základna_x000D_ DPH zákl. přenesená | BC52: Základna_x000D_ DPH sníž. přenesená | BD52: Základna_x000D_ DPH nulová
C54: Náklady stavby celkem | AG54: =ROUND(AG55,2) -> 0 | AN54: =SUM(AG54,AT54) -> 0 | AS54: =ROUND(AS55,2) -> 0 | AT54: =ROUND(SUM(AV54:AW54),2) -> 0 | AU54: =ROUND(AU55,5) -> 0 | AV54: =ROUND(AZ54*L29,2) -> 0 | AW54: =ROUND(BA54*L30,2) -> 0 | AX54: =ROUND(BB54*L29,2) -> 0 | AY54: =ROUND(BC54*L30,2) -> 0 | AZ54: =ROUND(AZ55,2) -> 0 | BA54: =ROUND(BA55,2) -> 0 | BB54: =ROUND(BB55,2) -> 0 | BC54: =ROUND(BC55,2) -> 0 | BD54: =ROUND(BD55,2) -> 0 | BS54: D | BT54: 0 | BU54: ###NOIMPORT### | BV54: IMPORT | BW54: {80df285b-19de-4bbe-81c5-98aa3166d13c} | BX54: {00000000-0000-0000-0000-000000000000}
D55: 2 | J55: Úsek B | AG55: =ROUND(SUM(AG56:AG59),2) -> 0 | AN55: =SUM(AG55,AT55) -> 0 | AQ55: STA | AS55: =ROUND(SUM(AS56:AS59),2) -> 0 | AT55: =ROUND(SUM(AV55:AW55),2) -> 0 | AU55: =ROUND(SUM(AU56:AU59),5) -> 0 | AV55: =ROUND(AZ55*L29,2) -> 0 | AW55: =ROUND(BA55*L30,2) -> 0 | AX55: =ROUND(BB55*L29,2) -> 0 | AY55: =ROUND(BC55*L30,2) -> 0 | AZ55: =ROUND(SUM(AZ56:AZ59),2) -> 0 | BA55: =ROUND(SUM(BA56:BA59),2) -> 0 | BB55: =ROUND(SUM(BB56:BB59),2) -> 0 | BC55: =ROUND(SUM(BC56:BC59),2) -> 0 | BD55: =ROUND(SUM(BD56:BD59),2) -> 0 | BS55: D | BT55: 1 | BU55: ###NOIMPORT### | BV55: IMPORT | BW55: {2488c242-c597-4f23-92ab-759b737deb26} | BX55: {80df285b-19de-4bbe-81c5-98aa3166d13c} | CM55: 2
A56: / | E56: SO 001 | K56: Všeobecné položky | AG56: ='SO 001 - Všeobecné položky '!J32 -> 0 | AN56: =SUM(AG56,AT56) -> 0 | AQ56: Soupis | AS56: 0 | AT56: =ROUND(SUM(AV56:AW56),2) -> 0 | AU56: ='SO 001 - Všeobecné položky '!P86 -> 0 | AV56: ='SO 001 - Všeobecné položky '!J35 -> 0 | AW56: ='SO 001 - Všeobecné položky '!J36 -> 0 | AX56: ='SO 001 - Všeobecné položky '!J37 -> 0 | AY56: ='SO 001 - Všeobecné položky '!J38 -> 0 | AZ56: ='SO 001 - Všeobecné položky '!F35 -> 0 | BA56: ='SO 001 - Všeobecné položky '!F36 -> 0 | BB56: ='SO 001 - Všeobecné položky '!F37 -> 0 | BC56: ='SO 001 - Všeobecné položky '!F38 -> 0 | BD56: ='SO 001 - Všeobecné položky '!F39 -> 0 | BT56: 2 | BV56: IMPORT | BW56: {383a58d5-4937-4674-a126-db80f4785543} | BX56: {2488c242-c597-4f23-92ab-759b737deb26}
A57: / | E57: SO 100 | K57: Komunikace a zpevněné plochy | AG57: ='SO 100 - Komunikace a zpe...'!J32 -> 0 | AN57: =SUM(AG57,AT57) -> 0 | AQ57: Soupis | AS57: 0 | AT57: =ROUND(SUM(AV57:AW57),2) -> 0 | AU57: ='SO 100 - Komunikace a zpe...'!P95 -> 0 | AV57: ='SO 100 - Komunikace a zpe...'!J35 -> 0 | AW57: ='SO 100 - Komunikace a zpe...'!J36 -> 0 | AX57: ='SO 100 - Komunikace a zpe...'!J37 -> 0 | AY57: ='SO 100 - Komunikace a zpe...'!J38 -> 0 | AZ57: ='SO 100 - Komunikace a zpe...'!F35 -> 0 | BA57: ='SO 100 - Komunikace a zpe...'!F36 -> 0 | BB57: ='SO 100 - Komunikace a zpe...'!F37 -> 0 | BC57: ='SO 100 - Komunikace a zpe...'!F38 -> 0 | BD57: ='SO 100 - Komunikace a zpe...'!F39 -> 0 | BT57: 2 | BV57: IMPORT | BW57: {64f63125-a126-4383-9230-b64e10757a75} | BX57: {2488c242-c597-4f23-92ab-759b737deb26}
A58: / | E58: SO 401 | K58: Veřejné osvětlení | AG58: ='SO 401 - Veřejné osvětlení'!J32 -> 0 | AN58: =SUM(AG58,AT58) -> 0 | AQ58: Soupis | AS58: 0 | AT58: =ROUND(SUM(AV58:AW58),2) -> 0 | AU58: ='SO 401 - Veřejné osvětlení'!P87 -> 0 | AV58: ='SO 401 - Veřejné osvětlení'!J35 -> 0 | AW58: ='SO 401 - Veřejné osvětlení'!J36 -> 0 | AX58: ='SO 401 - Veřejné osvětlení'!J37 -> 0 | AY58: ='SO 401 - Veřejné osvětlení'!J38 -> 0 | AZ58: ='SO 401 - Veřejné osvětlení'!F35 -> 0 | BA58: ='SO 401 - Veřejné osvětlení'!F36 -> 0 | BB58: ='SO 401 - Veřejné osvětlení'!F37 -> 0 | BC58: ='SO 401 - Veřejné osvětlení'!F38 -> 0 | BD58: ='SO 401 - Veřejné osvětlení'!F39 -> 0 | BT58: 2 | BV58: IMPORT | BW58: {83fc78a6-9d7d-4f51-a2a7-76aae4e726a5} | BX58: {2488c242-c597-4f23-92ab-759b737deb26}
A59: / | E59: SO 800 | K59: Vegetační úpravy | AG59: ='SO 800 - Vegetační úpravy '!J32 -> 0 | AN59: =SUM(AG59,AT59) -> 0 | AQ59: Soupis | AS59: 0 | AT59: =ROUND(SUM(AV59:AW59),2) -> 0 | AU59: ='SO 800 - Vegetační úpravy '!P87 -> 0 | AV59: ='SO 800 - Vegetační úpravy '!J35 -> 0 | AW59: ='SO 800 - Vegetační úpravy '!J36 -> 0 | AX59: ='SO 800 - Vegetační úpravy '!J37 -> 0 | AY59: ='SO 800 - Vegetační úpravy '!J38 -> 0 | AZ59: ='SO 800 - Vegetační úpravy '!F35 -> 0 | BA59: ='SO 800 - Vegetační úpravy '!F36 -> 0 | BB59: ='SO 800 - Vegetační úpravy '!F37 -> 0 | BC59: ='SO 800 - Vegetační úpravy '!F38 -> 0 | BD59: ='SO 800 - Vegetační úpravy '!F39 -> 0 | BT59: 2 | BV59: IMPORT | BW59: {022690d2-b5f9-4bb3-8624-60367bb23473} | BX59: {2488c242-c597-4f23-92ab-759b737deb26}

Sheet SO 001 - Všeobecné položky 
AT2: {383a58d5-4937-4674-a126-db80f4785543}
AT3: 2
D4: KRYCÍ LIST SOUPISU PRACÍ | M4: v --- níže se nacházejí doplnkové a pomocné údaje k sestavám --- v | AT4: False
D6: Stavba:
E7: ='Rekapitulace stavby'!K6 -> Humanizace ul. Nádražní v Mimoni
D8: Objekt:
E9: 2 - Úsek B
D10: Soupis:
E11: SO 001 - Všeobecné položky
D13: KSO: | I13: CC-CZ:
D14: Místo: | F14: Mimoň | I14: Datum: | J14: ='Rekapitulace stavby'!AN8 -> 27. 3. 2017
D16: Zadavatel: | I16: IČ:
I17: DIČ:
D19: Uchazeč: | I19: IČ: | J19: ='Rekapitulace stavby'!AN13 -> Vyplň údaj
E20: ='Rekapitulace stavby'!E14 -> Vyplň údaj | I20: DIČ: | J20: ='Rekapitulace stavby'!AN14 -> Vyplň údaj
D22: Projektant: | I22: IČ:
I23: DIČ:
D25: Zpracovatel: | I25: IČ: | J25: =IF('Rekapitulace stavby'!AN19="","",'Rekapitulace stavby'!AN19)
E26: =IF('Rekapitulace stavby'!E20="","",'Rekapitulace stavby'!E20) | I26: DIČ: | J26: =IF('Rekapitulace stavby'!AN20="","",'Rekapitulace stavby'!AN20)
D28: Poznámka:
D32: Cena bez DPH | J32: =ROUND(J86, 2) -> 0
F34: Základ daně | I34: Sazba daně | J34: Výše daně
D35: DPH | E35: základní | F35: =ROUND((SUM(BE86:BE106)), 2) -> 0 | I35: 0.21 | J35: =ROUND(((SUM(BE86:BE106))*I35), 2) -> 0
E36: snížená | F36: =ROUND((SUM(BF86:BF106)), 2) -> 0 | I36: 0.15 | J36: =ROUND(((SUM(BF86:BF106))*I36), 2) -> 0
E37: zákl. přenesená | F37: =ROUND((SUM(BG86:BG106)), 2) -> 0 | I37: 0.21 | J37: =0 -> 0
E38: sníž. přenesená | F38: =ROUND((SUM(BH86:BH106)), 2) -> 0 | I38: 0.15 | J38: =0 -> 0
E39: nulová | F39: =ROUND((SUM(BI86:BI106)), 2) -> 0 | I39: 0 | J39: =0 -> 0
D41: Cena s DPH | G41: v | H41: CZK | J41: =SUM(J32:J39) -> 0
C47: REKAPITULACE ČLENĚNÍ SOUPISU PRACÍ
C49: Stavba:
E50: =E7 -> Humanizace ul. Nádražní v Mimoni
C51: Objekt:
E52: 2 - Úsek B
C53: Soupis:
E54: =E11 -> SO 001 - Všeobecné položky
C56: Místo: | F56: =F14 -> Mimoň | I56: Datum: | J56: =IF(J14="","",J14) -> 27. 3. 2017
C58: Zadavatel: | F58: =E17 | I58: Projektant: | J58: =E23
C59: Uchazeč: | F59: =IF(E20="","",E20) -> Vyplň údaj | I59: Zpracovatel: | J59: =E26
C61: Kód dílu - Popis | J61: Cena celkem [CZK]
C63: Náklady stavby celkem | J63: =J86 -> 0 | AU63: -1
D64: VRN - Vedlejší rozpočtové náklady | J64: =J87 -> 0
C71: SOUPIS PRACÍ
C73: Stavba:
E74: =E7 -> Humanizace ul. Nádražní v Mimoni
C75: Objekt:
E76: 2 - Úsek B
C77: Soupis:
E78: =E11 -> SO 001 - Všeobecné položky
C80: Místo: | F80: =F14 -> Mimoň | I80: Datum: | J80: =IF(J14="","",J14) -> 27. 3. 2017
C82: Zadavatel: | F82: =E17 | I82: Projektant: | J82: =E23
C83: Uchazeč: | F83: =IF(E20="","",E20) -> Vyplň údaj | I83: Zpracovatel: | J83: =E26
C85: PČ | D85: Typ | E85: Kód | F85: Popis | G85: MJ | H85: Množství | I85: J.cena [CZK] | J85: Cena celkem [CZK] | K85: Cenová soustava | N85: DPH | O85: J. Nh [h] | P85: Nh celkem [h] | Q85: J. hmotnost [t] | R85: Hmotnost celkem [t] | S85: J. suť [t] | T85: Suť Celkem [t]
C86: Náklady soupisu celkem | J86: =BK86 -> 0 | P86: =P87 -> 0 | R86: =R87 -> 0 | T86: =T87 -> 0 | AT86: D | AU86: -1 | BK86: =BK87 -> 0
D87: D | E87: VRN | F87: Vedlejší rozpočtové náklady | J87: =BK87 -> 0 | P87: =SUM(P88:P106) -> 0 | R87: =SUM(R88:R106) -> 0 | T87: =SUM(T88:T106) -> 0 | AR87: 5 | AT87: D | AU87: 0 | AY87: ROZPOCET | BK87: =SUM(BK88:BK106) -> 0
C88: 1 | D88: K | E88: 012103002 | F88: Geodetické práce před výstavbou - vytyčení inženýrských sítí | G88: Kč | H88: 1 | J88: =ROUND(I88*H88,2) -> 0 | N88: základní | P88: =O88*H88 -> 0 | Q88: 0 | R88: =Q88*H88 -> 0 | S88: 0 | T88: =S88*H88 -> 0 | AR88: 1024 | AT88: K | AU88: 1 | AY88: ROZPOCET | BE88: =IF(N88="základní",J88,0) -> 0 | BF88: =IF(N88="snížená",J88,0) -> 0 | BG88: =IF(N88="zákl. přenesená",J88,0) -> 0 | BH88: =IF(N88="sníž. přenesená",J88,0) -> 0 | BI88: =IF(N88="nulová",J88,0) -> 0 | BJ88: 1 | BK88: =ROUND(I88*H88,2) -> 0 | BL88: 1024 | BM88: -1728848352
D89: PP | F89: Geodetické práce před výstavbou - vytyčení inženýrských sítí | AT89: PP | AU89: 1
C90: 2 | D90: K | E90: 01230300 | F90: Geodetické práce při výstavbě - vytyčení stavby | G90: Kč | H90: 1 | J90: =ROUND(I90*H90,2) -> 0 | N90: základní | P90: =O90*H90 -> 0 | Q90: 0 | R90: =Q90*H90 -> 0 | S90: 0 | T90: =S90*H90 -> 0 | AR90: 1024 | AT90: K | AU90: 1 | AY90: ROZPOCET | BE90: =IF(N90="základní",J90,0) -> 0 | BF90: =IF(N90="snížená",J90,0) -> 0 | BG90: =IF(N90="zákl. přenesená",J90,0) -> 0 | BH90: =IF(N90="sníž. přenesená",J90,0) -> 0 | BI90: =IF(N90="nulová",J90,0) -> 0 | BJ90: 1 | BK90: =ROUND(I90*H90,2) -> 0 | BL90: 1024 | BM90: -1377020859
D91: PP | F91: Geodetické práce při výstavbě - vytyčení stavby | AT91: PP | AU91: 1
D92: P | F92: Poznámka k položce:_x000D_ C2 - Celkový situační výkres, C.4 - Podélný profil | AT92: P | AU92: 1
C93: 3 | D93: K | E93: 012303000 | F93: Geodetické práce po výstavbě - zaměření skutečného provedení | G93: Kč | H93: 1 | J93: =ROUND(I93*H93,2) -> 0 | N93: základní | P93: =O93*H93 -> 0 | Q93: 0 | R93: =Q93*H93 -> 0 | S93: 0 | T93: =S93*H93 -> 0 | AR93: 1024 | AT93: K | AU93: 1 | AY93: ROZPOCET | BE93: =IF(N93="základní",J93,0) -> 0 | BF93: =IF(N93="snížená",J93,0) -> 0 | BG93: =IF(N93="zákl. přenesená",J93,0) -> 0 | BH93: =IF(N93="sníž. přenesená",J93,0) -> 0 | BI93: =IF(N93="nulová",J93,0) -> 0 | BJ93: 1 | BK93: =ROUND(I93*H93,2) -> 0 | BL93: 1024 | BM93: -1024713094
D94: PP | F94: Geodetické práce po výstavbě - zaměření skutečného provedení | AT94: PP | AU94: 1
D95: VV | F95: "3x tištěná podoba, 1x digi CD"1 | H95: 1 | AT95: VV | AU95: 1 | AV95: 2 | AW95: True | AX95: 1 | AY95: ROZPOCET
C96: 4 | D96: K | E96: 013254000 | F96: Dokumentace skutečného provedení stavby | G96: Kč | H96: 1 | J96: =ROUND(I96*H96,2) -> 0 | N96: základní | P96: =O96*H96 -> 0 | Q96: 0 | R96: =Q96*H96 -> 0 | S96: 0 | T96: =S96*H96 -> 0 | AR96: 1024 | AT96: K | AU96: 1 | AY96: ROZPOCET | BE96: =IF(N96="základní",J96,0) -> 0 | BF96: =IF(N96="snížená",J96,0) -> 0 | BG96: =IF(N96="zákl. přenesená",J96,0) -> 0 | BH96: =IF(N96="sníž. přenesená",J96,0) -> 0 | BI96: =IF(N96="nulová",J96,0) -> 0 | BJ96: 1 | BK96: =ROUND(I96*H96,2) -> 0 | BL96: 1024 | BM96: 1698828317
D97: PP | F97: Dokumentace skutečného provedení stavby | AT97: PP | AU97: 1
D98: VV | F98: "3x páré + 1x digi CD"1 | H98: 1 | AT98: VV | AU98: 1 | AV98: 2 | AW98: True | AX98: 1 | AY98: ROZPOCET
C99: 5 | D99: K | E99: 030001000 | F99: Zařízení staveniště | G99: Kč | H99: 1 | J99: =ROUND(I99*H99,2) -> 0 | N99: základní | P99: =O99*H99 -> 0 | Q99: 0 | R99: =Q99*H99 -> 0 | S99: 0 | T99: =S99*H99 -> 0 | AR99: 1024 | AT99: K | AU99: 1 | AY99: ROZPOCET | BE99: =IF(N99="základní",J99,0) -> 0 | BF99: =IF(N99="snížená",J99,0) -> 0 | BG99: =IF(N99="zákl. přenesená",J99,0) -> 0 | BH99: =IF(N99="sníž. přenesená",J99,0) -> 0 | BI99: =IF(N99="nulová",J99,0) -> 0 | BJ99: 1 | BK99: =ROUND(I99*H99,2) -> 0 | BL99: 1024 | BM99: 1669472177
D100: PP | F100: Zařízení staveniště | AT100: PP | AU100: 1
C101: 6 | D101: K | E101: 041403001 | F101: Zajištění stavby DIO | G101: soubor | H101: 1 | J101: =ROUND(I101*H101,2) -> 0 | N101: základní | P101: =O101*H101 -> 0 | Q101: 0 | R101: =Q101*H101 -> 0 | S101: 0 | T101: =S101*H101 -> 0 | AR101: 1024 | AT101: K | AU101: 1 | AY101: ROZPOCET | BE101: =IF(N101="základní",J101,0) -> 0 | BF101: =IF(N101="snížená",J101,0) -> 0 | BG101: =IF(N101="zákl. přenesená",J101,0) -> 0 | BH101: =IF(N101="sníž. přenesená",J101,0) -> 0 | BI101: =IF(N101="nulová",J101,0) -> 0 | BJ101: 1 | BK101: =ROUND(I101*H101,2) -> 0 | BL101: 1024 | BM101: -384981081
D102: PP | F102: Zajištění stavby DIO | AT102: PP | AU102: 1
C103: 7 | D103: K | E103: 042503000 | F103: Plán BOZP na staveništi | G103: … | H103: 1 | J103: =ROUND(I103*H103,2) -> 0 | K103: CS ÚRS 2019 01 | N103: základní | P103: =O103*H103 -> 0 | Q103: 0 | R103: =Q103*H103 -> 0 | S103: 0 | T103: =S103*H103 -> 0 | AR103: 1024 | AT103: K | AU103: 1 | AY103: ROZPOCET | BE103: =IF(N103="základní",J103,0) -> 0 | BF103: =IF(N103="snížená",J103,0) -> 0 | BG103: =IF(N103="zákl. přenesená",J103,0) -> 0 | BH103: =IF(N103="sníž. přenesená",J103,0) -> 0 | BI103: =IF(N103="nulová",J103,0) -> 0 | BJ103: 1 | BK103: =ROUND(I103*H103,2) -> 0 | BL103: 1024 | BM103: 93945440
D104: PP | F104: Plán BOZP na staveništi | AT104: PP | AU104: 1
C105: 8 | D105: K | E105: 043002002 | F105: Hlavní tituly průvodních činností a nákladů inženýrská činnost zkoušky a ostatní měření | G105: Kč | H105: 1 | J105: =ROUND(I105*H105,2) -> 0 | N105: základní | P105: =O105*H105 -> 0 | Q105: 0 | R105: =Q105*H105 -> 0 | S105: 0 | T105: =S105*H105 -> 0 | AR105: 1024 | AT105: K | AU105: 1 | AY105: ROZPOCET | BE105: =IF(N105="základní",J105,0) -> 0 | BF105: =IF(N105="snížená",J105,0) -> 0 | BG105: =IF(N105="zákl. přenesená",J105,0) -> 0 | BH105: =IF(N105="sníž. přenesená",J105,0) -> 0 | BI105: =IF(N105="nulová",J105,0) -> 0 | BJ105: 1 | BK105: =ROUND(I105*H105,2) -> 0 | BL105: 1024 | BM105: 672103179
D106: PP | F106: Hlavní tituly průvodních činností a nákladů inženýrská činnost zkoušky a ostatní měření | AT106: PP | AU106: 1

Sheet SO 100 - Komunikace a zpe...
AT2: {64f63125-a126-4383-9230-b64e10757a75}
AT3: 2
D4: KRYCÍ LIST SOUPISU PRACÍ | M4: v --- níže se nacházejí doplnkové a pomocné údaje k sestavám --- v | AT4: False
D6: Stavba:
E7: ='Rekapitulace stavby'!K6 -> Humanizace ul. Nádražní v Mimoni
D8: Objekt:
E9: 2 - Úsek B
D10: Soupis:
E11: SO 100 - Komunikace a zpevněné plochy
D13: KSO: | I13: CC-CZ:
D14: Místo: | F14: Mimoň | I14: Datum: | J14: ='Rekapitulace stavby'!AN8 -> 27. 3. 2017
D16: Zadavatel: | I16: IČ:
I17: DIČ:
D19: Uchazeč: | I19: IČ: | J19: ='Rekapitulace stavby'!AN13 -> Vyplň údaj
E20: ='Rekapitulace stavby'!E14 -> Vyplň údaj | I20: DIČ: | J20: ='Rekapitulace stavby'!AN14 -> Vyplň údaj
D22: Projektant: | I22: IČ:
I23: DIČ:
D25: Zpracovatel: | I25: IČ: | J25: =IF('Rekapitulace stavby'!AN19="","",'Rekapitulace stavby'!AN19)
E26: =IF('Rekapitulace stavby'!E20="","",'Rekapitulace stavby'!E20) | I26: DIČ: | J26: =IF('Rekapitulace stavby'!AN20="","",'Rekapitulace stavby'!AN20)
D28: Poznámka:
D32: Cena bez DPH | J32: =ROUND(J95, 2) -> 0
F34: Základ daně | I34: Sazba daně | J34: Výše daně
D35: DPH | E35: základní | F35: =ROUND((SUM(BE95:BE716)), 2) -> 0 | I35: 0.21 | J35: =ROUND(((SUM(BE95:BE716))*I35), 2) -> 0
E36: snížená | F36: =ROUND((SUM(BF95:BF716)), 2) -> 0 | I36: 0.15 | J36: =ROUND(((SUM(BF95:BF716))*I36), 2) -> 0
E37: zákl. přenesená | F37: =ROUND((SUM(BG95:BG716)), 2) -> 0 | I37: 0.21 | J37: =0 -> 0
E38: sníž. přenesená | F38: =ROUND((SUM(BH95:BH716)), 2) -> 0 | I38: 0.15 | J38: =0 -> 0
E39: nulová | F39: =ROUND((SUM(BI95:BI716)), 2) -> 0 | I39: 0 | J39: =0 -> 0
D41: Cena s DPH | G41: v | H41: CZK | J41: =SUM(J32:J39) -> 0
C47: REKAPITULACE ČLENĚNÍ SOUPISU PRACÍ
C49: Stavba:
E50: =E7 -> Humanizace ul. Nádražní v Mimoni
C51: Objekt:
E52: 2 - Úsek B
C53: Soupis:
E54: =E11 -> SO 100 - Komunikace a zpevněné plochy
C56: Místo: | F56: =F14 -> Mimoň | I56: Datum: | J56: =IF(J14="","",J14) -> 27. 3. 2017
C58: Zadavatel: | F58: =E17 | I58: Projektant: | J58: =E23
C59: Uchazeč: | F59: =IF(E20="","",E20) -> Vyplň údaj | I59: Zpracovatel: | J59: =E26
C61: Kód dílu - Popis | J61: Cena celkem [CZK]
C63: Náklady stavby celkem | J63: =J95 -> 0 | AU63: -1
D64: HSV - Práce a dodávky HSV | J64: =J96 -> 0
D65: 1 - Zemní práce | J65: =J97 -> 0
D66: 4 - Vodorovné konstrukce | J66: =J285 -> 0
D67: 5 - Komunikace pozemní | J67: =J324 -> 0
D68: 8 - Trubní vedení | J68: =J465 -> 0
D69: 9 - Ostatní konstrukce a práce, bourání | J69: =J526 -> 0
D70: 997 - Přesun sutě | J70: =J658 -> 0
D71: 998 - Přesun hmot | J71: =J703 -> 0
D72: PSV - Práce a dodávky PSV | J72: =J706 -> 0
D73: 711 - Izolace proti vodě, vlhkosti a plynům | J73: =J707 -> 0
C80: SOUPIS PRACÍ
C82: Stavba:
E83: =E7 -> Humanizace ul. Nádražní v Mimoni
C84: Objekt:
E85: 2 - Úsek B
C86: Soupis:
E87: =E11 -> SO 100 - Komunikace a zpevněné plochy
C89: Místo: | F89: =F14 -> Mimoň | I89: Datum: | J89: =IF(J14="","",J14) -> 27. 3. 2017
C91: Zadavatel: | F91: =E17 | I91: Projektant: | J91: =E23
C92: Uchazeč: | F92: =IF(E20="","",E20) -> Vyplň údaj | I92: Zpracovatel: | J92: =E26
C94: PČ | D94: Typ | E94: Kód | F94: Popis | G94: MJ | H94: Množství | I94: J.cena [CZK] | J94: Cena celkem [CZK] | K94: Cenová soustava | N94: DPH | O94: J. Nh [h] | P94: Nh celkem [h] | Q94: J. hmotnost [t] | R94: Hmotnost celkem [t] | S94: J. suť [t] | T94: Suť Celkem [t]
C95: Náklady soupisu celkem | J95: =BK95 -> 0 | P95: =P96+P706 -> 0 | R95: =R96+R706 -> 2868.0241 | T95: =T96+T706 -> 4783.0727 | AT95: D | AU95: -1 | BK95: =BK96+BK706 -> 0
D96: D | E96: HSV | F96: Práce a dodávky HSV | J96: =BK96 -> 0 | P96: =P97+P285+P324+P465+P526+P658+P703 -> 0 | R96: =R97+R285+R324+R465+R526+R658+R703 -> 2867.6463 | T96: =T97+T285+T324+T465+T526+T658+T703 -> 4783.0727 | AR96: 1 | AT96: D | AU96: 0 | AY96: ROZPOCET | BK96: =BK97+BK285+BK324+BK465+BK526+BK658+BK703 -> 0
D97: D | E97: 1 | F97: Zemní práce | J97: =BK97 -> 0 | P97: =SUM(P98:P284) -> 0 | R97: =SUM(R98:R284) -> 149.5264 | T97: =SUM(T98:T284) -> 4757.1307 | AR97: 1 | AT97: D | AU97: 1 | AY97: ROZPOCET | BK97: =SUM(BK98:BK284) -> 0
C98: 1 | D98: K | E98: 112101108 | F98: Kácení stromů D kmene do 300 mm vč. odstranění pařezů a likvidace dřevní hmoty | G98: kus | H98: 40 | J98: =ROUND(I98*H98,2) -> 0 | N98: základní | P98: =O98*H98 -> 0 | Q98: 0 | R98: =Q98*H98 -> 0 | S98: 0 | T98: =S98*H98 -> 0 | AR98: 4 | AT98: K | AU98: 2 | AY98: ROZPOCET | BE98: =IF(N98="základní",J98,0) -> 0 | BF98: =IF(N98="snížená",J98,0) -> 0 | BG98: =IF(N98="zákl. přenesená",J98,0) -> 0 | BH98: =IF(N98="sníž. přenesená",J98,0) -> 0 | BI98: =IF(N98="nulová",J98,0) -> 0 | BJ98: 1 | BK98: =ROUND(I98*H98,2) -> 0 | BL98: 4 | BM98: 1283903356
D99: PP | F99: Kácení stromů D kmene do 300 mm vč. odstranění pařezů a likvidace dřevní hmoty | AT99: PP | AU99: 2
D100: P | F100: Poznámka k položce:_x000D_ C3.2 Situace - úsek B, C7. Situace stávajícího stavu | AT100: P | AU100: 2
C101: 2 | D101: K | E101: 113106111 | F101: Rozebrání dlažeb z mozaiky komunikací pro pěší ručně | G101: m2 | H101: 1925.4 | J101: =ROUND(I101*H101,2) -> 0 | K101: CS ÚRS 2019 01 | N101: základní | P101: =O101*H101 -> 0 | Q101: 0 | R101: =Q101*H101 -> 0 | S101: 0.281 | T101: =S101*H101 -> 541.0374 | AR101: 4 | AT101: K | AU101: 2 | AY101: ROZPOCET | BE101: =IF(N101="základní",J101,0) -> 0 | BF101: =IF(N101="snížená",J101,0) -> 0 | BG101: =IF(N101="zákl. přenesená",J101,0) -> 0 | BH101: =IF(N101="sníž. přenesená",J101,0) -> 0 | BI101: =IF(N101="nulová",J101,0) -> 0 | BJ101: 1 | BK101: =ROUND(I101*H101,2) -> 0 | BL101: 4 | BM101: -1755560452
D102: PP | F102: Rozebrání dlažeb komunikací pro pěší s přemístěním hmot na skládku na vzdálenost do 3 m nebo s naložením na dopravní prostředek s ložem z kameniva nebo živice a s jakoukoliv výplní spár ručně z mozaiky | AT102: PP | AU102: 2
D103: P | F103: Poznámka k položce:_x000D_ C3.2 Situace - úsek B, C7. Situace stávajícího stavu | AT103: P | AU103: 2
D104: VV | F104: "pravý chodník"915,6+497,1-0,2*312 | H104: 1350.3 | AT104: VV | AU104: 2 | AV104: 2 | AW104: True | AX104: 0 | AY104: ROZPOCET
D105: VV | F105: "levý chodník"1,5*231+241-0,2*62 | H105: 575.1 | AT105: VV | AU105: 2 | AV105: 2 | AW105: True | AX105: 0 | AY105: ROZPOCET
D106: VV | F106: Součet | H106: 1925.4 | AT106: VV | AU106: 2 | AV106: 4 | AW106: True | AX106: 1 | AY106: ROZPOCET
C107: 3 | D107: K | E107: 113106121 | F107: Rozebrání dlažeb z betonových nebo kamenných dlaždic komunikací pro pěší ručně | G107: m2 | H107: 288.11 | J107: =ROUND(I107*H107,2) -> 0 | K107: CS ÚRS 2019 01 | N107: základní | P107: =O107*H107 -> 0 | Q107: 0 | R107: =Q107*H107 -> 0 | S107: 0.255 | T107: =S107*H107 -> 73.46805 | AR107: 4 | AT107: K | AU107: 2 | AY107: ROZPOCET | BE107: =IF(N107="základní",J107,0) -> 0 | BF107: =IF(N107="snížená",J107,0) -> 0 | BG107: =IF(N107="zákl. přenesená",J107,0) -> 0 | BH107: =IF(N107="sníž. přenesená",J107,0) -> 0 | BI107: =IF(N107="nulová",J107,0) -> 0 | BJ107: 1 | BK107: =ROUND(I107*H107,2) -> 0 | BL107: 4 | BM107: 2009293867
D108: PP | F108: Rozebrání dlažeb komunikací pro pěší s přemístěním hmot na skládku na vzdálenost do 3 m nebo s naložením na dopravní prostředek s ložem z kameniva nebo živice a s jakoukoliv výplní spár ručně z betonových nebo kameninových dlaždic, desek nebo tvarovek | AT108: PP | AU108: 2
D109: P | F109: Poznámka k položce:_x000D_ C7. Situace stávajícího stavu | AT109: P | AU109: 2
D110: VV | F110: v pásech se stromy mezi vozovkou a obrubou | AT110: VV | AU110: 2 | AV110: 1 | AW110: True | AX110: 0 | AY110: ROZPOCET
D111: VV | F111: "pravá"111,6+70,21 | H111: 181.81 | AT111: VV | AU111: 2 | AV111: 2 | AW111: True | AX111: 0 | AY111: ROZPOCET
D112: VV | F112: "levá"106,3 | H112: 106.3 | AT112: VV | AU112: 2 | AV112: 2 | AW112: True | AX112: 0 | AY112: ROZPOCET
D113: VV | F113: Součet | H113: 288.11 | AT113: VV | AU113: 2 | AV113: 4 | AW113: True | AX113: 1 | AY113: ROZPOCET
C114: 4 | D114: K | E114: 113106161 | F114: Rozebrání dlažeb vozovek z drobných kostek s ložem z kameniva ručně | G114: m2 | H114: 2882.75 | J114: =ROUND(I114*H114,2) -> 0 | K114: CS ÚRS 2019 01 | N114: základní | P114: =O114*H114 -> 0 | Q114: 0 | R114: =Q114*H114 -> 0 | S114: 0.32 | T114: =S114*H114 -> 922.48 | AR114: 4 | AT114: K | AU114: 2 | AY114: ROZPOCET | BE114: =IF(N114="základní",J114,0) -> 0 | BF114: =IF(N114="snížená",J114,0) -> 0 | BG114: =IF(N114="zákl. přenesená",J114,0) -> 0 | BH114: =IF(N114="sníž. přenesená",J114,0) -> 0 | BI114: =IF(N114="nulová",J114,0) -> 0 | BJ114: 1 | BK114: =ROUND(I114*H114,2) -> 0 | BL114: 4 | BM114: -586528583
D115: PP | F115: Rozebrání dlažeb a dílců vozovek a ploch s přemístěním hmot na skládku na vzdálenost do 3 m nebo s naložením na dopravní prostředek, s jakoukoliv výplní spár ručně z drobných kostek nebo odseků s ložem z kameniva | AT115: PP | AU115: 2
D116: P | F116: Poznámka k položce:_x000D_ C3.2 Situace - úsek B, C7. Situace stávajícího stavu | AT116: P | AU116: 2
D117: VV | F117: "přeskládání při napojení na stávající stav - křižovatka Jiráskova"7,75 | H117: 7.75 | AT117: VV | AU117: 2 | AV117: 2 | AW117: True | AX117: 0 | AY117: ROZPOCET
D118: VV | F118: "POLOŽKA BUDE ČERPÁNA DLE SKUTEČNOSTI"473+262 | H118: 735 | AT118: VV | AU118: 2 | AV118: 2 | AW118: True | AX118: 0 | AY118: ROZPOCET
D119: VV | F119: 2140 | H119: 2140 | AT119: VV | AU119: 2 | AV119: 2 | AW119: True | AX119: 0 | AY119: ROZPOCET
D120: VV | F120: Součet | H120: 2882.75 | AT120: VV | AU120: 2 | AV120: 4 | AW120: True | AX120: 1 | AY120: ROZPOCET
C121: 5 | D121: K | E121: 113107137 | F121: Odstranění podkladu z betonu vyztuženého sítěmi tl 300 mm ručně | G121: m2 | H121: 735 | J121: =ROUND(I121*H121,2) -> 0 | K121: CS ÚRS 2019 01 | N121: základní | P121: =O121*H121 -> 0 | Q121: 0 | R121: =Q121*H121 -> 0 | S121: 0.63 | T121: =S121*H121 -> 463.05 | AR121: 4 | AT121: K | AU121: 2 | AY121: ROZPOCET | BE121: =IF(N121="základní",J121,0) -> 0 | BF121: =IF(N121="snížená",J121,0) -> 0 | BG121: =IF(N121="zákl. přenesená",J121,0) -> 0 | BH121: =IF(N121="sníž. přenesená",J121,0) -> 0 | BI121: =IF(N121="nulová",J121,0) -> 0 | BJ121: 1 | BK121: =ROUND(I121*H121,2) -> 0 | BL121: 4 | BM121: -1508522868
D122: PP | F122: Odstranění podkladů nebo krytů ručně s přemístěním hmot na skládku na vzdálenost do 3 m nebo s naložením na dopravní prostředek z betonu vyztuženého sítěmi, o tl. vrstvy přes 150 do 300 mm | AT122: PP | AU122: 2
D123: P | F123: Poznámka k položce:_x000D_ C3.2 Situace - úsek B, C7. Situace stávajícího stavu | AT123: P | AU123: 2
D124: VV | F124: POLOŽKA BUDE ČERPÁNA DLE SKUTEČNOSTI | AT124: VV | AU124: 2 | AV124: 1 | AW124: True | AX124: 0 | AY124: ROZPOCET
D125: VV | F125: 473+262 | H125: 735 | AT125: VV | AU125: 2 | AV125: 2 | AW125: True | AX125: 1 | AY125: ROZPOCET
C126: 6 | D126: K | E126: 113107222 | F126: Odstranění podkladu z kameniva drceného tl 200 mm strojně pl přes 200 m2 | G126: m2 | H126: 1925.4 | J126: =ROUND(I126*H126,2) -> 0 | K126: CS ÚRS 2019 01 | N126: základní | P126: =O126*H126 -> 0 | Q126: 0 | R126: =Q126*H126 -> 0 | S126: 0.29 | T126: =S126*H126 -> 558.366 | AR126: 4 | AT126: K | AU126: 2 | AY126: ROZPOCET | BE126: =IF(N126="základní",J126,0) -> 0 | BF126: =IF(N126="snížená",J126,0) -> 0 | BG126: =IF(N126="zákl. přenesená",J126,0) -> 0 | BH126: =IF(N126="sníž. přenesená",J126,0) -> 0 | BI126: =IF(N126="nulová",J126,0) -> 0 | BJ126: 1 | BK126: =ROUND(I126*H126,2) -> 0 | BL126: 4 | BM126: -122440429
D127: PP | F127: Odstranění podkladů nebo krytů strojně plochy jednotlivě přes 200 m2 s přemístěním hmot na skládku na vzdálenost do 20 m nebo s naložením na dopravní prostředek z kameniva hrubého drceného, o tl. vrstvy přes 100 do 200 mm | AT127: PP | AU127: 2
D128: P | F128: Poznámka k položce:_x000D_ C3.2 Situace - úsek B, C7. Situace stávajícího stavu | AT128: P | AU128: 2
D129: VV | F129: "pravý chodník"915,6+497,1-0,2*312 | H129: 1350.3 | AT129: VV | AU129: 2 | AV129: 2 | AW129: True | AX129: 0 | AY129: ROZPOCET
D130: VV | F130: "levý chodník"1,5*231+241-0,2*62 | H130: 575.1 | AT130: VV | AU130: 2 | AV130: 2 | AW130: True | AX130: 0 | AY130: ROZPOCET
D131: VV | F131: Součet | H131: 1925.4 | AT131: VV | AU131: 2 | AV131: 4 | AW131: True | AX131: 1 | AY131: ROZPOCET
C132: 7 | D132: K | E132: 113107223 | F132: Odstranění podkladu z kameniva drceného tl 300 mm strojně pl přes 200 m2 | G132: m2 | H132: 2875 | J132: =ROUND(I132*H132,2) -> 0 | K132: CS ÚRS 2019 01 | N132: základní | P132: =O132*H132 -> 0 | Q132: 0 | R132: =Q132*H132 -> 0 | S132: 0.44 | T132: =S132*H132 -> 1265 | AR132: 4 | AT132: K | AU132: 2 | AY132: ROZPOCET | BE132: =IF(N132="základní",J132,0) -> 0 | BF132: =IF(N132="snížená",J132,0) -> 0 | BG132: =IF(N132="zákl. přenesená",J132,0) -> 0 | BH132: =IF(N132="sníž. přenesená",J132,0) -> 0 | BI132: =IF(N132="nulová",J132,0) -> 0 | BJ132: 1 | BK132: =ROUND(I132*H132,2) -> 0 | BL132: 4 | BM132: 1315156650
D133: PP | F133: Odstranění podkladů nebo krytů strojně plochy jednotlivě přes 200 m2 s přemístěním hmot na skládku na vzdálenost do 20 m nebo s naložením na dopravní prostředek z kameniva hrubého drceného, o tl. vrstvy přes 200 do 300 mm | AT133: PP | AU133: 2
...

Sheet SO 401 - Veřejné osvětlení
AT2: {83fc78a6-9d7d-4f51-a2a7-76aae4e726a5}
AT3: 2
D4: KRYCÍ LIST SOUPISU PRACÍ | M4: v --- níže se nacházejí doplnkové a pomocné údaje k sestavám --- v | AT4: False
D6: Stavba:
E7: ='Rekapitulace stavby'!K6 -> Humanizace ul. Nádražní v Mimoni
D8: Objekt:
E9: 2 - Úsek B
D10: Soupis:
E11: SO 401 - Veřejné osvětlení
D13: KSO: | I13: CC-CZ:
D14: Místo: | F14: Mimoň | I14: Datum: | J14: ='Rekapitulace stavby'!AN8 -> 27. 3. 2017
D16: Zadavatel: | I16: IČ:
I17: DIČ:
D19: Uchazeč: | I19: IČ: | J19: ='Rekapitulace stavby'!AN13 -> Vyplň údaj
E20: ='Rekapitulace stavby'!E14 -> Vyplň údaj | I20: DIČ: | J20: ='Rekapitulace stavby'!AN14 -> Vyplň údaj
D22: Projektant: | I22: IČ:
I23: DIČ:
D25: Zpracovatel: | I25: IČ: | J25: =IF('Rekapitulace stavby'!AN19="","",'Rekapitulace stavby'!AN19)
E26: =IF('Rekapitulace stavby'!E20="","",'Rekapitulace stavby'!E20) | I26: DIČ: | J26: =IF('Rekapitulace stavby'!AN20="","",'Rekapitulace stavby'!AN20)
D28: Poznámka:
D32: Cena bez DPH | J32: =ROUND(J87, 2) -> 0
F34: Základ daně | I34: Sazba daně | J34: Výše daně
D35: DPH | E35: základní | F35: =ROUND((SUM(BE87:BE91)), 2) -> 0 | I35: 0.21 | J35: =ROUND(((SUM(BE87:BE91))*I35), 2) -> 0
E36: snížená | F36: =ROUND((SUM(BF87:BF91)), 2) -> 0 | I36: 0.15 | J36: =ROUND(((SUM(BF87:BF91))*I36), 2) -> 0
E37: zákl. přenesená | F37: =ROUND((SUM(BG87:BG91)), 2) -> 0 | I37: 0.21 | J37: =0 -> 0
E38: sníž. přenesená | F38: =ROUND((SUM(BH87:BH91)), 2) -> 0 | I38: 0.15 | J38: =0 -> 0
E39: nulová | F39: =ROUND((SUM(BI87:BI91)), 2) -> 0 | I39: 0 | J39: =0 -> 0
D41: Cena s DPH | G41: v | H41: CZK | J41: =SUM(J32:J39) -> 0
C47: REKAPITULACE ČLENĚNÍ SOUPISU PRACÍ
C49: Stavba:
E50: =E7 -> Humanizace ul. Nádražní v Mimoni
C51: Objekt:
E52: 2 - Úsek B
C53: Soupis:
E54: =E11 -> SO 401 - Veřejné osvětlení
C56: Místo: | F56: =F14 -> Mimoň | I56: Datum: | J56: =IF(J14="","",J14) -> 27. 3. 2017
C58: Zadavatel: | F58: =E17 | I58: Projektant: | J58: =E23
C59: Uchazeč: | F59: =IF(E20="","",E20) -> Vyplň údaj | I59: Zpracovatel: | J59: =E26
C61: Kód dílu - Popis | J61: Cena celkem [CZK]
C63: Náklady stavby celkem | J63: =J87 -> 0 | AU63: -1
D64: PSV - Práce a dodávky PSV | J64: =J88 -> 0
D65: 749 - Elektromontáže - ostatní práce a konstrukce | J65: =J89 -> 0
C72: SOUPIS PRACÍ
C74: Stavba:
E75: =E7 -> Humanizace ul. Nádražní v Mimoni
C76: Objekt:
E77: 2 - Úsek B
C78: Soupis:
E79: =E11 -> SO 401 - Veřejné osvětlení
C81: Místo: | F81: =F14 -> Mimoň | I81: Datum: | J81: =IF(J14="","",J14) -> 27. 3. 2017
C83: Zadavatel: | F83: =E17 | I83: Projektant: | J83: =E23
C84: Uchazeč: | F84: =IF(E20="","",E20) -> Vyplň údaj | I84: Zpracovatel: | J84: =E26
C86: PČ | D86: Typ | E86: Kód | F86: Popis | G86: MJ | H86: Množství | I86: J.cena [CZK] | J86: Cena celkem [CZK] | K86: Cenová soustava | N86: DPH | O86: J. Nh [h] | P86: Nh celkem [h] | Q86: J. hmotnost [t] | R86: Hmotnost celkem [t] | S86: J. suť [t] | T86: Suť Celkem [t]
C87: Náklady soupisu celkem | J87: =BK87 -> 0 | P87: =P88 -> 0 | R87: =R88 -> 0 | T87: =T88 -> 0 | AT87: D | AU87: -1 | BK87: =BK88 -> 0
D88: D | E88: PSV | F88: Práce a dodávky PSV | J88: =BK88 -> 0 | P88: =P89 -> 0 | R88: =R89 -> 0 | T88: =T89 -> 0 | AR88: 2 | AT88: D | AU88: 0 | AY88: ROZPOCET | BK88: =BK89 -> 0
D89: D | E89: 749 | F89: Elektromontáže - ostatní práce a konstrukce | J89: =BK89 -> 0 | P89: =SUM(P90:P91) -> 0 | R89: =SUM(R90:R91) -> 0 | T89: =SUM(T90:T91) -> 0 | AR89: 2 | AT89: D | AU89: 1 | AY89: ROZPOCET | BK89: =SUM(BK90:BK91) -> 0
C90: 1 | D90: K | E90: 749749000 | F90: SO 401 Veřejné osvětlení - dle samostatného rozpočtu | G90: soub. | H90: 1 | J90: =ROUND(I90*H90,2) -> 0 | N90: základní | P90: =O90*H90 -> 0 | Q90: 0 | R90: =Q90*H90 -> 0 | S90: 0 | T90: =S90*H90 -> 0 | AR90: 16 | AT90: K | AU90: 2 | AY90: ROZPOCET | BE90: =IF(N90="základní",J90,0) -> 0 | BF90: =IF(N90="snížená",J90,0) -> 0 | BG90: =IF(N90="zákl. přenesená",J90,0) -> 0 | BH90: =IF(N90="sníž. přenesená",J90,0) -> 0 | BI90: =IF(N90="nulová",J90,0) -> 0 | BJ90: 1 | BK90: =ROUND(I90*H90,2) -> 0 | BL90: 16 | BM90: 517666898
D91: PP | F91: SO 401 Veřejné osvětlení - dle samostatného rozpočtu | AT91: PP | AU91: 2

Sheet SO 800 - Vegetační úpravy 
AT2: {022690d2-b5f9-4bb3-8624-60367bb23473}
AT3: 2
D4: KRYCÍ LIST SOUPISU PRACÍ | M4: v --- níže se nacházejí doplnkové a pomocné údaje k sestavám --- v | AT4: False
D6: Stavba:
E7: ='Rekapitulace stavby'!K6 -> Humanizace ul. Nádražní v Mimoni
D8: Objekt:
E9: 2 - Úsek B
D10: Soupis:
E11: SO 800 - Vegetační úpravy
D13: KSO: | I13: CC-CZ:
D14: Místo: | F14: Mimoň | I14: Datum: | J14: ='Rekapitulace stavby'!AN8 -> 27. 3. 2017
D16: Zadavatel: | I16: IČ:
I17: DIČ:
D19: Uchazeč: | I19: IČ: | J19: ='Rekapitulace stavby'!AN13 -> Vyplň údaj
E20: ='Rekapitulace stavby'!E14 -> Vyplň údaj | I20: DIČ: | J20: ='Rekapitulace stavby'!AN14 -> Vyplň údaj
D22: Projektant: | I22: IČ:
I23: DIČ:
D25: Zpracovatel: | I25: IČ: | J25: =IF('Rekapitulace stavby'!AN19="","",'Rekapitulace stavby'!AN19)
E26: =IF('Rekapitulace stavby'!E20="","",'Rekapitulace stavby'!E20) | I26: DIČ: | J26: =IF('Rekapitulace stavby'!AN20="","",'Rekapitulace stavby'!AN20)
D28: Poznámka:
D32: Cena bez DPH | J32: =ROUND(J87, 2) -> 0
F34: Základ daně | I34: Sazba daně | J34: Výše daně
D35: DPH | E35: základní | F35: =ROUND((SUM(BE87:BE182)), 2) -> 0 | I35: 0.21 | J35: =ROUND(((SUM(BE87:BE182))*I35), 2) -> 0
E36: snížená | F36: =ROUND((SUM(BF87:BF182)), 2) -> 0 | I36: 0.15 | J36: =ROUND(((SUM(BF87:BF182))*I36), 2) -> 0
E37: zákl. přenesená | F37: =ROUND((SUM(BG87:BG182)), 2) -> 0 | I37: 0.21 | J37: =0 -> 0
E38: sníž. přenesená | F38: =ROUND((SUM(BH87:BH182)), 2) -> 0 | I38: 0.15 | J38: =0 -> 0
E39: nulová | F39: =ROUND((SUM(BI87:BI182)), 2) -> 0 | I39: 0 | J39: =0 -> 0
D41: Cena s DPH | G41: v | H41: CZK | J41: =SUM(J32:J39) -> 0
C47: REKAPITULACE ČLENĚNÍ SOUPISU PRACÍ
C49: Stavba:
E50: =E7 -> Humanizace ul. Nádražní v Mimoni
C51: Objekt:
E52: 2 - Úsek B
C53: Soupis:
E54: =E11 -> SO 800 - Vegetační úpravy
C56: Místo: | F56: =F14 -> Mimoň | I56: Datum: | J56: =IF(J14="","",J14) -> 27. 3. 2017
C58: Zadavatel: | F58: =E17 | I58: Projektant: | J58: =E23
C59: Uchazeč: | F59: =IF(E20="","",E20) -> Vyplň údaj | I59: Zpracovatel: | J59: =E26
C61: Kód dílu - Popis | J61: Cena celkem [CZK]
C63: Náklady stavby celkem | J63: =J87 -> 0 | AU63: -1
D64: HSV - Práce a dodávky HSV | J64: =J88 -> 0
D65: 1 - Zemní práce | J65: =J89 -> 0
C72: SOUPIS PRACÍ
C74: Stavba:
E75: =E7 -> Humanizace ul. Nádražní v Mimoni
C76: Objekt:
E77: 2 - Úsek B
C78: Soupis:
E79: =E11 -> SO 800 - Vegetační úpravy
C81: Místo: | F81: =F14 -> Mimoň | I81: Datum: | J81: =IF(J14="","",J14) -> 27. 3. 2017
C83: Zadavatel: | F83: =E17 | I83: Projektant: | J83: =E23
C84: Uchazeč: | F84: =IF(E20="","",E20) -> Vyplň údaj | I84: Zpracovatel: | J84: =E26
C86: PČ | D86: Typ | E86: Kód | F86: Popis | G86: MJ | H86: Množství | I86: J.cena [CZK] | J86: Cena celkem [CZK] | K86: Cenová soustava | N86: DPH | O86: J. Nh [h] | P86: Nh celkem [h] | Q86: J. hmotnost [t] | R86: Hmotnost celkem [t] | S86: J. suť [t] | T86: Suť Celkem [t]
C87: Náklady soupisu celkem | J87: =BK87 -> 0 | P87: =P88 -> 0 | R87: =R88 -> 0.00036 | T87: =T88 -> 0 | AT87: D | AU87: -1 | BK87: =BK88 -> 0
D88: D | E88: HSV | F88: Práce a dodávky HSV | J88: =BK88 -> 0 | P88: =P89 -> 0 | R88: =R89 -> 0.00036 | T88: =T89 -> 0 | AR88: 1 | AT88: D | AU88: 0 | AY88: ROZPOCET | BK88: =BK89 -> 0
D89: D | E89: 1 | F89: Zemní práce | J89: =BK89 -> 0 | P89: =SUM(P90:P182) -> 0 | R89: =SUM(R90:R182) -> 0.00036 | T89: =SUM(T90:T182) -> 0 | AR89: 1 | AT89: D | AU89: 1 | AY89: ROZPOCET | BK89: =SUM(BK90:BK182) -> 0
C90: 1 | D90: K | E90: 181411131 | F90: Založení parkového trávníku výsevem plochy do 1000 m2 v rovině a ve svahu do 1:5 | G90: m2 | H90: 24 | J90: =ROUND(I90*H90,2) -> 0 | K90: CS ÚRS 2019 01 | N90: základní | P90: =O90*H90 -> 0 | Q90: 0 | R90: =Q90*H90 -> 0 | S90: 0 | T90: =S90*H90 -> 0 | AR90: 4 | AT90: K | AU90: 2 | AY90: ROZPOCET | BE90: =IF(N90="základní",J90,0) -> 0 | BF90: =IF(N90="snížená",J90,0) -> 0 | BG90: =IF(N90="zákl. přenesená",J90,0) -> 0 | BH90: =IF(N90="sníž. přenesená",J90,0) -> 0 | BI90: =IF(N90="nulová",J90,0) -> 0 | BJ90: 1 | BK90: =ROUND(I90*H90,2) -> 0 | BL90: 4 | BM90: -1783393429
D91: PP | F91: Založení trávníku na půdě předem připravené plochy do 1000 m2 výsevem včetně utažení parkového v rovině nebo na svahu do 1:5 | AT91: PP | AU91: 2
D92: P | F92: Poznámka k položce:_x000D_ C3.2 Situace - úsek B | AT92: P | AU92: 2
C93: 2 | D93: M | E93: 005724100 | F93: osivo směs travní parková | G93: kg | H93: 0.36 | J93: =ROUND(I93*H93,2) -> 0 | K93: CS ÚRS 2019 01 | N93: základní | P93: =O93*H93 -> 0 | Q93: 0.001 | R93: =Q93*H93 -> 0.00036 | S93: 0 | T93: =S93*H93 -> 0 | AR93: 8 | AT93: M | AU93: 2 | AY93: ROZPOCET | BE93: =IF(N93="základní",J93,0) -> 0 | BF93: =IF(N93="snížená",J93,0) -> 0 | BG93: =IF(N93="zákl. přenesená",J93,0) -> 0 | BH93: =IF(N93="sníž. přenesená",J93,0) -> 0 | BI93: =IF(N93="nulová",J93,0) -> 0 | BJ93: 1 | BK93: =ROUND(I93*H93,2) -> 0 | BL93: 4 | BM93: 1331963913
D94: PP | F94: osivo směs travní parková | AT94: PP | AU94: 2
D95: VV | F95: 24*0,015 "Přepočtené koeficientem množství | H95: 0.36 | AT95: VV | AU95: 2 | AV95: 2 | AW95: True | AX95: 1 | AY95: ROZPOCET
C96: 3 | D96: K | E96: 183 10-1212 | F96: Hloubení jamky s výměnou půdy na 50% do 0,02m3 ( keře) | G96: ks | H96: 1493 | J96: =ROUND(I96*H96,2) -> 0 | N96: základní | P96: =O96*H96 -> 0 | Q96: 0 | R96: =Q96*H96 -> 0 | S96: 0 | T96: =S96*H96 -> 0 | AR96: 4 | AT96: K | AU96: 2 | AY96: ROZPOCET | BE96: =IF(N96="základní",J96,0) -> 0 | BF96: =IF(N96="snížená",J96,0) -> 0 | BG96: =IF(N96="zákl. přenesená",J96,0) -> 0 | BH96: =IF(N96="sníž. přenesená",J96,0) -> 0 | BI96: =IF(N96="nulová",J96,0) -> 0 | BJ96: 1 | BK96: =ROUND(I96*H96,2) -> 0 | BL96: 4 | BM96: -664272715
D97: PP | F97: Hloubení jamky s výměnou půdy na 50% do 0,02m3 ( keře) | AT97: PP | AU97: 2
D98: VV | F98: 32+18+22+32+24+28+40+28+28+28+28+28 | H98: 336 | AT98: VV | AU98: 2 | AV98: 2 | AW98: True | AX98: 0 | AY98: ROZPOCET
D99: VV | F99: 32+60+24+28+20+24+24+28+96+28+28+28+28+76 | H99: 524 | AT99: VV | AU99: 2 | AV99: 2 | AW99: True | AX99: 0 | AY99: ROZPOCET
D100: VV | F100: 28+24+24+28+28+28+36+80+40 | H100: 316 | AT100: VV | AU100: 2 | AV100: 2 | AW100: True | AX100: 0 | AY100: ROZPOCET
D101: VV | F101: 28+76 | H101: 104 | AT101: VV | AU101: 2 | AV101: 2 | AW101: True | AX101: 0 | AY101: ROZPOCET
D102: VV | F102: 39+81+27+24 | H102: 171 | AT102: VV | AU102: 2 | AV102: 2 | AW102: True | AX102: 0 | AY102: ROZPOCET
D103: VV | F103: 42 | H103: 42 | AT103: VV | AU103: 2 | AV103: 2 | AW103: True | AX103: 0 | AY103: ROZPOCET
D104: VV | F104: Součet | H104: 1493 | AT104: VV | AU104: 2 | AV104: 4 | AW104: True | AX104: 1 | AY104: ROZPOCET
C105: 4 | D105: K | E105: 183 10-1215 | F105: Hloubení jamek s 50% výměnou půdy, objem do 0,4m3 | G105: ks | H105: 36 | J105: =ROUND(I105*H105,2) -> 0 | N105: základní | P105: =O105*H105 -> 0 | Q105: 0 | R105: =Q105*H105 -> 0 | S105: 0 | T105: =S105*H105 -> 0 | AR105: 4 | AT105: K | AU105: 2 | AY105: ROZPOCET | BE105: =IF(N105="základní",J105,0) -> 0 | BF105: =IF(N105="snížená",J105,0) -> 0 | BG105: =IF(N105="zákl. přenesená",J105,0) -> 0 | BH105: =IF(N105="sníž. přenesená",J105,0) -> 0 | BI105: =IF(N105="nulová",J105,0) -> 0 | BJ105: 1 | BK105: =ROUND(I105*H105,2) -> 0 | BL105: 4 | BM105: -876889616
D106: PP | F106: Hloubení jamek s 50% výměnou půdy, objem do 0,4m3 | AT106: PP | AU106: 2
C107: 5 | D107: K | E107: 183 20-5112 | F107: Založení záhonu v rovině a svahu do 1:5 zemina tř 3 | G107: m2 | H107: 391 | J107: =ROUND(I107*H107,2) -> 0 | N107: základní | P107: =O107*H107 -> 0 | Q107: 0 | R107: =Q107*H107 -> 0 | S107: 0 | T107: =S107*H107 -> 0 | AR107: 4 | AT107: K | AU107: 2 | AY107: ROZPOCET | BE107: =IF(N107="základní",J107,0) -> 0 | BF107: =IF(N107="snížená",J107,0) -> 0 | BG107: =IF(N107="zákl. přenesená",J107,0) -> 0 | BH107: =IF(N107="sníž. přenesená",J107,0) -> 0 | BI107: =IF(N107="nulová",J107,0) -> 0 | BJ107: 1 | BK107: =ROUND(I107*H107,2) -> 0 | BL107: 4 | BM107: 102521845
D108: PP | F108: Založení záhonu v rovině a svahu do 1:5 zemina tř 3 | AT108: PP | AU108: 2
D109: VV | F109: 84+131+79+26+57+14 | H109: 391 | AT109: VV | AU109: 2 | AV109: 2 | AW109: True | AX109: 1 | AY109: ROZPOCET
C110: 6 | D110: K | E110: 183 40-3153 | F110: Obdělání půdy hrabáním v rovině a svahu do 1:5 | G110: m2 | H110: 25 | J110: =ROUND(I110*H110,2) -> 0 | N110: základní | P110: =O110*H110 -> 0 | Q110: 0 | R110: =Q110*H110 -> 0 | S110: 0 | T110: =S110*H110 -> 0 | AR110: 4 | AT110: K | AU110: 2 | AY110: ROZPOCET | BE110: =IF(N110="základní",J110,0) -> 0 | BF110: =IF(N110="snížená",J110,0) -> 0 | BG110: =IF(N110="zákl. přenesená",J110,0) -> 0 | BH110: =IF(N110="sníž. přenesená",J110,0) -> 0 | BI110: =IF(N110="nulová",J110,0) -> 0 | BJ110: 1 | BK110: =ROUND(I110*H110,2) -> 0 | BL110: 4 | BM110: 1378938685
D111: PP | F111: Obdělání půdy hrabáním v rovině a svahu do 1:5 | AT111: PP | AU111: 2
C112: 7 | D112: K | E112: 184 10-2111 | F112: Výsadba dřeviny s balem do 200mm | G112: ks | H112: 1493 | J112: =ROUND(I112*H112,2) -> 0 | N112: základní | P112: =O112*H112 -> 0 | Q112: 0 | R112: =Q112*H112 -> 0 | S112: 0 | T112: =S112*H112 -> 0 | AR112: 4 | AT112: K | AU112: 2 | AY112: ROZPOCET | BE112: =IF(N112="základní",J112,0) -> 0 | BF112: =IF(N112="snížená",J112,0) -> 0 | BG112: =IF(N112="zákl. přenesená",J112,0) -> 0 | BH112: =IF(N112="sníž. přenesená",J112,0) -> 0 | BI112: =IF(N112="nulová",J112,0) -> 0 | BJ112: 1 | BK112: =ROUND(I112*H112,2) -> 0 | BL112: 4 | BM112: -1223217732
D113: PP | F113: Výsadba dřeviny s balem do 200mm | AT113: PP | AU113: 2
C114: 8 | D114: K | E114: 184 10-2151 | F114: Výsadba dř.s balem, pr.balu do 60 cm, v rov. | G114: ks | H114: 36 | J114: =ROUND(I114*H114,2) -> 0 | N114: základní | P114: =O114*H114 -> 0 | Q114: 0 | R114: =Q114*H114 -> 0 | S114: 0 | T114: =S114*H114 -> 0 | AR114: 4 | AT114: K | AU114: 2 | AY114: ROZPOCET | BE114: =IF(N114="základní",J114,0) -> 0 | BF114: =IF(N114="snížená",J114,0) -> 0 | BG114: =IF(N114="zákl. přenesená",J114,0) -> 0 | BH114: =IF(N114="sníž. přenesená",J114,0) -> 0 | BI114: =IF(N114="nulová",J114,0) -> 0 | BJ114: 1 | BK114: =ROUND(I114*H114,2) -> 0 | BL114: 4 | BM114: 1319373389
D115: PP | F115: Výsadba dř.s balem, pr.balu do 60 cm, v rov. | AT115: PP | AU115: 2
C116: 9 | D116: M | E116: S11 | F116: Juta (5m šíře 0,15/VSK) | G116: m | H116: 180 | J116: =ROUND(I116*H116,2) -> 0 | N116: základní | P116: =O116*H116 -> 0 | Q116: 0 | R116: =Q116*H116 -> 0 | S116: 0 | T116: =S116*H116 -> 0 | AR116: 8 | AT116: M | AU116: 2 | AY116: ROZPOCET | BE116: =IF(N116="základní",J116,0) -> 0 | BF116: =IF(N116="snížená",J116,0) -> 0 | BG116: =IF(N116="zákl. přenesená",J116,0) -> 0 | BH116: =IF(N116="sníž. přenesená",J116,0) -> 0 | BI116: =IF(N116="nulová",J116,0) -> 0 | BJ116: 1 | BK116: =ROUND(I116*H116,2) -> 0 | BL116: 4 | BM116: -1358182976
D117: PP | F117: Juta (5m šíře 0,15/VSK) | AT117: PP | AU117: 2
C118: 10 | D118: K | E118: 184 20-2121 | F118: Ukotvení dřeviny třemi kůly, délky do 3m | G118: ks | H118: 36 | J118: =ROUND(I118*H118,2) -> 0 | N118: základní | P118: =O118*H118 -> 0 | Q118: 0 | R118: =Q118*H118 -> 0 | S118: 0 | T118: =S118*H118 -> 0 | AR118: 4 | AT118: K | AU118: 2 | AY118: ROZPOCET | BE118: =IF(N118="základní",J118,0) -> 0 | BF118: =IF(N118="snížená",J118,0) -> 0 | BG118: =IF(N118="zákl. přenesená",J118,0) -> 0 | BH118: =IF(N118="sníž. přenesená",J118,0) -> 0 | BI118: =IF(N118="nulová",J118,0) -> 0 | BJ118: 1 | BK118: =ROUND(I118*H118,2) -> 0 | BL118: 4 | BM118: -566785397
D119: PP | F119: Ukotvení dřeviny třemi kůly, délky do 3m | AT119: PP | AU119: 2
C120: 11 | D120: K | E120: 184 21-3412 | F120: Zhotovení závlahové mísy do 1m u solit. dřevin | G120: ks | H120: 36 | J120: =ROUND(I120*H120,2) -> 0 | N120: základní | P120: =O120*H120 -> 0 | Q120: 0 | R120: =Q120*H120 -> 0 | S120: 0 | T120: =S120*H120 -> 0 | AR120: 4 | AT120: K | AU120: 2 | AY120: ROZPOCET | BE120: =IF(N120="základní",J120,0) -> 0 | BF120: =IF(N120="snížená",J120,0) -> 0 | BG120: =IF(N120="zákl. přenesená",J120,0) -> 0 | BH120: =IF(N120="sníž. přenesená",J120,0) -> 0 | BI120: =IF(N120="nulová",J120,0) -> 0 | BJ120: 1 | BK120: =ROUND(I120*H120,2) -> 0 | BL120: 4 | BM120: 946627558
D121: PP | F121: Zhotovení závlahové mísy do 1m u solit. dřevin | AT121: PP | AU121: 2
C122: 12 | D122: K | E122: 184 50-1114 | F122: Zhotovení obalu kmene stromu jutou ve dvou vrstvách (VSK) | G122: ks | H122: 36 | J122: =ROUND(I122*H122,2) -> 0 | N122: základní | P122: =O122*H122 -> 0 | Q122: 0 | R122: =Q122*H122 -> 0 | S122: 0 | T122: =S122*H122 -> 0 | AR122: 4 | AT122: K | AU122: 2 | AY122: ROZPOCET | BE122: =IF(N122="základní",J122,0) -> 0 | BF122: =IF(N122="snížená",J122,0) -> 0 | BG122: =IF(N122="zákl. přenesená",J122,0) -> 0 | BH122: =IF(N122="sníž. přenesená",J122,0) -> 0 | BI122: =IF(N122="nulová",J122,0) -> 0 | BJ122: 1 | BK122: =ROUND(I122*H122,2) -> 0 | BL122: 4 | BM122: 1834232692
D123: PP | F123: Zhotovení obalu kmene stromu jutou ve dvou vrstvách (VSK) | AT123: PP | AU123: 2
C124: 13 | D124: K | E124: 184 80-2111 | F124: Chemické odplevelení před založením kultury nad 20 m2 postřikem na široko v rovině a svahu do 1:5 | G124: m2 | H124: 391 | J124: =ROUND(I124*H124,2) -> 0 | N124: základní | P124: =O124*H124 -> 0 | Q124: 0 | R124: =Q124*H124 -> 0 | S124: 0 | T124: =S124*H124 -> 0 | AR124: 4 | AT124: K | AU124: 2 | AY124: ROZPOCET | BE124: =IF(N124="základní",J124,0) -> 0 | BF124: =IF(N124="snížená",J124,0) -> 0 | BG124: =IF(N124="zákl. přenesená",J124,0) -> 0 | BH124: =IF(N124="sníž. přenesená",J124,0) -> 0 | BI124: =IF(N124="nulová",J124,0) -> 0 | BJ124: 1 | BK124: =ROUND(I124*H124,2) -> 0 | BL124: 4 | BM124: -1880714481
D125: PP | F125: Chemické odplevelení před založením kultury nad 20 m2 postřikem na široko v rovině a svahu do 1:5 | AT125: PP | AU125: 2
C126: 14 | D126: M | E126: S1 | F126: Chemický přípravek na odplevelení pozemku - totální herbicid (0,0006l/m2) | G126: l | H126: 0.235 | J126: =ROUND(I126*H126,2) -> 0 | N126: základní | P126: =O126*H126 -> 0 | Q126: 0 | R126: =Q126*H126 -> 0 | S126: 0 | T126: =S126*H126 -> 0 | AR126: 8 | AT126: M | AU126: 2 | AY126: ROZPOCET | BE126: =IF(N126="základní",J126,0) -> 0 | BF126: =IF(N126="snížená",J126,0) -> 0 | BG126: =IF(N126="zákl. přenesená",J126,0) -> 0 | BH126: =IF(N126="sníž. přenesená",J126,0) -> 0 | BI126: =IF(N126="nulová",J126,0) -> 0 | BJ126: 1 | BK126: =ROUND(I126*H126,2) -> 0 | BL126: 4 | BM126: -2104733365
D127: PP | F127: Chemický přípravek na odplevelení pozemku - totální herbicid (0,0006l/m2) | AT127: PP | AU127: 2
C128: 15 | D128: K | E128: 184 91-1421 | F128: Mulčování rostlin kůrou tl. do 0,1 m v rovině a svahu do 1:5 | G128: m2 | H128: 36 | J128: =ROUND(I128*H128,2) -> 0 | N128: základní | P128: =O128*H128 -> 0 | Q128: 0 | R128: =Q128*H128 -> 0 | S128: 0 | T128: =S128*H128 -> 0 | AR128: 4 | AT128: K | AU128: 2 | AY128: ROZPOCET | BE128: =IF(N128="základní",J128,0) -> 0 | BF128: =IF(N128="snížená",J128,0) -> 0 | BG128: =IF(N128="zákl. přenesená",J128,0) -> 0 | BH128: =IF(N128="sníž. přenesená",J128,0) -> 0 | BI128: =IF(N128="nulová",J128,0) -> 0 | BJ128: 1 | BK128: =ROUND(I128*H128,2) -> 0 | BL128: 4 | BM128: -883045430
D129: PP | F129: Mulčování rostlin kůrou tl. do 0,1 m v rovině a svahu do 1:5 | AT129: PP | AU129: 2
C130: 16 | D130: K | E130: 184 91-1421.1 | F130: Mulčování rostlin kůrou tl. do 0,1 m v rovině a svahu do 1:5 | G130: m2 | H130: 41.85 | J130: =ROUND(I130*H130,2) -> 0 | N130: základní | P130: =O130*H130 -> 0 | Q130: 0 | R130: =Q130*H130 -> 0 | S130: 0 | T130: =S130*H130 -> 0 | AR130: 4 | AT130: K | AU130: 2 | AY130: ROZPOCET | BE130: =IF(N130="základní",J130,0) -> 0 | BF130: =IF(N130="snížená",J130,0) -> 0 | BG130: =IF(N130="zákl. přenesená",J130,0) -> 0 | BH130: =IF(N130="sníž. přenesená",J130,0) -> 0 | BI130: =IF(N130="nulová",J130,0) -> 0 | BJ130: 1 | BK130: =ROUND(I130*H130,2) -> 0 | BL130: 4 | BM130: -1453981100
D131: PP | F131: Mulčování rostlin kůrou tl. do 0,1 m v rovině a svahu do 1:5 | AT131: PP | AU131: 2
C132: 17 | D132: K | E132: 185 80-2113 | F132: Hnojení půdy umělým hnojivem na široko v rovině a svahu do 1:5 | G132: t | H132: 0.006 | J132: =ROUND(I132*H132,2) -> 0 | N132: základní | P132: =O132*H132 -> 0 | Q132: 0 | R132: =Q132*H132 -> 0 | S132: 0 | T132: =S132*H132 -> 0 | AR132: 4 | AT132: K | AU132: 2 | AY132: ROZPOCET | BE132: =IF(N132="základní",J132,0) -> 0 | BF132: =IF(N132="snížená",J132,0) -> 0 | BG132: =IF(N132="zákl. přenesená",J132,0) -> 0 | BH132: =IF(N132="sníž. přenesená",J132,0) -> 0 | BI132: =IF(N132="nulová",J132,0) -> 0 | BJ132: 1 | BK132: =ROUND(I132*H132,2) -> 0 | BL132: 4 | BM132: -1486602384
D133: PP | F133: Hnojení půdy umělým hnojivem na široko v rovině a svahu do 1:5 | AT133: PP | AU133: 2
...

Sheet Pokyny pro vyplnění
C3: Struktura údajů, formát souboru a metodika pro zpracování
C4: Struktura
C6: Soubor je složen ze záložky Rekapitulace stavby a záložek s názvem soupisu prací pro jednotlivé objekty ve formátu XLSX. Každá ze záložek přitom obsahuje
C7: ještě samostatné sestavy vymezené orámovaním a nadpisem sestavy.
C9: Rekapitulace stavby obsahuje sestavu Rekapitulace stavby a Rekapitulace objektů stavby a soupisů prací.
D10: V sestavě Rekapitulace stavby jsou uvedeny informace identifikující předmět veřejné zakázky na stavební práce, KSO, CC-CZ, CZ-CPV, CZ-CPA a rekapitulaci
D11: celkové nabídkové ceny uchazeče.
D13: Termínem "uchazeč" se myslí "účastník zadávacího řízení" ve smyslu zákona o zadávání veřejných zakázek.
D15: V sestavě Rekapitulace objektů stavby a soupisů prací je uvedena rekapitulace stavebních objektů, inženýrských objektů, provozních souborů,
D16: vedlejších a ostatních nákladů a ostatních nákladů s rekapitulací nabídkové ceny za jednotlivé soupisy prací. Na základě údaje Typ je možné
D17: identifikovat, zda se jedná o objekt nebo soupis prací pro daný objekt:
E18: STA | F18: Stavební objekt pozemní
E19: ING | F19: Stavební objekt inženýrský
E20: PRO | F20: Provozní soubor
E21: VON | F21: Vedlejší a ostatní náklady
E22: OST | F22: Ostatní
E23: Soupis | F23: Soupis prací pro daný typ objektu
C25: Soupis prací pro jednotlivé objekty obsahuje sestavy Krycí list soupisu, Rekapitulace členění soupisu prací, Soupis prací. Za soupis prací může být považován
C26: i objekt stavby v případě, že neobsahuje podřízenou zakázku.
D27: Krycí list soupisu obsahuje rekapitulaci informací o předmětu veřejné zakázky ze sestavy Rekapitulace stavby, informaci o zařazení objektu do KSO,
D28: CC-CZ, CZ-CPV, CZ-CPA a rekapitulaci celkové nabídkové ceny uchazeče za aktuální soupis prací.
D30: Rekapitulace členění soupisu prací obsahuje rekapitulaci soupisu prací ve všech úrovních členění soupisu tak, jak byla tato členění použita (např.
D31: stavební díly, funkční díly, případně jiné členění) s rekapitulací nabídkové ceny.
D33: Soupis prací obsahuje položky veškerých stavebních nebo montážních prací, dodávek materiálů a služeb nezbytných pro zhotovení stavebního objektu,
D34: inženýrského objektu, provozního souboru, vedlejších a ostatních nákladů.
D35: Pro položky soupisu prací se zobrazují následující informace:
E36: PČ | G36: Pořadové číslo položky v aktuálním soupisu
E37: TYP | G37: Typ položky: K - konstrukce, M - materiál, PP - plný popis, PSC - poznámka k souboru cen, P - poznámka k položce, VV - výkaz výměr
E38: Kód | G38: Kód položky
E39: Popis | G39: Zkrácený popis položky
E40: MJ | G40: Měrná jednotka položky
E41: Množství | G41: Množství v měrné jednotce
E42: J.cena | G42: Jednotková cena položky. Zadaní může obsahovat namísto J.ceny sloupce J.materiál a J.montáž, jejichž součet definuje
G43: J.cenu položky.
E44: Cena celkem | G44: Celková cena položky daná jako součin množství a j.ceny
E45: Cenová soustava | G45: Příslušnost položky do cenové soustavy
D47: Ke každé položce soupisu prací se na samostatných řádcích může zobrazovat:
E48: Plný popis položky
E49: Poznámka k souboru cen a poznámka zadavatele
E50: Výkaz výměr
D51: Pokud je k řádku výkazu výměr evidovaný údaj ve sloupci Kód, jedná se o definovaný odkaz, na který se může odvolávat výkaz výměr z jiné položky.
C52: Metodika pro zpracování
C54: Jednotlivé sestavy jsou v souboru provázány. Editovatelné pole jsou zvýrazněny žlutým podbarvením, ostatní pole neslouží k editaci a nesmí být jakkoliv
C55: modifikovány.
C57: Uchazeč je pro podání nabídky povinen vyplnit žlutě podbarvená pole:
D58: Pole Uchazeč v sestavě Rekapitulace stavby - zde uchazeč vyplní svůj název (název subjektu)
D59: Pole IČ a DIČ v sestavě Rekapitulace stavby - zde uchazeč vyplní svoje IČ a DIČ
D60: Datum v sestavě Rekapitulace stavby - zde uchazeč vyplní datum vytvoření nabídky
D61: J.cena = jednotková cena v sestavě Soupis prací o maximálním počtu desetinných míst uvedených v poli
D62: - pokud sestavy soupisů prací obsahují pole J.cena, měla by být všechna tato pole vyplněna nenulovými
D63: Poznámka - nepovinný údaj pro položku soupisu
D65: V případě, že sestavy soupisů prací neobsahují pole J.cena, potom ve všech soupisech prací obsahují pole:
D66: - J.materiál - jednotková cena materiálu
D67: - J.montáž - jednotková cena montáže
D68: Uchazeč v tomto případě by měl vyplnit všechna pole J.materiál a pole J.montáž nenulovými kladnými číslicemi. V případech, kdy položka
D69: neobsahuje žádný materiál je přípustné, aby pole J.materiál bylo vyplněno nulou. V případech, kdy položka neobsahuje žádnou montáž je přípustné,
D70: aby pole J.montáž bylo vyplněno nulou. Obě pole - J.materiál, J.Montáž u jedné položky by však neměly být vyplněny nulou.
C75: Rekapitulace stavby
C76: Název | F76: Povinný | H76: Popis | I76: Typ | J76: Max. počet
C77: atributu | F77: (A/N) | J77: znaků
C79: Kód | F79: A | H79: Kód stavby | I79: String | J79: 20
C80: Stavba | F80: A | H80: Název stavby | I80: String | J80: 120
C81: Místo | F81: N | H81: Místo stavby | I81: String | J81: 50
C82: Datum | F82: A | H82: Datum vykonaného exportu | I82: Date
C83: KSO | F83: N | H83: Klasifikace stavebního objektu | I83: String | J83: 15
C84: CC-CZ | F84: N | H84: Klasifikace stavbeních děl | I84: String | J84: 15
C85: CZ-CPV | F85: N | H85: Společný slovník pro veřejné zakázky | I85: String | J85: 20
C86: CZ-CPA | F86: N | H86: Klasifikace produkce podle činností | I86: String | J86: 20
C87: Zadavatel | F87: N | H87: Zadavatel zadaní | I87: String | J87: 50
C88: IČ | F88: N | H88: IČ zadavatele zadaní | I88: String | J88: 20
C89: DIČ | F89: N | H89: DIČ zadavatele zadaní | I89: String | J89: 20
C90: Uchazeč | F90: N | H90: Uchazeč veřejné zakázky | I90: String | J90: 50
C91: Projektant | F91: N | H91: Projektant | I91: String | J91: 50
C92: Poznámka | F92: N | H92: Poznámka k zadání | I92: String | J92: 255
C93: Sazba DPH | F93: A | H93: Rekapitulace sazeb DPH u položek soupisů | I93: eGSazbaDph
C94: Základna DPH | F94: A | H94: Základna DPH určena součtem celkové ceny z položek soupisů | I94: Double
C95: Hodnota DPH | F95: A | H95: Hodnota DPH | I95: Double
C96: Cena bez DPH | F96: A | H96: Celková cena bez DPH za celou stavbu. Sčítává se ze všech listů. | I96: Double
C97: Cena s DPH | F97: A | H97: Celková cena s DPH za celou stavbu | I97: Double
C102: Rekapitulace objektů stavby a soupisů prací
C103: Název | F103: Povinný | H103: Popis | I103: Typ | J103: Max. počet
C104: atributu | F104: (A/N) | J104: znaků
C106: Kód | F106: A | H106: Přebírá se z Rekapitulace stavby | I106: String | J106: 20
C107: Stavba | F107: A | H107: Přebírá se z Rekapitulace stavby | I107: String | J107: 120
C108: Místo | F108: N | H108: Přebírá se z Rekapitulace stavby | I108: String | J108: 50
C109: Datum | F109: A | H109: Přebírá se z Rekapitulace stavby | I109: Date
C110: Zadavatel | F110: N | H110: Přebírá se z Rekapitulace stavby | I110: String | J110: 50
C111: Projektant | F111: N | H111: Přebírá se z Rekapitulace stavby | I111: String | J111: 50
C112: Uchazeč | F112: N | H112: Přebírá se z Rekapitulace stavby | I112: String | J112: 50
C113: Kód | F113: A | H113: Kód objektu | I113: String | J113: 20
C114: Objektu, Soupis prací | F114: A | H114: Název objektu | I114: String | J114: 120
C115: Cena bez DPH | F115: A | H115: Cena bez DPH za daný objekt | I115: Double
C116: Cena s DPH | F116: A | H116: Cena spolu s DPH za daný objekt | I116: Double
C117: Typ | F117: A | H117: Typ zakázky | I117: eGTypZakazky
C122: Krycí list soupisu
C123: Název | F123: Povinný | H123: Popis | I123: Typ | J123: Max. počet
C124: atributu | F124: (A/N) | J124: znaků
C126: Stavba | F126: A | H126: Přebírá se z Rekapitulace stavby | I126: String | J126: 120
C127: Objekt | F127: A | H127: Kód a název objektu | I127: String | J127: 20 + 120
C128: Soupis | F128: A | H128: Kód a název soupisu | I128: String | J128: 20 + 120
...
