Workbook

Sheet Rekapitulace stavby
A1: Export VZ | D1: List obsahuje: | K1: 1) Rekapitulace stavby | W1: 2) Rekapitulace objektů stavby a soupisů prací | BA1: 3.0 | BB1: ZAMOK | BT1: False | BU1: False | BV1: {80cdade4-7d32-427a-8ab8-9076c6ca176d}
BS2: 0,01 | BT2: 21
BS3: 0,01 | BT3: 15
D4: REKAPITULACE STAVBY | AS4: v --- níže se nacházejí doplnkové a pomocné údaje k sestavám --- v | BE4: Návod na vyplnění | BS4: 0,001
D5: Kód: | K5: 20170406 | BE5: Měnit lze pouze buňky se žlutým podbarvením!_x000D_ _x000D_ 1) v Rekapitulaci stavby vyplňte údaje o Uchazeči (přenesou se do ostatních sestav i v jiných listech)_x000D_ _x000D_ 2) na vybraných listech vyplňte v sestavě Soupis prací ceny u položek_x000D_ _x000D_ Podrobnosti k vyplnění naleznete na poslední záložce s Pokyny pro vyplnění | BS5: 0,01
D6: Stavba: | K6: Bezbariérové úpravy MěÚ Mimoň č.p. 181 | BS6: 0,01
D7: KSO: | AK7: CC-CZ: | BS7: 0,01
D8: Místo: | K8: Mimoň | AK8: Datum: | AN8: 6. 4. 2017 | BS8: 0,01
BS9: 0,01
D10: Zadavatel: | AK10: IČ: | BS10: 0,01
E11: Město Mimoň | AK11: DIČ: | BS11: 0,01
BS12: 0,01
D13: Uchazeč: | AK13: IČ: | AN13: Vyplň údaj | BS13: 0,01
E14: Vyplň údaj | AK14: DIČ: | AN14: Vyplň údaj | BS14: 0,01
BS15: False
D16: Projektant: | AK16: IČ: | BS16: False
E17: Radek Voce | AK17: DIČ: | BS17: True
BS18: 0,01
D19: Poznámka: | BS19: 0,01
BS20: False
D23: Cena bez DPH | AK23: =ROUND(AG51,2) -> 0
L25: Sazba daně | W25: Základ daně | AK25: Výše daně
D26: DPH | F26: základní | L26: 0.21 | W26: =ROUND(AZ51,2) -> 0 | AK26: =ROUND(AV51,2) -> 0
F27: snížená | L27: 0.15 | W27: =ROUND(BA51,2) -> 0 | AK27: =ROUND(AW51,2) -> 0
F28: zákl. přenesená | L28: 0.21 | W28: =ROUND(BB51,2) -> 0 | AK28: 0
F29: sníž. přenesená | L29: 0.15 | W29: =ROUND(BC51,2) -> 0 | AK29: 0
F30: nulová | L30: 0 | W30: =ROUND(BD51,2) -> 0 | AK30: 0
D32: Cena s DPH | T32: v | X32: CZK | AK32: =SUM(AK23:AK30) -> 0
C39: REKAPITULACE OBJEKTŮ STAVBY A SOUPISŮ PRACÍ
C41: Kód: | L41: =K5 -> 20170406
C42: Stavba: | L42: =K6 -> Bezbariérové úpravy MěÚ Mimoň č.p. 181
C44: Místo: | L44: =IF(K8="","",K8) -> Mimoň | AI44: Datum: | AM44: =IF(AN8= "","",AN8) -> 6. 4. 2017
C46: Zadavatel: | L46: =IF(E11= "","",E11) -> Město Mimoň | AI46: Projektant: | AM46: =IF(E17="","",E17) -> Radek Voce | AS46: Informatívní údaje z listů zakázek
C47: Uchazeč: | L47: =IF(E14= "Vyplň údaj","",E14)
C49: Kód | I49: Objekt, Soupis prací | AG49: Cena bez DPH [CZK] | AN49: Cena s DPH [CZK] | AQ49: Typ | AS49: z toho Ostat._x000D_ náklady [CZK] | AT49: DPH [CZK] | AU49: Normohodiny [h] | AV49: DPH základní [CZK] | AW49: DPH snížená [CZK] | AX49: DPH základní přenesená_x000D_ [CZK] | AY49: DPH snížená přenesená_x000D_ [CZK] | AZ49: Základna_x000D_ DPH základní | BA49: Základna_x000D_ DPH snížená | BB49: Základna_x000D_ DPH zákl. přenesená | BC49: Základna_x000D_ DPH sníž. přenesená | BD49: Základna_x000D_ DPH nulová
C51: Náklady stavby celkem | AG51: =ROUND(SUM(AG52:AG57),2) -> 0 | AN51: =SUM(AG51,AT51) -> 0 | AS51: =ROUND(SUM(AS52:AS57),2) -> 0 | AT51: =ROUND(SUM(AV51:AW51),2) -> 0 | AU51: =ROUND(SUM(AU52:AU57),5) -> 0 | AV51: =ROUND(AZ51*L26,2) -> 0 | AW51: =ROUND(BA51*L27,2) -> 0 | AX51: =ROUND(BB51*L26,2) -> 0 | AY51: =ROUND(BC51*L27,2) -> 0 | AZ51: =ROUND(SUM(AZ52:AZ57),2) -> 0 | BA51: =ROUND(SUM(BA52:BA57),2) -> 0 | BB51: =ROUND(SUM(BB52:BB57),2) -> 0 | BC51: =ROUND(SUM(BC52:BC57),2) -> 0 | BD51: =ROUND(SUM(BD52:BD57),2) -> 0 | BS51: D | BT51: 0 | BU51: ###NOIMPORT### | BV51: IMPORT | BW51: {80cdade4-7d32-427a-8ab8-9076c6ca176d} | BX51: {00000000-0000-0000-0000-000000000000}
A52: / | D52: 01 | J52: stavební část | AG52: ='01 - stavební část'!J27 -> 0 | AN52: =SUM(AG52,AT52) -> 0 | AQ52: STA | AS52: 0 | AT52: =ROUND(SUM(AV52:AW52),2) -> 0 | AU52: ='01 - stavební část'!P101 -> 0 | AV52: ='01 - stavební část'!J30 -> 0 | AW52: ='01 - stavební část'!J31 -> 0 | AX52: ='01 - stavební část'!J32 -> 0 | AY52: ='01 - stavební část'!J33 -> 0 | AZ52: ='01 - stavební část'!F30 -> 0 | BA52: ='01 - stavební část'!F31 -> 0 | BB52: ='01 - stavební část'!F32 -> 0 | BC52: ='01 - stavební část'!F33 -> 0 | BD52: ='01 - stavební část'!F34 -> 0 | BT52: 1 | BV52: IMPORT | BW52: {9dfe80a0-85ce-40ed-90a9-d7d8e3553cbc} | BX52: {80cdade4-7d32-427a-8ab8-9076c6ca176d} | CM52: 2
A53: / | D53: 02 | J53: elektro | AG53: ='02 - elektro'!J27 -> 0 | AN53: =SUM(AG53,AT53) -> 0 | AQ53: STA | AS53: 0 | AT53: =ROUND(SUM(AV53:AW53),2) -> 0 | AU53: ='02 - elektro'!P76 -> 0 | AV53: ='02 - elektro'!J30 -> 0 | AW53: ='02 - elektro'!J31 -> 0 | AX53: ='02 - elektro'!J32 -> 0 | AY53: ='02 - elektro'!J33 -> 0 | AZ53: ='02 - elektro'!F30 -> 0 | BA53: ='02 - elektro'!F31 -> 0 | BB53: ='02 - elektro'!F32 -> 0 | BC53: ='02 - elektro'!F33 -> 0 | BD53: ='02 - elektro'!F34 -> 0 | BT53: 1 | BV53: IMPORT | BW53: {d15bb64a-80d5-40c0-a58c-a00db9c990e6} | BX53: {80cdade4-7d32-427a-8ab8-9076c6ca176d} | CM53: 2
A54: / | D54: 03 | J54: UT | AG54: ='03 - UT'!J27 -> 0 | AN54: =SUM(AG54,AT54) -> 0 | AQ54: STA | AS54: 0 | AT54: =ROUND(SUM(AV54:AW54),2) -> 0 | AU54: ='03 - UT'!P87 -> 0 | AV54: ='03 - UT'!J30 -> 0 | AW54: ='03 - UT'!J31 -> 0 | AX54: ='03 - UT'!J32 -> 0 | AY54: ='03 - UT'!J33 -> 0 | AZ54: ='03 - UT'!F30 -> 0 | BA54: ='03 - UT'!F31 -> 0 | BB54: ='03 - UT'!F32 -> 0 | BC54: ='03 - UT'!F33 -> 0 | BD54: ='03 - UT'!F34 -> 0 | BT54: 1 | BV54: IMPORT | BW54: {96f8f5de-2a9a-4d40-90d1-0c0d2963b904} | BX54: {80cdade4-7d32-427a-8ab8-9076c6ca176d} | CM54: 2
A55: / | D55: 04 | J55: ZTI | AG55: ='04 - ZTI'!J27 -> 0 | AN55: =SUM(AG55,AT55) -> 0 | AQ55: STA | AS55: 0 | AT55: =ROUND(SUM(AV55:AW55),2) -> 0 | AU55: ='04 - ZTI'!P85 -> 0 | AV55: ='04 - ZTI'!J30 -> 0 | AW55: ='04 - ZTI'!J31 -> 0 | AX55: ='04 - ZTI'!J32 -> 0 | AY55: ='04 - ZTI'!J33 -> 0 | AZ55: ='04 - ZTI'!F30 -> 0 | BA55: ='04 - ZTI'!F31 -> 0 | BB55: ='04 - ZTI'!F32 -> 0 | BC55: ='04 - ZTI'!F33 -> 0 | BD55: ='04 - ZTI'!F34 -> 0 | BT55: 1 | BV55: IMPORT | BW55: {b5cc4e00-ee11-4ca6-9799-9054cb7a98cc} | BX55: {80cdade4-7d32-427a-8ab8-9076c6ca176d} | CM55: 2
...

Sheet 01 - stavební část
D1: List obsahuje: | F1: 1) Krycí list soupisu | G1: 2) Rekapitulace | J1: 3) Soupis prací | K1: Zpět na list: | L1: Rekapitulace stavby
AT2: {9dfe80a0-85ce-40ed-90a9-d7d8e3553cbc}
AT3: 2
D4: KRYCÍ LIST SOUPISU | M4: v --- níže se nacházejí doplnkové a pomocné údaje k sestavám --- v | AT4: False
D6: Stavba:
E7: ='Rekapitulace stavby'!K6 -> Bezbariérové úpravy MěÚ Mimoň č.p. 181
D8: Objekt:
E9: 01 - stavební část
D11: KSO: | I11: CC-CZ:
D12: Místo: | F12: Mimoň | I12: Datum: | J12: ='Rekapitulace stavby'!AN8 -> 6. 4. 2017
D14: Zadavatel: | I14: IČ: | J14: =IF('Rekapitulace stavby'!AN10="","",'Rekapitulace stavby'!AN10)
E15: =IF('Rekapitulace stavby'!E11="","",'Rekapitulace stavby'!E11) -> Město Mimoň | I15: DIČ: | J15: =IF('Rekapitulace stavby'!AN11="","",'Rekapitulace stavby'!AN11)
D17: Uchazeč: | I17: IČ: | J17: =IF('Rekapitulace stavby'!AN13="Vyplň údaj","",IF('Rekapitulace stavby'!AN13="","",'Rekapitulace stavby'!AN13))
E18: =IF('Rekapitulace stavby'!E14="Vyplň údaj","",IF('Rekapitulace stavby'!E14="","",'Rekapitulace stavby'!E14)) | I18: DIČ: | J18: =IF('Rekapitulace stavby'!AN14="Vyplň údaj","",IF('Rekapitulace stavby'!AN14="","",'Rekapitulace stavby'!AN14))
D20: Projektant: | I20: IČ: | J20: =IF('Rekapitulace stavby'!AN16="","",'Rekapitulace stavby'!AN16)
E21: =IF('Rekapitulace stavby'!E17="","",'Rekapitulace stavby'!E17) -> Radek Voce | I21: DIČ: | J21: =IF('Rekapitulace stavby'!AN17="","",'Rekapitulace stavby'!AN17)
D23: Poznámka:
D27: Cena bez DPH | J27: =ROUND(J101,2) -> 0
F29: Základ daně | I29: Sazba daně | J29: Výše daně
D30: DPH | E30: základní | F30: =ROUND(SUM(BE101:BE593), 2) -> 0 | I30: 0.21 | J30: =ROUND(ROUND((SUM(BE101:BE593)), 2)*I30, 2) -> 0
E31: snížená | F31: =ROUND(SUM(BF101:BF593), 2) -> 0 | I31: 0.15 | J31: =ROUND(ROUND((SUM(BF101:BF593)), 2)*I31, 2) -> 0
E32: zákl. přenesená | F32: =ROUND(SUM(BG101:BG593), 2) -> 0 | I32: 0.21 | J32: 0
E33: sníž. přenesená | F33: =ROUND(SUM(BH101:BH593), 2) -> 0 | I33: 0.15 | J33: 0
E34: nulová | F34: =ROUND(SUM(BI101:BI593), 2) -> 0 | I34: 0 | J34: 0
D36: Cena s DPH | G36: v | H36: CZK | J36: =SUM(J27:J34) -> 0
C42: REKAPITULACE ČLENĚNÍ SOUPISU PRACÍ
C44: Stavba:
E45: =E7 -> Bezbariérové úpravy MěÚ Mimoň č.p. 181
C46: Objekt:
E47: =E9 -> 01 - stavební část
C49: Místo: | F49: =F12 -> Mimoň | I49: Datum: | J49: =IF(J12="","",J12) -> 6. 4. 2017
C51: Zadavatel: | F51: =E15 -> Město Mimoň | I51: Projektant: | J51: =E21 -> Radek Voce
C52: Uchazeč: | F52: =IF(E18="","",E18)
C54: Kód dílu - Popis | J54: Cena celkem [CZK]
C56: Náklady soupisu celkem | J56: =J101 -> 0 | AU56: -1
D57: HSV - Práce a dodávky HSV | J57: =J102 -> 0
D58: 1 - Zemní práce | J58: =J103 -> 0
D59: 2 - Zakládání | J59: =J127 -> 0
D60: 3 - Svislé a kompletní konstrukce | J60: =J153 -> 0
D61: 4 - Vodorovné konstrukce | J61: =J188 -> 0
...

Sheet 02 - elektro
D1: List obsahuje: | F1: 1) Krycí list soupisu | G1: 2) Rekapitulace | J1: 3) Soupis prací | K1: Zpět na list: | L1: Rekapitulace stavby
AT2: {d15bb64a-80d5-40c0-a58c-a00db9c990e6}
AT3: 2
D4: KRYCÍ LIST SOUPISU | M4: v --- níže se nacházejí doplnkové a pomocné údaje k sestavám --- v | AT4: False
D6: Stavba:
E7: ='Rekapitulace stavby'!K6 -> Bezbariérové úpravy MěÚ Mimoň č.p. 181
D8: Objekt:
E9: 02 - elektro
D11: KSO: | I11: CC-CZ:
D12: Místo: | I12: Datum: | J12: ='Rekapitulace stavby'!AN8 -> 6. 4. 2017
D14: Zadavatel: | I14: IČ: | J14: =IF('Rekapitulace stavby'!AN10="","",'Rekapitulace stavby'!AN10)
E15: =IF('Rekapitulace stavby'!E11="","",'Rekapitulace stavby'!E11) -> Město Mimoň | I15: DIČ: | J15: =IF('Rekapitulace stavby'!AN11="","",'Rekapitulace stavby'!AN11)
D17: Uchazeč: | I17: IČ: | J17: =IF('Rekapitulace stavby'!AN13="Vyplň údaj","",IF('Rekapitulace stavby'!AN13="","",'Rekapitulace stavby'!AN13))
E18: =IF('Rekapitulace stavby'!E14="Vyplň údaj","",IF('Rekapitulace stavby'!E14="","",'Rekapitulace stavby'!E14)) | I18: DIČ: | J18: =IF('Rekapitulace stavby'!AN14="Vyplň údaj","",IF('Rekapitulace stavby'!AN14="","",'Rekapitulace stavby'!AN14))
D20: Projektant: | I20: IČ: | J20: =IF('Rekapitulace stavby'!AN16="","",'Rekapitulace stavby'!AN16)
E21: =IF('Rekapitulace stavby'!E17="","",'Rekapitulace stavby'!E17) -> Radek Voce | I21: DIČ: | J21: =IF('Rekapitulace stavby'!AN17="","",'Rekapitulace stavby'!AN17)
D23: Poznámka:
D27: Cena bez DPH | J27: =ROUND(J76,2) -> 0
F29: Základ daně | I29: Sazba daně | J29: Výše daně
D30: DPH | E30: základní | F30: =ROUND(SUM(BE76:BE109), 2) -> 0 | I30: 0.21 | J30: =ROUND(ROUND((SUM(BE76:BE109)), 2)*I30, 2) -> 0
E31: snížená | F31: =ROUND(SUM(BF76:BF109), 2) -> 0 | I31: 0.15 | J31: =ROUND(ROUND((SUM(BF76:BF109)), 2)*I31, 2) -> 0
E32: zákl. přenesená | F32: =ROUND(SUM(BG76:BG109), 2) -> 0 | I32: 0.21 | J32: 0
E33: sníž. přenesená | F33: =ROUND(SUM(BH76:BH109), 2) -> 0 | I33: 0.15 | J33: 0
E34: nulová | F34: =ROUND(SUM(BI76:BI109), 2) -> 0 | I34: 0 | J34: 0
D36: Cena s DPH | G36: v | H36: CZK | J36: =SUM(J27:J34) -> 0
C42: REKAPITULACE ČLENĚNÍ SOUPISU PRACÍ
C44: Stavba:
E45: =E7 -> Bezbariérové úpravy MěÚ Mimoň č.p. 181
C46: Objekt:
E47: =E9 -> 02 - elektro
C49: Místo: | F49: =F12 | I49: Datum: | J49: =IF(J12="","",J12) -> 6. 4. 2017
C51: Zadavatel: | F51: =E15 -> Město Mimoň | I51: Projektant: | J51: =E21 -> Radek Voce
C52: Uchazeč: | F52: =IF(E18="","",E18)
C54: Kód dílu - Popis | J54: Cena celkem [CZK]
C56: Náklady soupisu celkem | J56: =J76 -> 0 | AU56: -1
C63: SOUPIS PRACÍ
C65: Stavba:
E66: =E7 -> Bezbariérové úpravy MěÚ Mimoň č.p. 181
C67: Objekt:
E68: =E9 -> 02 - elektro
...

Sheet 03 -  UT
D1: List obsahuje: | F1: 1) Krycí list soupisu | G1: 2) Rekapitulace | J1: 3) Soupis prací | K1: Zpět na list: | L1: Rekapitulace stavby
AT2: {96f8f5de-2a9a-4d40-90d1-0c0d2963b904}
AT3: 2
D4: KRYCÍ LIST SOUPISU | M4: v --- níže se nacházejí doplnkové a pomocné údaje k sestavám --- v | AT4: False
D6: Stavba:
E7: ='Rekapitulace stavby'!K6 -> Bezbariérové úpravy MěÚ Mimoň č.p. 181
D8: Objekt:
E9: 03 - UT
D11: KSO: | I11: CC-CZ:
D12: Místo: | I12: Datum: | J12: ='Rekapitulace stavby'!AN8 -> 6. 4. 2017
D14: Zadavatel: | I14: IČ: | J14: =IF('Rekapitulace stavby'!AN10="","",'Rekapitulace stavby'!AN10)
E15: =IF('Rekapitulace stavby'!E11="","",'Rekapitulace stavby'!E11) -> Město Mimoň | I15: DIČ: | J15: =IF('Rekapitulace stavby'!AN11="","",'Rekapitulace stavby'!AN11)
D17: Uchazeč: | I17: IČ: | J17: =IF('Rekapitulace stavby'!AN13="Vyplň údaj","",IF('Rekapitulace stavby'!AN13="","",'Rekapitulace stavby'!AN13))
E18: =IF('Rekapitulace stavby'!E14="Vyplň údaj","",IF('Rekapitulace stavby'!E14="","",'Rekapitulace stavby'!E14)) | I18: DIČ: | J18: =IF('Rekapitulace stavby'!AN14="Vyplň údaj","",IF('Rekapitulace stavby'!AN14="","",'Rekapitulace stavby'!AN14))
D20: Projektant: | I20: IČ: | J20: =IF('Rekapitulace stavby'!AN16="","",'Rekapitulace stavby'!AN16)
E21: =IF('Rekapitulace stavby'!E17="","",'Rekapitulace stavby'!E17) -> Radek Voce | I21: DIČ: | J21: =IF('Rekapitulace stavby'!AN17="","",'Rekapitulace stavby'!AN17)
D23: Poznámka:
D27: Cena bez DPH | J27: =ROUND(J87,2) -> 0
F29: Základ daně | I29: Sazba daně | J29: Výše daně
D30: DPH | E30: základní | F30: =ROUND(SUM(BE87:BE120), 2) -> 0 | I30: 0.21 | J30: =ROUND(ROUND((SUM(BE87:BE120)), 2)*I30, 2) -> 0
E31: snížená | F31: =ROUND(SUM(BF87:BF120), 2) -> 0 | I31: 0.15 | J31: =ROUND(ROUND((SUM(BF87:BF120)), 2)*I31, 2) -> 0
E32: zákl. přenesená | F32: =ROUND(SUM(BG87:BG120), 2) -> 0 | I32: 0.21 | J32: 0
E33: sníž. přenesená | F33: =ROUND(SUM(BH87:BH120), 2) -> 0 | I33: 0.15 | J33: 0
E34: nulová | F34: =ROUND(SUM(BI87:BI120), 2) -> 0 | I34: 0 | J34: 0
D36: Cena s DPH | G36: v | H36: CZK | J36: =SUM(J27:J34) -> 0
C42: REKAPITULACE ČLENĚNÍ SOUPISU PRACÍ
C44: Stavba:
E45: =E7 -> Bezbariérové úpravy MěÚ Mimoň č.p. 181
C46: Objekt:
E47: =E9 -> 03 - UT
C49: Místo: | F49: =F12 | I49: Datum: | J49: =IF(J12="","",J12) -> 6. 4. 2017
C51: Zadavatel: | F51: =E15 -> Město Mimoň | I51: Projektant: | J51: =E21 -> Radek Voce
C52: Uchazeč: | F52: =IF(E18="","",E18)
C54: Kód dílu - Popis | J54: Cena celkem [CZK]
C56: Náklady soupisu celkem | J56: =J87 -> 0 | AU56: -1
D57: 733 - Ústřední vytápění - potrubí | J57: =J88 -> 0
D58: D1 - | J58: =J89 -> 0
D59: D1 - | J59: =J90 -> 0
D60: 734 - Ústřední vytápění - armatury | J60: =J96 -> 0
D61: D1 - | J61: =J97 -> 0
...

Sheet 04 - ZTI
D1: List obsahuje: | F1: 1) Krycí list soupisu | G1: 2) Rekapitulace | J1: 3) Soupis prací | K1: Zpět na list: | L1: Rekapitulace stavby
AT2: {b5cc4e00-ee11-4ca6-9799-9054cb7a98cc}
AT3: 2
D4: KRYCÍ LIST SOUPISU | M4: v --- níže se nacházejí doplnkové a pomocné údaje k sestavám --- v | AT4: False
D6: Stavba:
E7: ='Rekapitulace stavby'!K6 -> Bezbariérové úpravy MěÚ Mimoň č.p. 181
D8: Objekt:
E9: 04 - ZTI
D11: KSO: | I11: CC-CZ:
D12: Místo: | F12: Mimoň | I12: Datum: | J12: ='Rekapitulace stavby'!AN8 -> 6. 4. 2017
D14: Zadavatel: | I14: IČ: | J14: =IF('Rekapitulace stavby'!AN10="","",'Rekapitulace stavby'!AN10)
E15: =IF('Rekapitulace stavby'!E11="","",'Rekapitulace stavby'!E11) -> Město Mimoň | I15: DIČ: | J15: =IF('Rekapitulace stavby'!AN11="","",'Rekapitulace stavby'!AN11)
D17: Uchazeč: | I17: IČ: | J17: =IF('Rekapitulace stavby'!AN13="Vyplň údaj","",IF('Rekapitulace stavby'!AN13="","",'Rekapitulace stavby'!AN13))
E18: =IF('Rekapitulace stavby'!E14="Vyplň údaj","",IF('Rekapitulace stavby'!E14="","",'Rekapitulace stavby'!E14)) | I18: DIČ: | J18: =IF('Rekapitulace stavby'!AN14="Vyplň údaj","",IF('Rekapitulace stavby'!AN14="","",'Rekapitulace stavby'!AN14))
D20: Projektant: | I20: IČ: | J20: =IF('Rekapitulace stavby'!AN16="","",'Rekapitulace stavby'!AN16)
E21: =IF('Rekapitulace stavby'!E17="","",'Rekapitulace stavby'!E17) -> Radek Voce | I21: DIČ: | J21: =IF('Rekapitulace stavby'!AN17="","",'Rekapitulace stavby'!AN17)
D23: Poznámka:
D27: Cena bez DPH | J27: =ROUND(J85,2) -> 0
F29: Základ daně | I29: Sazba daně | J29: Výše daně
D30: DPH | E30: základní | F30: =ROUND(SUM(BE85:BE176), 2) -> 0 | I30: 0.21 | J30: =ROUND(ROUND((SUM(BE85:BE176)), 2)*I30, 2) -> 0
E31: snížená | F31: =ROUND(SUM(BF85:BF176), 2) -> 0 | I31: 0.15 | J31: =ROUND(ROUND((SUM(BF85:BF176)), 2)*I31, 2) -> 0
E32: zákl. přenesená | F32: =ROUND(SUM(BG85:BG176), 2) -> 0 | I32: 0.21 | J32: 0
E33: sníž. přenesená | F33: =ROUND(SUM(BH85:BH176), 2) -> 0 | I33: 0.15 | J33: 0
E34: nulová | F34: =ROUND(SUM(BI85:BI176), 2) -> 0 | I34: 0 | J34: 0
D36: Cena s DPH | G36: v | H36: CZK | J36: =SUM(J27:J34) -> 0
C42: REKAPITULACE ČLENĚNÍ SOUPISU PRACÍ
C44: Stavba:
E45: =E7 -> Bezbariérové úpravy MěÚ Mimoň č.p. 181
C46: Objekt:
E47: =E9 -> 04 - ZTI
C49: Místo: | F49: =F12 -> Mimoň | I49: Datum: | J49: =IF(J12="","",J12) -> 6. 4. 2017
C51: Zadavatel: | F51: =E15 -> Město Mimoň | I51: Projektant: | J51: =E21 -> Radek Voce
C52: Uchazeč: | F52: =IF(E18="","",E18)
C54: Kód dílu - Popis | J54: Cena celkem [CZK]
C56: Náklady soupisu celkem | J56: =J85 -> 0 | AU56: -1
D57: HSV - Práce a dodávky HSV | J57: =J86 -> 0
D58: 1 - Zemní práce | J58: =J87 -> 0
D59: 6 - Úpravy povrchů, podlahy a osazování výplní | J59: =J92 -> 0
D60: 9 - Ostatní konstrukce a práce, bourání | J60: =J94 -> 0
D61: 997 - Přesun sutě | J61: =J97 -> 0
...

Sheet 06 - venkovní kanalizace
D1: List obsahuje: | F1: 1) Krycí list soupisu | G1: 2) Rekapitulace | J1: 3) Soupis prací | K1: Zpět na list: | L1: Rekapitulace stavby
AT2: {9b082e7d-460c-41e3-b8f1-b65de7e9bb5d}
AT3: 2
D4: KRYCÍ LIST SOUPISU | M4: v --- níže se nacházejí doplnkové a pomocné údaje k sestavám --- v | AT4: False
D6: Stavba:
E7: ='Rekapitulace stavby'!K6 -> Bezbariérové úpravy MěÚ Mimoň č.p. 181
D8: Objekt:
E9: 06 - venkovní kanalizace
D11: KSO: | I11: CC-CZ:
D12: Místo: | F12: Mimoň | I12: Datum: | J12: ='Rekapitulace stavby'!AN8 -> 6. 4. 2017
D14: Zadavatel: | I14: IČ: | J14: =IF('Rekapitulace stavby'!AN10="","",'Rekapitulace stavby'!AN10)
E15: =IF('Rekapitulace stavby'!E11="","",'Rekapitulace stavby'!E11) -> Město Mimoň | I15: DIČ: | J15: =IF('Rekapitulace stavby'!AN11="","",'Rekapitulace stavby'!AN11)
D17: Uchazeč: | I17: IČ: | J17: =IF('Rekapitulace stavby'!AN13="Vyplň údaj","",IF('Rekapitulace stavby'!AN13="","",'Rekapitulace stavby'!AN13))
E18: =IF('Rekapitulace stavby'!E14="Vyplň údaj","",IF('Rekapitulace stavby'!E14="","",'Rekapitulace stavby'!E14)) | I18: DIČ: | J18: =IF('Rekapitulace stavby'!AN14="Vyplň údaj","",IF('Rekapitulace stavby'!AN14="","",'Rekapitulace stavby'!AN14))
D20: Projektant: | I20: IČ: | J20: =IF('Rekapitulace stavby'!AN16="","",'Rekapitulace stavby'!AN16)
E21: =IF('Rekapitulace stavby'!E17="","",'Rekapitulace stavby'!E17) -> Radek Voce | I21: DIČ: | J21: =IF('Rekapitulace stavby'!AN17="","",'Rekapitulace stavby'!AN17)
D23: Poznámka:
D27: Cena bez DPH | J27: =ROUND(J83,2) -> 0
F29: Základ daně | I29: Sazba daně | J29: Výše daně
D30: DPH | E30: základní | F30: =ROUND(SUM(BE83:BE144), 2) -> 0 | I30: 0.21 | J30: =ROUND(ROUND((SUM(BE83:BE144)), 2)*I30, 2) -> 0
E31: snížená | F31: =ROUND(SUM(BF83:BF144), 2) -> 0 | I31: 0.15 | J31: =ROUND(ROUND((SUM(BF83:BF144)), 2)*I31, 2) -> 0
E32: zákl. přenesená | F32: =ROUND(SUM(BG83:BG144), 2) -> 0 | I32: 0.21 | J32: 0
E33: sníž. přenesená | F33: =ROUND(SUM(BH83:BH144), 2) -> 0 | I33: 0.15 | J33: 0
E34: nulová | F34: =ROUND(SUM(BI83:BI144), 2) -> 0 | I34: 0 | J34: 0
D36: Cena s DPH | G36: v | H36: CZK | J36: =SUM(J27:J34) -> 0
C42: REKAPITULACE ČLENĚNÍ SOUPISU PRACÍ
C44: Stavba:
E45: =E7 -> Bezbariérové úpravy MěÚ Mimoň č.p. 181
C46: Objekt:
E47: =E9 -> 06 - venkovní kanalizace
C49: Místo: | F49: =F12 -> Mimoň | I49: Datum: | J49: =IF(J12="","",J12) -> 6. 4. 2017
C51: Zadavatel: | F51: =E15 -> Město Mimoň | I51: Projektant: | J51: =E21 -> Radek Voce
C52: Uchazeč: | F52: =IF(E18="","",E18)
C54: Kód dílu - Popis | J54: Cena celkem [CZK]
C56: Náklady soupisu celkem | J56: =J83 -> 0 | AU56: -1
D57: HSV - Práce a dodávky HSV | J57: =J84 -> 0
D58: 1 - Zemní práce | J58: =J85 -> 0
D59: 4 - Vodorovné konstrukce | J59: =J109 -> 0
D60: 5 - Komunikace pozemní | J60: =J112 -> 0
D61: 8 - Trubní vedení | J61: =J115 -> 0
...

Sheet 07 - VRN
D1: List obsahuje: | F1: 1) Krycí list soupisu | G1: 2) Rekapitulace | J1: 3) Soupis prací | K1: Zpět na list: | L1: Rekapitulace stavby
AT2: {fcb3b7c6-aa6d-41d6-9355-e9e4b24e739c}
AT3: 2
D4: KRYCÍ LIST SOUPISU | M4: v --- níže se nacházejí doplnkové a pomocné údaje k sestavám --- v | AT4: False
D6: Stavba:
E7: ='Rekapitulace stavby'!K6 -> Bezbariérové úpravy MěÚ Mimoň č.p. 181
D8: Objekt:
E9: 07 - VRN
D11: KSO: | I11: CC-CZ:
D12: Místo: | F12: Mimoň | I12: Datum: | J12: ='Rekapitulace stavby'!AN8 -> 6. 4. 2017
D14: Zadavatel: | I14: IČ: | J14: =IF('Rekapitulace stavby'!AN10="","",'Rekapitulace stavby'!AN10)
E15: =IF('Rekapitulace stavby'!E11="","",'Rekapitulace stavby'!E11) -> Město Mimoň | I15: DIČ: | J15: =IF('Rekapitulace stavby'!AN11="","",'Rekapitulace stavby'!AN11)
D17: Uchazeč: | I17: IČ: | J17: =IF('Rekapitulace stavby'!AN13="Vyplň údaj","",IF('Rekapitulace stavby'!AN13="","",'Rekapitulace stavby'!AN13))
E18: =IF('Rekapitulace stavby'!E14="Vyplň údaj","",IF('Rekapitulace stavby'!E14="","",'Rekapitulace stavby'!E14)) | I18: DIČ: | J18: =IF('Rekapitulace stavby'!AN14="Vyplň údaj","",IF('Rekapitulace stavby'!AN14="","",'Rekapitulace stavby'!AN14))
D20: Projektant: | I20: IČ: | J20: =IF('Rekapitulace stavby'!AN16="","",'Rekapitulace stavby'!AN16)
E21: =IF('Rekapitulace stavby'!E17="","",'Rekapitulace stavby'!E17) -> Radek Voce | I21: DIČ: | J21: =IF('Rekapitulace stavby'!AN17="","",'Rekapitulace stavby'!AN17)
D23: Poznámka:
D27: Cena bez DPH | J27: =ROUND(J81,2) -> 0
F29: Základ daně | I29: Sazba daně | J29: Výše daně
D30: DPH | E30: základní | F30: =ROUND(SUM(BE81:BE92), 2) -> 0 | I30: 0.21 | J30: =ROUND(ROUND((SUM(BE81:BE92)), 2)*I30, 2) -> 0
E31: snížená | F31: =ROUND(SUM(BF81:BF92), 2) -> 0 | I31: 0.15 | J31: =ROUND(ROUND((SUM(BF81:BF92)), 2)*I31, 2) -> 0
E32: zákl. přenesená | F32: =ROUND(SUM(BG81:BG92), 2) -> 0 | I32: 0.21 | J32: 0
E33: sníž. přenesená | F33: =ROUND(SUM(BH81:BH92), 2) -> 0 | I33: 0.15 | J33: 0
E34: nulová | F34: =ROUND(SUM(BI81:BI92), 2) -> 0 | I34: 0 | J34: 0
D36: Cena s DPH | G36: v | H36: CZK | J36: =SUM(J27:J34) -> 0
C42: REKAPITULACE ČLENĚNÍ SOUPISU PRACÍ
C44: Stavba:
E45: =E7 -> Bezbariérové úpravy MěÚ Mimoň č.p. 181
C46: Objekt:
E47: =E9 -> 07 - VRN
C49: Místo: | F49: =F12 -> Mimoň | I49: Datum: | J49: =IF(J12="","",J12) -> 6. 4. 2017
C51: Zadavatel: | F51: =E15 -> Město Mimoň | I51: Projektant: | J51: =E21 -> Radek Voce
C52: Uchazeč: | F52: =IF(E18="","",E18)
C54: Kód dílu - Popis | J54: Cena celkem [CZK]
C56: Náklady soupisu celkem | J56: =J81 -> 0 | AU56: -1
D57: VRN - Vedlejší rozpočtové náklady | J57: =J82 -> 0
D58: VRN1 - Průzkumné, geodetické a projektové práce | J58: =J83 -> 0
D59: VRN3 - Zařízení staveniště | J59: =J86 -> 0
D60: VRN4 - Inženýrská činnost | J60: =J89 -> 0
D61: VRN7 - Provozní vlivy | J61: =J91 -> 0
...

Sheet Pokyny pro vyplnění
C3: Struktura údajů, formát souboru a metodika pro zpracování
C4: Struktura
C6: Soubor je složen ze záložky Rekapitulace stavby a záložek s názvem soupisu prací pro jednotlivé objekty ve formátu XLSX. Každá ze záložek přitom obsahuje
C7: ještě samostatné sestavy vymezené orámovaním a nadpisem sestavy.
C9: Rekapitulace stavby obsahuje sestavu Rekapitulace stavby a Rekapitulace objektů stavby a soupisů prací.
D10: V sestavě Rekapitulace stavby jsou uvedeny informace identifikující předmět veřejné zakázky na stavební práce, KSO, CC-CZ, CZ-CPV, CZ-CPA a rekapitulaci
D11: celkové nabídkové ceny uchazeče.
D13: V sestavě Rekapitulace objektů stavby a soupisů prací je uvedena rekapitulace stavebních objektů, inženýrských objektů, provozních souborů,
D14: vedlejších a ostatních nákladů a ostatních nákladů s rekapitulací nabídkové ceny za jednotlivé soupisy prací. Na základě údaje Typ je možné
D15: identifikovat, zda se jedná o objekt nebo soupis prací pro daný objekt:
E16: STA | F16: Stavební objekt pozemní
E17: ING | F17: Stavební objekt inženýrský
E18: PRO | F18: Provozní soubor
E19: VON | F19: Vedlejší a ostatní náklady
E20: OST | F20: Ostatní
E21: Soupis | F21: Soupis prací pro daný typ objektu
C23: Soupis prací pro jednotlivé objekty obsahuje sestavy Krycí list soupisu, Rekapitulace členění soupisu prací, Soupis prací. Za soupis prací může být považován
C24: i objekt stavby v případě, že neobsahuje podřízenou zakázku.
D25: Krycí list soupisu obsahuje rekapitulaci informací o předmětu veřejné zakázky ze sestavy Rekapitulace stavby, informaci o zařazení objektu do KSO,
D26: CC-CZ, CZ-CPV, CZ-CPA a rekapitulaci celkové nabídkové ceny uchazeče za aktuální soupis prací.
D28: Rekapitulace členění soupisu prací obsahuje rekapitulaci soupisu prací ve všech úrovních členění soupisu tak, jak byla tato členění použita (např.
D29: stavební díly, funkční díly, případně jiné členění) s rekapitulací nabídkové ceny.
D31: Soupis prací obsahuje položky veškerých stavebních nebo montážních prací, dodávek materiálů a služeb nezbytných pro zhotovení stavebního objektu,
D32: inženýrského objektu, provozního souboru, vedlejších a ostatních nákladů.
D33: Pro položky soupisu prací se zobrazují následující informace:
E34: PČ | G34: Pořadové číslo položky v aktuálním soupisu
E35: TYP | G35: Typ položky: K - konstrukce, M - materiál, PP - plný popis, PSC - poznámka k souboru cen, P - poznámka k položce, VV - výkaz výměr
E36: Kód | G36: Kód položky
E37: Popis | G37: Zkrácený popis položky
E38: MJ | G38: Měrná jednotka položky
E39: Množství | G39: Množství v měrné jednotce
E40: J.cena | G40: Jednotková cena položky. Zadaní může obsahovat namísto J.ceny sloupce J.materiál a J.montáž, jejichž součet definuje
G41: J.cenu položky.
E42: Cena celkem | G42: Celková cena položky daná jako součin množství a j.ceny
E43: Cenová soustava | G43: Příslušnost položky do cenové soustavy
D45: Ke každé položce soupisu prací se na samostatných řádcích může zobrazovat:
E46: Plný popis položky
E47: Poznámka k souboru cen a poznámka zadavatele
E48: Výkaz výměr
D49: Pokud je k řádku výkazu výměr evidovaný údaj ve sloupci Kód, jedná se o definovaný odkaz, na který se může odvolávat výkaz výměr z jiné položky.
...
