Workbook

Sheet Rekapitulace stavby
A1: Export VZ | D1: List obsahuje: | K1: 1) Rekapitulace stavby | W1: 2) Rekapitulace objektů stavby a soupisů prací | BA1: 3.0 | BB1: ZAMOK | BT1: False | BU1: False | BV1: {80cdade4-7d32-427a-8ab8-9076c6ca176d}
BS2: 0,01 | BT2: 21
BS3: 0,01 | BT3: 15
D4: REKAPITULACE STAVBY | AS4: v --- níže se nacházejí doplnkové a pomocné údaje k sestavám --- v | BE4: Návod na vyplnění | BS4: 0,001
D5: Kód: | K5: 20170406 | BE5: Měnit lze pouze buňky se žlutým podbarvením!_x000D_ _x000D_ 1) v Rekapitulaci stavby vyplňte údaje o Uchazeči (přenesou se do ostatních sestav i v jiných listech)_x000D_ _x000D_ 2) na vybraných listech vyplňte v sestavě Soupis prací ceny u položek_x000D_ _x000D_ Podrobnosti k vyplnění naleznete na poslední záložce s Pokyny pro vyplnění | BS5: 0,01
D6: Stavba: | K6: Bezbariérové úpravy MěÚ Mimoň č.p. 181 | BS6: 0,01
D7: KSO: | AK7: CC-CZ: | BS7: 0,01
D8: Místo: | K8: Mimoň | AK8: Datum: | AN8: 6. 4. 2017 | BS8: 0,01
BS9: 0,01
D10: Zadavatel: | AK10: IČ: | BS10: 0,01
E11: Město Mimoň | AK11: DIČ: | BS11: 0,01
BS12: 0,01
D13: Uchazeč: | AK13: IČ: | AN13: Vyplň údaj | BS13: 0,01
E14: Vyplň údaj | AK14: DIČ: | AN14: Vyplň údaj | BS14: 0,01
BS15: False
D16: Projektant: | AK16: IČ: | BS16: False
E17: Radek Voce | AK17: DIČ: | BS17: True
BS18: 0,01
D19: Poznámka: | BS19: 0,01
BS20: False
D23: Cena bez DPH | AK23: =ROUND(AG51,2) -> 0
L25: Sazba daně | W25: Základ daně | AK25: Výše daně
D26: DPH | F26: základní | L26: 0.21 | W26: =ROUND(AZ51,2) -> 0 | AK26: =ROUND(AV51,2) -> 0
F27: snížená | L27: 0.15 | W27: =ROUND(BA51,2) -> 0 | AK27: =ROUND(AW51,2) -> 0
F28: zákl. přenesená | L28: 0.21 | W28: =ROUND(BB51,2) -> 0 | AK28: 0
F29: sníž. přenesená | L29: 0.15 | W29: =ROUND(BC51,2) -> 0 | AK29: 0
F30: nulová | L30: 0 | W30: =ROUND(BD51,2) -> 0 | AK30: 0
D32: Cena s DPH | T32: v | X32: CZK | AK32: =SUM(AK23:AK30) -> 0
C39: REKAPITULACE OBJEKTŮ STAVBY A SOUPISŮ PRACÍ
C41: Kód: | L41: =K5 -> 20170406
C42: Stavba: | L42: =K6 -> Bezbariérové úpravy MěÚ Mimoň č.p. 181
C44: Místo: | L44: =IF(K8="","",K8) -> Mimoň | AI44: Datum: | AM44: =IF(AN8= "","",AN8) -> 6. 4. 2017
C46: Zadavatel: | L46: =IF(E11= "","",E11) -> Město Mimoň | AI46: Projektant: | AM46: =IF(E17="","",E17) -> Radek Voce | AS46: Informatívní údaje z listů zakázek
C47: Uchazeč: | L47: =IF(E14= "Vyplň údaj","",E14)
C49: Kód | I49: Objekt, Soupis prací | AG49: Cena bez DPH [CZK] | AN49: Cena s DPH [CZK] | AQ49: Typ | AS49: z toho Ostat._x000D_ náklady [CZK] | AT49: DPH [CZK] | AU49: Normohodiny [h] | AV49: DPH základní [CZK] | AW49: DPH snížená [CZK] | AX49: DPH základní přenesená_x000D_ [CZK] | AY49: DPH snížená přenesená_x000D_ [CZK] | AZ49: Základna_x000D_ DPH základní | BA49: Základna_x000D_ DPH snížená | BB49: Základna_x000D_ DPH zákl. přenesená | BC49: Základna_x000D_ DPH sníž. přenesená | BD49: Základna_x000D_ DPH nulová
C51: Náklady stavby celkem | AG51: =ROUND(SUM(AG52:AG57),2) -> 0 | AN51: =SUM(AG51,AT51) -> 0 | AS51: =ROUND(SUM(AS52:AS57),2) -> 0 | AT51: =ROUND(SUM(AV51:AW51),2) -> 0 | AU51: =ROUND(SUM(AU52:AU57),5) -> 0 | AV51: =ROUND(AZ51*L26,2) -> 0 | AW51: =ROUND(BA51*L27,2) -> 0 | AX51: =ROUND(BB51*L26,2) -> 0 | AY51: =ROUND(BC51*L27,2) -> 0 | AZ51: =ROUND(SUM(AZ52:AZ57),2) -> 0 | BA51: =ROUND(SUM(BA52:BA57),2) -> 0 | BB51: =ROUND(SUM(BB52:BB57),2) -> 0 | BC51: =ROUND(SUM(BC52:BC57),2) -> 0 | BD51: =ROUND(SUM(BD52:BD57),2) -> 0 | BS51: D | BT51: 0 | BU51: ###NOIMPORT### | BV51: IMPORT | BW51: {80cdade4-7d32-427a-8ab8-9076c6ca176d} | BX51: {00000000-0000-0000-0000-000000000000}
A52: / | D52: 01 | J52: stavební část | AG52: ='01 - stavební část'!J27 -> 0 | AN52: =SUM(AG52,AT52) -> 0 | AQ52: STA | AS52: 0 | AT52: =ROUND(SUM(AV52:AW52),2) -> 0 | AU52: ='01 - stavební část'!P101 -> 0 | AV52: ='01 - stavební část'!J30 -> 0 | AW52: ='01 - stavební část'!J31 -> 0 | AX52: ='01 - stavební část'!J32 -> 0 | AY52: ='01 - stavební část'!J33 -> 0 | AZ52: ='01 - stavební část'!F30 -> 0 | BA52: ='01 - stavební část'!F31 -> 0 | BB52: ='01 - stavební část'!F32 -> 0 | BC52: ='01 - stavební část'!F33 -> 0 | BD52: ='01 - stavební část'!F34 -> 0 | BT52: 1 | BV52: IMPORT | BW52: {9dfe80a0-85ce-40ed-90a9-d7d8e3553cbc} | BX52: {80cdade4-7d32-427a-8ab8-9076c6ca176d} | CM52: 2
A53: / | D53: 02 | J53: elektro | AG53: ='02 - elektro'!J27 -> 0 | AN53: =SUM(AG53,AT53) -> 0 | AQ53: STA | AS53: 0 | AT53: =ROUND(SUM(AV53:AW53),2) -> 0 | AU53: ='02 - elektro'!P76 -> 0 | AV53: ='02 - elektro'!J30 -> 0 | AW53: ='02 - elektro'!J31 -> 0 | AX53: ='02 - elektro'!J32 -> 0 | AY53: ='02 - elektro'!J33 -> 0 | AZ53: ='02 - elektro'!F30 -> 0 | BA53: ='02 - elektro'!F31 -> 0 | BB53: ='02 - elektro'!F32 -> 0 | BC53: ='02 - elektro'!F33 -> 0 | BD53: ='02 - elektro'!F34 -> 0 | BT53: 1 | BV53: IMPORT | BW53: {d15bb64a-80d5-40c0-a58c-a00db9c990e6} | BX53: {80cdade4-7d32-427a-8ab8-9076c6ca176d} | CM53: 2
A54: / | D54: 03 | J54: UT | AG54: ='03 - UT'!J27 -> 0 | AN54: =SUM(AG54,AT54) -> 0 | AQ54: STA | AS54: 0 | AT54: =ROUND(SUM(AV54:AW54),2) -> 0 | AU54: ='03 - UT'!P87 -> 0 | AV54: ='03 - UT'!J30 -> 0 | AW54: ='03 - UT'!J31 -> 0 | AX54: ='03 - UT'!J32 -> 0 | AY54: ='03 - UT'!J33 -> 0 | AZ54: ='03 - UT'!F30 -> 0 | BA54: ='03 - UT'!F31 -> 0 | BB54: ='03 - UT'!F32 -> 0 | BC54: ='03 - UT'!F33 -> 0 | BD54: ='03 - UT'!F34 -> 0 | BT54: 1 | BV54: IMPORT | BW54: {96f8f5de-2a9a-4d40-90d1-0c0d2963b904} | BX54: {80cdade4-7d32-427a-8ab8-9076c6ca176d} | CM54: 2
A55: / | D55: 04 | J55: ZTI | AG55: ='04 - ZTI'!J27 -> 0 | AN55: =SUM(AG55,AT55) -> 0 | AQ55: STA | AS55: 0 | AT55: =ROUND(SUM(AV55:AW55),2) -> 0 | AU55: ='04 - ZTI'!P85 -> 0 | AV55: ='04 - ZTI'!J30 -> 0 | AW55: ='04 - ZTI'!J31 -> 0 | AX55: ='04 - ZTI'!J32 -> 0 | AY55: ='04 - ZTI'!J33 -> 0 | AZ55: ='04 - ZTI'!F30 -> 0 | BA55: ='04 - ZTI'!F31 -> 0 | BB55: ='04 - ZTI'!F32 -> 0 | BC55: ='04 - ZTI'!F33 -> 0 | BD55: ='04 - ZTI'!F34 -> 0 | BT55: 1 | BV55: IMPORT | BW55: {b5cc4e00-ee11-4ca6-9799-9054cb7a98cc} | BX55: {80cdade4-7d32-427a-8ab8-9076c6ca176d} | CM55: 2
A56: / | D56: 06 | J56: venkovní kanalizace | AG56: ='06 - venkovní kanalizace'!J27 -> 0 | AN56: =SUM(AG56,AT56) -> 0 | AQ56: STA | AS56: 0 | AT56: =ROUND(SUM(AV56:AW56),2) -> 0 | AU56: ='06 - venkovní kanalizace'!P83 -> 0 | AV56: ='06 - venkovní kanalizace'!J30 -> 0 | AW56: ='06 - venkovní kanalizace'!J31 -> 0 | AX56: ='06 - venkovní kanalizace'!J32 -> 0 | AY56: ='06 - venkovní kanalizace'!J33 -> 0 | AZ56: ='06 - venkovní kanalizace'!F30 -> 0 | BA56: ='06 - venkovní kanalizace'!F31 -> 0 | BB56: ='06 - venkovní kanalizace'!F32 -> 0 | BC56: ='06 - venkovní kanalizace'!F33 -> 0 | BD56: ='06 - venkovní kanalizace'!F34 -> 0 | BT56: 1 | BV56: IMPORT | BW56: {9b082e7d-460c-41e3-b8f1-b65de7e9bb5d} | BX56: {80cdade4-7d32-427a-8ab8-9076c6ca176d} | CM56: 2
A57: / | D57: 07 | J57: VRN | AG57: ='07 - VRN'!J27 -> 0 | AN57: =SUM(AG57,AT57) -> 0 | AQ57: STA | AS57: 0 | AT57: =ROUND(SUM(AV57:AW57),2) -> 0 | AU57: ='07 - VRN'!P81 -> 0 | AV57: ='07 - VRN'!J30 -> 0 | AW57: ='07 - VRN'!J31 -> 0 | AX57: ='07 - VRN'!J32 -> 0 | AY57: ='07 - VRN'!J33 -> 0 | AZ57: ='07 - VRN'!F30 -> 0 | BA57: ='07 - VRN'!F31 -> 0 | BB57: ='07 - VRN'!F32 -> 0 | BC57: ='07 - VRN'!F33 -> 0 | BD57: ='07 - VRN'!F34 -> 0 | BT57: 1 | BV57: IMPORT | BW57: {fcb3b7c6-aa6d-41d6-9355-e9e4b24e739c} | BX57: {80cdade4-7d32-427a-8ab8-9076c6ca176d} | CM57: 2

Sheet 01 - stavební část
D1: List obsahuje: | F1: 1) Krycí list soupisu | G1: 2) Rekapitulace | J1: 3) Soupis prací | K1: Zpět na list: | L1: Rekapitulace stavby
AT2: {9dfe80a0-85ce-40ed-90a9-d7d8e3553cbc}
AT3: 2
D4: KRYCÍ LIST SOUPISU | M4: v --- níže se nacházejí doplnkové a pomocné údaje k sestavám --- v | AT4: False
D6: Stavba:
E7: ='Rekapitulace stavby'!K6 -> Bezbariérové úpravy MěÚ Mimoň č.p. 181
D8: Objekt:
E9: 01 - stavební část
D11: KSO: | I11: CC-CZ:
D12: Místo: | F12: Mimoň | I12: Datum: | J12: ='Rekapitulace stavby'!AN8 -> 6. 4. 2017
D14: Zadavatel: | I14: IČ: | J14: =IF('Rekapitulace stavby'!AN10="","",'Rekapitulace stavby'!AN10)
E15: =IF('Rekapitulace stavby'!E11="","",'Rekapitulace stavby'!E11) -> Město Mimoň | I15: DIČ: | J15: =IF('Rekapitulace stavby'!AN11="","",'Rekapitulace stavby'!AN11)
D17: Uchazeč: | I17: IČ: | J17: =IF('Rekapitulace stavby'!AN13="Vyplň údaj","",IF('Rekapitulace stavby'!AN13="","",'Rekapitulace stavby'!AN13))
E18: =IF('Rekapitulace stavby'!E14="Vyplň údaj","",IF('Rekapitulace stavby'!E14="","",'Rekapitulace stavby'!E14)) | I18: DIČ: | J18: =IF('Rekapitulace stavby'!AN14="Vyplň údaj","",IF('Rekapitulace stavby'!AN14="","",'Rekapitulace stavby'!AN14))
D20: Projektant: | I20: IČ: | J20: =IF('Rekapitulace stavby'!AN16="","",'Rekapitulace stavby'!AN16)
E21: =IF('Rekapitulace stavby'!E17="","",'Rekapitulace stavby'!E17) -> Radek Voce | I21: DIČ: | J21: =IF('Rekapitulace stavby'!AN17="","",'Rekapitulace stavby'!AN17)
D23: Poznámka:
D27: Cena bez DPH | J27: =ROUND(J101,2) -> 0
F29: Základ daně | I29: Sazba daně | J29: Výše daně
D30: DPH | E30: základní | F30: =ROUND(SUM(BE101:BE593), 2) -> 0 | I30: 0.21 | J30: =ROUND(ROUND((SUM(BE101:BE593)), 2)*I30, 2) -> 0
E31: snížená | F31: =ROUND(SUM(BF101:BF593), 2) -> 0 | I31: 0.15 | J31: =ROUND(ROUND((SUM(BF101:BF593)), 2)*I31, 2) -> 0
E32: zákl. přenesená | F32: =ROUND(SUM(BG101:BG593), 2) -> 0 | I32: 0.21 | J32: 0
E33: sníž. přenesená | F33: =ROUND(SUM(BH101:BH593), 2) -> 0 | I33: 0.15 | J33: 0
E34: nulová | F34: =ROUND(SUM(BI101:BI593), 2) -> 0 | I34: 0 | J34: 0
D36: Cena s DPH | G36: v | H36: CZK | J36: =SUM(J27:J34) -> 0
C42: REKAPITULACE ČLENĚNÍ SOUPISU PRACÍ
C44: Stavba:
E45: =E7 -> Bezbariérové úpravy MěÚ Mimoň č.p. 181
C46: Objekt:
E47: =E9 -> 01 - stavební část
C49: Místo: | F49: =F12 -> Mimoň | I49: Datum: | J49: =IF(J12="","",J12) -> 6. 4. 2017
C51: Zadavatel: | F51: =E15 -> Město Mimoň | I51: Projektant: | J51: =E21 -> Radek Voce
C52: Uchazeč: | F52: =IF(E18="","",E18)
C54: Kód dílu - Popis | J54: Cena celkem [CZK]
C56: Náklady soupisu celkem | J56: =J101 -> 0 | AU56: -1
D57: HSV - Práce a dodávky HSV | J57: =J102 -> 0
D58: 1 - Zemní práce | J58: =J103 -> 0
D59: 2 - Zakládání | J59: =J127 -> 0
D60: 3 - Svislé a kompletní konstrukce | J60: =J153 -> 0
D61: 4 - Vodorovné konstrukce | J61: =J188 -> 0
D62: 6 - Úpravy povrchů, podlahy a osazování výplní | J62: =J203 -> 0
D63: 9 - Ostatní konstrukce a práce, bourání | J63: =J263 -> 0
D64: 997 - Přesun sutě | J64: =J348 -> 0
D65: 998 - Přesun hmot | J65: =J361 -> 0
D66: PSV - Práce a dodávky PSV | J66: =J364 -> 0
D67: 711 - Izolace proti vodě, vlhkosti a plynům | J67: =J365 -> 0
D68: 713 - Izolace tepelné | J68: =J381 -> 0
D69: 725 - Zdravotechnika - zařizovací předměty | J69: =J401 -> 0
D70: 751 - Vzduchotechnika | J70: =J407 -> 0
D71: 762 - Konstrukce tesařské | J71: =J412 -> 0
D72: 763 - Konstrukce suché výstavby | J72: =J444 -> 0
D73: 764 - Konstrukce klempířské | J73: =J464 -> 0
D74: 766 - Konstrukce truhlářské | J74: =J470 -> 0
D75: 767 - Konstrukce zámečnické | J75: =J491 -> 0
D76: 771 - Podlahy z dlaždic | J76: =J526 -> 0
D77: 773 - Podlahy z litého teraca | J77: =J540 -> 0
D78: 776 - Podlahy povlakové | J78: =J543 -> 0
D79: 781 - Dokončovací práce - obklady | J79: =J552 -> 0
D80: 783 - Dokončovací práce - nátěry | J80: =J570 -> 0
D81: 784 - Dokončovací práce - malby a tapety | J81: =J581 -> 0
C88: SOUPIS PRACÍ
C90: Stavba:
E91: =E7 -> Bezbariérové úpravy MěÚ Mimoň č.p. 181
C92: Objekt:
E93: =E9 -> 01 - stavební část
C95: Místo: | F95: =F12 -> Mimoň | I95: Datum: | J95: =IF(J12="","",J12) -> 6. 4. 2017
C97: Zadavatel: | F97: =E15 -> Město Mimoň | I97: Projektant: | J97: =E21 -> Radek Voce
C98: Uchazeč: | F98: =IF(E18="","",E18)
C100: PČ | D100: Typ | E100: Kód | F100: Popis | G100: MJ | H100: Množství | I100: J.cena [CZK] | J100: Cena celkem [CZK] | K100: Cenová soustava | M100: Poznámka | N100: DPH | O100: J. Nh [h] | P100: Nh celkem [h] | Q100: J. hmotnost_x000D_ [t] | R100: Hmotnost_x000D_ celkem [t] | S100: J. suť [t] | T100: Suť Celkem [t]
C101: Náklady soupisu celkem | J101: =BK101 -> 0 | P101: =P102+P364 -> 0 | R101: =R102+R364 -> 64.175963 | T101: =T102+T364 -> 45.9721 | AT101: D | AU101: -1 | BK101: =BK102+BK364 -> 0
D102: D | E102: HSV | F102: Práce a dodávky HSV | J102: =BK102 -> 0 | P102: =P103+P127+P153+P188+P203+P263+P348+P361 -> 0 | R102: =R103+R127+R153+R188+R203+R263+R348+R361 -> 50.051236 | T102: =T103+T127+T153+T188+T203+T263+T348+T361 -> 37.106579 | AR102: 1 | AT102: D | AU102: 0 | AY102: ROZPOCET | BK102: =BK103+BK127+BK153+BK188+BK203+BK263+BK348+BK361 -> 0
D103: D | E103: 1 | F103: Zemní práce | J103: =BK103 -> 0 | P103: =SUM(P104:P126) -> 0 | R103: =SUM(R104:R126) -> 0 | T103: =SUM(T104:T126) -> 0 | AR103: 1 | AT103: D | AU103: 1 | AY103: ROZPOCET | BK103: =SUM(BK104:BK126) -> 0
C104: 1 | D104: K | E104: 131203101 | F104: Hloubení zapažených i nezapažených jam ručním nebo pneumatickým nářadím s urovnáním dna do předepsaného profilu a spádu v horninách tř. 3 soudržných | G104: m3 | H104: 1.323 | J104: =ROUND(I104*H104,2) -> 0 | K104: CS ÚRS 2017 01 | N104: základní | P104: =O104*H104 -> 0 | Q104: 0 | R104: =Q104*H104 -> 0 | S104: 0 | T104: =S104*H104 -> 0 | AR104: 4 | AT104: K | AU104: 2 | AY104: ROZPOCET | BE104: =IF(N104="základní",J104,0) -> 0 | BF104: =IF(N104="snížená",J104,0) -> 0 | BG104: =IF(N104="zákl. přenesená",J104,0) -> 0 | BH104: =IF(N104="sníž. přenesená",J104,0) -> 0 | BI104: =IF(N104="nulová",J104,0) -> 0 | BJ104: 1 | BK104: =ROUND(I104*H104,2) -> 0 | BL104: 4 | BM104: 99538686
D105: PSC | F105: Poznámka k souboru cen:_x000D_ 1. V cenách jsou započteny i náklady na přehození výkopku na přilehlém terénu na vzdálenost do 3 m od okraje jámy nebo naložení na dopravní prostředek. 2. V cenách 10-3101 až 40-3102 jsou započteny i náklady na svislý přesun horniny po házečkách do 2 metrů. | AT105: PSC | AU105: 2
D106: VV | F106: 2,1*2,1*0,3 | H106: 1.323 | AT106: VV | AU106: 2 | AV106: 2 | AW106: True | AX106: 1 | AY106: ROZPOCET
C107: 2 | D107: K | E107: 132212101 | F107: Hloubení zapažených i nezapažených rýh šířky do 600 mm ručním nebo pneumatickým nářadím s urovnáním dna do předepsaného profilu a spádu v horninách tř. 3 soudržných | G107: m3 | H107: 7.611 | J107: =ROUND(I107*H107,2) -> 0 | K107: CS ÚRS 2017 01 | N107: základní | P107: =O107*H107 -> 0 | Q107: 0 | R107: =Q107*H107 -> 0 | S107: 0 | T107: =S107*H107 -> 0 | AR107: 4 | AT107: K | AU107: 2 | AY107: ROZPOCET | BE107: =IF(N107="základní",J107,0) -> 0 | BF107: =IF(N107="snížená",J107,0) -> 0 | BG107: =IF(N107="zákl. přenesená",J107,0) -> 0 | BH107: =IF(N107="sníž. přenesená",J107,0) -> 0 | BI107: =IF(N107="nulová",J107,0) -> 0 | BJ107: 1 | BK107: =ROUND(I107*H107,2) -> 0 | BL107: 4 | BM107: -162818553
D108: PSC | F108: Poznámka k souboru cen:_x000D_ 1. V cenách jsou započteny i náklady na přehození výkopku na přilehlém terénu na vzdálenost do 3 m od podélné osy rýhy nebo naložení výkopku na dopravní prostředek. 2. V cenách 12-2101 až 41-2102 jsou započteny i náklady na i svislý přesun horniny po házečkách do 2 metrů. | AT108: PSC | AU108: 2
D109: VV | F109: (2,0+2,175+1,48*2)*0,7*0,54 | H109: 2.697 | AT109: VV | AU109: 2 | AV109: 2 | AW109: True | AX109: 0 | AY109: ROZPOCET
D110: VV | F110: 9,1*0,6*0,9 | H110: 4.914 | AT110: VV | AU110: 2 | AV110: 2 | AW110: True | AX110: 0 | AY110: ROZPOCET
D111: VV | F111: Součet | H111: 7.611 | AT111: VV | AU111: 2 | AV111: 4 | AW111: True | AX111: 1 | AY111: ROZPOCET
C112: 3 | D112: K | E112: 162701105 | F112: Vodorovné přemístění výkopku nebo sypaniny po suchu na obvyklém dopravním prostředku, bez naložení výkopku, avšak se složením bez rozhrnutí z horniny tř. 1 až 4 na vzdálenost přes 9 000 do 10 000 m | G112: m3 | H112: 4.02 | J112: =ROUND(I112*H112,2) -> 0 | K112: CS ÚRS 2017 01 | N112: základní | P112: =O112*H112 -> 0 | Q112: 0 | R112: =Q112*H112 -> 0 | S112: 0 | T112: =S112*H112 -> 0 | AR112: 4 | AT112: K | AU112: 2 | AY112: ROZPOCET | BE112: =IF(N112="základní",J112,0) -> 0 | BF112: =IF(N112="snížená",J112,0) -> 0 | BG112: =IF(N112="zákl. přenesená",J112,0) -> 0 | BH112: =IF(N112="sníž. přenesená",J112,0) -> 0 | BI112: =IF(N112="nulová",J112,0) -> 0 | BJ112: 1 | BK112: =ROUND(I112*H112,2) -> 0 | BL112: 4 | BM112: -310759987
D113: PSC | F113: Poznámka k souboru cen:_x000D_ 1. Ceny nelze použít, předepisuje-li projekt přemístit výkopek na místo nepřístupné obvyklým dopravním prostředkům; toto přemístění se oceňuje individuálně. 2. V cenách jsou započteny i náhrady za jízdu loženého vozidla v terénu ve výkopišti nebo na násypišti. 3. V cenách nejsou započteny náklady na rozhrnutí výkopku na násypišti; toto rozhrnutí se oceňuje cenami souboru cen 171 . 0- . . Uložení sypaniny do násypů a 171 20-1201Uložení sypaniny na skládky. 4. Je-li na dopravní dráze pro vodorovné přemístění nějaká překážka, pro kterou je nutno překládat výkopek z jednoho obvyklého dopravního prostředku na jiný obvyklý dopravní prostředek, oceňuje se toto lomené vodorovné přemístění výkopku v každém úseku samostatně příslušnou cenou tohoto souboru cen a překládání výkopku cenami souboru cen 167 10-3 . Nakládání neulehlého výkopku z hromad s ohledem na ustanovení pozn. číslo 5. 5. Přemísťuje-li se výkopek z dočasných skládek vzdálených do 50 m, neoceňuje se nakládání výkopku, i když se provádí. Toto ustanovení neplatí, vylučuje-li projekt použití dozeru. 6. V cenách vodorovného přemístění sypaniny nejsou započteny náklady na dodávku materiálu, tyto se oceňují ve specifikaci. | AT113: PSC | AU113: 2
D114: VV | F114: 2,697 | H114: 2.697 | AT114: VV | AU114: 2 | AV114: 2 | AW114: True | AX114: 0 | AY114: ROZPOCET
D115: VV | F115: 1,323 | H115: 1.323 | AT115: VV | AU115: 2 | AV115: 2 | AW115: True | AX115: 0 | AY115: ROZPOCET
D116: VV | F116: Součet | H116: 4.02 | AT116: VV | AU116: 2 | AV116: 4 | AW116: True | AX116: 1 | AY116: ROZPOCET
C117: 4 | D117: K | E117: 167101101 | F117: Nakládání, skládání a překládání neulehlého výkopku nebo sypaniny nakládání, množství do 100 m3, z hornin tř. 1 až 4 | G117: m3 | H117: 4.02 | J117: =ROUND(I117*H117,2) -> 0 | K117: CS ÚRS 2017 01 | N117: základní | P117: =O117*H117 -> 0 | Q117: 0 | R117: =Q117*H117 -> 0 | S117: 0 | T117: =S117*H117 -> 0 | AR117: 4 | AT117: K | AU117: 2 | AY117: ROZPOCET | BE117: =IF(N117="základní",J117,0) -> 0 | BF117: =IF(N117="snížená",J117,0) -> 0 | BG117: =IF(N117="zákl. přenesená",J117,0) -> 0 | BH117: =IF(N117="sníž. přenesená",J117,0) -> 0 | BI117: =IF(N117="nulová",J117,0) -> 0 | BJ117: 1 | BK117: =ROUND(I117*H117,2) -> 0 | BL117: 4 | BM117: 177208418
D118: PSC | F118: Poznámka k souboru cen:_x000D_ 1. Ceny -1101, -1151, -1102, -1152, -1103, -1153, jsou určeny pro nakládání, skládání a překládání na obvyklý nebo z obvyklého dopravního prostředku. Pro nakládání z lodi nebo na loď jsou určeny ceny -1105 a -1155. 2. Ceny -1105 a -1155 jsou určeny pro nakládání, překládání a vykládání na vzdálenost a) do 20 m vodorovně; vodorovná vzdálenost se měří od těžnice lodi k těžnici druhé lodi, nebo k těžišti hromady na břehu nebo k těžišti dopravního prostředku na suchu, b) do 4 m svisle; svislá vzdálenost se měří od pracovní hladiny vody k úrovni srovna- ného terénu v místě hromady nebo v místě dopravní plochy pro dopravní prostředek na suchu. Uvedenou svislou vzdálenost 4 m lze zvětšit, a to nejvýše do 6 m, jestliže je vodorovná vzdálenost uvedená v bodu a) kratší než 20 m nejméně o trojnásobek zvětšení výšky přes 4 m. 3. Množství měrných jednotek se určí v rostlém stavu horniny. | AT118: PSC | AU118: 2
C119: 5 | D119: K | E119: 171201201 | F119: Uložení sypaniny na skládky | G119: m3 | H119: 4.02 | J119: =ROUND(I119*H119,2) -> 0 | K119: CS ÚRS 2017 01 | N119: základní | P119: =O119*H119 -> 0 | Q119: 0 | R119: =Q119*H119 -> 0 | S119: 0 | T119: =S119*H119 -> 0 | AR119: 4 | AT119: K | AU119: 2 | AY119: ROZPOCET | BE119: =IF(N119="základní",J119,0) -> 0 | BF119: =IF(N119="snížená",J119,0) -> 0 | BG119: =IF(N119="zákl. přenesená",J119,0) -> 0 | BH119: =IF(N119="sníž. přenesená",J119,0) -> 0 | BI119: =IF(N119="nulová",J119,0) -> 0 | BJ119: 1 | BK119: =ROUND(I119*H119,2) -> 0 | BL119: 4 | BM119: -285724479
D120: PSC | F120: Poznámka k souboru cen:_x000D_ 1. Cena -1201 je určena i pro: a) uložení výkopku nebo ornice na dočasné skládky předepsané projektem tak, že na 1 m2 projektem určené plochy této skládky připadá přes 2 m3 výkopku nebo ornice; v opačném případě se uložení neoceňuje. Množství výkopku nebo ornice připadající na 1 m2 skládky se určí jako podíl množství výkopku nebo ornice, měřeného v rostlém stavu a projektem určené plochy dočasné skládky; b) zasypání koryt vodotečí a prohlubní v terénu bez předepsaného zhutnění sypaniny; c) uložení výkopku pod vodou do prohlubní ve dně vodotečí nebo nádrží. 2. Cenu -1201 nelze použít pro uložení výkopku nebo ornice: a) při vykopávkách pro podzemní vedení podél hrany výkopu, z něhož byl výkopek získán, a to ani tehdy, jestliže se výkopek po vyhození z výkopu na povrch území ještě dále přemisťuje na hromady podél výkopu; b) na dočasné skládky, které nejsou předepsány projektem; c) na dočasné skládky předepsané projektem tak, že na 1 m2 projektem určené plochy této skládky připadají nejvýše 2 m3 výkopku nebo ornice (viz. též poznámku č. 1 a); d) na dočasné skládky, oceňuje-li se cenou 121 10-1101 Sejmutí ornice nebo lesní půdy do 50 m, nebo oceňuje-li se vodorovné přemístění výkopku do 20 m a 50 m cenami 162 20-1101, 162 20-1102, 162 20-1151 a 162 20-1152. V těchto případech se uložení výkopku nebo ornice na dočasnou skládku neoceňuje. e) na trvalé skládky s předepsaným zhutněním; toto uložení výkopku se oceňuje cenami souboru cen 171 . 0- . . Uložení sypaniny do násypů. 3. V ceně -1201 jsou započteny i náklady na rozprostření sypaniny ve vrstvách s hrubým urovnáním na skládce. 4. V ceně -1201 nejsou započteny náklady na získání skládek ani na poplatky za skládku. 5. Množství jednotek uložení výkopku (sypaniny) se určí v m3 uloženého výkopku (sypaniny),v rostlém stavu zpravidla ve výkopišti. 6. Cenu -1211 lze po dohodě upravit podle místních podmínek. | AT120: PSC | AU120: 2
C121: 6 | D121: K | E121: 171201211 | F121: Uložení sypaniny poplatek za uložení sypaniny na skládce (skládkovné) | G121: t | H121: 7.236 | J121: =ROUND(I121*H121,2) -> 0 | K121: CS ÚRS 2017 01 | N121: základní | P121: =O121*H121 -> 0 | Q121: 0 | R121: =Q121*H121 -> 0 | S121: 0 | T121: =S121*H121 -> 0 | AR121: 4 | AT121: K | AU121: 2 | AY121: ROZPOCET | BE121: =IF(N121="základní",J121,0) -> 0 | BF121: =IF(N121="snížená",J121,0) -> 0 | BG121: =IF(N121="zákl. přenesená",J121,0) -> 0 | BH121: =IF(N121="sníž. přenesená",J121,0) -> 0 | BI121: =IF(N121="nulová",J121,0) -> 0 | BJ121: 1 | BK121: =ROUND(I121*H121,2) -> 0 | BL121: 4 | BM121: 237051913
D122: PSC | F122: Poznámka k souboru cen:_x000D_ 1. Cena -1201 je určena i pro: a) uložení výkopku nebo ornice na dočasné skládky předepsané projektem tak, že na 1 m2 projektem určené plochy této skládky připadá přes 2 m3 výkopku nebo ornice; v opačném případě se uložení neoceňuje. Množství výkopku nebo ornice připadající na 1 m2 skládky se určí jako podíl množství výkopku nebo ornice, měřeného v rostlém stavu a projektem určené plochy dočasné skládky; b) zasypání koryt vodotečí a prohlubní v terénu bez předepsaného zhutnění sypaniny; c) uložení výkopku pod vodou do prohlubní ve dně vodotečí nebo nádrží. 2. Cenu -1201 nelze použít pro uložení výkopku nebo ornice: a) při vykopávkách pro podzemní vedení podél hrany výkopu, z něhož byl výkopek získán, a to ani tehdy, jestliže se výkopek po vyhození z výkopu na povrch území ještě dále přemisťuje na hromady podél výkopu; b) na dočasné skládky, které nejsou předepsány projektem; c) na dočasné skládky předepsané projektem tak, že na 1 m2 projektem určené plochy této skládky připadají nejvýše 2 m3 výkopku nebo ornice (viz. též poznámku č. 1 a); d) na dočasné skládky, oceňuje-li se cenou 121 10-1101 Sejmutí ornice nebo lesní půdy do 50 m, nebo oceňuje-li se vodorovné přemístění výkopku do 20 m a 50 m cenami 162 20-1101, 162 20-1102, 162 20-1151 a 162 20-1152. V těchto případech se uložení výkopku nebo ornice na dočasnou skládku neoceňuje. e) na trvalé skládky s předepsaným zhutněním; toto uložení výkopku se oceňuje cenami souboru cen 171 . 0- . . Uložení sypaniny do násypů. 3. V ceně -1201 jsou započteny i náklady na rozprostření sypaniny ve vrstvách s hrubým urovnáním na skládce. 4. V ceně -1201 nejsou započteny náklady na získání skládek ani na poplatky za skládku. 5. Množství jednotek uložení výkopku (sypaniny) se určí v m3 uloženého výkopku (sypaniny),v rostlém stavu zpravidla ve výkopišti. 6. Cenu -1211 lze po dohodě upravit podle místních podmínek. | AT122: PSC | AU122: 2
D123: VV | F123: 4,02*1,8 'Přepočtené koeficientem množství | H123: 7.236 | AT123: VV | AU123: 2 | AV123: 2 | AW123: False | AX123: 1 | AY123: ROZPOCET
C124: 7 | D124: K | E124: 174101101 | F124: Zásyp sypaninou z jakékoliv horniny s uložením výkopku ve vrstvách se zhutněním jam, šachet, rýh nebo kolem objektů v těchto vykopávkách | G124: m3 | H124: 4.914 | J124: =ROUND(I124*H124,2) -> 0 | K124: CS ÚRS 2017 01 | N124: základní | P124: =O124*H124 -> 0 | Q124: 0 | R124: =Q124*H124 -> 0 | S124: 0 | T124: =S124*H124 -> 0 | AR124: 4 | AT124: K | AU124: 2 | AY124: ROZPOCET | BE124: =IF(N124="základní",J124,0) -> 0 | BF124: =IF(N124="snížená",J124,0) -> 0 | BG124: =IF(N124="zákl. přenesená",J124,0) -> 0 | BH124: =IF(N124="sníž. přenesená",J124,0) -> 0 | BI124: =IF(N124="nulová",J124,0) -> 0 | BJ124: 1 | BK124: =ROUND(I124*H124,2) -> 0 | BL124: 4 | BM124: 964266330
D125: PSC | F125: Poznámka k souboru cen:_x000D_ 1. Ceny 174 10- . . jsou určeny pro zhutněné zásypy s mírou zhutnění: a) z hornin soudržných do 100 % PS, b) z hornin nesoudržných do I(d) 0,9, c) z hornin kamenitých pro jakoukoliv míru zhutnění. 2. Je-li projektem předepsáno vyšší zhutnění, podle bodu a) a b) poznámky č 1., ocení se zásyp individuálně. 3. Ceny nelze použít pro zásyp rýh pro drenážní trativody pro lesnicko-technické meliorace a zemědělské. Zásyp těchto rýh se oceňuje cenami souboru cen 174 20-3 . části A 03 Zemní práce pro objekty oborů 831 až 833. Nezhutněný zásyp odvodňovacích kanálů z betonových a železobetonových trub v polních a lučních tratích se oceňuje cenou -1101 Zásyp sypaninou rýh bez ohledu na šířku kanálu; cena obsahuje i náklady na ruční nezhutněný zásyp výšky do 200 mm nad vrchol potrubí. 4. V cenách 10-1101, 10-1103, 20-1101 a 20-1103 je započteno přemístění sypaniny ze vzdálenosti 10 m od kraje výkopu nebo zasypávaného prostoru, měřeno k těžišti skládky. 5. V ceně 10-1102 je započteno přemístění sypaniny ze vzdálenosti 15 m od hrany zasypávaného prostoru, měřeno k těžišti skládky. 6. Objem zásypu je rozdíl objemu výkopu a objemu do něho vestavěných konstrukcí nebo uložených vedení i s jejich obklady a podklady (tento objem se nazývá objemem horniny vytlačené konstrukcí). Objem potrubí do DN 180, příp. i s obalem, se od objemu zásypu neodečítá. Pro stanovení objemu zásypu se od objemu výkopu odečítá i objem obsypu potrubí oceňovaný cenami souboru cen 175 10-11 Obsyp potrubí, přichází-li v úvahu . 7. Odklizení zbylého výkopku po provedení zásypu zářezů se šikmými stěnami pro podzemní vedení nebo zásypu jam a rýh pro podzemní vedení se oceňuje, je-li objem zbylého výkopku: a) do 1 m3 na 1 m vedení a jedná se o výkopek neulehlý - cenami souboru cen 167 10-110 Nakládání výkopku nebo sypaniny a 162 . 0-1 . Vodorovné přemístění výkopku. V případě, že se jedná o výkopek ulehlý - rozpojení a naložení výkopku cenami souboru cen 122 . 0-1 . souboru cen 162 . 0-1 . Vodorovné přemístění výkopku; b) přes 1 m3 na 1 m vedení, jestliže projekt předepíše, že se zbylý výkopek bude odklízet zároveň s prováděním vykopávky, pouze přemístění výkopku cenami souboru cen 162 . 0-1 . Vodorovné přemístění výkopku. Při zmíněném objemu zbylého výkopku se neoceňuje ani naložení ani rozpojení výkopku. Jestliže se zbylý výkopek neodklízí, nýbrž rozprostírá podél výkopu a nad výkopem, platí poznámka č. 8. 8. Rozprostření zbylého výkopku podél výkopu a nad výkopem po provedení zásypů zářezů se šikmými stěnami pro podzemní vedení nebo zásypu jam a rýh pro podzemní vedení se oceňuje: a) cenou 171 20-1101 Uložení sypaniny do nezhutněných násypů, není-li projektem předepsáno zhutnění rozprostřeného zbylého výkopku, b) cenou 171 10-1111 Uložení sypaniny do násypů z hornin sypkých, je-li předepsáno zhutnění rozprostřeného zbylého výkopku, a to v objemu vypočteném podle poznámky č.6, příp. zmenšeném o objem výkopku, který byl již odklizen. 9. Míru zhutnění předepisuje projekt. | AT125: PSC | AU125: 2
D126: VV | F126: 9,1*0,6*0,9 | H126: 4.914 | AT126: VV | AU126: 2 | AV126: 2 | AW126: True | AX126: 1 | AY126: ROZPOCET
D127: D | E127: 2 | F127: Zakládání | J127: =BK127 -> 0 | P127: =SUM(P128:P152) -> 0 | R127: =SUM(R128:R152) -> 12.035969 | T127: =SUM(T128:T152) -> 0 | AR127: 1 | AT127: D | AU127: 1 | AY127: ROZPOCET | BK127: =SUM(BK128:BK152) -> 0
C128: 8 | D128: K | E128: 213311142 | F128: Polštáře zhutněné pod základy ze štěrkopísku netříděného | G128: m3 | H128: 0.222 | J128: =ROUND(I128*H128,2) -> 0 | K128: CS ÚRS 2017 01 | N128: základní | P128: =O128*H128 -> 0 | Q128: 2.16 | R128: =Q128*H128 -> 0.47952 | S128: 0 | T128: =S128*H128 -> 0 | AR128: 4 | AT128: K | AU128: 2 | AY128: ROZPOCET | BE128: =IF(N128="základní",J128,0) -> 0 | BF128: =IF(N128="snížená",J128,0) -> 0 | BG128: =IF(N128="zákl. přenesená",J128,0) -> 0 | BH128: =IF(N128="sníž. přenesená",J128,0) -> 0 | BI128: =IF(N128="nulová",J128,0) -> 0 | BJ128: 1 | BK128: =ROUND(I128*H128,2) -> 0 | BL128: 4 | BM128: -1482735297
D129: PSC | F129: Poznámka k souboru cen:_x000D_ 1. Ceny jsou určeny pro jakoukoliv míru zhutnění. 2. V cenách jsou započteny i náklady na urovnání povrchu polštáře. | AT129: PSC | AU129: 2
D130: VV | F130: 1,48*1,5*0,1 | H130: 0.222 | AT130: VV | AU130: 2 | AV130: 2 | AW130: True | AX130: 1 | AY130: ROZPOCET
C131: 9 | D131: K | E131: 273321511 | F131: Základy z betonu železového (bez výztuže) desky z betonu bez zvýšených nároků na prostředí tř. C 25/30 | G131: m3 | H131: 1.29 | J131: =ROUND(I131*H131,2) -> 0 | K131: CS ÚRS 2017 01 | N131: základní | P131: =O131*H131 -> 0 | Q131: 2.45329 | R131: =Q131*H131 -> 3.1647441 | S131: 0 | T131: =S131*H131 -> 0 | AR131: 4 | AT131: K | AU131: 2 | AY131: ROZPOCET | BE131: =IF(N131="základní",J131,0) -> 0 | BF131: =IF(N131="snížená",J131,0) -> 0 | BG131: =IF(N131="zákl. přenesená",J131,0) -> 0 | BH131: =IF(N131="sníž. přenesená",J131,0) -> 0 | BI131: =IF(N131="nulová",J131,0) -> 0 | BJ131: 1 | BK131: =ROUND(I131*H131,2) -> 0 | BL131: 4 | BM131: 333375208
...

Sheet 02 - elektro
D1: List obsahuje: | F1: 1) Krycí list soupisu | G1: 2) Rekapitulace | J1: 3) Soupis prací | K1: Zpět na list: | L1: Rekapitulace stavby
AT2: {d15bb64a-80d5-40c0-a58c-a00db9c990e6}
AT3: 2
D4: KRYCÍ LIST SOUPISU | M4: v --- níže se nacházejí doplnkové a pomocné údaje k sestavám --- v | AT4: False
D6: Stavba:
E7: ='Rekapitulace stavby'!K6 -> Bezbariérové úpravy MěÚ Mimoň č.p. 181
D8: Objekt:
E9: 02 - elektro
D11: KSO: | I11: CC-CZ:
D12: Místo: | I12: Datum: | J12: ='Rekapitulace stavby'!AN8 -> 6. 4. 2017
D14: Zadavatel: | I14: IČ: | J14: =IF('Rekapitulace stavby'!AN10="","",'Rekapitulace stavby'!AN10)
E15: =IF('Rekapitulace stavby'!E11="","",'Rekapitulace stavby'!E11) -> Město Mimoň | I15: DIČ: | J15: =IF('Rekapitulace stavby'!AN11="","",'Rekapitulace stavby'!AN11)
D17: Uchazeč: | I17: IČ: | J17: =IF('Rekapitulace stavby'!AN13="Vyplň údaj","",IF('Rekapitulace stavby'!AN13="","",'Rekapitulace stavby'!AN13))
E18: =IF('Rekapitulace stavby'!E14="Vyplň údaj","",IF('Rekapitulace stavby'!E14="","",'Rekapitulace stavby'!E14)) | I18: DIČ: | J18: =IF('Rekapitulace stavby'!AN14="Vyplň údaj","",IF('Rekapitulace stavby'!AN14="","",'Rekapitulace stavby'!AN14))
D20: Projektant: | I20: IČ: | J20: =IF('Rekapitulace stavby'!AN16="","",'Rekapitulace stavby'!AN16)
E21: =IF('Rekapitulace stavby'!E17="","",'Rekapitulace stavby'!E17) -> Radek Voce | I21: DIČ: | J21: =IF('Rekapitulace stavby'!AN17="","",'Rekapitulace stavby'!AN17)
D23: Poznámka:
D27: Cena bez DPH | J27: =ROUND(J76,2) -> 0
F29: Základ daně | I29: Sazba daně | J29: Výše daně
D30: DPH | E30: základní | F30: =ROUND(SUM(BE76:BE109), 2) -> 0 | I30: 0.21 | J30: =ROUND(ROUND((SUM(BE76:BE109)), 2)*I30, 2) -> 0
E31: snížená | F31: =ROUND(SUM(BF76:BF109), 2) -> 0 | I31: 0.15 | J31: =ROUND(ROUND((SUM(BF76:BF109)), 2)*I31, 2) -> 0
E32: zákl. přenesená | F32: =ROUND(SUM(BG76:BG109), 2) -> 0 | I32: 0.21 | J32: 0
E33: sníž. přenesená | F33: =ROUND(SUM(BH76:BH109), 2) -> 0 | I33: 0.15 | J33: 0
E34: nulová | F34: =ROUND(SUM(BI76:BI109), 2) -> 0 | I34: 0 | J34: 0
D36: Cena s DPH | G36: v | H36: CZK | J36: =SUM(J27:J34) -> 0
C42: REKAPITULACE ČLENĚNÍ SOUPISU PRACÍ
C44: Stavba:
E45: =E7 -> Bezbariérové úpravy MěÚ Mimoň č.p. 181
C46: Objekt:
E47: =E9 -> 02 - elektro
C49: Místo: | F49: =F12 | I49: Datum: | J49: =IF(J12="","",J12) -> 6. 4. 2017
C51: Zadavatel: | F51: =E15 -> Město Mimoň | I51: Projektant: | J51: =E21 -> Radek Voce
C52: Uchazeč: | F52: =IF(E18="","",E18)
C54: Kód dílu - Popis | J54: Cena celkem [CZK]
C56: Náklady soupisu celkem | J56: =J76 -> 0 | AU56: -1
C63: SOUPIS PRACÍ
C65: Stavba:
E66: =E7 -> Bezbariérové úpravy MěÚ Mimoň č.p. 181
C67: Objekt:
E68: =E9 -> 02 - elektro
C70: Místo: | F70: =F12 | I70: Datum: | J70: =IF(J12="","",J12) -> 6. 4. 2017
C72: Zadavatel: | F72: =E15 -> Město Mimoň | I72: Projektant: | J72: =E21 -> Radek Voce
C73: Uchazeč: | F73: =IF(E18="","",E18)
C75: PČ | D75: Typ | E75: Kód | F75: Popis | G75: MJ | H75: Množství | I75: J.cena [CZK] | J75: Cena celkem [CZK] | K75: Cenová soustava | M75: Poznámka | N75: DPH | O75: J. Nh [h] | P75: Nh celkem [h] | Q75: J. hmotnost_x000D_ [t] | R75: Hmotnost_x000D_ celkem [t] | S75: J. suť [t] | T75: Suť Celkem [t]
C76: Náklady soupisu celkem | J76: =BK76 -> 0 | P76: =SUM(P77:P109) -> 0 | R76: =SUM(R77:R109) -> 0 | T76: =SUM(T77:T109) -> 0 | AT76: D | AU76: -1 | BK76: =SUM(BK77:BK109) -> 0
C77: 1 | D77: K | E77: Pol1 | F77: Kabel silový 400 V, CYKY-J 5x2,5 | G77: m | H77: 13 | J77: =ROUND(I77*H77,2) -> 0 | N77: základní | P77: =O77*H77 -> 0 | Q77: 0 | R77: =Q77*H77 -> 0 | S77: 0 | T77: =S77*H77 -> 0 | AR77: 16 | AT77: K | AU77: 0 | AY77: ROZPOCET | BE77: =IF(N77="základní",J77,0) -> 0 | BF77: =IF(N77="snížená",J77,0) -> 0 | BG77: =IF(N77="zákl. přenesená",J77,0) -> 0 | BH77: =IF(N77="sníž. přenesená",J77,0) -> 0 | BI77: =IF(N77="nulová",J77,0) -> 0 | BJ77: 1 | BK77: =ROUND(I77*H77,2) -> 0 | BL77: 16 | BM77: 2
C78: 2 | D78: K | E78: Pol2 | F78: Kabel silový 230 V, CYKY-J 3x2,5 | G78: m | H78: 68 | J78: =ROUND(I78*H78,2) -> 0 | N78: základní | P78: =O78*H78 -> 0 | Q78: 0 | R78: =Q78*H78 -> 0 | S78: 0 | T78: =S78*H78 -> 0 | AR78: 16 | AT78: K | AU78: 0 | AY78: ROZPOCET | BE78: =IF(N78="základní",J78,0) -> 0 | BF78: =IF(N78="snížená",J78,0) -> 0 | BG78: =IF(N78="zákl. přenesená",J78,0) -> 0 | BH78: =IF(N78="sníž. přenesená",J78,0) -> 0 | BI78: =IF(N78="nulová",J78,0) -> 0 | BJ78: 1 | BK78: =ROUND(I78*H78,2) -> 0 | BL78: 16 | BM78: 4
C79: 3 | D79: K | E79: Pol3 | F79: Kabel silový 230 V, CYKY-J 3x1,5 | G79: m | H79: 97 | J79: =ROUND(I79*H79,2) -> 0 | N79: základní | P79: =O79*H79 -> 0 | Q79: 0 | R79: =Q79*H79 -> 0 | S79: 0 | T79: =S79*H79 -> 0 | AR79: 16 | AT79: K | AU79: 0 | AY79: ROZPOCET | BE79: =IF(N79="základní",J79,0) -> 0 | BF79: =IF(N79="snížená",J79,0) -> 0 | BG79: =IF(N79="zákl. přenesená",J79,0) -> 0 | BH79: =IF(N79="sníž. přenesená",J79,0) -> 0 | BI79: =IF(N79="nulová",J79,0) -> 0 | BJ79: 1 | BK79: =ROUND(I79*H79,2) -> 0 | BL79: 16 | BM79: 6
C80: 4 | D80: K | E80: Pol33 | F80: Demontáže stávajícího zařízení | G80: HR | H80: 10 | J80: =ROUND(I80*H80,2) -> 0 | N80: základní | P80: =O80*H80 -> 0 | Q80: 0 | R80: =Q80*H80 -> 0 | S80: 0 | T80: =S80*H80 -> 0 | AR80: 16 | AT80: K | AU80: 0 | AY80: ROZPOCET | BE80: =IF(N80="základní",J80,0) -> 0 | BF80: =IF(N80="snížená",J80,0) -> 0 | BG80: =IF(N80="zákl. přenesená",J80,0) -> 0 | BH80: =IF(N80="sníž. přenesená",J80,0) -> 0 | BI80: =IF(N80="nulová",J80,0) -> 0 | BJ80: 1 | BK80: =ROUND(I80*H80,2) -> 0 | BL80: 16 | BM80: -691494985
C81: 5 | D81: K | E81: Pol4 | F81: Kabel J-Y(ST)Y 2x2x0,8mm | G81: m | H81: 26 | J81: =ROUND(I81*H81,2) -> 0 | N81: základní | P81: =O81*H81 -> 0 | Q81: 0 | R81: =Q81*H81 -> 0 | S81: 0 | T81: =S81*H81 -> 0 | AR81: 16 | AT81: K | AU81: 0 | AY81: ROZPOCET | BE81: =IF(N81="základní",J81,0) -> 0 | BF81: =IF(N81="snížená",J81,0) -> 0 | BG81: =IF(N81="zákl. přenesená",J81,0) -> 0 | BH81: =IF(N81="sníž. přenesená",J81,0) -> 0 | BI81: =IF(N81="nulová",J81,0) -> 0 | BJ81: 1 | BK81: =ROUND(I81*H81,2) -> 0 | BL81: 16 | BM81: 8
C82: 6 | D82: K | E82: Pol5 | F82: CY 6 zž | G82: m | H82: 13 | J82: =ROUND(I82*H82,2) -> 0 | N82: základní | P82: =O82*H82 -> 0 | Q82: 0 | R82: =Q82*H82 -> 0 | S82: 0 | T82: =S82*H82 -> 0 | AR82: 16 | AT82: K | AU82: 0 | AY82: ROZPOCET | BE82: =IF(N82="základní",J82,0) -> 0 | BF82: =IF(N82="snížená",J82,0) -> 0 | BG82: =IF(N82="zákl. přenesená",J82,0) -> 0 | BH82: =IF(N82="sníž. přenesená",J82,0) -> 0 | BI82: =IF(N82="nulová",J82,0) -> 0 | BJ82: 1 | BK82: =ROUND(I82*H82,2) -> 0 | BL82: 16 | BM82: 10
C83: 7 | D83: K | E83: Pol6 | F83: CY 4 zž | G83: m | H83: 36 | J83: =ROUND(I83*H83,2) -> 0 | N83: základní | P83: =O83*H83 -> 0 | Q83: 0 | R83: =Q83*H83 -> 0 | S83: 0 | T83: =S83*H83 -> 0 | AR83: 16 | AT83: K | AU83: 0 | AY83: ROZPOCET | BE83: =IF(N83="základní",J83,0) -> 0 | BF83: =IF(N83="snížená",J83,0) -> 0 | BG83: =IF(N83="zákl. přenesená",J83,0) -> 0 | BH83: =IF(N83="sníž. přenesená",J83,0) -> 0 | BI83: =IF(N83="nulová",J83,0) -> 0 | BJ83: 1 | BK83: =ROUND(I83*H83,2) -> 0 | BL83: 16 | BM83: 12
C84: 8 | D84: K | E84: Pol7 | F84: Ukonč. a zap.vodiče ve svorce rozvaděči | G84: ks | H84: 17 | J84: =ROUND(I84*H84,2) -> 0 | N84: základní | P84: =O84*H84 -> 0 | Q84: 0 | R84: =Q84*H84 -> 0 | S84: 0 | T84: =S84*H84 -> 0 | AR84: 16 | AT84: K | AU84: 0 | AY84: ROZPOCET | BE84: =IF(N84="základní",J84,0) -> 0 | BF84: =IF(N84="snížená",J84,0) -> 0 | BG84: =IF(N84="zákl. přenesená",J84,0) -> 0 | BH84: =IF(N84="sníž. přenesená",J84,0) -> 0 | BI84: =IF(N84="nulová",J84,0) -> 0 | BJ84: 1 | BK84: =ROUND(I84*H84,2) -> 0 | BL84: 16 | BM84: 14
C85: 9 | D85: K | E85: Pol8 | F85: Průraz dzí do 250mm, pr.30-40mm | G85: ks | H85: 12 | J85: =ROUND(I85*H85,2) -> 0 | N85: základní | P85: =O85*H85 -> 0 | Q85: 0 | R85: =Q85*H85 -> 0 | S85: 0 | T85: =S85*H85 -> 0 | AR85: 16 | AT85: K | AU85: 0 | AY85: ROZPOCET | BE85: =IF(N85="základní",J85,0) -> 0 | BF85: =IF(N85="snížená",J85,0) -> 0 | BG85: =IF(N85="zákl. přenesená",J85,0) -> 0 | BH85: =IF(N85="sníž. přenesená",J85,0) -> 0 | BI85: =IF(N85="nulová",J85,0) -> 0 | BJ85: 1 | BK85: =ROUND(I85*H85,2) -> 0 | BL85: 16 | BM85: 16
C86: 10 | D86: K | E86: Pol9 | F86: Drážka 40mm do zdi pro kab.vedení | G86: m | H86: 71 | J86: =ROUND(I86*H86,2) -> 0 | N86: základní | P86: =O86*H86 -> 0 | Q86: 0 | R86: =Q86*H86 -> 0 | S86: 0 | T86: =S86*H86 -> 0 | AR86: 16 | AT86: K | AU86: 0 | AY86: ROZPOCET | BE86: =IF(N86="základní",J86,0) -> 0 | BF86: =IF(N86="snížená",J86,0) -> 0 | BG86: =IF(N86="zákl. přenesená",J86,0) -> 0 | BH86: =IF(N86="sníž. přenesená",J86,0) -> 0 | BI86: =IF(N86="nulová",J86,0) -> 0 | BJ86: 1 | BK86: =ROUND(I86*H86,2) -> 0 | BL86: 16 | BM86: 18
C87: 11 | D87: K | E87: Pol10 | F87: Zazdění a začištění drážky ve zdi/průrazu | G87: m | H87: 71 | J87: =ROUND(I87*H87,2) -> 0 | N87: základní | P87: =O87*H87 -> 0 | Q87: 0 | R87: =Q87*H87 -> 0 | S87: 0 | T87: =S87*H87 -> 0 | AR87: 16 | AT87: K | AU87: 0 | AY87: ROZPOCET | BE87: =IF(N87="základní",J87,0) -> 0 | BF87: =IF(N87="snížená",J87,0) -> 0 | BG87: =IF(N87="zákl. přenesená",J87,0) -> 0 | BH87: =IF(N87="sníž. přenesená",J87,0) -> 0 | BI87: =IF(N87="nulová",J87,0) -> 0 | BJ87: 1 | BK87: =ROUND(I87*H87,2) -> 0 | BL87: 16 | BM87: 20
C88: 12 | D88: K | E88: Pol11 | F88: Trukba instalační ohebná do zdi PVC 25mm | G88: m | H88: 26 | J88: =ROUND(I88*H88,2) -> 0 | N88: základní | P88: =O88*H88 -> 0 | Q88: 0 | R88: =Q88*H88 -> 0 | S88: 0 | T88: =S88*H88 -> 0 | AR88: 16 | AT88: K | AU88: 0 | AY88: ROZPOCET | BE88: =IF(N88="základní",J88,0) -> 0 | BF88: =IF(N88="snížená",J88,0) -> 0 | BG88: =IF(N88="zákl. přenesená",J88,0) -> 0 | BH88: =IF(N88="sníž. přenesená",J88,0) -> 0 | BI88: =IF(N88="nulová",J88,0) -> 0 | BJ88: 1 | BK88: =ROUND(I88*H88,2) -> 0 | BL88: 16 | BM88: 22
... C109: 33 | D109: K | E109: Pol32 | F109: Zapojení a výplet výzbroje ve stávajícím rozvaděči | G109: ks | H109: 2 | J109: =ROUND(I109*H109,2) -> 0 | N109: základní | P109: =O109*H109 -> 0 | Q109: 0 | R109: =Q109*H109 -> 0 | S109: 0 | T109: =S109*H109 -> 0 | AR109: 16 | AT109: K | AU109: 0 | AY109: ROZPOCET | BE109: =IF(N109="základní",J109,0) -> 0 | BF109: =IF(N109="snížená",J109,0) -> 0 | BG109: =IF(N109="zákl. přenesená",J109,0) -> 0 | BH109: =IF(N109="sníž. přenesená",J109,0) -> 0 | BI109: =IF(N109="nulová",J109,0) -> 0 | BJ109: 1 | BK109: =ROUND(I109*H109,2) -> 0 | BL109: 16 | BM109: 64

Sheet 03 -  UT
D1: List obsahuje: | F1: 1) Krycí list soupisu | G1: 2) Rekapitulace | J1: 3) Soupis prací | K1: Zpět na list: | L1: Rekapitulace stavby
AT2: {96f8f5de-2a9a-4d40-90d1-0c0d2963b904}
AT3: 2
D4: KRYCÍ LIST SOUPISU | M4: v --- níže se nacházejí doplnkové a pomocné údaje k sestavám --- v | AT4: False
D6: Stavba:
E7: ='Rekapitulace stavby'!K6 -> Bezbariérové úpravy MěÚ Mimoň č.p. 181
D8: Objekt:
E9: 03 - UT
D11: KSO: | I11: CC-CZ:
D12: Místo: | I12: Datum: | J12: ='Rekapitulace stavby'!AN8 -> 6. 4. 2017
D14: Zadavatel: | I14: IČ: | J14: =IF('Rekapitulace stavby'!AN10="","",'Rekapitulace stavby'!AN10)
E15: =IF('Rekapitulace stavby'!E11="","",'Rekapitulace stavby'!E11) -> Město Mimoň | I15: DIČ: | J15: =IF('Rekapitulace stavby'!AN11="","",'Rekapitulace stavby'!AN11)
D17: Uchazeč: | I17: IČ: | J17: =IF('Rekapitulace stavby'!AN13="Vyplň údaj","",IF('Rekapitulace stavby'!AN13="","",'Rekapitulace stavby'!AN13))
E18: =IF('Rekapitulace stavby'!E14="Vyplň údaj","",IF('Rekapitulace stavby'!E14="","",'Rekapitulace stavby'!E14)) | I18: DIČ: | J18: =IF('Rekapitulace stavby'!AN14="Vyplň údaj","",IF('Rekapitulace stavby'!AN14="","",'Rekapitulace stavby'!AN14))
D20: Projektant: | I20: IČ: | J20: =IF('Rekapitulace stavby'!AN16="","",'Rekapitulace stavby'!AN16)
E21: =IF('Rekapitulace stavby'!E17="","",'Rekapitulace stavby'!E17) -> Radek Voce | I21: DIČ: | J21: =IF('Rekapitulace stavby'!AN17="","",'Rekapitulace stavby'!AN17)
D23: Poznámka:
D27: Cena bez DPH | J27: =ROUND(J87,2) -> 0
F29: Základ daně | I29: Sazba daně | J29: Výše daně
D30: DPH | E30: základní | F30: =ROUND(SUM(BE87:BE120), 2) -> 0 | I30: 0.21 | J30: =ROUND(ROUND((SUM(BE87:BE120)), 2)*I30, 2) -> 0
E31: snížená | F31: =ROUND(SUM(BF87:BF120), 2) -> 0 | I31: 0.15 | J31: =ROUND(ROUND((SUM(BF87:BF120)), 2)*I31, 2) -> 0
E32: zákl. přenesená | F32: =ROUND(SUM(BG87:BG120), 2) -> 0 | I32: 0.21 | J32: 0
E33: sníž. přenesená | F33: =ROUND(SUM(BH87:BH120), 2) -> 0 | I33: 0.15 | J33: 0
E34: nulová | F34: =ROUND(SUM(BI87:BI120), 2) -> 0 | I34: 0 | J34: 0
D36: Cena s DPH | G36: v | H36: CZK | J36: =SUM(J27:J34) -> 0
C42: REKAPITULACE ČLENĚNÍ SOUPISU PRACÍ
C44: Stavba:
E45: =E7 -> Bezbariérové úpravy MěÚ Mimoň č.p. 181
C46: Objekt:
E47: =E9 -> 03 - UT
C49: Místo: | F49: =F12 | I49: Datum: | J49: =IF(J12="","",J12) -> 6. 4. 2017
C51: Zadavatel: | F51: =E15 -> Město Mimoň | I51: Projektant: | J51: =E21 -> Radek Voce
C52: Uchazeč: | F52: =IF(E18="","",E18)
C54: Kód dílu - Popis | J54: Cena celkem [CZK]
C56: Náklady soupisu celkem | J56: =J87 -> 0 | AU56: -1
D57: 733 - Ústřední vytápění - potrubí | J57: =J88 -> 0
D58: D1 - | J58: =J89 -> 0
D59: D1 - | J59: =J90 -> 0
D60: 734 - Ústřední vytápění - armatury | J60: =J96 -> 0
D61: D1 - | J61: =J97 -> 0
D62: D1 - | J62: =J98 -> 0
D63: 713 - Tepelné izolace | J63: =J102 -> 0
D64: D1 - | J64: =J103 -> 0
D65: D1 - | J65: =J104 -> 0
D66: 730 - Demontáže | J66: =J107 -> 0
D67: D2 - Pomocné práce | J67: =J116 -> 0
C74: SOUPIS PRACÍ
C76: Stavba:
E77: =E7 -> Bezbariérové úpravy MěÚ Mimoň č.p. 181
C78: Objekt:
E79: =E9 -> 03 - UT
C81: Místo: | F81: =F12 | I81: Datum: | J81: =IF(J12="","",J12) -> 6. 4. 2017
C83: Zadavatel: | F83: =E15 -> Město Mimoň | I83: Projektant: | J83: =E21 -> Radek Voce
C84: Uchazeč: | F84: =IF(E18="","",E18)
C86: PČ | D86: Typ | E86: Kód | F86: Popis | G86: MJ | H86: Množství | I86: J.cena [CZK] | J86: Cena celkem [CZK] | K86: Cenová soustava | M86: Poznámka | N86: DPH | O86: J. Nh [h] | P86: Nh celkem [h] | Q86: J. hmotnost_x000D_ [t] | R86: Hmotnost_x000D_ celkem [t] | S86: J. suť [t] | T86: Suť Celkem [t]
C87: Náklady soupisu celkem | J87: =BK87 -> 0 | P87: =P88+P89+P90+SUM(P96:P98)+SUM(P102:P104)+P107+P116 -> 0 | R87: =R88+R89+R90+SUM(R96:R98)+SUM(R102:R104)+R107+R116 -> 0 | T87: =T88+T89+T90+SUM(T96:T98)+SUM(T102:T104)+T107+T116 -> 0 | AT87: D | AU87: -1 | BK87: =BK88+BK89+BK90+SUM(BK96:BK98)+SUM(BK102:BK104)+BK107+BK116 -> 0
D88: D | E88: 733 | F88: Ústřední vytápění - potrubí | J88: =BK88 -> 0 | P88: 0 | R88: 0 | T88: 0 | AR88: 1 | AT88: D | AU88: 0 | AY88: ROZPOCET | BK88: 0
D89: D | E89: D1 | J89: =BK89 -> 0 | P89: 0 | R89: 0 | T89: 0 | AR89: 1 | AT89: D | AU89: 0 | AY89: ROZPOCET | BK89: 0
D90: D | E90: D1 | J90: =BK90 -> 0 | P90: =SUM(P91:P95) -> 0 | R90: =SUM(R91:R95) -> 0 | T90: =SUM(T91:T95) -> 0 | AR90: 1 | AT90: D | AU90: 0 | AY90: ROZPOCET | BK90: =SUM(BK91:BK95) -> 0
C91: 1 | D91: K | E91: 101 | F91: Potrubí ocelové závitové 6/4" | G91: bm | H91: 8 | J91: =ROUND(I91*H91,2) -> 0 | N91: základní | P91: =O91*H91 -> 0 | Q91: 0 | R91: =Q91*H91 -> 0 | S91: 0 | T91: =S91*H91 -> 0 | AR91: 4 | AT91: K | AU91: 1 | AY91: ROZPOCET | BE91: =IF(N91="základní",J91,0) -> 0 | BF91: =IF(N91="snížená",J91,0) -> 0 | BG91: =IF(N91="zákl. přenesená",J91,0) -> 0 | BH91: =IF(N91="sníž. přenesená",J91,0) -> 0 | BI91: =IF(N91="nulová",J91,0) -> 0 | BJ91: 1 | BK91: =ROUND(I91*H91,2) -> 0 | BL91: 4 | BM91: 2
C92: 2 | D92: K | E92: 102 | F92: Potrubí ocelové závitové 1" | G92: bm | H92: 16 | J92: =ROUND(I92*H92,2) -> 0 | N92: základní | P92: =O92*H92 -> 0 | Q92: 0 | R92: =Q92*H92 -> 0 | S92: 0 | T92: =S92*H92 -> 0 | AR92: 4 | AT92: K | AU92: 1 | AY92: ROZPOCET | BE92: =IF(N92="základní",J92,0) -> 0 | BF92: =IF(N92="snížená",J92,0) -> 0 | BG92: =IF(N92="zákl. přenesená",J92,0) -> 0 | BH92: =IF(N92="sníž. přenesená",J92,0) -> 0 | BI92: =IF(N92="nulová",J92,0) -> 0 | BJ92: 1 | BK92: =ROUND(I92*H92,2) -> 0 | BL92: 4 | BM92: 4
C93: 3 | D93: K | E93: 103 | F93: Montáž potrubí včetně kotvení | G93: bm | H93: 24 | J93: =ROUND(I93*H93,2) -> 0 | N93: základní | P93: =O93*H93 -> 0 | Q93: 0 | R93: =Q93*H93 -> 0 | S93: 0 | T93: =S93*H93 -> 0 | AR93: 4 | AT93: K | AU93: 1 | AY93: ROZPOCET | BE93: =IF(N93="základní",J93,0) -> 0 | BF93: =IF(N93="snížená",J93,0) -> 0 | BG93: =IF(N93="zákl. přenesená",J93,0) -> 0 | BH93: =IF(N93="sníž. přenesená",J93,0) -> 0 | BI93: =IF(N93="nulová",J93,0) -> 0 | BJ93: 1 | BK93: =ROUND(I93*H93,2) -> 0 | BL93: 4 | BM93: 6
C94: 4 | D94: K | E94: 104 | F94: Nátěry ocelových trubek závitových G6/4" - dvojnásobné | G94: bm | H94: 8 | J94: =ROUND(I94*H94,2) -> 0 | N94: základní | P94: =O94*H94 -> 0 | Q94: 0 | R94: =Q94*H94 -> 0 | S94: 0 | T94: =S94*H94 -> 0 | AR94: 4 | AT94: K | AU94: 1 | AY94: ROZPOCET | BE94: =IF(N94="základní",J94,0) -> 0 | BF94: =IF(N94="snížená",J94,0) -> 0 | BG94: =IF(N94="zákl. přenesená",J94,0) -> 0 | BH94: =IF(N94="sníž. přenesená",J94,0) -> 0 | BI94: =IF(N94="nulová",J94,0) -> 0 | BJ94: 1 | BK94: =ROUND(I94*H94,2) -> 0 | BL94: 4 | BM94: 8
C95: 5 | D95: K | E95: 105 | F95: Nátěry ocelových trubek závitových G1" - dvojnásobné | G95: bm | H95: 16 | J95: =ROUND(I95*H95,2) -> 0 | N95: základní | P95: =O95*H95 -> 0 | Q95: 0 | R95: =Q95*H95 -> 0 | S95: 0 | T95: =S95*H95 -> 0 | AR95: 4 | AT95: K | AU95: 1 | AY95: ROZPOCET | BE95: =IF(N95="základní",J95,0) -> 0 | BF95: =IF(N95="snížená",J95,0) -> 0 | BG95: =IF(N95="zákl. přenesená",J95,0) -> 0 | BH95: =IF(N95="sníž. přenesená",J95,0) -> 0 | BI95: =IF(N95="nulová",J95,0) -> 0 | BJ95: 1 | BK95: =ROUND(I95*H95,2) -> 0 | BL95: 4 | BM95: 10
D96: D | E96: 734 | F96: Ústřední vytápění - armatury | J96: =BK96 -> 0 | P96: 0 | R96: 0 | T96: 0 | AR96: 1 | AT96: D | AU96: 0 | AY96: ROZPOCET | BK96: 0
D97: D | E97: D1 | J97: =BK97 -> 0 | P97: 0 | R97: 0 | T97: 0 | AR97: 1 | AT97: D | AU97: 0 | AY97: ROZPOCET | BK97: 0
D98: D | E98: D1 | J98: =BK98 -> 0 | P98: =SUM(P99:P101) -> 0 | R98: =SUM(R99:R101) -> 0 | T98: =SUM(T99:T101) -> 0 | AR98: 1 | AT98: D | AU98: 0 | AY98: ROZPOCET | BK98: =SUM(BK99:BK101) -> 0
C99: 6 | D99: K | E99: 111 | F99: Kulový kohout G 1" (DN 25) | G99: ks | H99: 6 | J99: =ROUND(I99*H99,2) -> 0 | N99: základní | P99: =O99*H99 -> 0 | Q99: 0 | R99: =Q99*H99 -> 0 | S99: 0 | T99: =S99*H99 -> 0 | AR99: 4 | AT99: K | AU99: 1 | AY99: ROZPOCET | BE99: =IF(N99="základní",J99,0) -> 0 | BF99: =IF(N99="snížená",J99,0) -> 0 | BG99: =IF(N99="zákl. přenesená",J99,0) -> 0 | BH99: =IF(N99="sníž. přenesená",J99,0) -> 0 | BI99: =IF(N99="nulová",J99,0) -> 0 | BJ99: 1 | BK99: =ROUND(I99*H99,2) -> 0 | BL99: 4 | BM99: 12
C100: 7 | D100: K | E100: 112 | F100: Vypouštěcí kulový kohout G 3/8" (DN10) | G100: ks | H100: 6 | J100: =ROUND(I100*H100,2) -> 0 | N100: základní | P100: =O100*H100 -> 0 | Q100: 0 | R100: =Q100*H100 -> 0 | S100: 0 | T100: =S100*H100 -> 0 | AR100: 4 | AT100: K | AU100: 1 | AY100: ROZPOCET | BE100: =IF(N100="základní",J100,0) -> 0 | BF100: =IF(N100="snížená",J100,0) -> 0 | BG100: =IF(N100="zákl. přenesená",J100,0) -> 0 | BH100: =IF(N100="sníž. přenesená",J100,0) -> 0 | BI100: =IF(N100="nulová",J100,0) -> 0 | BJ100: 1 | BK100: =ROUND(I100*H100,2) -> 0 | BL100: 4 | BM100: 14
C101: 8 | D101: K | E101: 113 | F101: Montáž armatur | G101: ks | H101: 12 | J101: =ROUND(I101*H101,2) -> 0 | N101: základní | P101: =O101*H101 -> 0 | Q101: 0 | R101: =Q101*H101 -> 0 | S101: 0 | T101: =S101*H101 -> 0 | AR101: 4 | AT101: K | AU101: 1 | AY101: ROZPOCET | BE101: =IF(N101="základní",J101,0) -> 0 | BF101: =IF(N101="snížená",J101,0) -> 0 | BG101: =IF(N101="zákl. přenesená",J101,0) -> 0 | BH101: =IF(N101="sníž. přenesená",J101,0) -> 0 | BI101: =IF(N101="nulová",J101,0) -> 0 | BJ101: 1 | BK101: =ROUND(I101*H101,2) -> 0 | BL101: 4 | BM101: 16
D102: D | E102: 713 | F102: Tepelné izolace | J102: =BK102 -> 0 | P102: 0 | R102: 0 | T102: 0 | AR102: 1 | AT102: D | AU102: 0 | AY102: ROZPOCET | BK102: 0
D103: D | E103: D1 | J103: =BK103 -> 0 | P103: 0 | R103: 0 | T103: 0 | AR103: 1 | AT103: D | AU103: 0 | AY103: ROZPOCET | BK103: 0
D104: D | E104: D1 | J104: =BK104 -> 0 | P104: =SUM(P105:P106) -> 0 | R104: =SUM(R105:R106) -> 0 | T104: =SUM(T105:T106) -> 0 | AR104: 1 | AT104: D | AU104: 0 | AY104: ROZPOCET | BK104: =SUM(BK105:BK106) -> 0
C105: 9 | D105: K | E105: 121 | F105: Tepelná izolace potrubí pro trubky G 6/4" tl.40mm vč.montáže | G105: bm | H105: 8 | J105: =ROUND(I105*H105,2) -> 0 | N105: základní | P105: =O105*H105 -> 0 | Q105: 0 | R105: =Q105*H105 -> 0 | S105: 0 | T105: =S105*H105 -> 0 | AR105: 4 | AT105: K | AU105: 1 | AY105: ROZPOCET | BE105: =IF(N105="základní",J105,0) -> 0 | BF105: =IF(N105="snížená",J105,0) -> 0 | BG105: =IF(N105="zákl. přenesená",J105,0) -> 0 | BH105: =IF(N105="sníž. přenesená",J105,0) -> 0 | BI105: =IF(N105="nulová",J105,0) -> 0 | BJ105: 1 | BK105: =ROUND(I105*H105,2) -> 0 | BL105: 4 | BM105: 18
C106: 10 | D106: K | E106: 122 | F106: Tepelná izolace potrubí pro trubky G 1" tl.25mm vč.montáže | G106: bm | H106: 16 | J106: =ROUND(I106*H106,2) -> 0 | N106: základní | P106: =O106*H106 -> 0 | Q106: 0 | R106: =Q106*H106 -> 0 | S106: 0 | T106: =S106*H106 -> 0 | AR106: 4 | AT106: K | AU106: 1 | AY106: ROZPOCET | BE106: =IF(N106="základní",J106,0) -> 0 | BF106: =IF(N106="snížená",J106,0) -> 0 | BG106: =IF(N106="zákl. přenesená",J106,0) -> 0 | BH106: =IF(N106="sníž. přenesená",J106,0) -> 0 | BI106: =IF(N106="nulová",J106,0) -> 0 | BJ106: 1 | BK106: =ROUND(I106*H106,2) -> 0 | BL106: 4 | BM106: 20
D107: D | E107: 730 | F107: Demontáže | J107: =BK107 -> 0 | P107: =SUM(P108:P115) -> 0 | R107: =SUM(R108:R115) -> 0 | T107: =SUM(T108:T115) -> 0 | AR107: 1 | AT107: D | AU107: 0 | AY107: ROZPOCET | BK107: =SUM(BK108:BK115) -> 0
C108: 11 | D108: K | E108: 131 | F108: Demontáž potrubí G 3/8" | G108: bm | H108: 8 | J108: =ROUND(I108*H108,2) -> 0 | N108: základní | P108: =O108*H108 -> 0 | Q108: 0 | R108: =Q108*H108 -> 0 | S108: 0 | T108: =S108*H108 -> 0 | AR108: 4 | AT108: K | AU108: 1 | AY108: ROZPOCET | BE108: =IF(N108="základní",J108,0) -> 0 | BF108: =IF(N108="snížená",J108,0) -> 0 | BG108: =IF(N108="zákl. přenesená",J108,0) -> 0 | BH108: =IF(N108="sníž. přenesená",J108,0) -> 0 | BI108: =IF(N108="nulová",J108,0) -> 0 | BJ108: 1 | BK108: =ROUND(I108*H108,2) -> 0 | BL108: 4 | BM108: 22
C109: 12 | D109: K | E109: 132 | F109: Demontáž potrubí G 1" | G109: bm | H109: 20 | J109: =ROUND(I109*H109,2) -> 0 | N109: základní | P109: =O109*H109 -> 0 | Q109: 0 | R109: =Q109*H109 -> 0 | S109: 0 | T109: =S109*H109 -> 0 | AR109: 4 | AT109: K | AU109: 1 | AY109: ROZPOCET | BE109: =IF(N109="základní",J109,0) -> 0 | BF109: =IF(N109="snížená",J109,0) -> 0 | BG109: =IF(N109="zákl. přenesená",J109,0) -> 0 | BH109: =IF(N109="sníž. přenesená",J109,0) -> 0 | BI109: =IF(N109="nulová",J109,0) -> 0 | BJ109: 1 | BK109: =ROUND(I109*H109,2) -> 0 | BL109: 4 | BM109: 24
C110: 13 | D110: K | E110: 133 | F110: Demontáž potrubí G 6/4" | G110: bm | H110: 4 | J110: =ROUND(I110*H110,2) -> 0 | N110: základní | P110: =O110*H110 -> 0 | Q110: 0 | R110: =Q110*H110 -> 0 | S110: 0 | T110: =S110*H110 -> 0 | AR110: 4 | AT110: K | AU110: 1 | AY110: ROZPOCET | BE110: =IF(N110="základní",J110,0) -> 0 | BF110: =IF(N110="snížená",J110,0) -> 0 | BG110: =IF(N110="zákl. přenesená",J110,0) -> 0 | BH110: =IF(N110="sníž. přenesená",J110,0) -> 0 | BI110: =IF(N110="nulová",J110,0) -> 0 | BJ110: 1 | BK110: =ROUND(I110*H110,2) -> 0 | BL110: 4 | BM110: 26
C111: 14 | D111: K | E111: 134 | F111: Demontáž otopného tělesa 3/500/160 vč.armatur | G111: ks | H111: 1 | J111: =ROUND(I111*H111,2) -> 0 | N111: základní | P111: =O111*H111 -> 0 | Q111: 0 | R111: =Q111*H111 -> 0 | S111: 0 | T111: =S111*H111 -> 0 | AR111: 4 | AT111: K | AU111: 1 | AY111: ROZPOCET | BE111: =IF(N111="základní",J111,0) -> 0 | BF111: =IF(N111="snížená",J111,0) -> 0 | BG111: =IF(N111="zákl. přenesená",J111,0) -> 0 | BH111: =IF(N111="sníž. přenesená",J111,0) -> 0 | BI111: =IF(N111="nulová",J111,0) -> 0 | BJ111: 1 | BK111: =ROUND(I111*H111,2) -> 0 | BL111: 4 | BM111: 28
C112: 15 | D112: K | E112: 135 | F112: Demontáž a zpětná montáž otopného tělesa 22/5070 (1NP) | G112: ks | H112: 1 | J112: =ROUND(I112*H112,2) -> 0 | N112: základní | P112: =O112*H112 -> 0 | Q112: 0 | R112: =Q112*H112 -> 0 | S112: 0 | T112: =S112*H112 -> 0 | AR112: 4 | AT112: K | AU112: 1 | AY112: ROZPOCET | BE112: =IF(N112="základní",J112,0) -> 0 | BF112: =IF(N112="snížená",J112,0) -> 0 | BG112: =IF(N112="zákl. přenesená",J112,0) -> 0 | BH112: =IF(N112="sníž. přenesená",J112,0) -> 0 | BI112: =IF(N112="nulová",J112,0) -> 0 | BJ112: 1 | BK112: =ROUND(I112*H112,2) -> 0 | BL112: 4 | BM112: 30
C113: 16 | D113: K | E113: 136 | F113: Demontáž a zpětná montáž otopného tělesa 22/5080 (3NP) | G113: ks | H113: 1 | J113: =ROUND(I113*H113,2) -> 0 | N113: základní | P113: =O113*H113 -> 0 | Q113: 0 | R113: =Q113*H113 -> 0 | S113: 0 | T113: =S113*H113 -> 0 | AR113: 4 | AT113: K | AU113: 1 | AY113: ROZPOCET | BE113: =IF(N113="základní",J113,0) -> 0 | BF113: =IF(N113="snížená",J113,0) -> 0 | BG113: =IF(N113="zákl. přenesená",J113,0) -> 0 | BH113: =IF(N113="sníž. přenesená",J113,0) -> 0 | BI113: =IF(N113="nulová",J113,0) -> 0 | BJ113: 1 | BK113: =ROUND(I113*H113,2) -> 0 | BL113: 4 | BM113: 32
C114: 17 | D114: K | E114: 137 | F114: Demontáž a zpětná montáž termostatického ventilu (1NPa3NP) | G114: ks | H114: 2 | J114: =ROUND(I114*H114,2) -> 0 | N114: základní | P114: =O114*H114 -> 0 | Q114: 0 | R114: =Q114*H114 -> 0 | S114: 0 | T114: =S114*H114 -> 0 | AR114: 4 | AT114: K | AU114: 1 | AY114: ROZPOCET | BE114: =IF(N114="základní",J114,0) -> 0 | BF114: =IF(N114="snížená",J114,0) -> 0 | BG114: =IF(N114="zákl. přenesená",J114,0) -> 0 | BH114: =IF(N114="sníž. přenesená",J114,0) -> 0 | BI114: =IF(N114="nulová",J114,0) -> 0 | BJ114: 1 | BK114: =ROUND(I114*H114,2) -> 0 | BL114: 4 | BM114: 34
C115: 18 | D115: K | E115: 138 | F115: Demontáž a zpětná montáž šroubení (1NPa3NP) | G115: ks | H115: 2 | J115: =ROUND(I115*H115,2) -> 0 | N115: základní | P115: =O115*H115 -> 0 | Q115: 0 | R115: =Q115*H115 -> 0 | S115: 0 | T115: =S115*H115 -> 0 | AR115: 4 | AT115: K | AU115: 1 | AY115: ROZPOCET | BE115: =IF(N115="základní",J115,0) -> 0 | BF115: =IF(N115="snížená",J115,0) -> 0 | BG115: =IF(N115="zákl. přenesená",J115,0) -> 0 | BH115: =IF(N115="sníž. přenesená",J115,0) -> 0 | BI115: =IF(N115="nulová",J115,0) -> 0 | BJ115: 1 | BK115: =ROUND(I115*H115,2) -> 0 | BL115: 4 | BM115: 36
D116: D | E116: D2 | F116: Pomocné práce | J116: =BK116 -> 0 | P116: =SUM(P117:P120) -> 0 | R116: =SUM(R117:R120) -> 0 | T116: =SUM(T117:T120) -> 0 | AR116: 1 | AT116: D | AU116: 0 | AY116: ROZPOCET | BK116: =SUM(BK117:BK120) -> 0
C117: 19 | D117: K | E117: 141 | F117: Stavební přípomoce - montážní otvory DN 150mm stěnami tl.500mm | G117: ks | H117: 4 | J117: =ROUND(I117*H117,2) -> 0 | N117: základní | P117: =O117*H117 -> 0 | Q117: 0 | R117: =Q117*H117 -> 0 | S117: 0 | T117: =S117*H117 -> 0 | AR117: 4 | AT117: K | AU117: 1 | AY117: ROZPOCET | BE117: =IF(N117="základní",J117,0) -> 0 | BF117: =IF(N117="snížená",J117,0) -> 0 | BG117: =IF(N117="zákl. přenesená",J117,0) -> 0 | BH117: =IF(N117="sníž. přenesená",J117,0) -> 0 | BI117: =IF(N117="nulová",J117,0) -> 0 | BJ117: 1 | BK117: =ROUND(I117*H117,2) -> 0 | BL117: 4 | BM117: 38
C118: 20 | D118: K | E118: 142 | F118: Vypuštění systému do kanalizace | G118: kpl | H118: 1 | J118: =ROUND(I118*H118,2) -> 0 | N118: základní | P118: =O118*H118 -> 0 | Q118: 0 | R118: =Q118*H118 -> 0 | S118: 0 | T118: =S118*H118 -> 0 | AR118: 4 | AT118: K | AU118: 1 | AY118: ROZPOCET | BE118: =IF(N118="základní",J118,0) -> 0 | BF118: =IF(N118="snížená",J118,0) -> 0 | BG118: =IF(N118="zákl. přenesená",J118,0) -> 0 | BH118: =IF(N118="sníž. přenesená",J118,0) -> 0 | BI118: =IF(N118="nulová",J118,0) -> 0 | BJ118: 1 | BK118: =ROUND(I118*H118,2) -> 0 | BL118: 4 | BM118: 40
C119: 21 | D119: K | E119: 143 | F119: Napuštění systému | G119: kpl | H119: 1 | J119: =ROUND(I119*H119,2) -> 0 | N119: základní | P119: =O119*H119 -> 0 | Q119: 0 | R119: =Q119*H119 -> 0 | S119: 0 | T119: =S119*H119 -> 0 | AR119: 4 | AT119: K | AU119: 1 | AY119: ROZPOCET | BE119: =IF(N119="základní",J119,0) -> 0 | BF119: =IF(N119="snížená",J119,0) -> 0 | BG119: =IF(N119="zákl. přenesená",J119,0) -> 0 | BH119: =IF(N119="sníž. přenesená",J119,0) -> 0 | BI119: =IF(N119="nulová",J119,0) -> 0 | BJ119: 1 | BK119: =ROUND(I119*H119,2) -> 0 | BL119: 4 | BM119: 42
C120: 22 | D120: K | E120: 144 | F120: Topná a tlaková zkouška | G120: hod. | H120: 4 | J120: =ROUND(I120*H120,2) -> 0 | N120: základní | P120: =O120*H120 -> 0 | Q120: 0 | R120: =Q120*H120 -> 0 | S120: 0 | T120: =S120*H120 -> 0 | AR120: 4 | AT120: K | AU120: 1 | AY120: ROZPOCET | BE120: =IF(N120="základní",J120,0) -> 0 | BF120: =IF(N120="snížená",J120,0) -> 0 | BG120: =IF(N120="zákl. přenesená",J120,0) -> 0 | BH120: =IF(N120="sníž. přenesená",J120,0) -> 0 | BI120: =IF(N120="nulová",J120,0) -> 0 | BJ120: 1 | BK120: =ROUND(I120*H120,2) -> 0 | BL120: 4 | BM120: 44

Sheet 04 - ZTI
D1: List obsahuje: | F1: 1) Krycí list soupisu | G1: 2) Rekapitulace | J1: 3) Soupis prací | K1: Zpět na list: | L1: Rekapitulace stavby
AT2: {b5cc4e00-ee11-4ca6-9799-9054cb7a98cc}
AT3: 2
D4: KRYCÍ LIST SOUPISU | M4: v --- níže se nacházejí doplnkové a pomocné údaje k sestavám --- v | AT4: False
D6: Stavba:
E7: ='Rekapitulace stavby'!K6 -> Bezbariérové úpravy MěÚ Mimoň č.p. 181
D8: Objekt:
E9: 04 - ZTI
D11: KSO: | I11: CC-CZ:
D12: Místo: | F12: Mimoň | I12: Datum: | J12: ='Rekapitulace stavby'!AN8 -> 6. 4. 2017
D14: Zadavatel: | I14: IČ: | J14: =IF('Rekapitulace stavby'!AN10="","",'Rekapitulace stavby'!AN10)
E15: =IF('Rekapitulace stavby'!E11="","",'Rekapitulace stavby'!E11) -> Město Mimoň | I15: DIČ: | J15: =IF('Rekapitulace stavby'!AN11="","",'Rekapitulace stavby'!AN11)
D17: Uchazeč: | I17: IČ: | J17: =IF('Rekapitulace stavby'!AN13="Vyplň údaj","",IF('Rekapitulace stavby'!AN13="","",'Rekapitulace stavby'!AN13))
E18: =IF('Rekapitulace stavby'!E14="Vyplň údaj","",IF('Rekapitulace stavby'!E14="","",'Rekapitulace stavby'!E14)) | I18: DIČ: | J18: =IF('Rekapitulace stavby'!AN14="Vyplň údaj","",IF('Rekapitulace stavby'!AN14="","",'Rekapitulace stavby'!AN14))
D20: Projektant: | I20: IČ: | J20: =IF('Rekapitulace stavby'!AN16="","",'Rekapitulace stavby'!AN16)
E21: =IF('Rekapitulace stavby'!E17="","",'Rekapitulace stavby'!E17) -> Radek Voce | I21: DIČ: | J21: =IF('Rekapitulace stavby'!AN17="","",'Rekapitulace stavby'!AN17)
D23: Poznámka:
D27: Cena bez DPH | J27: =ROUND(J85,2) -> 0
F29: Základ daně | I29: Sazba daně | J29: Výše daně
D30: DPH | E30: základní | F30: =ROUND(SUM(BE85:BE176), 2) -> 0 | I30: 0.21 | J30: =ROUND(ROUND((SUM(BE85:BE176)), 2)*I30, 2) -> 0
E31: snížená | F31: =ROUND(SUM(BF85:BF176), 2) -> 0 | I31: 0.15 | J31: =ROUND(ROUND((SUM(BF85:BF176)), 2)*I31, 2) -> 0
E32: zákl. přenesená | F32: =ROUND(SUM(BG85:BG176), 2) -> 0 | I32: 0.21 | J32: 0
E33: sníž. přenesená | F33: =ROUND(SUM(BH85:BH176), 2) -> 0 | I33: 0.15 | J33: 0
E34: nulová | F34: =ROUND(SUM(BI85:BI176), 2) -> 0 | I34: 0 | J34: 0
D36: Cena s DPH | G36: v | H36: CZK | J36: =SUM(J27:J34) -> 0
C42: REKAPITULACE ČLENĚNÍ SOUPISU PRACÍ
C44: Stavba:
E45: =E7 -> Bezbariérové úpravy MěÚ Mimoň č.p. 181
C46: Objekt:
E47: =E9 -> 04 - ZTI
C49: Místo: | F49: =F12 -> Mimoň | I49: Datum: | J49: =IF(J12="","",J12) -> 6. 4. 2017
C51: Zadavatel: | F51: =E15 -> Město Mimoň | I51: Projektant: | J51: =E21 -> Radek Voce
C52: Uchazeč: | F52: =IF(E18="","",E18)
C54: Kód dílu - Popis | J54: Cena celkem [CZK]
C56: Náklady soupisu celkem | J56: =J85 -> 0 | AU56: -1
D57: HSV - Práce a dodávky HSV | J57: =J86 -> 0
D58: 1 - Zemní práce | J58: =J87 -> 0
D59: 6 - Úpravy povrchů, podlahy a osazování výplní | J59: =J92 -> 0
D60: 9 - Ostatní konstrukce a práce, bourání | J60: =J94 -> 0
D61: 997 - Přesun sutě | J61: =J97 -> 0
D62: PSV - Práce a dodávky PSV | J62: =J105 -> 0
D63: 721 - Zdravotechnika - vnitřní kanalizace | J63: =J106 -> 0
D64: 722 - Zdravotechnika - vnitřní vodovod | J64: =J129 -> 0
D65: 725 - Zdravotechnika - zařizovací předměty | J65: =J152 -> 0
C72: SOUPIS PRACÍ
C74: Stavba:
E75: =E7 -> Bezbariérové úpravy MěÚ Mimoň č.p. 181
C76: Objekt:
E77: =E9 -> 04 - ZTI
C79: Místo: | F79: =F12 -> Mimoň | I79: Datum: | J79: =IF(J12="","",J12) -> 6. 4. 2017
C81: Zadavatel: | F81: =E15 -> Město Mimoň | I81: Projektant: | J81: =E21 -> Radek Voce
C82: Uchazeč: | F82: =IF(E18="","",E18)
C84: PČ | D84: Typ | E84: Kód | F84: Popis | G84: MJ | H84: Množství | I84: J.cena [CZK] | J84: Cena celkem [CZK] | K84: Cenová soustava | M84: Poznámka | N84: DPH | O84: J. Nh [h] | P84: Nh celkem [h] | Q84: J. hmotnost_x000D_ [t] | R84: Hmotnost_x000D_ celkem [t] | S84: J. suť [t] | T84: Suť Celkem [t]
C85: Náklady soupisu celkem | J85: =BK85 -> 0 | P85: =P86+P105 -> 0 | R85: =R86+R105 -> 0.276262 | T85: =T86+T105 -> 0.52449 | AT85: D | AU85: -1 | BK85: =BK86+BK105 -> 0
D86: D | E86: HSV | F86: Práce a dodávky HSV | J86: =BK86 -> 0 | P86: =P87+P92+P94+P97 -> 0 | R86: =R87+R92+R94+R97 -> 0.112817 | T86: =T87+T92+T94+T97 -> 0.11 | AR86: 1 | AT86: D | AU86: 0 | AY86: ROZPOCET | BK86: =BK87+BK92+BK94+BK97 -> 0
D87: D | E87: 1 | F87: Zemní práce | J87: =BK87 -> 0 | P87: =SUM(P88:P91) -> 0 | R87: =SUM(R88:R91) -> 0 | T87: =SUM(T88:T91) -> 0 | AR87: 1 | AT87: D | AU87: 1 | AY87: ROZPOCET | BK87: =SUM(BK88:BK91) -> 0
C88: 1 | D88: K | E88: 132212202 | F88: Hloubení zapažených i nezapažených rýh šířky přes 600 do 2 000 mm ručním nebo pneumatickým nářadím s urovnáním dna do předepsaného profilu a spádu v horninách tř. 3 nesoudržných | G88: m3 | H88: 0.125 | J88: =ROUND(I88*H88,2) -> 0 | K88: CS ÚRS 2017 01 | N88: základní | P88: =O88*H88 -> 0 | Q88: 0 | R88: =Q88*H88 -> 0 | S88: 0 | T88: =S88*H88 -> 0 | AR88: 4 | AT88: K | AU88: 2 | AY88: ROZPOCET | BE88: =IF(N88="základní",J88,0) -> 0 | BF88: =IF(N88="snížená",J88,0) -> 0 | BG88: =IF(N88="zákl. přenesená",J88,0) -> 0 | BH88: =IF(N88="sníž. přenesená",J88,0) -> 0 | BI88: =IF(N88="nulová",J88,0) -> 0 | BJ88: 1 | BK88: =ROUND(I88*H88,2) -> 0 | BL88: 4 | BM88: 1308070056
D89: PSC | F89: Poznámka k souboru cen:_x000D_ 1. V cenách jsou započteny i náklady na přehození výkopku na přilehlém terénu na vzdálenost do 5 m od podélné osy rýhy nebo naložení výkopku na dopravní prostředek. 2. V cenách 12-2201 až 41-2202 je započítán i svislý přesun horniny po házečkách do 2 metrů | AT89: PSC | AU89: 2
C90: 2 | D90: K | E90: 174101101 | F90: Zásyp sypaninou z jakékoliv horniny s uložením výkopku ve vrstvách se zhutněním jam, šachet, rýh nebo kolem objektů v těchto vykopávkách | G90: m3 | H90: 0.125 | J90: =ROUND(I90*H90,2) -> 0 | K90: CS ÚRS 2017 01 | N90: základní | P90: =O90*H90 -> 0 | Q90: 0 | R90: =Q90*H90 -> 0 | S90: 0 | T90: =S90*H90 -> 0 | AR90: 4 | AT90: K | AU90: 2 | AY90: ROZPOCET | BE90: =IF(N90="základní",J90,0) -> 0 | BF90: =IF(N90="snížená",J90,0) -> 0 | BG90: =IF(N90="zákl. přenesená",J90,0) -> 0 | BH90: =IF(N90="sníž. přenesená",J90,0) -> 0 | BI90: =IF(N90="nulová",J90,0) -> 0 | BJ90: 1 | BK90: =ROUND(I90*H90,2) -> 0 | BL90: 4 | BM90: -357438734
D91: PSC | F91: Poznámka k souboru cen:_x000D_ 1. Ceny 174 10- . . jsou určeny pro zhutněné zásypy s mírou zhutnění: a) z hornin soudržných do 100 % PS, b) z hornin nesoudržných do I(d) 0,9, c) z hornin kamenitých pro jakoukoliv míru zhutnění. 2. Je-li projektem předepsáno vyšší zhutnění, podle bodu a) a b) poznámky č 1., ocení se zásyp individuálně. 3. Ceny nelze použít pro zásyp rýh pro drenážní trativody pro lesnicko-technické meliorace a zemědělské. Zásyp těchto rýh se oceňuje cenami souboru cen 174 20-3 . části A 03 Zemní práce pro objekty oborů 831 až 833. Nezhutněný zásyp odvodňovacích kanálů z betonových a železobetonových trub v polních a lučních tratích se oceňuje cenou -1101 Zásyp sypaninou rýh bez ohledu na šířku kanálu; cena obsahuje i náklady na ruční nezhutněný zásyp výšky do 200 mm nad vrchol potrubí. 4. V cenách 10-1101, 10-1103, 20-1101 a 20-1103 je započteno přemístění sypaniny ze vzdálenosti 10 m od kraje výkopu nebo zasypávaného prostoru, měřeno k těžišti skládky. 5. V ceně 10-1102 je započteno přemístění sypaniny ze vzdálenosti 15 m od hrany zasypávaného prostoru, měřeno k těžišti skládky. 6. Objem zásypu je rozdíl objemu výkopu a objemu do něho vestavěných konstrukcí nebo uložených vedení i s jejich obklady a podklady (tento objem se nazývá objemem horniny vytlačené konstrukcí). Objem potrubí do DN 180, příp. i s obalem, se od objemu zásypu neodečítá. Pro stanovení objemu zásypu se od objemu výkopu odečítá i objem obsypu potrubí oceňovaný cenami souboru cen 175 10-11 Obsyp potrubí, přichází-li v úvahu . 7. Odklizení zbylého výkopku po provedení zásypu zářezů se šikmými stěnami pro podzemní vedení nebo zásypu jam a rýh pro podzemní vedení se oceňuje, je-li objem zbylého výkopku: a) do 1 m3 na 1 m vedení a jedná se o výkopek neulehlý - cenami souboru cen 167 10-110 Nakládání výkopku nebo sypaniny a 162 . 0-1 . Vodorovné přemístění výkopku. V případě, že se jedná o výkopek ulehlý - rozpojení a naložení výkopku cenami souboru cen 122 . 0-1 . souboru cen 162 . 0-1 . Vodorovné přemístění výkopku; b) přes 1 m3 na 1 m vedení, jestliže projekt předepíše, že se zbylý výkopek bude odklízet zároveň s prováděním vykopávky, pouze přemístění výkopku cenami souboru cen 162 . 0-1 . Vodorovné přemístění výkopku. Při zmíněném objemu zbylého výkopku se neoceňuje ani naložení ani rozpojení výkopku. Jestliže se zbylý výkopek neodklízí, nýbrž rozprostírá podél výkopu a nad výkopem, platí poznámka č. 8. 8. Rozprostření zbylého výkopku podél výkopu a nad výkopem po provedení zásypů zářezů se šikmými stěnami pro podzemní vedení nebo zásypu jam a rýh pro podzemní vedení se oceňuje: a) cenou 171 20-1101 Uložení sypaniny do nezhutněných násypů, není-li projektem předepsáno zhutnění rozprostřeného zbylého výkopku, b) cenou 171 10-1111 Uložení sypaniny do násypů z hornin sypkých, je-li předepsáno zhutnění rozprostřeného zbylého výkopku, a to v objemu vypočteném podle poznámky č.6, příp. zmenšeném o objem výkopku, který byl již odklizen. 9. Míru zhutnění předepisuje projekt. | AT91: PSC | AU91: 2
D92: D | E92: 6 | F92: Úpravy povrchů, podlahy a osazování výplní | J92: =BK92 -> 0 | P92: =P93 -> 0 | R92: =R93 -> 0.112817 | T92: =T93 -> 0 | AR92: 1 | AT92: D | AU92: 1 | AY92: ROZPOCET | BK92: =BK93 -> 0
C93: 3 | D93: K | E93: 631311131 | F93: Doplnění dosavadních mazanin prostým betonem s dodáním hmot, bez potěru, plochy jednotlivě do 1 m2 a tl. přes 80 mm | G93: m3 | H93: 0.05 | J93: =ROUND(I93*H93,2) -> 0 | K93: CS ÚRS 2017 01 | N93: základní | P93: =O93*H93 -> 0 | Q93: 2.25634 | R93: =Q93*H93 -> 0.112817 | S93: 0 | T93: =S93*H93 -> 0 | AR93: 4 | AT93: K | AU93: 2 | AY93: ROZPOCET | BE93: =IF(N93="základní",J93,0) -> 0 | BF93: =IF(N93="snížená",J93,0) -> 0 | BG93: =IF(N93="zákl. přenesená",J93,0) -> 0 | BH93: =IF(N93="sníž. přenesená",J93,0) -> 0 | BI93: =IF(N93="nulová",J93,0) -> 0 | BJ93: 1 | BK93: =ROUND(I93*H93,2) -> 0 | BL93: 4 | BM93: -852386786
D94: D | E94: 9 | F94: Ostatní konstrukce a práce, bourání | J94: =BK94 -> 0 | P94: =SUM(P95:P96) -> 0 | R94: =SUM(R95:R96) -> 0 | T94: =SUM(T95:T96) -> 0.11 | AR94: 1 | AT94: D | AU94: 1 | AY94: ROZPOCET | BK94: =SUM(BK95:BK96) -> 0
C95: 4 | D95: K | E95: 965042221 | F95: Bourání mazanin betonových nebo z litého asfaltu tl. přes 100 mm, plochy do 1 m2 | G95: m3 | H95: 0.05 | J95: =ROUND(I95*H95,2) -> 0 | K95: CS ÚRS 2017 01 | N95: základní | P95: =O95*H95 -> 0 | Q95: 0 | R95: =Q95*H95 -> 0 | S95: 2.2 | T95: =S95*H95 -> 0.11 | AR95: 4 | AT95: K | AU95: 2 | AY95: ROZPOCET | BE95: =IF(N95="základní",J95,0) -> 0 | BF95: =IF(N95="snížená",J95,0) -> 0 | BG95: =IF(N95="zákl. přenesená",J95,0) -> 0 | BH95: =IF(N95="sníž. přenesená",J95,0) -> 0 | BI95: =IF(N95="nulová",J95,0) -> 0 | BJ95: 1 | BK95: =ROUND(I95*H95,2) -> 0 | BL95: 4 | BM95: -1302374992
D96: VV | F96: 0,5*0,5*0,2 | H96: 0.05 | AT96: VV | AU96: 2 | AV96: 2 | AW96: True | AX96: 1 | AY96: ROZPOCET
D97: D | E97: 997 | F97: Přesun sutě | J97: =BK97 -> 0 | P97: =SUM(P98:P104) -> 0 | R97: =SUM(R98:R104) -> 0 | T97: =SUM(T98:T104) -> 0 | AR97: 1 | AT97: D | AU97: 1 | AY97: ROZPOCET | BK97: =SUM(BK98:BK104) -> 0
C98: 5 | D98: K | E98: 997013501 | F98: Odvoz suti a vybouraných hmot na skládku nebo meziskládku se složením, na vzdálenost do 1 km | G98: t | H98: 0.524 | J98: =ROUND(I98*H98,2) -> 0 | K98: CS ÚRS 2017 01 | N98: základní | P98: =O98*H98 -> 0 | Q98: 0 | R98: =Q98*H98 -> 0 | S98: 0 | T98: =S98*H98 -> 0 | AR98: 4 | AT98: K | AU98: 2 | AY98: ROZPOCET | BE98: =IF(N98="základní",J98,0) -> 0 | BF98: =IF(N98="snížená",J98,0) -> 0 | BG98: =IF(N98="zákl. přenesená",J98,0) -> 0 | BH98: =IF(N98="sníž. přenesená",J98,0) -> 0 | BI98: =IF(N98="nulová",J98,0) -> 0 | BJ98: 1 | BK98: =ROUND(I98*H98,2) -> 0 | BL98: 4 | BM98: 1210320974
D99: PSC | F99: Poznámka k souboru cen:_x000D_ 1. Délka odvozu suti je vzdálenost od místa naložení suti na dopravní prostředek až po místo složení na určené skládce nebo meziskládce. 2. V ceně -3501 jsou započteny i náklady na složení suti na skládku nebo meziskládku. 3. Ceny jsou určeny pro odvoz suti na skládku nebo meziskládku jakýmkoliv způsobem silniční dopravy (i prostřednictvím kontejnerů). 4. Odvoz suti z meziskládky se oceňuje cenou 997 01-3511. | AT99: PSC | AU99: 2
C100: 6 | D100: K | E100: 997013509 | F100: Odvoz suti a vybouraných hmot na skládku nebo meziskládku se složením, na vzdálenost Příplatek k ceně za každý další i započatý 1 km přes 1 km | G100: t | H100: 9.956 | J100: =ROUND(I100*H100,2) -> 0 | K100: CS ÚRS 2017 01 | N100: základní | P100: =O100*H100 -> 0 | Q100: 0 | R100: =Q100*H100 -> 0 | S100: 0 | T100: =S100*H100 -> 0 | AR100: 4 | AT100: K | AU100: 2 | AY100: ROZPOCET | BE100: =IF(N100="základní",J100,0) -> 0 | BF100: =IF(N100="snížená",J100,0) -> 0 | BG100: =IF(N100="zákl. přenesená",J100,0) -> 0 | BH100: =IF(N100="sníž. přenesená",J100,0) -> 0 | BI100: =IF(N100="nulová",J100,0) -> 0 | BJ100: 1 | BK100: =ROUND(I100*H100,2) -> 0 | BL100: 4 | BM100: -1566521580
D101: PSC | F101: Poznámka k souboru cen:_x000D_ 1. Délka odvozu suti je vzdálenost od místa naložení suti na dopravní prostředek až po místo složení na určené skládce nebo meziskládce. 2. V ceně -3501 jsou započteny i náklady na složení suti na skládku nebo meziskládku. 3. Ceny jsou určeny pro odvoz suti na skládku nebo meziskládku jakýmkoliv způsobem silniční dopravy (i prostřednictvím kontejnerů). 4. Odvoz suti z meziskládky se oceňuje cenou 997 01-3511. | AT101: PSC | AU101: 2
D102: VV | F102: 0,524*19 'Přepočtené koeficientem množství | H102: 9.956 | AT102: VV | AU102: 2 | AV102: 2 | AW102: False | AX102: 1 | AY102: ROZPOCET
C103: 7 | D103: K | E103: 997013831 | F103: Poplatek za uložení stavebního odpadu na skládce (skládkovné) směsného | G103: t | H103: 0.524 | J103: =ROUND(I103*H103,2) -> 0 | K103: CS ÚRS 2017 01 | N103: základní | P103: =O103*H103 -> 0 | Q103: 0 | R103: =Q103*H103 -> 0 | S103: 0 | T103: =S103*H103 -> 0 | AR103: 4 | AT103: K | AU103: 2 | AY103: ROZPOCET | BE103: =IF(N103="základní",J103,0) -> 0 | BF103: =IF(N103="snížená",J103,0) -> 0 | BG103: =IF(N103="zákl. přenesená",J103,0) -> 0 | BH103: =IF(N103="sníž. přenesená",J103,0) -> 0 | BI103: =IF(N103="nulová",J103,0) -> 0 | BJ103: 1 | BK103: =ROUND(I103*H103,2) -> 0 | BL103: 4 | BM103: 455378248
D104: PSC | F104: Poznámka k souboru cen:_x000D_ 1. Ceny uvedené v souboru lze po dohodě upravit podle místních podmínek. 2. Uložení odpadů neuvedených v souboru cen se oceňuje individuálně. 3. V cenách je započítán poplatek za ukládaní odpadu dle zákona 185/2001 Sb. 4. Případné drcení stavebního odpadu lze ocenit souborem cen 997 00-60 Drcení stavebního odpadu z katalogu 800-6 Demolice objektů. | AT104: PSC | AU104: 2
D105: D | E105: PSV | F105: Práce a dodávky PSV | J105: =BK105 -> 0 | P105: =P106+P129+P152 -> 0 | R105: =R106+R129+R152 -> 0.163445 | T105: =T106+T129+T152 -> 0.41449 | AR105: 2 | AT105: D | AU105: 0 | AY105: ROZPOCET | BK105: =BK106+BK129+BK152 -> 0
D106: D | E106: 721 | F106: Zdravotechnika - vnitřní kanalizace | J106: =BK106 -> 0 | P106: =SUM(P107:P128) -> 0 | R106: =SUM(R107:R128) -> 0.025095 | T106: =SUM(T107:T128) -> 0.31332 | AR106: 2 | AT106: D | AU106: 1 | AY106: ROZPOCET | BK106: =SUM(BK107:BK128) -> 0
C107: 8 | D107: K | E107: 721140802 | F107: Demontáž potrubí z litinových trub odpadních nebo dešťových do DN 100 | G107: m | H107: 21 | J107: =ROUND(I107*H107,2) -> 0 | K107: CS ÚRS 2017 01 | N107: základní | P107: =O107*H107 -> 0 | Q107: 0 | R107: =Q107*H107 -> 0 | S107: 0.01492 | T107: =S107*H107 -> 0.31332 | AR107: 16 | AT107: K | AU107: 2 | AY107: ROZPOCET | BE107: =IF(N107="základní",J107,0) -> 0 | BF107: =IF(N107="snížená",J107,0) -> 0 | BG107: =IF(N107="zákl. přenesená",J107,0) -> 0 | BH107: =IF(N107="sníž. přenesená",J107,0) -> 0 | BI107: =IF(N107="nulová",J107,0) -> 0 | BJ107: 1 | BK107: =ROUND(I107*H107,2) -> 0 | BL107: 16 | BM107: -1728809107
D108: VV | F108: 11+4+6 | H108: 21 | AT108: VV | AU108: 2 | AV108: 2 | AW108: True | AX108: 1 | AY108: ROZPOCET
C109: 9 | D109: K | E109: 721171905 | F109: Opravy odpadního potrubí plastového vsazení odbočky do potrubí DN 110 | G109: kus | H109: 1 | J109: =ROUND(I109*H109,2) -> 0 | K109: CS ÚRS 2017 01 | N109: základní | P109: =O109*H109 -> 0 | Q109: 0.0018 | R109: =Q109*H109 -> 0.0018 | S109: 0 | T109: =S109*H109 -> 0 | AR109: 16 | AT109: K | AU109: 2 | AY109: ROZPOCET | BE109: =IF(N109="základní",J109,0) -> 0 | BF109: =IF(N109="snížená",J109,0) -> 0 | BG109: =IF(N109="zákl. přenesená",J109,0) -> 0 | BH109: =IF(N109="sníž. přenesená",J109,0) -> 0 | BI109: =IF(N109="nulová",J109,0) -> 0 | BJ109: 1 | BK109: =ROUND(I109*H109,2) -> 0 | BL109: 16 | BM109: -8451293
C110: 10 | D110: K | E110: 721174024 | F110: Potrubí z plastových trub polypropylenové [HT systém] odpadní (svislé) DN 70 | G110: m | H110: 4 | J110: =ROUND(I110*H110,2) -> 0 | K110: CS ÚRS 2017 01 | N110: základní | P110: =O110*H110 -> 0 | Q110: 0.00059 | R110: =Q110*H110 -> 0.00236 | S110: 0 | T110: =S110*H110 -> 0 | AR110: 16 | AT110: K | AU110: 2 | AY110: ROZPOCET | BE110: =IF(N110="základní",J110,0) -> 0 | BF110: =IF(N110="snížená",J110,0) -> 0 | BG110: =IF(N110="zákl. přenesená",J110,0) -> 0 | BH110: =IF(N110="sníž. přenesená",J110,0) -> 0 | BI110: =IF(N110="nulová",J110,0) -> 0 | BJ110: 1 | BK110: =ROUND(I110*H110,2) -> 0 | BL110: 16 | BM110: 1759190207
D111: PSC | F111: Poznámka k souboru cen:_x000D_ 1. Cenami -3315 až -3317 se oceňuje svislé potrubí od střešního vtoku po čisticí kus. 2. Ochrany odpadního a připojovacího potrubí z plastových trub se oceňují cenami souboru cen 722 18- . . Ochrana potrubí, části A 02. 3. V cenách potrubí z polyetylenových trub jsou započteny náklady na montáž kotevních prvků, jejich dodání se oceňuje ve specifikaci. | AT111: PSC | AU111: 2
C112: 11 | D112: K | E112: 721174025 | F112: Potrubí z plastových trub polypropylenové [HT systém] odpadní (svislé) DN 100 | G112: m | H112: 11 | J112: =ROUND(I112*H112,2) -> 0 | K112: CS ÚRS 2017 01 | N112: základní | P112: =O112*H112 -> 0 | Q112: 0.0012 | R112: =Q112*H112 -> 0.0132 | S112: 0 | T112: =S112*H112 -> 0 | AR112: 16 | AT112: K | AU112: 2 | AY112: ROZPOCET | BE112: =IF(N112="základní",J112,0) -> 0 | BF112: =IF(N112="snížená",J112,0) -> 0 | BG112: =IF(N112="zákl. přenesená",J112,0) -> 0 | BH112: =IF(N112="sníž. přenesená",J112,0) -> 0 | BI112: =IF(N112="nulová",J112,0) -> 0 | BJ112: 1 | BK112: =ROUND(I112*H112,2) -> 0 | BL112: 16 | BM112: -1290556171
D113: PSC | F113: Poznámka k souboru cen:_x000D_ 1. Cenami -3315 až -3317 se oceňuje svislé potrubí od střešního vtoku po čisticí kus. 2. Ochrany odpadního a připojovacího potrubí z plastových trub se oceňují cenami souboru cen 722 18- . . Ochrana potrubí, části A 02. 3. V cenách potrubí z polyetylenových trub jsou započteny náklady na montáž kotevních prvků, jejich dodání se oceňuje ve specifikaci. | AT113: PSC | AU113: 2
C114: 12 | D114: K | E114: 721174042 | F114: Potrubí z plastových trub polypropylenové [HT systém] připojovací DN 40 | G114: m | H114: 4.5 | J114: =ROUND(I114*H114,2) -> 0 | K114: CS ÚRS 2017 01 | N114: základní | P114: =O114*H114 -> 0 | Q114: 0.00029 | R114: =Q114*H114 -> 0.001305 | S114: 0 | T114: =S114*H114 -> 0 | AR114: 16 | AT114: K | AU114: 2 | AY114: ROZPOCET | BE114: =IF(N114="základní",J114,0) -> 0 | BF114: =IF(N114="snížená",J114,0) -> 0 | BG114: =IF(N114="zákl. přenesená",J114,0) -> 0 | BH114: =IF(N114="sníž. přenesená",J114,0) -> 0 | BI114: =IF(N114="nulová",J114,0) -> 0 | BJ114: 1 | BK114: =ROUND(I114*H114,2) -> 0 | BL114: 16 | BM114: 1693336476
D115: PSC | F115: Poznámka k souboru cen:_x000D_ 1. Cenami -3315 až -3317 se oceňuje svislé potrubí od střešního vtoku po čisticí kus. 2. Ochrany odpadního a připojovacího potrubí z plastových trub se oceňují cenami souboru cen 722 18- . . Ochrana potrubí, části A 02. 3. V cenách potrubí z polyetylenových trub jsou započteny náklady na montáž kotevních prvků, jejich dodání se oceňuje ve specifikaci. | AT115: PSC | AU115: 2
D116: VV | F116: 2,5+2 | H116: 4.5 | AT116: VV | AU116: 2 | AV116: 2 | AW116: True | AX116: 1 | AY116: ROZPOCET
C117: 13 | D117: K | E117: 721174045 | F117: Potrubí z plastových trub polypropylenové [HT systém] připojovací DN 100 | G117: m | H117: 5.5 | J117: =ROUND(I117*H117,2) -> 0 | K117: CS ÚRS 2017 01 | N117: základní | P117: =O117*H117 -> 0 | Q117: 0.00114 | R117: =Q117*H117 -> 0.00627 | S117: 0 | T117: =S117*H117 -> 0 | AR117: 16 | AT117: K | AU117: 2 | AY117: ROZPOCET | BE117: =IF(N117="základní",J117,0) -> 0 | BF117: =IF(N117="snížená",J117,0) -> 0 | BG117: =IF(N117="zákl. přenesená",J117,0) -> 0 | BH117: =IF(N117="sníž. přenesená",J117,0) -> 0 | BI117: =IF(N117="nulová",J117,0) -> 0 | BJ117: 1 | BK117: =ROUND(I117*H117,2) -> 0 | BL117: 16 | BM117: -242418731
D118: PSC | F118: Poznámka k souboru cen:_x000D_ 1. Cenami -3315 až -3317 se oceňuje svislé potrubí od střešního vtoku po čisticí kus. 2. Ochrany odpadního a připojovacího potrubí z plastových trub se oceňují cenami souboru cen 722 18- . . Ochrana potrubí, části A 02. 3. V cenách potrubí z polyetylenových trub jsou započteny náklady na montáž kotevních prvků, jejich dodání se oceňuje ve specifikaci. | AT118: PSC | AU118: 2
D119: VV | F119: 4+1,5 | H119: 5.5 | AT119: VV | AU119: 2 | AV119: 2 | AW119: True | AX119: 1 | AY119: ROZPOCET
C120: 14 | D120: K | E120: 721194104 | F120: Vyměření přípojek na potrubí vyvedení a upevnění odpadních výpustek DN 40 | G120: kus | H120: 2 | J120: =ROUND(I120*H120,2) -> 0 | K120: CS ÚRS 2017 01 | N120: základní | P120: =O120*H120 -> 0 | Q120: 0 | R120: =Q120*H120 -> 0 | S120: 0 | T120: =S120*H120 -> 0 | AR120: 16 | AT120: K | AU120: 2 | AY120: ROZPOCET | BE120: =IF(N120="základní",J120,0) -> 0 | BF120: =IF(N120="snížená",J120,0) -> 0 | BG120: =IF(N120="zákl. přenesená",J120,0) -> 0 | BH120: =IF(N120="sníž. přenesená",J120,0) -> 0 | BI120: =IF(N120="nulová",J120,0) -> 0 | BJ120: 1 | BK120: =ROUND(I120*H120,2) -> 0 | BL120: 16 | BM120: 715784819
D121: PSC | F121: Poznámka k souboru cen:_x000D_ 1. Cenami lze oceňovat i vyvedení a upevnění odpadních výpustek ke strojům a zařízením. 2. Potrubí odpadních výpustek se oceňují cenami souboru cen 721 17- . . Potrubí z plastových trub, části A 01. | AT121: PSC | AU121: 2
C122: 15 | D122: K | E122: 721194109 | F122: Vyměření přípojek na potrubí vyvedení a upevnění odpadních výpustek DN 100 | G122: kus | H122: 4 | J122: =ROUND(I122*H122,2) -> 0 | K122: CS ÚRS 2017 01 | N122: základní | P122: =O122*H122 -> 0 | Q122: 0 | R122: =Q122*H122 -> 0 | S122: 0 | T122: =S122*H122 -> 0 | AR122: 16 | AT122: K | AU122: 2 | AY122: ROZPOCET | BE122: =IF(N122="základní",J122,0) -> 0 | BF122: =IF(N122="snížená",J122,0) -> 0 | BG122: =IF(N122="zákl. přenesená",J122,0) -> 0 | BH122: =IF(N122="sníž. přenesená",J122,0) -> 0 | BI122: =IF(N122="nulová",J122,0) -> 0 | BJ122: 1 | BK122: =ROUND(I122*H122,2) -> 0 | BL122: 16 | BM122: 424357111
D123: PSC | F123: Poznámka k souboru cen:_x000D_ 1. Cenami lze oceňovat i vyvedení a upevnění odpadních výpustek ke strojům a zařízením. 2. Potrubí odpadních výpustek se oceňují cenami souboru cen 721 17- . . Potrubí z plastových trub, části A 01. | AT123: PSC | AU123: 2
C124: 16 | D124: K | E124: 721273152 | F124: Ventilační hlavice z polypropylenu (PP) DN 75 [HL 807] | G124: kus | H124: 1 | J124: =ROUND(I124*H124,2) -> 0 | K124: CS ÚRS 2017 01 | N124: základní | P124: =O124*H124 -> 0 | Q124: 0.00016 | R124: =Q124*H124 -> 0.00016 | S124: 0 | T124: =S124*H124 -> 0 | AR124: 16 | AT124: K | AU124: 2 | AY124: ROZPOCET | BE124: =IF(N124="základní",J124,0) -> 0 | BF124: =IF(N124="snížená",J124,0) -> 0 | BG124: =IF(N124="zákl. přenesená",J124,0) -> 0 | BH124: =IF(N124="sníž. přenesená",J124,0) -> 0 | BI124: =IF(N124="nulová",J124,0) -> 0 | BJ124: 1 | BK124: =ROUND(I124*H124,2) -> 0 | BL124: 16 | BM124: -696672276
C125: 17 | D125: K | E125: 721290111 | F125: Zkouška těsnosti kanalizace v objektech vodou do DN 125 | G125: m | H125: 25 | J125: =ROUND(I125*H125,2) -> 0 | K125: CS ÚRS 2017 01 | N125: základní | P125: =O125*H125 -> 0 | Q125: 0 | R125: =Q125*H125 -> 0 | S125: 0 | T125: =S125*H125 -> 0 | AR125: 16 | AT125: K | AU125: 2 | AY125: ROZPOCET | BE125: =IF(N125="základní",J125,0) -> 0 | BF125: =IF(N125="snížená",J125,0) -> 0 | BG125: =IF(N125="zákl. přenesená",J125,0) -> 0 | BH125: =IF(N125="sníž. přenesená",J125,0) -> 0 | BI125: =IF(N125="nulová",J125,0) -> 0 | BJ125: 1 | BK125: =ROUND(I125*H125,2) -> 0 | BL125: 16 | BM125: 1528673922
D126: PSC | F126: Poznámka k souboru cen:_x000D_ 1. V ceně -0123 není započteno dodání média; jeho dodávka se oceňuje ve specifikaci. | AT126: PSC | AU126: 2
C127: 18 | D127: K | E127: 998721102 | F127: Přesun hmot pro vnitřní kanalizace stanovený z hmotnosti přesunovaného materiálu vodorovná dopravní vzdálenost do 50 m v objektech výšky přes 6 do 12 m | G127: t | H127: 0.025 | J127: =ROUND(I127*H127,2) -> 0 | K127: CS ÚRS 2017 01 | N127: základní | P127: =O127*H127 -> 0 | Q127: 0 | R127: =Q127*H127 -> 0 | S127: 0 | T127: =S127*H127 -> 0 | AR127: 16 | AT127: K | AU127: 2 | AY127: ROZPOCET | BE127: =IF(N127="základní",J127,0) -> 0 | BF127: =IF(N127="snížená",J127,0) -> 0 | BG127: =IF(N127="zákl. přenesená",J127,0) -> 0 | BH127: =IF(N127="sníž. přenesená",J127,0) -> 0 | BI127: =IF(N127="nulová",J127,0) -> 0 | BJ127: 1 | BK127: =ROUND(I127*H127,2) -> 0 | BL127: 16 | BM127: 1154584008
D128: PSC | F128: Poznámka k souboru cen:_x000D_ 1. Ceny pro přesun hmot stanovený z hmotnosti přesunovaného materiálu se používají tehdy, pokud je možné určit hmotnost za celý stavební díl. Do této hmotnosti se započítává i hmotnost materiálů oceňovaných ve specifikaci. 2. Pokud nelze jednoznačně stanovit hmotnost přesunovaných materiálů, lze pro výpočet přesunu hmot použít orientačně procentní sazbu. Touto sazbou se vynásobí rozpočtové náklady za celý stavební díl včetně nákladů na materiál ve specifikacích. 3. Příplatek k cenám -1181 pro přesun prováděný bez použití mechanizace, tj. za ztížených podmínek, lze použít pouze pro hmotnost materiálu, která se tímto způsobem skutečně přemísťuje. | AT128: PSC | AU128: 2
D129: D | E129: 722 | F129: Zdravotechnika - vnitřní vodovod | J129: =BK129 -> 0 | P129: =SUM(P130:P151) -> 0 | R129: =SUM(R130:R151) -> 0.01642 | T129: =SUM(T130:T151) -> 0.00426 | AR129: 2 | AT129: D | AU129: 1 | AY129: ROZPOCET | BK129: =SUM(BK130:BK151) -> 0
C130: 19 | D130: K | E130: 722130801 | F130: Demontáž potrubí z ocelových trubek pozinkovaných závitových do DN 25 | G130: m | H130: 2 | J130: =ROUND(I130*H130,2) -> 0 | K130: CS ÚRS 2017 01 | N130: základní | P130: =O130*H130 -> 0 | Q130: 0 | R130: =Q130*H130 -> 0 | S130: 0.00213 | T130: =S130*H130 -> 0.00426 | AR130: 16 | AT130: K | AU130: 2 | AY130: ROZPOCET | BE130: =IF(N130="základní",J130,0) -> 0 | BF130: =IF(N130="snížená",J130,0) -> 0 | BG130: =IF(N130="zákl. přenesená",J130,0) -> 0 | BH130: =IF(N130="sníž. přenesená",J130,0) -> 0 | BI130: =IF(N130="nulová",J130,0) -> 0 | BJ130: 1 | BK130: =ROUND(I130*H130,2) -> 0 | BL130: 16 | BM130: -208691626
C131: 20 | D131: K | E131: 722130992 | F131: Opravy vodovodního potrubí z ocelových trubek pozinkovaných závitových vsazení odbočky do potrubí oboustrannými svěrnými spojkami [QT] DN potrubí / G odbočky DN 25 / G 3/4 | G131: kus | H131: 2 | J131: =ROUND(I131*H131,2) -> 0 | K131: CS ÚRS 2017 01 | N131: základní | P131: =O131*H131 -> 0 | Q131: 0.00184 | R131: =Q131*H131 -> 0.00368 | S131: 0 | T131: =S131*H131 -> 0 | AR131: 16 | AT131: K | AU131: 2 | AY131: ROZPOCET | BE131: =IF(N131="základní",J131,0) -> 0 | BF131: =IF(N131="snížená",J131,0) -> 0 | BG131: =IF(N131="zákl. přenesená",J131,0) -> 0 | BH131: =IF(N131="sníž. přenesená",J131,0) -> 0 | BI131: =IF(N131="nulová",J131,0) -> 0 | BJ131: 1 | BK131: =ROUND(I131*H131,2) -> 0 | BL131: 16 | BM131: 381013189
...

Sheet 06 - venkovní kanalizace
D1: List obsahuje: | F1: 1) Krycí list soupisu | G1: 2) Rekapitulace | J1: 3) Soupis prací | K1: Zpět na list: | L1: Rekapitulace stavby
AT2: {9b082e7d-460c-41e3-b8f1-b65de7e9bb5d}
AT3: 2
D4: KRYCÍ LIST SOUPISU | M4: v --- níže se nacházejí doplnkové a pomocné údaje k sestavám --- v | AT4: False
D6: Stavba:
E7: ='Rekapitulace stavby'!K6 -> Bezbariérové úpravy MěÚ Mimoň č.p. 181
D8: Objekt:
E9: 06 - venkovní kanalizace
D11: KSO: | I11: CC-CZ:
D12: Místo: | F12: Mimoň | I12: Datum: | J12: ='Rekapitulace stavby'!AN8 -> 6. 4. 2017
D14: Zadavatel: | I14: IČ: | J14: =IF('Rekapitulace stavby'!AN10="","",'Rekapitulace stavby'!AN10)
E15: =IF('Rekapitulace stavby'!E11="","",'Rekapitulace stavby'!E11) -> Město Mimoň | I15: DIČ: | J15: =IF('Rekapitulace stavby'!AN11="","",'Rekapitulace stavby'!AN11)
D17: Uchazeč: | I17: IČ: | J17: =IF('Rekapitulace stavby'!AN13="Vyplň údaj","",IF('Rekapitulace stavby'!AN13="","",'Rekapitulace stavby'!AN13))
E18: =IF('Rekapitulace stavby'!E14="Vyplň údaj","",IF('Rekapitulace stavby'!E14="","",'Rekapitulace stavby'!E14)) | I18: DIČ: | J18: =IF('Rekapitulace stavby'!AN14="Vyplň údaj","",IF('Rekapitulace stavby'!AN14="","",'Rekapitulace stavby'!AN14))
D20: Projektant: | I20: IČ: | J20: =IF('Rekapitulace stavby'!AN16="","",'Rekapitulace stavby'!AN16)
E21: =IF('Rekapitulace stavby'!E17="","",'Rekapitulace stavby'!E17) -> Radek Voce | I21: DIČ: | J21: =IF('Rekapitulace stavby'!AN17="","",'Rekapitulace stavby'!AN17)
D23: Poznámka:
D27: Cena bez DPH | J27: =ROUND(J83,2) -> 0
F29: Základ daně | I29: Sazba daně | J29: Výše daně
D30: DPH | E30: základní | F30: =ROUND(SUM(BE83:BE144), 2) -> 0 | I30: 0.21 | J30: =ROUND(ROUND((SUM(BE83:BE144)), 2)*I30, 2) -> 0
E31: snížená | F31: =ROUND(SUM(BF83:BF144), 2) -> 0 | I31: 0.15 | J31: =ROUND(ROUND((SUM(BF83:BF144)), 2)*I31, 2) -> 0
E32: zákl. přenesená | F32: =ROUND(SUM(BG83:BG144), 2) -> 0 | I32: 0.21 | J32: 0
E33: sníž. přenesená | F33: =ROUND(SUM(BH83:BH144), 2) -> 0 | I33: 0.15 | J33: 0
E34: nulová | F34: =ROUND(SUM(BI83:BI144), 2) -> 0 | I34: 0 | J34: 0
D36: Cena s DPH | G36: v | H36: CZK | J36: =SUM(J27:J34) -> 0
C42: REKAPITULACE ČLENĚNÍ SOUPISU PRACÍ
C44: Stavba:
E45: =E7 -> Bezbariérové úpravy MěÚ Mimoň č.p. 181
C46: Objekt:
E47: =E9 -> 06 - venkovní kanalizace
C49: Místo: | F49: =F12 -> Mimoň | I49: Datum: | J49: =IF(J12="","",J12) -> 6. 4. 2017
C51: Zadavatel: | F51: =E15 -> Město Mimoň | I51: Projektant: | J51: =E21 -> Radek Voce
C52: Uchazeč: | F52: =IF(E18="","",E18)
C54: Kód dílu - Popis | J54: Cena celkem [CZK]
C56: Náklady soupisu celkem | J56: =J83 -> 0 | AU56: -1
D57: HSV - Práce a dodávky HSV | J57: =J84 -> 0
D58: 1 - Zemní práce | J58: =J85 -> 0
D59: 4 - Vodorovné konstrukce | J59: =J109 -> 0
D60: 5 - Komunikace pozemní | J60: =J112 -> 0
D61: 8 - Trubní vedení | J61: =J115 -> 0
D62: 9 - Ostatní konstrukce a práce, bourání | J62: =J132 -> 0
D63: 998 - Přesun hmot | J63: =J142 -> 0
C70: SOUPIS PRACÍ
C72: Stavba:
E73: =E7 -> Bezbariérové úpravy MěÚ Mimoň č.p. 181
C74: Objekt:
E75: =E9 -> 06 - venkovní kanalizace
C77: Místo: | F77: =F12 -> Mimoň | I77: Datum: | J77: =IF(J12="","",J12) -> 6. 4. 2017
C79: Zadavatel: | F79: =E15 -> Město Mimoň | I79: Projektant: | J79: =E21 -> Radek Voce
C80: Uchazeč: | F80: =IF(E18="","",E18)
C82: PČ | D82: Typ | E82: Kód | F82: Popis | G82: MJ | H82: Množství | I82: J.cena [CZK] | J82: Cena celkem [CZK] | K82: Cenová soustava | M82: Poznámka | N82: DPH | O82: J. Nh [h] | P82: Nh celkem [h] | Q82: J. hmotnost_x000D_ [t] | R82: Hmotnost_x000D_ celkem [t] | S82: J. suť [t] | T82: Suť Celkem [t]
C83: Náklady soupisu celkem | J83: =BK83 -> 0 | P83: =P84 -> 0 | R83: =R84 -> 2.64609 | T83: =T84 -> 0.26 | AT83: D | AU83: -1 | BK83: =BK84 -> 0
D84: D | E84: HSV | F84: Práce a dodávky HSV | J84: =BK84 -> 0 | P84: =P85+P109+P112+P115+P132+P142 -> 0 | R84: =R85+R109+R112+R115+R132+R142 -> 2.64609 | T84: =T85+T109+T112+T115+T132+T142 -> 0.26 | AR84: 1 | AT84: D | AU84: 0 | AY84: ROZPOCET | BK84: =BK85+BK109+BK112+BK115+BK132+BK142 -> 0
D85: D | E85: 1 | F85: Zemní práce | J85: =BK85 -> 0 | P85: =SUM(P86:P108) -> 0 | R85: =SUM(R86:R108) -> 0.96 | T85: =SUM(T86:T108) -> 0.26 | AR85: 1 | AT85: D | AU85: 1 | AY85: ROZPOCET | BK85: =SUM(BK86:BK108) -> 0
C86: 1 | D86: K | E86: 113106023 | F86: Rozebrání dlažeb při překopech inženýrských sítí plochy do 15 m2 s přemístěním hmot na skládku na vzdálenost do 3 m nebo s naložením na dopravní prostředek komunikací pro pěší s ložem z kameniva nebo živice a s výplní spár ze zámkové dlažby | G86: m2 | H86: 1 | J86: =ROUND(I86*H86,2) -> 0 | K86: CS ÚRS 2017 01 | N86: základní | P86: =O86*H86 -> 0 | Q86: 0 | R86: =Q86*H86 -> 0 | S86: 0.26 | T86: =S86*H86 -> 0.26 | AR86: 4 | AT86: K | AU86: 2 | AY86: ROZPOCET | BE86: =IF(N86="základní",J86,0) -> 0 | BF86: =IF(N86="snížená",J86,0) -> 0 | BG86: =IF(N86="zákl. přenesená",J86,0) -> 0 | BH86: =IF(N86="sníž. přenesená",J86,0) -> 0 | BI86: =IF(N86="nulová",J86,0) -> 0 | BJ86: 1 | BK86: =ROUND(I86*H86,2) -> 0 | BL86: 4 | BM86: 659997994
D87: PSC | F87: Poznámka k souboru cen:_x000D_ 1. Ceny jsou určeny pouze pro rozebrání dlažeb včetně odstranění lože po překopech inženýrských sítí z důvodu oprav havárií, přeložek nebo běžných oprav. 2. Ceny nelze použít pro rozebrání dlažeb při zřízení nových inženýrských sítí. 3. Ceny nelze použít pro rozebrání dlažeb uložených do betonového lože nebo do cementové malty, které se oceňují cenami 113 10-7030, -7031 a -7032 Odstranění podkladů nebo krytů po překopech z betonu prostého. 4. V cenách nejsou započteny náklady na popř. nutné očištění: a) dlažebních nebo mozaikových kostek, které se oceňuje cenami souboru cen 979 07-11 Očištění vybouraných dlažebních kostek části C 01 tohoto katalogu, b) betonových, kameninových nebo kamenných desek nebo dlaždic, které se oceňuje cenami souboru cen 979 0 . - . . Očištění vybouraných obrubníků, krajníků, desek nebo dílců části C 01 tohoto katalogu. 5. Přemístění vybourané dlažby včetně materiálu z lože a spár na vzdálenost přes 3 m se oceňuje cenami souborů cen 997 22-1 Vodorovná doprava suti a vybouraných hmot. | AT87: PSC | AU87: 2
C88: 2 | D88: K | E88: 132201201 | F88: Hloubení zapažených i nezapažených rýh šířky přes 600 do 2 000 mm s urovnáním dna do předepsaného profilu a spádu v hornině tř. 3 do 100 m3 | G88: m3 | H88: 1.74 | J88: =ROUND(I88*H88,2) -> 0 | K88: CS ÚRS 2017 01 | N88: základní | P88: =O88*H88 -> 0 | Q88: 0 | R88: =Q88*H88 -> 0 | S88: 0 | T88: =S88*H88 -> 0 | AR88: 4 | AT88: K | AU88: 2 | AY88: ROZPOCET | BE88: =IF(N88="základní",J88,0) -> 0 | BF88: =IF(N88="snížená",J88,0) -> 0 | BG88: =IF(N88="zákl. přenesená",J88,0) -> 0 | BH88: =IF(N88="sníž. přenesená",J88,0) -> 0 | BI88: =IF(N88="nulová",J88,0) -> 0 | BJ88: 1 | BK88: =ROUND(I88*H88,2) -> 0 | BL88: 4 | BM88: 1048851337
D89: PSC | F89: Poznámka k souboru cen:_x000D_ 1. V cenách jsou započteny i náklady na případné nutné přemístění výkopku ve výkopišti na vzdálenost do 3 m a na přehození výkopku na přilehlém terénu na vzdálenost do 5 m od okraje jámy nebo naložení na dopravní prostředek. 2. Hloubení rýh při lesnicko-technických melioracích se oceňuje: a) ve stržích cenami platnými pro objem výkopu do 100 m3, i když skutečný objem výkopu je větší, b) mimo strže pro příčná a podélná zpevnění dna a břehů pod obrysem výkopu pro koryta vodotečí, zejména pro konstrukce těles, stupňů, boků, předprahů, prahů, odháněk, výhonů a pro základy zdí, dlažeb, rovnanin, plůtků a hatí, pro jakoukoliv šířku rýhy, při objemu do 100 m3 cenami příslušnými pro objem výkopu do 100 m3 a při jakémkoliv objemu výkopu přes 100 m3 cenami příslušnými pro objem výkopu přes 100 do 1 000 m3. 3. Náklady na svislé přemístění výkopku nad 1 m hloubky se určí dle ustanovení článku č. 3161 všeobecných podmínek katalogu. 4. Předepisuje-li projekt hloubit rýhy 5 až 7 bez použití trhavin, oceňuje se toto hloubení: a) v suchu nebo mokru cenami 138 40-1201, 138 50-1201 a 138 60-1201 Dolamování hloubených vykopávek, b) v tekoucí vodě při jakékoliv její rychlosti individuálně. 5. Ceny nelze použít pro hloubení rýh a hloubky přes 16 m. Tyto práce se oceňují individuálně. | AT89: PSC | AU89: 2
D90: VV | F90: 1,44+0,3 | H90: 1.74 | AT90: VV | AU90: 2 | AV90: 2 | AW90: True | AX90: 1 | AY90: ROZPOCET
C91: 3 | D91: K | E91: 132201209 | F91: Hloubení zapažených i nezapažených rýh šířky přes 600 do 2 000 mm s urovnáním dna do předepsaného profilu a spádu v hornině tř. 3 Příplatek k cenám za lepivost horniny tř. 3 | G91: m3 | H91: 0.522 | J91: =ROUND(I91*H91,2) -> 0 | K91: CS ÚRS 2017 01 | N91: základní | P91: =O91*H91 -> 0 | Q91: 0 | R91: =Q91*H91 -> 0 | S91: 0 | T91: =S91*H91 -> 0 | AR91: 4 | AT91: K | AU91: 2 | AY91: ROZPOCET | BE91: =IF(N91="základní",J91,0) -> 0 | BF91: =IF(N91="snížená",J91,0) -> 0 | BG91: =IF(N91="zákl. přenesená",J91,0) -> 0 | BH91: =IF(N91="sníž. přenesená",J91,0) -> 0 | BI91: =IF(N91="nulová",J91,0) -> 0 | BJ91: 1 | BK91: =ROUND(I91*H91,2) -> 0 | BL91: 4 | BM91: -311666143
D92: PSC | F92: Poznámka k souboru cen:_x000D_ 1. V cenách jsou započteny i náklady na případné nutné přemístění výkopku ve výkopišti na vzdálenost do 3 m a na přehození výkopku na přilehlém terénu na vzdálenost do 5 m od okraje jámy nebo naložení na dopravní prostředek. 2. Hloubení rýh při lesnicko-technických melioracích se oceňuje: a) ve stržích cenami platnými pro objem výkopu do 100 m3, i když skutečný objem výkopu je větší, b) mimo strže pro příčná a podélná zpevnění dna a břehů pod obrysem výkopu pro koryta vodotečí, zejména pro konstrukce těles, stupňů, boků, předprahů, prahů, odháněk, výhonů a pro základy zdí, dlažeb, rovnanin, plůtků a hatí, pro jakoukoliv šířku rýhy, při objemu do 100 m3 cenami příslušnými pro objem výkopu do 100 m3 a při jakémkoliv objemu výkopu přes 100 m3 cenami příslušnými pro objem výkopu přes 100 do 1 000 m3. 3. Náklady na svislé přemístění výkopku nad 1 m hloubky se určí dle ustanovení článku č. 3161 všeobecných podmínek katalogu. 4. Předepisuje-li projekt hloubit rýhy 5 až 7 bez použití trhavin, oceňuje se toto hloubení: a) v suchu nebo mokru cenami 138 40-1201, 138 50-1201 a 138 60-1201 Dolamování hloubených vykopávek, b) v tekoucí vodě při jakékoliv její rychlosti individuálně. 5. Ceny nelze použít pro hloubení rýh a hloubky přes 16 m. Tyto práce se oceňují individuálně. | AT92: PSC | AU92: 2
D93: VV | F93: 1,740*0,3 | H93: 0.522 | AT93: VV | AU93: 2 | AV93: 2 | AW93: True | AX93: 1 | AY93: ROZPOCET
C94: 4 | D94: K | E94: 162701105 | F94: Vodorovné přemístění výkopku nebo sypaniny po suchu na obvyklém dopravním prostředku, bez naložení výkopku, avšak se složením bez rozhrnutí z horniny tř. 1 až 4 na vzdálenost přes 9 000 do 10 000 m | G94: m3 | H94: 0.876 | J94: =ROUND(I94*H94,2) -> 0 | K94: CS ÚRS 2017 01 | N94: základní | P94: =O94*H94 -> 0 | Q94: 0 | R94: =Q94*H94 -> 0 | S94: 0 | T94: =S94*H94 -> 0 | AR94: 4 | AT94: K | AU94: 2 | AY94: ROZPOCET | BE94: =IF(N94="základní",J94,0) -> 0 | BF94: =IF(N94="snížená",J94,0) -> 0 | BG94: =IF(N94="zákl. přenesená",J94,0) -> 0 | BH94: =IF(N94="sníž. přenesená",J94,0) -> 0 | BI94: =IF(N94="nulová",J94,0) -> 0 | BJ94: 1 | BK94: =ROUND(I94*H94,2) -> 0 | BL94: 4 | BM94: 2053825114
D95: PSC | F95: Poznámka k souboru cen:_x000D_ 1. Ceny nelze použít, předepisuje-li projekt přemístit výkopek na místo nepřístupné obvyklým dopravním prostředkům; toto přemístění se oceňuje individuálně. 2. V cenách jsou započteny i náhrady za jízdu loženého vozidla v terénu ve výkopišti nebo na násypišti. 3. V cenách nejsou započteny náklady na rozhrnutí výkopku na násypišti; toto rozhrnutí se oceňuje cenami souboru cen 171 . 0- . . Uložení sypaniny do násypů a 171 20-1201Uložení sypaniny na skládky. 4. Je-li na dopravní dráze pro vodorovné přemístění nějaká překážka, pro kterou je nutno překládat výkopek z jednoho obvyklého dopravního prostředku na jiný obvyklý dopravní prostředek, oceňuje se toto lomené vodorovné přemístění výkopku v každém úseku samostatně příslušnou cenou tohoto souboru cen a překládání výkopku cenami souboru cen 167 10-3 . Nakládání neulehlého výkopku z hromad s ohledem na ustanovení pozn. číslo 5. 5. Přemísťuje-li se výkopek z dočasných skládek vzdálených do 50 m, neoceňuje se nakládání výkopku, i když se provádí. Toto ustanovení neplatí, vylučuje-li projekt použití dozeru. 6. V cenách vodorovného přemístění sypaniny nejsou započteny náklady na dodávku materiálu, tyto se oceňují ve specifikaci. | AT95: PSC | AU95: 2
D96: VV | F96: 0,576+0,3 | H96: 0.876 | AT96: VV | AU96: 2 | AV96: 2 | AW96: True | AX96: 1 | AY96: ROZPOCET
C97: 5 | D97: K | E97: 171201201 | F97: Uložení sypaniny na skládky | G97: m3 | H97: 0.876 | J97: =ROUND(I97*H97,2) -> 0 | K97: CS ÚRS 2017 01 | N97: základní | P97: =O97*H97 -> 0 | Q97: 0 | R97: =Q97*H97 -> 0 | S97: 0 | T97: =S97*H97 -> 0 | AR97: 4 | AT97: K | AU97: 2 | AY97: ROZPOCET | BE97: =IF(N97="základní",J97,0) -> 0 | BF97: =IF(N97="snížená",J97,0) -> 0 | BG97: =IF(N97="zákl. přenesená",J97,0) -> 0 | BH97: =IF(N97="sníž. přenesená",J97,0) -> 0 | BI97: =IF(N97="nulová",J97,0) -> 0 | BJ97: 1 | BK97: =ROUND(I97*H97,2) -> 0 | BL97: 4 | BM97: -1509464374
D98: PSC | F98: Poznámka k souboru cen:_x000D_ 1. Cena -1201 je určena i pro: a) uložení výkopku nebo ornice na dočasné skládky předepsané projektem tak, že na 1 m2 projektem určené plochy této skládky připadá přes 2 m3 výkopku nebo ornice; v opačném případě se uložení neoceňuje. Množství výkopku nebo ornice připadající na 1 m2 skládky se určí jako podíl množství výkopku nebo ornice, měřeného v rostlém stavu a projektem určené plochy dočasné skládky; b) zasypání koryt vodotečí a prohlubní v terénu bez předepsaného zhutnění sypaniny; c) uložení výkopku pod vodou do prohlubní ve dně vodotečí nebo nádrží. 2. Cenu -1201 nelze použít pro uložení výkopku nebo ornice: a) při vykopávkách pro podzemní vedení podél hrany výkopu, z něhož byl výkopek získán, a to ani tehdy, jestliže se výkopek po vyhození z výkopu na povrch území ještě dále přemisťuje na hromady podél výkopu; b) na dočasné skládky, které nejsou předepsány projektem; c) na dočasné skládky předepsané projektem tak, že na 1 m2 projektem určené plochy této skládky připadají nejvýše 2 m3 výkopku nebo ornice (viz. též poznámku č. 1 a); d) na dočasné skládky, oceňuje-li se cenou 121 10-1101 Sejmutí ornice nebo lesní půdy do 50 m, nebo oceňuje-li se vodorovné přemístění výkopku do 20 m a 50 m cenami 162 20-1101, 162 20-1102, 162 20-1151 a 162 20-1152. V těchto případech se uložení výkopku nebo ornice na dočasnou skládku neoceňuje. e) na trvalé skládky s předepsaným zhutněním; toto uložení výkopku se oceňuje cenami souboru cen 171 . 0- . . Uložení sypaniny do násypů. 3. V ceně -1201 jsou započteny i náklady na rozprostření sypaniny ve vrstvách s hrubým urovnáním na skládce. 4. V ceně -1201 nejsou započteny náklady na získání skládek ani na poplatky za skládku. 5. Množství jednotek uložení výkopku (sypaniny) se určí v m3 uloženého výkopku (sypaniny),v rostlém stavu zpravidla ve výkopišti. 6. Cenu -1211 lze po dohodě upravit podle místních podmínek. | AT98: PSC | AU98: 2
C99: 6 | D99: K | E99: 171201211 | F99: Uložení sypaniny poplatek za uložení sypaniny na skládce (skládkovné) | G99: t | H99: 1.577 | J99: =ROUND(I99*H99,2) -> 0 | K99: CS ÚRS 2017 01 | N99: základní | P99: =O99*H99 -> 0 | Q99: 0 | R99: =Q99*H99 -> 0 | S99: 0 | T99: =S99*H99 -> 0 | AR99: 4 | AT99: K | AU99: 2 | AY99: ROZPOCET | BE99: =IF(N99="základní",J99,0) -> 0 | BF99: =IF(N99="snížená",J99,0) -> 0 | BG99: =IF(N99="zákl. přenesená",J99,0) -> 0 | BH99: =IF(N99="sníž. přenesená",J99,0) -> 0 | BI99: =IF(N99="nulová",J99,0) -> 0 | BJ99: 1 | BK99: =ROUND(I99*H99,2) -> 0 | BL99: 4 | BM99: -1008641389
D100: PSC | F100: Poznámka k souboru cen:_x000D_ 1. Cena -1201 je určena i pro: a) uložení výkopku nebo ornice na dočasné skládky předepsané projektem tak, že na 1 m2 projektem určené plochy této skládky připadá přes 2 m3 výkopku nebo ornice; v opačném případě se uložení neoceňuje. Množství výkopku nebo ornice připadající na 1 m2 skládky se určí jako podíl množství výkopku nebo ornice, měřeného v rostlém stavu a projektem určené plochy dočasné skládky; b) zasypání koryt vodotečí a prohlubní v terénu bez předepsaného zhutnění sypaniny; c) uložení výkopku pod vodou do prohlubní ve dně vodotečí nebo nádrží. 2. Cenu -1201 nelze použít pro uložení výkopku nebo ornice: a) při vykopávkách pro podzemní vedení podél hrany výkopu, z něhož byl výkopek získán, a to ani tehdy, jestliže se výkopek po vyhození z výkopu na povrch území ještě dále přemisťuje na hromady podél výkopu; b) na dočasné skládky, které nejsou předepsány projektem; c) na dočasné skládky předepsané projektem tak, že na 1 m2 projektem určené plochy této skládky připadají nejvýše 2 m3 výkopku nebo ornice (viz. též poznámku č. 1 a); d) na dočasné skládky, oceňuje-li se cenou 121 10-1101 Sejmutí ornice nebo lesní půdy do 50 m, nebo oceňuje-li se vodorovné přemístění výkopku do 20 m a 50 m cenami 162 20-1101, 162 20-1102, 162 20-1151 a 162 20-1152. V těchto případech se uložení výkopku nebo ornice na dočasnou skládku neoceňuje. e) na trvalé skládky s předepsaným zhutněním; toto uložení výkopku se oceňuje cenami souboru cen 171 . 0- . . Uložení sypaniny do násypů. 3. V ceně -1201 jsou započteny i náklady na rozprostření sypaniny ve vrstvách s hrubým urovnáním na skládce. 4. V ceně -1201 nejsou započteny náklady na získání skládek ani na poplatky za skládku. 5. Množství jednotek uložení výkopku (sypaniny) se určí v m3 uloženého výkopku (sypaniny),v rostlém stavu zpravidla ve výkopišti. 6. Cenu -1211 lze po dohodě upravit podle místních podmínek. | AT100: PSC | AU100: 2
D101: VV | F101: 0,876 | H101: 0.876 | AT101: VV | AU101: 2 | AV101: 2 | AW101: True | AX101: 1 | AY101: ROZPOCET
D102: VV | F102: 0,876*1,8 'Přepočtené koeficientem množství | H102: 1.577 | AT102: VV | AU102: 2 | AV102: 2 | AW102: False | AX102: 1 | AY102: ROZPOCET
C103: 7 | D103: K | E103: 174101101 | F103: Zásyp sypaninou z jakékoliv horniny s uložením výkopku ve vrstvách se zhutněním jam, šachet, rýh nebo kolem objektů v těchto vykopávkách | G103: m3 | H103: 0.864 | J103: =ROUND(I103*H103,2) -> 0 | K103: CS ÚRS 2017 01 | N103: základní | P103: =O103*H103 -> 0 | Q103: 0 | R103: =Q103*H103 -> 0 | S103: 0 | T103: =S103*H103 -> 0 | AR103: 4 | AT103: K | AU103: 2 | AY103: ROZPOCET | BE103: =IF(N103="základní",J103,0) -> 0 | BF103: =IF(N103="snížená",J103,0) -> 0 | BG103: =IF(N103="zákl. přenesená",J103,0) -> 0 | BH103: =IF(N103="sníž. přenesená",J103,0) -> 0 | BI103: =IF(N103="nulová",J103,0) -> 0 | BJ103: 1 | BK103: =ROUND(I103*H103,2) -> 0 | BL103: 4 | BM103: 1055346814
D104: PSC | F104: Poznámka k souboru cen:_x000D_ 1. Ceny 174 10- . . jsou určeny pro zhutněné zásypy s mírou zhutnění: a) z hornin soudržných do 100 % PS, b) z hornin nesoudržných do I(d) 0,9, c) z hornin kamenitých pro jakoukoliv míru zhutnění. 2. Je-li projektem předepsáno vyšší zhutnění, podle bodu a) a b) poznámky č 1., ocení se zásyp individuálně. 3. Ceny nelze použít pro zásyp rýh pro drenážní trativody pro lesnicko-technické meliorace a zemědělské. Zásyp těchto rýh se oceňuje cenami souboru cen 174 20-3 . části A 03 Zemní práce pro objekty oborů 831 až 833. Nezhutněný zásyp odvodňovacích kanálů z betonových a železobetonových trub v polních a lučních tratích se oceňuje cenou -1101 Zásyp sypaninou rýh bez ohledu na šířku kanálu; cena obsahuje i náklady na ruční nezhutněný zásyp výšky do 200 mm nad vrchol potrubí. 4. V cenách 10-1101, 10-1103, 20-1101 a 20-1103 je započteno přemístění sypaniny ze vzdálenosti 10 m od kraje výkopu nebo zasypávaného prostoru, měřeno k těžišti skládky. 5. V ceně 10-1102 je započteno přemístění sypaniny ze vzdálenosti 15 m od hrany zasypávaného prostoru, měřeno k těžišti skládky. 6. Objem zásypu je rozdíl objemu výkopu a objemu do něho vestavěných konstrukcí nebo uložených vedení i s jejich obklady a podklady (tento objem se nazývá objemem horniny vytlačené konstrukcí). Objem potrubí do DN 180, příp. i s obalem, se od objemu zásypu neodečítá. Pro stanovení objemu zásypu se od objemu výkopu odečítá i objem obsypu potrubí oceňovaný cenami souboru cen 175 10-11 Obsyp potrubí, přichází-li v úvahu . 7. Odklizení zbylého výkopku po provedení zásypu zářezů se šikmými stěnami pro podzemní vedení nebo zásypu jam a rýh pro podzemní vedení se oceňuje, je-li objem zbylého výkopku: a) do 1 m3 na 1 m vedení a jedná se o výkopek neulehlý - cenami souboru cen 167 10-110 Nakládání výkopku nebo sypaniny a 162 . 0-1 . Vodorovné přemístění výkopku. V případě, že se jedná o výkopek ulehlý - rozpojení a naložení výkopku cenami souboru cen 122 . 0-1 . souboru cen 162 . 0-1 . Vodorovné přemístění výkopku; b) přes 1 m3 na 1 m vedení, jestliže projekt předepíše, že se zbylý výkopek bude odklízet zároveň s prováděním vykopávky, pouze přemístění výkopku cenami souboru cen 162 . 0-1 . Vodorovné přemístění výkopku. Při zmíněném objemu zbylého výkopku se neoceňuje ani naložení ani rozpojení výkopku. Jestliže se zbylý výkopek neodklízí, nýbrž rozprostírá podél výkopu a nad výkopem, platí poznámka č. 8. 8. Rozprostření zbylého výkopku podél výkopu a nad výkopem po provedení zásypů zářezů se šikmými stěnami pro podzemní vedení nebo zásypu jam a rýh pro podzemní vedení se oceňuje: a) cenou 171 20-1101 Uložení sypaniny do nezhutněných násypů, není-li projektem předepsáno zhutnění rozprostřeného zbylého výkopku, b) cenou 171 10-1111 Uložení sypaniny do násypů z hornin sypkých, je-li předepsáno zhutnění rozprostřeného zbylého výkopku, a to v objemu vypočteném podle poznámky č.6, příp. zmenšeném o objem výkopku, který byl již odklizen. 9. Míru zhutnění předepisuje projekt. | AT104: PSC | AU104: 2
C105: 8 | D105: K | E105: 175111101 | F105: Obsypání potrubí ručně sypaninou z vhodných hornin tř. 1 až 4 nebo materiálem připraveným podél výkopu ve vzdálenosti do 3 m od jeho kraje, pro jakoukoliv hloubku výkopu a míru zhutnění bez prohození sypaniny | G105: m3 | H105: 0.48 | J105: =ROUND(I105*H105,2) -> 0 | K105: CS ÚRS 2017 01 | N105: základní | P105: =O105*H105 -> 0 | Q105: 0 | R105: =Q105*H105 -> 0 | S105: 0 | T105: =S105*H105 -> 0 | AR105: 4 | AT105: K | AU105: 2 | AY105: ROZPOCET | BE105: =IF(N105="základní",J105,0) -> 0 | BF105: =IF(N105="snížená",J105,0) -> 0 | BG105: =IF(N105="zákl. přenesená",J105,0) -> 0 | BH105: =IF(N105="sníž. přenesená",J105,0) -> 0 | BI105: =IF(N105="nulová",J105,0) -> 0 | BJ105: 1 | BK105: =ROUND(I105*H105,2) -> 0 | BL105: 4 | BM105: -533646511
D106: PSC | F106: Poznámka k souboru cen:_x000D_ 1. Objem obsypu na 1 m délky potrubí se rovná šířce dna výkopu násobené součtem vnějšího průměru potrubí příp. i s obalem a projektované tloušťky obsypu nad, případně i pod potrubím. Pro odečítání objemu potrubí se započítávají všechny vestavěné konstrukce nebo uložené vedení i s jejich obklady a podklady (tento objem se nazývá objemem horniny vytlačené konstrukcí). 2. Míru zhutnění předepisuje projekt. 3. V cenách nejsou zahrnuty náklady na nakupovanou sypaninu. Tato se oceňuje ve specifikaci. | AT106: PSC | AU106: 2
C107: 9 | D107: M | E107: 583313460 | F107: kamenivo těžené drobné frakce 0-4 | G107: t | H107: 0.96 | J107: =ROUND(I107*H107,2) -> 0 | K107: CS ÚRS 2017 01 | N107: základní | P107: =O107*H107 -> 0 | Q107: 1 | R107: =Q107*H107 -> 0.96 | S107: 0 | T107: =S107*H107 -> 0 | AR107: 8 | AT107: M | AU107: 2 | AY107: ROZPOCET | BE107: =IF(N107="základní",J107,0) -> 0 | BF107: =IF(N107="snížená",J107,0) -> 0 | BG107: =IF(N107="zákl. přenesená",J107,0) -> 0 | BH107: =IF(N107="sníž. přenesená",J107,0) -> 0 | BI107: =IF(N107="nulová",J107,0) -> 0 | BJ107: 1 | BK107: =ROUND(I107*H107,2) -> 0 | BL107: 4 | BM107: 1420002053
D108: VV | F108: 0,48*2 'Přepočtené koeficientem množství | H108: 0.96 | AT108: VV | AU108: 2 | AV108: 2 | AW108: False | AX108: 1 | AY108: ROZPOCET
D109: D | E109: 4 | F109: Vodorovné konstrukce | J109: =BK109 -> 0 | P109: =SUM(P110:P111) -> 0 | R109: =SUM(R110:R111) -> 0 | T109: =SUM(T110:T111) -> 0 | AR109: 1 | AT109: D | AU109: 1 | AY109: ROZPOCET | BK109: =SUM(BK110:BK111) -> 0
C110: 10 | D110: K | E110: 451572111 | F110: Lože pod potrubí, stoky a drobné objekty v otevřeném výkopu z kameniva drobného těženého 0 až 4 mm | G110: m3 | H110: 0.096 | J110: =ROUND(I110*H110,2) -> 0 | K110: CS ÚRS 2017 01 | N110: základní | P110: =O110*H110 -> 0 | Q110: 0 | R110: =Q110*H110 -> 0 | S110: 0 | T110: =S110*H110 -> 0 | AR110: 4 | AT110: K | AU110: 2 | AY110: ROZPOCET | BE110: =IF(N110="základní",J110,0) -> 0 | BF110: =IF(N110="snížená",J110,0) -> 0 | BG110: =IF(N110="zákl. přenesená",J110,0) -> 0 | BH110: =IF(N110="sníž. přenesená",J110,0) -> 0 | BI110: =IF(N110="nulová",J110,0) -> 0 | BJ110: 1 | BK110: =ROUND(I110*H110,2) -> 0 | BL110: 4 | BM110: -906817573
D111: PSC | F111: Poznámka k souboru cen:_x000D_ 1. Ceny -1111 a -1192 lze použít i pro zřízení sběrných vrstev nad drenážními trubkami. 2. V cenách -5111 a -1192 jsou započteny i náklady na prohození výkopku získaného při zemních pracích. | AT111: PSC | AU111: 2
D112: D | E112: 5 | F112: Komunikace pozemní | J112: =BK112 -> 0 | P112: =SUM(P113:P114) -> 0 | R112: =SUM(R113:R114) -> 0.08565 | T112: =SUM(T113:T114) -> 0 | AR112: 1 | AT112: D | AU112: 1 | AY112: ROZPOCET | BK112: =SUM(BK113:BK114) -> 0
C113: 11 | D113: K | E113: 596211210 | F113: Kladení dlažby z betonových zámkových dlaždic komunikací pro pěší s ložem z kameniva těženého nebo drceného tl. do 40 mm, s vyplněním spár s dvojitým hutněním, vibrováním a se smetením přebytečného materiálu na krajnici tl. 80 mm skupiny A, pro plochy do 50 m2 | G113: m2 | H113: 1 | J113: =ROUND(I113*H113,2) -> 0 | K113: CS ÚRS 2017 01 | N113: základní | P113: =O113*H113 -> 0 | Q113: 0.08565 | R113: =Q113*H113 -> 0.08565 | S113: 0 | T113: =S113*H113 -> 0 | AR113: 4 | AT113: K | AU113: 2 | AY113: ROZPOCET | BE113: =IF(N113="základní",J113,0) -> 0 | BF113: =IF(N113="snížená",J113,0) -> 0 | BG113: =IF(N113="zákl. přenesená",J113,0) -> 0 | BH113: =IF(N113="sníž. přenesená",J113,0) -> 0 | BI113: =IF(N113="nulová",J113,0) -> 0 | BJ113: 1 | BK113: =ROUND(I113*H113,2) -> 0 | BL113: 4 | BM113: 396773207
D114: PSC | F114: Poznámka k souboru cen:_x000D_ 1. Pro volbu cen dlažeb platí toto rozdělení: Skupina A: dlažby z prvků stejného tvaru, Skupina B: dlažby z prvků dvou a více tvarů nebo z obrazců o ploše jednotlivě do 100 m2, Skupina C: dlažby obloukovitých tvarů (oblouky, kruhy, apod.). 2. V cenách jsou započteny i náklady na dodání hmot pro lože a na dodání materiálu na výplň spár. 3. V cenách nejsou započteny náklady na dodání zámkové dlažby, které se oceňuje ve specifikaci; ztratné lze dohodnout u plochy a) do 100 m2 ve výši 3 %, b) přes 100 do 300 m2 ve výši 2 %, c) přes 300 m2 ve výši 1 %. 4. Část lože přesahující tloušťku 40 mm se oceňuje cenami souboru cen 451 . . -9 . Příplatek za každých dalších 10 mm tloušťky podkladu nebo lože. | AT114: PSC | AU114: 2
D115: D | E115: 8 | F115: Trubní vedení | J115: =BK115 -> 0 | P115: =SUM(P116:P131) -> 0 | R115: =SUM(R116:R131) -> 0.00779 | T115: =SUM(T116:T131) -> 0 | AR115: 1 | AT115: D | AU115: 1 | AY115: ROZPOCET | BK115: =SUM(BK116:BK131) -> 0
C116: 12 | D116: K | E116: 871265211 | F116: Kanalizační potrubí z tvrdého PVC v otevřeném výkopu ve sklonu do 20 %, hladkého plnostěnného jednovrstvého, tuhost třídy SN 4 DN 110 | G116: m | H116: 1.5 | J116: =ROUND(I116*H116,2) -> 0 | K116: CS ÚRS 2017 01 | N116: základní | P116: =O116*H116 -> 0 | Q116: 0.00128 | R116: =Q116*H116 -> 0.00192 | S116: 0 | T116: =S116*H116 -> 0 | AR116: 4 | AT116: K | AU116: 2 | AY116: ROZPOCET | BE116: =IF(N116="základní",J116,0) -> 0 | BF116: =IF(N116="snížená",J116,0) -> 0 | BG116: =IF(N116="zákl. přenesená",J116,0) -> 0 | BH116: =IF(N116="sníž. přenesená",J116,0) -> 0 | BI116: =IF(N116="nulová",J116,0) -> 0 | BJ116: 1 | BK116: =ROUND(I116*H116,2) -> 0 | BL116: 4 | BM116: 373656796
D117: PSC | F117: Poznámka k souboru cen:_x000D_ 1. V cenách jsou započteny i náklady na dodání trub včetně gumového těsnění. 2. Použití trub dle tuhostí: a) třída SN 4: kanalizační sítě, přípojky, odvodňování pozemků s výškou krytí až 4 m b) třída SN 8: kanalizační sítě v nestandartních podmínkách uložení, vysoké teplotní a mechanické zatížení s výškou krytí do 8 m c) SN 10: kanalizační sítě, přípojky, odvodňování pozemků s výškou krytí > 8 m d) třída SN 12: kanalizační sítě s vysokým statickým zatížením a dynamickými rázy, při rychlosti média až 15 m/s a výškou krytí 0,7-10 m e) třída SN 16: kanalizační sítě s vysokým statickým zatížením a dynamickými rázy avýškou krytí 0,5-12 m. | AT117: PSC | AU117: 2
C118: 13 | D118: K | E118: 871315211 | F118: Kanalizační potrubí z tvrdého PVC v otevřeném výkopu ve sklonu do 20 %, hladkého plnostěnného jednovrstvého, tuhost třídy SN 4 DN 160 | G118: m | H118: 1 | J118: =ROUND(I118*H118,2) -> 0 | K118: CS ÚRS 2017 01 | N118: základní | P118: =O118*H118 -> 0 | Q118: 0.00274 | R118: =Q118*H118 -> 0.00274 | S118: 0 | T118: =S118*H118 -> 0 | AR118: 4 | AT118: K | AU118: 2 | AY118: ROZPOCET | BE118: =IF(N118="základní",J118,0) -> 0 | BF118: =IF(N118="snížená",J118,0) -> 0 | BG118: =IF(N118="zákl. přenesená",J118,0) -> 0 | BH118: =IF(N118="sníž. přenesená",J118,0) -> 0 | BI118: =IF(N118="nulová",J118,0) -> 0 | BJ118: 1 | BK118: =ROUND(I118*H118,2) -> 0 | BL118: 4 | BM118: 1194125994
D119: PSC | F119: Poznámka k souboru cen:_x000D_ 1. V cenách jsou započteny i náklady na dodání trub včetně gumového těsnění. 2. Použití trub dle tuhostí: a) třída SN 4: kanalizační sítě, přípojky, odvodňování pozemků s výškou krytí až 4 m b) třída SN 8: kanalizační sítě v nestandartních podmínkách uložení, vysoké teplotní a mechanické zatížení s výškou krytí do 8 m c) SN 10: kanalizační sítě, přípojky, odvodňování pozemků s výškou krytí > 8 m d) třída SN 12: kanalizační sítě s vysokým statickým zatížením a dynamickými rázy, při rychlosti média až 15 m/s a výškou krytí 0,7-10 m e) třída SN 16: kanalizační sítě s vysokým statickým zatížením a dynamickými rázy avýškou krytí 0,5-12 m. | AT119: PSC | AU119: 2
C120: 14 | D120: K | E120: 877265271 | F120: Montáž tvarovek na kanalizačním potrubí z trub z plastu z tvrdého PVC [systém KG] nebo z polypropylenu [systém KG 2000] v otevřeném výkopu lapačů střešních splavenin DN 100 | G120: kus | H120: 1 | J120: =ROUND(I120*H120,2) -> 0 | K120: CS ÚRS 2017 01 | N120: základní | P120: =O120*H120 -> 0 | Q120: 0 | R120: =Q120*H120 -> 0 | S120: 0 | T120: =S120*H120 -> 0 | AR120: 4 | AT120: K | AU120: 2 | AY120: ROZPOCET | BE120: =IF(N120="základní",J120,0) -> 0 | BF120: =IF(N120="snížená",J120,0) -> 0 | BG120: =IF(N120="zákl. přenesená",J120,0) -> 0 | BH120: =IF(N120="sníž. přenesená",J120,0) -> 0 | BI120: =IF(N120="nulová",J120,0) -> 0 | BJ120: 1 | BK120: =ROUND(I120*H120,2) -> 0 | BL120: 4 | BM120: 112693561
D121: PSC | F121: Poznámka k souboru cen:_x000D_ 1. V cenách nejsou započteny náklady na dodání tvarovek. Tvarovky se oceňují ve ve specifikaci. | AT121: PSC | AU121: 2
C122: 15 | D122: M | E122: 562311600 | F122: lapač střešních splavenin se zápachovou klapkou a lapacím košem DN 110 | G122: kus | H122: 1 | J122: =ROUND(I122*H122,2) -> 0 | K122: CS ÚRS 2017 01 | N122: základní | P122: =O122*H122 -> 0 | Q122: 0.00143 | R122: =Q122*H122 -> 0.00143 | S122: 0 | T122: =S122*H122 -> 0 | AR122: 8 | AT122: M | AU122: 2 | AY122: ROZPOCET | BE122: =IF(N122="základní",J122,0) -> 0 | BF122: =IF(N122="snížená",J122,0) -> 0 | BG122: =IF(N122="zákl. přenesená",J122,0) -> 0 | BH122: =IF(N122="sníž. přenesená",J122,0) -> 0 | BI122: =IF(N122="nulová",J122,0) -> 0 | BJ122: 1 | BK122: =ROUND(I122*H122,2) -> 0 | BL122: 4 | BM122: 1592408525
C123: 16 | D123: K | E123: 8772652R | F123: Demontáž potr. PVC | G123: m | H123: 2 | J123: =ROUND(I123*H123,2) -> 0 | N123: základní | P123: =O123*H123 -> 0 | Q123: 0 | R123: =Q123*H123 -> 0 | S123: 0 | T123: =S123*H123 -> 0 | AR123: 4 | AT123: K | AU123: 2 | AY123: ROZPOCET | BE123: =IF(N123="základní",J123,0) -> 0 | BF123: =IF(N123="snížená",J123,0) -> 0 | BG123: =IF(N123="zákl. přenesená",J123,0) -> 0 | BH123: =IF(N123="sníž. přenesená",J123,0) -> 0 | BI123: =IF(N123="nulová",J123,0) -> 0 | BJ123: 1 | BK123: =ROUND(I123*H123,2) -> 0 | BL123: 4 | BM123: 657486154
C124: 17 | D124: K | E124: 877315211 | F124: Montáž tvarovek na kanalizačním potrubí z trub z plastu z tvrdého PVC [systém KG] nebo z polypropylenu [systém KG 2000] v otevřeném výkopu jednoosých DN 150 | G124: kus | H124: 1 | J124: =ROUND(I124*H124,2) -> 0 | K124: CS ÚRS 2017 01 | N124: základní | P124: =O124*H124 -> 0 | Q124: 0 | R124: =Q124*H124 -> 0 | S124: 0 | T124: =S124*H124 -> 0 | AR124: 4 | AT124: K | AU124: 2 | AY124: ROZPOCET | BE124: =IF(N124="základní",J124,0) -> 0 | BF124: =IF(N124="snížená",J124,0) -> 0 | BG124: =IF(N124="zákl. přenesená",J124,0) -> 0 | BH124: =IF(N124="sníž. přenesená",J124,0) -> 0 | BI124: =IF(N124="nulová",J124,0) -> 0 | BJ124: 1 | BK124: =ROUND(I124*H124,2) -> 0 | BL124: 4 | BM124: -1717623334
D125: PSC | F125: Poznámka k souboru cen:_x000D_ 1. V cenách nejsou započteny náklady na dodání tvarovek. Tvarovky se oceňují ve ve specifikaci. | AT125: PSC | AU125: 2
C126: 18 | D126: M | E126: 286115040 | F126: redukce kanalizace plastová KG 160/110 | G126: kus | H126: 1 | J126: =ROUND(I126*H126,2) -> 0 | K126: CS ÚRS 2017 01 | N126: základní | P126: =O126*H126 -> 0 | Q126: 0.00046 | R126: =Q126*H126 -> 0.00046 | S126: 0 | T126: =S126*H126 -> 0 | AR126: 8 | AT126: M | AU126: 2 | AY126: ROZPOCET | BE126: =IF(N126="základní",J126,0) -> 0 | BF126: =IF(N126="snížená",J126,0) -> 0 | BG126: =IF(N126="zákl. přenesená",J126,0) -> 0 | BH126: =IF(N126="sníž. přenesená",J126,0) -> 0 | BI126: =IF(N126="nulová",J126,0) -> 0 | BJ126: 1 | BK126: =ROUND(I126*H126,2) -> 0 | BL126: 4 | BM126: -547177853
C127: 19 | D127: K | E127: 877315221 | F127: Montáž tvarovek na kanalizačním potrubí z trub z plastu z tvrdého PVC [systém KG] nebo z polypropylenu [systém KG 2000] v otevřeném výkopu dvouosých DN 150 | G127: kus | H127: 1 | J127: =ROUND(I127*H127,2) -> 0 | K127: CS ÚRS 2017 01 | N127: základní | P127: =O127*H127 -> 0 | Q127: 1e-05 | R127: =Q127*H127 -> 1e-05 | S127: 0 | T127: =S127*H127 -> 0 | AR127: 4 | AT127: K | AU127: 2 | AY127: ROZPOCET | BE127: =IF(N127="základní",J127,0) -> 0 | BF127: =IF(N127="snížená",J127,0) -> 0 | BG127: =IF(N127="zákl. přenesená",J127,0) -> 0 | BH127: =IF(N127="sníž. přenesená",J127,0) -> 0 | BI127: =IF(N127="nulová",J127,0) -> 0 | BJ127: 1 | BK127: =ROUND(I127*H127,2) -> 0 | BL127: 4 | BM127: 200497251
D128: PSC | F128: Poznámka k souboru cen:_x000D_ 1. V cenách nejsou započteny náklady na dodání tvarovek. Tvarovky se oceňují ve ve specifikaci. | AT128: PSC | AU128: 2
C129: 20 | D129: M | E129: 286113900 | F129: odbočka kanalizační plastová s hrdlem KG 150/110/45° | G129: kus | H129: 1 | J129: =ROUND(I129*H129,2) -> 0 | K129: CS ÚRS 2017 01 | N129: základní | P129: =O129*H129 -> 0 | Q129: 0.00123 | R129: =Q129*H129 -> 0.00123 | S129: 0 | T129: =S129*H129 -> 0 | AR129: 8 | AT129: M | AU129: 2 | AY129: ROZPOCET | BE129: =IF(N129="základní",J129,0) -> 0 | BF129: =IF(N129="snížená",J129,0) -> 0 | BG129: =IF(N129="zákl. přenesená",J129,0) -> 0 | BH129: =IF(N129="sníž. přenesená",J129,0) -> 0 | BI129: =IF(N129="nulová",J129,0) -> 0 | BJ129: 1 | BK129: =ROUND(I129*H129,2) -> 0 | BL129: 4 | BM129: -1806491515
C130: 21 | D130: K | E130: 892351111 | F130: Tlakové zkoušky vodou na potrubí DN 150 nebo 200 | G130: m | H130: 1.5 | J130: =ROUND(I130*H130,2) -> 0 | K130: CS ÚRS 2017 01 | N130: základní | P130: =O130*H130 -> 0 | Q130: 0 | R130: =Q130*H130 -> 0 | S130: 0 | T130: =S130*H130 -> 0 | AR130: 4 | AT130: K | AU130: 2 | AY130: ROZPOCET | BE130: =IF(N130="základní",J130,0) -> 0 | BF130: =IF(N130="snížená",J130,0) -> 0 | BG130: =IF(N130="zákl. přenesená",J130,0) -> 0 | BH130: =IF(N130="sníž. přenesená",J130,0) -> 0 | BI130: =IF(N130="nulová",J130,0) -> 0 | BJ130: 1 | BK130: =ROUND(I130*H130,2) -> 0 | BL130: 4 | BM130: -556840554
D131: PSC | F131: Poznámka k souboru cen:_x000D_ 1. Ceny -2111 jsou určeny pro zabezpečení jednoho konce zkoušeného úseku jakéhokoliv druhu potrubí. 2. V cenách jsou započteny náklady: a) u cen -1111 - na přísun, montáž, demontáž a odsun zkoušecího čerpadla, napuštění tlakovou vodou a dodání vody pro tlakovou zkoušku, b) u cen -2111 - na montáž a demontáž výrobků nebo dílců pro zabezpečení konce zkoušeného úseku potrubí, na montáž a demontáž koncových tvarovek, na montáž zaslepovací příruby, na zaslepení odboček pro hydranty, vzdušníky a jiné armatury a odbočky pro odbočující řady, | AT131: PSC | AU131: 2
...

Sheet 07 - VRN
D1: List obsahuje: | F1: 1) Krycí list soupisu | G1: 2) Rekapitulace | J1: 3) Soupis prací | K1: Zpět na list: | L1: Rekapitulace stavby
AT2: {fcb3b7c6-aa6d-41d6-9355-e9e4b24e739c}
AT3: 2
D4: KRYCÍ LIST SOUPISU | M4: v --- níže se nacházejí doplnkové a pomocné údaje k sestavám --- v | AT4: False
D6: Stavba:
E7: ='Rekapitulace stavby'!K6 -> Bezbariérové úpravy MěÚ Mimoň č.p. 181
D8: Objekt:
E9: 07 - VRN
D11: KSO: | I11: CC-CZ:
D12: Místo: | F12: Mimoň | I12: Datum: | J12: ='Rekapitulace stavby'!AN8 -> 6. 4. 2017
D14: Zadavatel: | I14: IČ: | J14: =IF('Rekapitulace stavby'!AN10="","",'Rekapitulace stavby'!AN10)
E15: =IF('Rekapitulace stavby'!E11="","",'Rekapitulace stavby'!E11) -> Město Mimoň | I15: DIČ: | J15: =IF('Rekapitulace stavby'!AN11="","",'Rekapitulace stavby'!AN11)
D17: Uchazeč: | I17: IČ: | J17: =IF('Rekapitulace stavby'!AN13="Vyplň údaj","",IF('Rekapitulace stavby'!AN13="","",'Rekapitulace stavby'!AN13))
E18: =IF('Rekapitulace stavby'!E14="Vyplň údaj","",IF('Rekapitulace stavby'!E14="","",'Rekapitulace stavby'!E14)) | I18: DIČ: | J18: =IF('Rekapitulace stavby'!AN14="Vyplň údaj","",IF('Rekapitulace stavby'!AN14="","",'Rekapitulace stavby'!AN14))
D20: Projektant: | I20: IČ: | J20: =IF('Rekapitulace stavby'!AN16="","",'Rekapitulace stavby'!AN16)
E21: =IF('Rekapitulace stavby'!E17="","",'Rekapitulace stavby'!E17) -> Radek Voce | I21: DIČ: | J21: =IF('Rekapitulace stavby'!AN17="","",'Rekapitulace stavby'!AN17)
D23: Poznámka:
D27: Cena bez DPH | J27: =ROUND(J81,2) -> 0
F29: Základ daně | I29: Sazba daně | J29: Výše daně
D30: DPH | E30: základní | F30: =ROUND(SUM(BE81:BE92), 2) -> 0 | I30: 0.21 | J30: =ROUND(ROUND((SUM(BE81:BE92)), 2)*I30, 2) -> 0
E31: snížená | F31: =ROUND(SUM(BF81:BF92), 2) -> 0 | I31: 0.15 | J31: =ROUND(ROUND((SUM(BF81:BF92)), 2)*I31, 2) -> 0
E32: zákl. přenesená | F32: =ROUND(SUM(BG81:BG92), 2) -> 0 | I32: 0.21 | J32: 0
E33: sníž. přenesená | F33: =ROUND(SUM(BH81:BH92), 2) -> 0 | I33: 0.15 | J33: 0
E34: nulová | F34: =ROUND(SUM(BI81:BI92), 2) -> 0 | I34: 0 | J34: 0
D36: Cena s DPH | G36: v | H36: CZK | J36: =SUM(J27:J34) -> 0
C42: REKAPITULACE ČLENĚNÍ SOUPISU PRACÍ
C44: Stavba:
E45: =E7 -> Bezbariérové úpravy MěÚ Mimoň č.p. 181
C46: Objekt:
E47: =E9 -> 07 - VRN
C49: Místo: | F49: =F12 -> Mimoň | I49: Datum: | J49: =IF(J12="","",J12) -> 6. 4. 2017
C51: Zadavatel: | F51: =E15 -> Město Mimoň | I51: Projektant: | J51: =E21 -> Radek Voce
C52: Uchazeč: | F52: =IF(E18="","",E18)
C54: Kód dílu - Popis | J54: Cena celkem [CZK]
C56: Náklady soupisu celkem | J56: =J81 -> 0 | AU56: -1
D57: VRN - Vedlejší rozpočtové náklady | J57: =J82 -> 0
D58: VRN1 - Průzkumné, geodetické a projektové práce | J58: =J83 -> 0
D59: VRN3 - Zařízení staveniště | J59: =J86 -> 0
D60: VRN4 - Inženýrská činnost | J60: =J89 -> 0
D61: VRN7 - Provozní vlivy | J61: =J91 -> 0
C68: SOUPIS PRACÍ
C70: Stavba:
E71: =E7 -> Bezbariérové úpravy MěÚ Mimoň č.p. 181
C72: Objekt:
E73: =E9 -> 07 - VRN
C75: Místo: | F75: =F12 -> Mimoň | I75: Datum: | J75: =IF(J12="","",J12) -> 6. 4. 2017
C77: Zadavatel: | F77: =E15 -> Město Mimoň | I77: Projektant: | J77: =E21 -> Radek Voce
C78: Uchazeč: | F78: =IF(E18="","",E18)
C80: PČ | D80: Typ | E80: Kód | F80: Popis | G80: MJ | H80: Množství | I80: J.cena [CZK] | J80: Cena celkem [CZK] | K80: Cenová soustava | M80: Poznámka | N80: DPH | O80: J. Nh [h] | P80: Nh celkem [h] | Q80: J. hmotnost_x000D_ [t] | R80: Hmotnost_x000D_ celkem [t] | S80: J. suť [t] | T80: Suť Celkem [t]
C81: Náklady soupisu celkem | J81: =BK81 -> 0 | P81: =P82 -> 0 | R81: =R82 -> 0 | T81: =T82 -> 0 | AT81: D | AU81: -1 | BK81: =BK82 -> 0
D82: D | E82: VRN | F82: Vedlejší rozpočtové náklady | J82: =BK82 -> 0 | P82: =P83+P86+P89+P91 -> 0 | R82: =R83+R86+R89+R91 -> 0 | T82: =T83+T86+T89+T91 -> 0 | AR82: 5 | AT82: D | AU82: 0 | AY82: ROZPOCET | BK82: =BK83+BK86+BK89+BK91 -> 0
D83: D | E83: VRN1 | F83: Průzkumné, geodetické a projektové práce | J83: =BK83 -> 0 | P83: =SUM(P84:P85) -> 0 | R83: =SUM(R84:R85) -> 0 | T83: =SUM(T84:T85) -> 0 | AR83: 5 | AT83: D | AU83: 1 | AY83: ROZPOCET | BK83: =SUM(BK84:BK85) -> 0
C84: 1 | D84: K | E84: 012103000 | F84: Průzkumné, geodetické a projektové práce geodetické práce před výstavbou - vytyčení sítí | G84: soubor | H84: 1 | J84: =ROUND(I84*H84,2) -> 0 | K84: CS ÚRS 2017 01 | N84: základní | P84: =O84*H84 -> 0 | Q84: 0 | R84: =Q84*H84 -> 0 | S84: 0 | T84: =S84*H84 -> 0 | AR84: 1024 | AT84: K | AU84: 2 | AY84: ROZPOCET | BE84: =IF(N84="základní",J84,0) -> 0 | BF84: =IF(N84="snížená",J84,0) -> 0 | BG84: =IF(N84="zákl. přenesená",J84,0) -> 0 | BH84: =IF(N84="sníž. přenesená",J84,0) -> 0 | BI84: =IF(N84="nulová",J84,0) -> 0 | BJ84: 1 | BK84: =ROUND(I84*H84,2) -> 0 | BL84: 1024 | BM84: -1765383157
C85: 2 | D85: K | E85: 013254000 | F85: Průzkumné, geodetické a projektové práce projektové práce dokumentace stavby (výkresová a textová) skutečného provedení stavby | G85: soubor | H85: 1 | J85: =ROUND(I85*H85,2) -> 0 | K85: CS ÚRS 2017 01 | N85: základní | P85: =O85*H85 -> 0 | Q85: 0 | R85: =Q85*H85 -> 0 | S85: 0 | T85: =S85*H85 -> 0 | AR85: 1024 | AT85: K | AU85: 2 | AY85: ROZPOCET | BE85: =IF(N85="základní",J85,0) -> 0 | BF85: =IF(N85="snížená",J85,0) -> 0 | BG85: =IF(N85="zákl. přenesená",J85,0) -> 0 | BH85: =IF(N85="sníž. přenesená",J85,0) -> 0 | BI85: =IF(N85="nulová",J85,0) -> 0 | BJ85: 1 | BK85: =ROUND(I85*H85,2) -> 0 | BL85: 1024 | BM85: 842682327
D86: D | E86: VRN3 | F86: Zařízení staveniště | J86: =BK86 -> 0 | P86: =SUM(P87:P88) -> 0 | R86: =SUM(R87:R88) -> 0 | T86: =SUM(T87:T88) -> 0 | AR86: 5 | AT86: D | AU86: 1 | AY86: ROZPOCET | BK86: =SUM(BK87:BK88) -> 0
C87: 3 | D87: K | E87: 032903000 | F87: Zařízení staveniště vybavení staveniště náklady na provoz a údržbu vybavení staveniště | G87: soubor | H87: 1 | J87: =ROUND(I87*H87,2) -> 0 | K87: CS ÚRS 2017 01 | N87: základní | P87: =O87*H87 -> 0 | Q87: 0 | R87: =Q87*H87 -> 0 | S87: 0 | T87: =S87*H87 -> 0 | AR87: 1024 | AT87: K | AU87: 2 | AY87: ROZPOCET | BE87: =IF(N87="základní",J87,0) -> 0 | BF87: =IF(N87="snížená",J87,0) -> 0 | BG87: =IF(N87="zákl. přenesená",J87,0) -> 0 | BH87: =IF(N87="sníž. přenesená",J87,0) -> 0 | BI87: =IF(N87="nulová",J87,0) -> 0 | BJ87: 1 | BK87: =ROUND(I87*H87,2) -> 0 | BL87: 1024 | BM87: -1435503225
C88: 4 | D88: K | E88: 034403000 | F88: Zařízení staveniště zabezpečení staveniště dopravní značení na staveništi | G88: soubor | H88: 1 | J88: =ROUND(I88*H88,2) -> 0 | K88: CS ÚRS 2017 01 | N88: základní | P88: =O88*H88 -> 0 | Q88: 0 | R88: =Q88*H88 -> 0 | S88: 0 | T88: =S88*H88 -> 0 | AR88: 1024 | AT88: K | AU88: 2 | AY88: ROZPOCET | BE88: =IF(N88="základní",J88,0) -> 0 | BF88: =IF(N88="snížená",J88,0) -> 0 | BG88: =IF(N88="zákl. přenesená",J88,0) -> 0 | BH88: =IF(N88="sníž. přenesená",J88,0) -> 0 | BI88: =IF(N88="nulová",J88,0) -> 0 | BJ88: 1 | BK88: =ROUND(I88*H88,2) -> 0 | BL88: 1024 | BM88: 1129997588
D89: D | E89: VRN4 | F89: Inženýrská činnost | J89: =BK89 -> 0 | P89: =P90 -> 0 | R89: =R90 -> 0 | T89: =T90 -> 0 | AR89: 5 | AT89: D | AU89: 1 | AY89: ROZPOCET | BK89: =BK90 -> 0
C90: 5 | D90: K | E90: 043194000 | F90: Inženýrská činnost zkoušky a ostatní měření zkoušky ostatní zkoušky a revize | G90: soubor | H90: 1 | J90: =ROUND(I90*H90,2) -> 0 | K90: CS ÚRS 2017 01 | N90: základní | P90: =O90*H90 -> 0 | Q90: 0 | R90: =Q90*H90 -> 0 | S90: 0 | T90: =S90*H90 -> 0 | AR90: 1024 | AT90: K | AU90: 2 | AY90: ROZPOCET | BE90: =IF(N90="základní",J90,0) -> 0 | BF90: =IF(N90="snížená",J90,0) -> 0 | BG90: =IF(N90="zákl. přenesená",J90,0) -> 0 | BH90: =IF(N90="sníž. přenesená",J90,0) -> 0 | BI90: =IF(N90="nulová",J90,0) -> 0 | BJ90: 1 | BK90: =ROUND(I90*H90,2) -> 0 | BL90: 1024 | BM90: -1576197159
D91: D | E91: VRN7 | F91: Provozní vlivy | J91: =BK91 -> 0 | P91: =P92 -> 0 | R91: =R92 -> 0 | T91: =T92 -> 0 | AR91: 5 | AT91: D | AU91: 1 | AY91: ROZPOCET | BK91: =BK92 -> 0
C92: 6 | D92: K | E92: 071103000 | F92: Provozní vlivy provoz investora, třetích osob provoz investora | G92: soubor | H92: 1 | J92: =ROUND(I92*H92,2) -> 0 | K92: CS ÚRS 2017 01 | N92: základní | P92: =O92*H92 -> 0 | Q92: 0 | R92: =Q92*H92 -> 0 | S92: 0 | T92: =S92*H92 -> 0 | AR92: 1024 | AT92: K | AU92: 2 | AY92: ROZPOCET | BE92: =IF(N92="základní",J92,0) -> 0 | BF92: =IF(N92="snížená",J92,0) -> 0 | BG92: =IF(N92="zákl. přenesená",J92,0) -> 0 | BH92: =IF(N92="sníž. přenesená",J92,0) -> 0 | BI92: =IF(N92="nulová",J92,0) -> 0 | BJ92: 1 | BK92: =ROUND(I92*H92,2) -> 0 | BL92: 1024 | BM92: -1283751880

Sheet Pokyny pro vyplnění
C3: Struktura údajů, formát souboru a metodika pro zpracování
C4: Struktura
C6: Soubor je složen ze záložky Rekapitulace stavby a záložek s názvem soupisu prací pro jednotlivé objekty ve formátu XLSX. Každá ze záložek přitom obsahuje
C7: ještě samostatné sestavy vymezené orámovaním a nadpisem sestavy.
C9: Rekapitulace stavby obsahuje sestavu Rekapitulace stavby a Rekapitulace objektů stavby a soupisů prací.
D10: V sestavě Rekapitulace stavby jsou uvedeny informace identifikující předmět veřejné zakázky na stavební práce, KSO, CC-CZ, CZ-CPV, CZ-CPA a rekapitulaci
D11: celkové nabídkové ceny uchazeče.
D13: V sestavě Rekapitulace objektů stavby a soupisů prací je uvedena rekapitulace stavebních objektů, inženýrských objektů, provozních souborů,
D14: vedlejších a ostatních nákladů a ostatních nákladů s rekapitulací nabídkové ceny za jednotlivé soupisy prací. Na základě údaje Typ je možné
D15: identifikovat, zda se jedná o objekt nebo soupis prací pro daný objekt:
E16: STA | F16: Stavební objekt pozemní
E17: ING | F17: Stavební objekt inženýrský
E18: PRO | F18: Provozní soubor
E19: VON | F19: Vedlejší a ostatní náklady
E20: OST | F20: Ostatní
E21: Soupis | F21: Soupis prací pro daný typ objektu
C23: Soupis prací pro jednotlivé objekty obsahuje sestavy Krycí list soupisu, Rekapitulace členění soupisu prací, Soupis prací. Za soupis prací může být považován
C24: i objekt stavby v případě, že neobsahuje podřízenou zakázku.
D25: Krycí list soupisu obsahuje rekapitulaci informací o předmětu veřejné zakázky ze sestavy Rekapitulace stavby, informaci o zařazení objektu do KSO,
D26: CC-CZ, CZ-CPV, CZ-CPA a rekapitulaci celkové nabídkové ceny uchazeče za aktuální soupis prací.
D28: Rekapitulace členění soupisu prací obsahuje rekapitulaci soupisu prací ve všech úrovních členění soupisu tak, jak byla tato členění použita (např.
D29: stavební díly, funkční díly, případně jiné členění) s rekapitulací nabídkové ceny.
D31: Soupis prací obsahuje položky veškerých stavebních nebo montážních prací, dodávek materiálů a služeb nezbytných pro zhotovení stavebního objektu,
D32: inženýrského objektu, provozního souboru, vedlejších a ostatních nákladů.
D33: Pro položky soupisu prací se zobrazují následující informace:
E34: PČ | G34: Pořadové číslo položky v aktuálním soupisu
E35: TYP | G35: Typ položky: K - konstrukce, M - materiál, PP - plný popis, PSC - poznámka k souboru cen, P - poznámka k položce, VV - výkaz výměr
E36: Kód | G36: Kód položky
E37: Popis | G37: Zkrácený popis položky
E38: MJ | G38: Měrná jednotka položky
E39: Množství | G39: Množství v měrné jednotce
E40: J.cena | G40: Jednotková cena položky. Zadaní může obsahovat namísto J.ceny sloupce J.materiál a J.montáž, jejichž součet definuje
G41: J.cenu položky.
E42: Cena celkem | G42: Celková cena položky daná jako součin množství a j.ceny
E43: Cenová soustava | G43: Příslušnost položky do cenové soustavy
D45: Ke každé položce soupisu prací se na samostatných řádcích může zobrazovat:
E46: Plný popis položky
E47: Poznámka k souboru cen a poznámka zadavatele
E48: Výkaz výměr
D49: Pokud je k řádku výkazu výměr evidovaný údaj ve sloupci Kód, jedná se o definovaný odkaz, na který se může odvolávat výkaz výměr z jiné položky.
C50: Metodika pro zpracování
C52: Jednotlivé sestavy jsou v souboru provázány. Editovatelné pole jsou zvýrazněny žlutým podbarvením, ostatní pole neslouží k editaci a nesmí být jakkoliv
C53: modifikovány.
C55: Uchazeč je pro podání nabídky povinen vyplnit žlutě podbarvená pole:
D56: Pole Uchazeč v sestavě Rekapitulace stavby - zde uchazeč vyplní svůj název (název subjektu)
D57: Pole IČ a DIČ v sestavě Rekapitulace stavby - zde uchazeč vyplní svoje IČ a DIČ
D58: Datum v sestavě Rekapitulace stavby - zde uchazeč vyplní datum vytvoření nabídky
D59: J.cena = jednotková cena v sestavě Soupis prací o maximálním počtu desetinných míst uvedených v poli
D60: - pokud sestavy soupisů prací obsahují pole J.cena, musí být všechna tato pole vyplněna nenulovými kladnými číslicemi
D61: Poznámka - nepovinný údaj pro položku soupisu
D63: V případě, že sestavy soupisů prací neobsahují pole J.cena, potom ve všech soupisech prací obsahují pole:
D64: - J.materiál - jednotková cena materiálu
D65: - J.montáž - jednotková cena montáže
D66: Uchazeč je v tomto případě povinen vyplnit všechna pole J.materiál a pole J.montáž nenulovými kladnými číslicemi. V případech, kdy položka
D67: neobsahuje žádný materiál je přípustné, aby pole J.materiál bylo vyplněno nulou. V případech, kdy položka neobsahuje žádnou montáž je přípustné,
D68: aby pole J.montáž bylo vyplněno nulou. Není však přípustné, aby obě pole - J.materiál, J.Montáž byly u jedné položky vyplněny nulou.
C73: Rekapitulace stavby
C74: Název | F74: Povinný | H74: Popis | I74: Typ | J74: Max. počet
C75: atributu | F75: (A/N) | J75: znaků
C77: Kód | F77: A | H77: Kód stavby | I77: String | J77: 20
C78: Stavba | F78: A | H78: Název stavby | I78: String | J78: 120
C79: Místo | F79: N | H79: Místo stavby | I79: String | J79: 50
C80: Datum | F80: A | H80: Datum vykonaného exportu | I80: Date
C81: KSO | F81: N | H81: Klasifikace stavebního objektu | I81: String | J81: 15
C82: CC-CZ | F82: N | H82: Klasifikace stavbeních děl | I82: String | J82: 15
C83: CZ-CPV | F83: N | H83: Společný slovník pro veřejné zakázky | I83: String | J83: 20
C84: CZ-CPA | F84: N | H84: Klasifikace produkce podle činností | I84: String | J84: 20
C85: Zadavatel | F85: N | H85: Zadavatel zadaní | I85: String | J85: 50
C86: IČ | F86: N | H86: IČ zadavatele zadaní | I86: String | J86: 20
C87: DIČ | F87: N | H87: DIČ zadavatele zadaní | I87: String | J87: 20
C88: Uchazeč | F88: N | H88: Uchazeč veřejné zakázky | I88: String | J88: 50
C89: Projektant | F89: N | H89: Projektant | I89: String | J89: 50
C90: Poznámka | F90: N | H90: Poznámka k zadání | I90: String | J90: 255
C91: Sazba DPH | F91: A | H91: Rekapitulace sazeb DPH u položek soupisů | I91: eGSazbaDph
C92: Základna DPH | F92: A | H92: Základna DPH určena součtem celkové ceny z položek soupisů | I92: Double
C93: Hodnota DPH | F93: A | H93: Hodnota DPH | I93: Double
C94: Cena bez DPH | F94: A | H94: Celková cena bez DPH za celou stavbu. Sčítává se ze všech listů. | I94: Double
C95: Cena s DPH | F95: A | H95: Celková cena s DPH za celou stavbu | I95: Double
C100: Rekapitulace objektů stavby a soupisů prací
C101: Název | F101: Povinný | H101: Popis | I101: Typ | J101: Max. počet
C102: atributu | F102: (A/N) | J102: znaků
C104: Kód | F104: A | H104: Přebírá se z Rekapitulace stavby | I104: String | J104: 20
C105: Stavba | F105: A | H105: Přebírá se z Rekapitulace stavby | I105: String | J105: 120
C106: Místo | F106: N | H106: Přebírá se z Rekapitulace stavby | I106: String | J106: 50
C107: Datum | F107: A | H107: Přebírá se z Rekapitulace stavby | I107: Date
C108: Zadavatel | F108: N | H108: Přebírá se z Rekapitulace stavby | I108: String | J108: 50
C109: Projektant | F109: N | H109: Přebírá se z Rekapitulace stavby | I109: String | J109: 50
C110: Uchazeč | F110: N | H110: Přebírá se z Rekapitulace stavby | I110: String | J110: 50
C111: Kód | F111: A | H111: Kód objektu | I111: String | J111: 20
C112: Objektu, Soupis prací | F112: A | H112: Název objektu | I112: String | J112: 120
C113: Cena bez DPH | F113: A | H113: Cena bez DPH za daný objekt | I113: Double
C114: Cena s DPH | F114: A | H114: Cena spolu s DPH za daný objekt | I114: Double
C115: Typ | F115: A | H115: Typ zakázky | I115: eGTypZakazky
C120: Krycí list soupisu
C121: Název | F121: Povinný | H121: Popis | I121: Typ | J121: Max. počet
C122: atributu | F122: (A/N) | J122: znaků
C124: Stavba | F124: A | H124: Přebírá se z Rekapitulace stavby | I124: String | J124: 120
C125: Objekt | F125: A | H125: Kód a název objektu | I125: String | J125: 20 + 120
C126: Soupis | F126: A | H126: Kód a název soupisu | I126: String | J126: 20 + 120
C127: KSO | F127: N | H127: Klasifikace stavebního objektu | I127: String | J127: 15
...
