Workbook

Sheet Rekapitulace stavby
A1: Export VZ | D1: List obsahuje: | K1: 1) Rekapitulace stavby | W1: 2) Rekapitulace objektů stavby a soupisů prací | BA1: 3.0 | BB1: ZAMOK | BT1: False | BU1: False | BV1: {568b56e6-a294-47c7-8a3f-3072fca871fa}
BS2: 0,01 | BT2: 21
BS3: 0,01 | BT3: 15
D4: REKAPITULACE STAVBY | AS4: v --- níže se nacházejí doplnkové a pomocné údaje k sestavám --- v | BE4: Návod na vyplnění | BS4: 0,001
D5: Kód: | K5: 18_037_0000 | BE5: Měnit lze pouze buňky se žlutým podbarvením!_x000D_ _x000D_ 1) v Rekapitulaci stavby vyplňte údaje o Uchazeči (přenesou se do ostatních sestav i v jiných listech)_x000D_ _x000D_ 2) na vybraných listech vyplňte v sestavě Soupis prací ceny u položek_x000D_ _x000D_ Podrobnosti k vyplnění naleznete na poslední záložce s Pokyny pro vyplnění | BS5: 0,01
D6: Stavba: | K6: Výměna a zateplení střešního pláště bytového domu Letná 255 a 256, Mimoň | BS6: 0,1
D7: KSO: | AK7: CC-CZ: | BS7: 1
D8: Místo: | K8: Letná 255 a 256, Mimoň | AK8: Datum: | AN8: 1. 6. 2018 | BS8: 10
BS9: 100
D10: Zadavatel: | AK10: IČ: | BS10: 0,1
E11: Město Mimoň | AK11: DIČ: | BS11: 0,1
BS12: 0,1
D13: Uchazeč: | AK13: IČ: | AN13: Vyplň údaj | BS13: 0,1
E14: Vyplň údaj | AK14: DIČ: | AN14: Vyplň údaj | BS14: 0,1
BS15: False
D16: Projektant: | AK16: IČ: | BS16: False
E17: Jiří Schneider | AK17: DIČ: | BS17: True
BS18: 0,01
D19: Poznámka: | BS19: 0,01
BS20: False
D23: Cena bez DPH | AK23: =ROUND(AG51,2) -> 0
L25: Sazba daně | W25: Základ daně | AK25: Výše daně
D26: DPH | F26: základní | L26: 0.21 | W26: =ROUND(AZ51,2) -> 0 | AK26: =ROUND(AV51,2) -> 0
F27: snížená | L27: 0.15 | W27: =ROUND(BA51,2) -> 0 | AK27: =ROUND(AW51,2) -> 0
F28: zákl. přenesená | L28: 0.21 | W28: =ROUND(BB51,2) -> 0 | AK28: 0
F29: sníž. přenesená | L29: 0.15 | W29: =ROUND(BC51,2) -> 0 | AK29: 0
F30: nulová | L30: 0 | W30: =ROUND(BD51,2) -> 0 | AK30: 0
D32: Cena s DPH | T32: v | X32: CZK | AK32: =SUM(AK23:AK30) -> 0
C39: REKAPITULACE OBJEKTŮ STAVBY A SOUPISŮ PRACÍ
C41: Kód: | L41: =K5 -> 18_037_0000
C42: Stavba: | L42: =K6 -> Výměna a zateplení střešního pláště bytového domu Letná 255 a 256, Mimoň
C44: Místo: | L44: =IF(K8="","",K8) -> Letná 255 a 256, Mimoň | AI44: Datum: | AM44: =IF(AN8= "","",AN8) -> 1. 6. 2018
C46: Zadavatel: | L46: =IF(E11= "","",E11) -> Město Mimoň | AI46: Projektant: | AM46: =IF(E17="","",E17) -> Jiří Schneider | AS46: Informatívní údaje z listů zakázek
C47: Uchazeč: | L47: =IF(E14= "Vyplň údaj","",E14)
C49: Kód | I49: Objekt, Soupis prací | AG49: Cena bez DPH [CZK] | AN49: Cena s DPH [CZK] | AQ49: Typ | AS49: z toho Ostat._x000D_ náklady [CZK] | AT49: DPH [CZK] | AU49: Normohodiny [h] | AV49: DPH základní [CZK] | AW49: DPH snížená [CZK] | AX49: DPH základní přenesená_x000D_ [CZK] | AY49: DPH snížená přenesená_x000D_ [CZK] | AZ49: Základna_x000D_ DPH základní | BA49: Základna_x000D_ DPH snížená | BB49: Základna_x000D_ DPH zákl. přenesená | BC49: Základna_x000D_ DPH sníž. přenesená | BD49: Základna_x000D_ DPH nulová
C51: Náklady stavby celkem | AG51: =ROUND(SUM(AG52:AG53),2) -> 0 | AN51: =SUM(AG51,AT51) -> 0 | AS51: =ROUND(SUM(AS52:AS53),2) -> 0 | AT51: =ROUND(SUM(AV51:AW51),2) -> 0 | AU51: =ROUND(SUM(AU52:AU53),5) -> 0 | AV51: =ROUND(AZ51*L26,2) -> 0 | AW51: =ROUND(BA51*L27,2) -> 0 | AX51: =ROUND(BB51*L26,2) -> 0 | AY51: =ROUND(BC51*L27,2) -> 0 | AZ51: =ROUND(SUM(AZ52:AZ53),2) -> 0 | BA51: =ROUND(SUM(BA52:BA53),2) -> 0 | BB51: =ROUND(SUM(BB52:BB53),2) -> 0 | BC51: =ROUND(SUM(BC52:BC53),2) -> 0 | BD51: =ROUND(SUM(BD52:BD53),2) -> 0 | BS51: D | BT51: 0 | BU51: ###NOIMPORT### | BV51: IMPORT | BW51: {568b56e6-a294-47c7-8a3f-3072fca871fa} | BX51: {00000000-0000-0000-0000-000000000000}
A52: / | D52: 17_037_0100 | J52: Stavební část | AG52: ='17_037_0100 - Stavební část'!J27 -> 0 | AN52: =SUM(AG52,AT52) -> 0 | AQ52: STA | AS52: 0 | AT52: =ROUND(SUM(AV52:AW52),2) -> 0 | AU52: ='17_037_0100 - Stavební část'!P88 -> 0 | AV52: ='17_037_0100 - Stavební část'!J30 -> 0 | AW52: ='17_037_0100 - Stavební část'!J31 -> 0 | AX52: ='17_037_0100 - Stavební část'!J32 -> 0 | AY52: ='17_037_0100 - Stavební část'!J33 -> 0 | AZ52: ='17_037_0100 - Stavební část'!F30 -> 0 | BA52: ='17_037_0100 - Stavební část'!F31 -> 0 | BB52: ='17_037_0100 - Stavební část'!F32 -> 0 | BC52: ='17_037_0100 - Stavební část'!F33 -> 0 | BD52: ='17_037_0100 - Stavební část'!F34 -> 0 | BT52: 1 | BV52: IMPORT | BW52: {d3bb881c-e9dd-45c6-84b5-4c55c64af778} | BX52: {568b56e6-a294-47c7-8a3f-3072fca871fa} | CM52: 1
A53: / | D53: 17_037_0200 | J53: Ostatní náklady | AG53: ='17_037_0200 - Ostatní nák...'!J27 -> 0 | AN53: =SUM(AG53,AT53) -> 0 | AQ53: STA | AS53: 0 | AT53: =ROUND(SUM(AV53:AW53),2) -> 0 | AU53: ='17_037_0200 - Ostatní nák...'!P77 -> 0 | AV53: ='17_037_0200 - Ostatní nák...'!J30 -> 0 | AW53: ='17_037_0200 - Ostatní nák...'!J31 -> 0 | AX53: ='17_037_0200 - Ostatní nák...'!J32 -> 0 | AY53: ='17_037_0200 - Ostatní nák...'!J33 -> 0 | AZ53: ='17_037_0200 - Ostatní nák...'!F30 -> 0 | BA53: ='17_037_0200 - Ostatní nák...'!F31 -> 0 | BB53: ='17_037_0200 - Ostatní nák...'!F32 -> 0 | BC53: ='17_037_0200 - Ostatní nák...'!F33 -> 0 | BD53: ='17_037_0200 - Ostatní nák...'!F34 -> 0 | BT53: 1 | BV53: IMPORT | BW53: {51eaceb4-658d-42bd-b4df-ed6904575185} | BX53: {568b56e6-a294-47c7-8a3f-3072fca871fa} | CM53: 1

Sheet 17_037_0100 - Stavební část
D1: List obsahuje: | F1: 1) Krycí list soupisu | G1: 2) Rekapitulace | J1: 3) Soupis prací | K1: Zpět na list: | L1: Rekapitulace stavby
AT2: {d3bb881c-e9dd-45c6-84b5-4c55c64af778}
AT3: 1
D4: KRYCÍ LIST SOUPISU | M4: v --- níže se nacházejí doplnkové a pomocné údaje k sestavám --- v | AT4: False
D6: Stavba:
E7: ='Rekapitulace stavby'!K6 -> Výměna a zateplení střešního pláště bytového domu Letná 255 a 256, Mimoň
D8: Objekt:
E9: 17_037_0100 - Stavební část
D11: KSO: | I11: CC-CZ:
D12: Místo: | F12: Letná 255 a 256, Mimoň | I12: Datum: | J12: ='Rekapitulace stavby'!AN8 -> 1. 6. 2018
D14: Zadavatel: | I14: IČ: | J14: =IF('Rekapitulace stavby'!AN10="","",'Rekapitulace stavby'!AN10)
E15: =IF('Rekapitulace stavby'!E11="","",'Rekapitulace stavby'!E11) -> Město Mimoň | I15: DIČ: | J15: =IF('Rekapitulace stavby'!AN11="","",'Rekapitulace stavby'!AN11)
D17: Uchazeč: | I17: IČ: | J17: =IF('Rekapitulace stavby'!AN13="Vyplň údaj","",IF('Rekapitulace stavby'!AN13="","",'Rekapitulace stavby'!AN13))
E18: =IF('Rekapitulace stavby'!E14="Vyplň údaj","",IF('Rekapitulace stavby'!E14="","",'Rekapitulace stavby'!E14)) | I18: DIČ: | J18: =IF('Rekapitulace stavby'!AN14="Vyplň údaj","",IF('Rekapitulace stavby'!AN14="","",'Rekapitulace stavby'!AN14))
D20: Projektant: | I20: IČ:
E21: Jiří Schneider | I21: DIČ:
D23: Poznámka:
D27: Cena bez DPH | J27: =ROUND(J88,2) -> 0
F29: Základ daně | I29: Sazba daně | J29: Výše daně
D30: DPH | E30: základní | F30: =ROUND(SUM(BE88:BE296), 2) -> 0 | I30: 0.21 | J30: =ROUND(ROUND((SUM(BE88:BE296)), 2)*I30, 2) -> 0
E31: snížená | F31: =ROUND(SUM(BF88:BF296), 2) -> 0 | I31: 0.15 | J31: =ROUND(ROUND((SUM(BF88:BF296)), 2)*I31, 2) -> 0
E32: zákl. přenesená | F32: =ROUND(SUM(BG88:BG296), 2) -> 0 | I32: 0.21 | J32: 0
E33: sníž. přenesená | F33: =ROUND(SUM(BH88:BH296), 2) -> 0 | I33: 0.15 | J33: 0
E34: nulová | F34: =ROUND(SUM(BI88:BI296), 2) -> 0 | I34: 0 | J34: 0
D36: Cena s DPH | G36: v | H36: CZK | J36: =SUM(J27:J34) -> 0
C42: REKAPITULACE ČLENĚNÍ SOUPISU PRACÍ
C44: Stavba:
E45: =E7 -> Výměna a zateplení střešního pláště bytového domu Letná 255 a 256, Mimoň
C46: Objekt:
E47: =E9 -> 17_037_0100 - Stavební část
C49: Místo: | F49: =F12 -> Letná 255 a 256, Mimoň | I49: Datum: | J49: =IF(J12="","",J12) -> 1. 6. 2018
C51: Zadavatel: | F51: =E15 -> Město Mimoň | I51: Projektant: | J51: =E21 -> Jiří Schneider
C52: Uchazeč: | F52: =IF(E18="","",E18)
C54: Kód dílu - Popis | J54: Cena celkem [CZK]
C56: Náklady soupisu celkem | J56: =J88 -> 0 | AU56: -1
D57: HSV - Práce a dodávky HSV | J57: =J89 -> 0
D58: 9 - Ostatní konstrukce a práce, bourání | J58: =J90 -> 0
D59: 997 - Přesun sutě | J59: =J106 -> 0
D60: PSV - Práce a dodávky PSV | J60: =J114 -> 0
D61: 712 - Povlakové krytiny | J61: =J115 -> 0
D62: 713 - Izolace tepelné | J62: =J119 -> 0
D63: 743 - Elektromontáže - hrubá montáž | J63: =J137 -> 0
D64: 762 - Konstrukce tesařské | J64: =J139 -> 0
D65: 764 - Konstrukce klempířské | J65: =J197 -> 0
D66: 765 - Krytina skládaná | J66: =J230 -> 0
D67: 766 - Konstrukce truhlářské | J67: =J283 -> 0
D68: OST - Ostatní | J68: =J295 -> 0
C75: SOUPIS PRACÍ
C77: Stavba:
E78: =E7 -> Výměna a zateplení střešního pláště bytového domu Letná 255 a 256, Mimoň
C79: Objekt:
E80: =E9 -> 17_037_0100 - Stavební část
C82: Místo: | F82: =F12 -> Letná 255 a 256, Mimoň | I82: Datum: | J82: =IF(J12="","",J12) -> 1. 6. 2018
C84: Zadavatel: | F84: =E15 -> Město Mimoň | I84: Projektant: | J84: =E21 -> Jiří Schneider
C85: Uchazeč: | F85: =IF(E18="","",E18)
C87: PČ | D87: Typ | E87: Kód | F87: Popis | G87: MJ | H87: Množství | I87: J.cena [CZK] | J87: Cena celkem [CZK] | K87: Cenová soustava | M87: Poznámka | N87: DPH | O87: J. Nh [h] | P87: Nh celkem [h] | Q87: J. hmotnost_x000D_ [t] | R87: Hmotnost_x000D_ celkem [t] | S87: J. suť [t] | T87: Suť Celkem [t]
C88: Náklady soupisu celkem | J88: =BK88 -> 0 | P88: =P89+P114 -> 0 | R88: =R89+R114 -> 13.123405 | T88: =T89+T114 -> 3.2010719 | AT88: D | AU88: -1 | BK88: =BK89+BK114 -> 0
D89: D | E89: HSV | F89: Práce a dodávky HSV | J89: =BK89 -> 0 | P89: =P90+P106 -> 0 | R89: =R90+R106 -> 0 | T89: =T90+T106 -> 0 | AR89: 1 | AT89: D | AU89: 0 | AY89: ROZPOCET | BK89: =BK90+BK106 -> 0
D90: D | E90: 9 | F90: Ostatní konstrukce a práce, bourání | J90: =BK90 -> 0 | P90: =SUM(P91:P105) -> 0 | R90: =SUM(R91:R105) -> 0 | T90: =SUM(T91:T105) -> 0 | AR90: 1 | AT90: D | AU90: 1 | AY90: ROZPOCET | BK90: =SUM(BK91:BK105) -> 0
C91: 1 | D91: K | E91: 9_001 | F91: D+M provedení opravy ostění oken po montáži - SDK+výmalba ostění | G91: bm | H91: 101.92 | J91: =ROUND(I91*H91,2) -> 0 | K91: Kalkul. rozpočtáře | N91: snížená | P91: =O91*H91 -> 0 | Q91: 0 | R91: =Q91*H91 -> 0 | S91: 0 | T91: =S91*H91 -> 0 | AR91: 4 | AT91: K | AU91: 2 | AY91: ROZPOCET | BE91: =IF(N91="základní",J91,0) -> 0 | BF91: =IF(N91="snížená",J91,0) -> 0 | BG91: =IF(N91="zákl. přenesená",J91,0) -> 0 | BH91: =IF(N91="sníž. přenesená",J91,0) -> 0 | BI91: =IF(N91="nulová",J91,0) -> 0 | BJ91: 2 | BK91: =ROUND(I91*H91,2) -> 0 | BL91: 4 | BM91: -481125817
D92: VV | F92: "v.č.d.1.1-03" | AT92: VV | AU92: 2 | AV92: 1 | AW92: True | AX92: 0 | AY92: ROZPOCET
D93: VV | F93: (10+16)*(0,78+1,18)*2 | H93: 101.92 | AT93: VV | AU93: 2 | AV93: 2 | AW93: True | AX93: 1 | AY93: ROZPOCET
C94: 2 | D94: K | E94: 941211111 | F94: Montáž lešení řadového rámového lehkého pracovního s podlahami s provozním zatížením tř. 3 do 200 kg/m2 šířky tř. SW06 přes 0,6 do 0,9 m, výšky do 10 m | G94: m2 | H94: 1186.17 | J94: =ROUND(I94*H94,2) -> 0 | K94: CS ÚRS 2018 01 | N94: snížená | P94: =O94*H94 -> 0 | Q94: 0 | R94: =Q94*H94 -> 0 | S94: 0 | T94: =S94*H94 -> 0 | AR94: 4 | AT94: K | AU94: 2 | AY94: ROZPOCET | BE94: =IF(N94="základní",J94,0) -> 0 | BF94: =IF(N94="snížená",J94,0) -> 0 | BG94: =IF(N94="zákl. přenesená",J94,0) -> 0 | BH94: =IF(N94="sníž. přenesená",J94,0) -> 0 | BI94: =IF(N94="nulová",J94,0) -> 0 | BJ94: 2 | BK94: =ROUND(I94*H94,2) -> 0 | BL94: 4 | BM94: -1056689643
D95: VV | F95: (35*2+1,2*4+11,25*2+0,2*4)*10,7+4,5*3,5*6+6*3,5*2 | H95: 1186.17 | AT95: VV | AU95: 2 | AV95: 2 | AW95: True | AX95: 1 | AY95: ROZPOCET
C96: 3 | D96: K | E96: 941211211 | F96: Montáž lešení řadového rámového lehkého pracovního s podlahami s provozním zatížením tř. 3 do 200 kg/m2 Příplatek za první a každý další den použití lešení k ceně -1111 nebo -1112 | G96: m2 | H96: 17792.55 | J96: =ROUND(I96*H96,2) -> 0 | K96: CS ÚRS 2018 01 | N96: snížená | P96: =O96*H96 -> 0 | Q96: 0 | R96: =Q96*H96 -> 0 | S96: 0 | T96: =S96*H96 -> 0 | AR96: 4 | AT96: K | AU96: 2 | AY96: ROZPOCET | BE96: =IF(N96="základní",J96,0) -> 0 | BF96: =IF(N96="snížená",J96,0) -> 0 | BG96: =IF(N96="zákl. přenesená",J96,0) -> 0 | BH96: =IF(N96="sníž. přenesená",J96,0) -> 0 | BI96: =IF(N96="nulová",J96,0) -> 0 | BJ96: 2 | BK96: =ROUND(I96*H96,2) -> 0 | BL96: 4 | BM96: 1434480581
D97: VV | F97: "30 dní, bude realizováno po úsecích" | AT97: VV | AU97: 2 | AV97: 1 | AW97: True | AX97: 0 | AY97: ROZPOCET
D98: VV | F98: 1186,17*15 | H98: 17792.55 | AT98: VV | AU98: 2 | AV98: 2 | AW98: True | AX98: 1 | AY98: ROZPOCET
C99: 4 | D99: K | E99: 941211811 | F99: Demontáž lešení řadového rámového lehkého pracovního s provozním zatížením tř. 3 do 200 kg/m2 šířky tř. SW06 přes 0,6 do 0,9 m, výšky do 10 m | G99: m2 | H99: 1186.17 | J99: =ROUND(I99*H99,2) -> 0 | K99: CS ÚRS 2018 01 | N99: snížená | P99: =O99*H99 -> 0 | Q99: 0 | R99: =Q99*H99 -> 0 | S99: 0 | T99: =S99*H99 -> 0 | AR99: 4 | AT99: K | AU99: 2 | AY99: ROZPOCET | BE99: =IF(N99="základní",J99,0) -> 0 | BF99: =IF(N99="snížená",J99,0) -> 0 | BG99: =IF(N99="zákl. přenesená",J99,0) -> 0 | BH99: =IF(N99="sníž. přenesená",J99,0) -> 0 | BI99: =IF(N99="nulová",J99,0) -> 0 | BJ99: 2 | BK99: =ROUND(I99*H99,2) -> 0 | BL99: 4 | BM99: -1952873278
C100: 5 | D100: K | E100: 944511111 | F100: Montáž ochranné sítě zavěšené na konstrukci lešení z textilie z umělých vláken | G100: m2 | H100: 100 | J100: =ROUND(I100*H100,2) -> 0 | K100: CS ÚRS 2018 01 | N100: snížená | P100: =O100*H100 -> 0 | Q100: 0 | R100: =Q100*H100 -> 0 | S100: 0 | T100: =S100*H100 -> 0 | AR100: 4 | AT100: K | AU100: 2 | AY100: ROZPOCET | BE100: =IF(N100="základní",J100,0) -> 0 | BF100: =IF(N100="snížená",J100,0) -> 0 | BG100: =IF(N100="zákl. přenesená",J100,0) -> 0 | BH100: =IF(N100="sníž. přenesená",J100,0) -> 0 | BI100: =IF(N100="nulová",J100,0) -> 0 | BJ100: 2 | BK100: =ROUND(I100*H100,2) -> 0 | BL100: 4 | BM100: -926770763
D101: VV | F101: "odhad nad vstupy"100 | H101: 100 | AT101: VV | AU101: 2 | AV101: 2 | AW101: True | AX101: 1 | AY101: ROZPOCET
C102: 6 | D102: K | E102: 944511211 | F102: Montáž ochranné sítě Příplatek za první a každý další den použití sítě k ceně -1111 | G102: m2 | H102: 3000 | J102: =ROUND(I102*H102,2) -> 0 | K102: CS ÚRS 2018 01 | N102: snížená | P102: =O102*H102 -> 0 | Q102: 0 | R102: =Q102*H102 -> 0 | S102: 0 | T102: =S102*H102 -> 0 | AR102: 4 | AT102: K | AU102: 2 | AY102: ROZPOCET | BE102: =IF(N102="základní",J102,0) -> 0 | BF102: =IF(N102="snížená",J102,0) -> 0 | BG102: =IF(N102="zákl. přenesená",J102,0) -> 0 | BH102: =IF(N102="sníž. přenesená",J102,0) -> 0 | BI102: =IF(N102="nulová",J102,0) -> 0 | BJ102: 2 | BK102: =ROUND(I102*H102,2) -> 0 | BL102: 4 | BM102: 1138772311
D103: VV | F103: "30 dní, bude realizováno po úsecích" | AT103: VV | AU103: 2 | AV103: 1 | AW103: True | AX103: 0 | AY103: ROZPOCET
D104: VV | F104: 100*30 | H104: 3000 | AT104: VV | AU104: 2 | AV104: 2 | AW104: True | AX104: 1 | AY104: ROZPOCET
C105: 7 | D105: K | E105: 944511811 | F105: Demontáž ochranné sítě zavěšené na konstrukci lešení z textilie z umělých vláken | G105: m2 | H105: 100 | J105: =ROUND(I105*H105,2) -> 0 | K105: CS ÚRS 2018 01 | N105: snížená | P105: =O105*H105 -> 0 | Q105: 0 | R105: =Q105*H105 -> 0 | S105: 0 | T105: =S105*H105 -> 0 | AR105: 4 | AT105: K | AU105: 2 | AY105: ROZPOCET | BE105: =IF(N105="základní",J105,0) -> 0 | BF105: =IF(N105="snížená",J105,0) -> 0 | BG105: =IF(N105="zákl. přenesená",J105,0) -> 0 | BH105: =IF(N105="sníž. přenesená",J105,0) -> 0 | BI105: =IF(N105="nulová",J105,0) -> 0 | BJ105: 2 | BK105: =ROUND(I105*H105,2) -> 0 | BL105: 4 | BM105: 554047115
D106: D | E106: 997 | F106: Přesun sutě | J106: =BK106 -> 0 | P106: =SUM(P107:P113) -> 0 | R106: =SUM(R107:R113) -> 0 | T106: =SUM(T107:T113) -> 0 | AR106: 1 | AT106: D | AU106: 1 | AY106: ROZPOCET | BK106: =SUM(BK107:BK113) -> 0
C107: 8 | D107: K | E107: 997013214 | F107: Vnitrostaveništní doprava suti a vybouraných hmot vodorovně do 50 m svisle ručně (nošením po schodech) pro budovy a haly výšky přes 12 do 15 m | G107: t | H107: 3.201 | J107: =ROUND(I107*H107,2) -> 0 | K107: CS ÚRS 2018 01 | N107: snížená | P107: =O107*H107 -> 0 | Q107: 0 | R107: =Q107*H107 -> 0 | S107: 0 | T107: =S107*H107 -> 0 | AR107: 4 | AT107: K | AU107: 2 | AY107: ROZPOCET | BE107: =IF(N107="základní",J107,0) -> 0 | BF107: =IF(N107="snížená",J107,0) -> 0 | BG107: =IF(N107="zákl. přenesená",J107,0) -> 0 | BH107: =IF(N107="sníž. přenesená",J107,0) -> 0 | BI107: =IF(N107="nulová",J107,0) -> 0 | BJ107: 2 | BK107: =ROUND(I107*H107,2) -> 0 | BL107: 4 | BM107: -947177831
C108: 9 | D108: K | E108: 997013501 | F108: Odvoz suti a vybouraných hmot na skládku nebo meziskládku se složením, na vzdálenost do 1 km | G108: t | H108: 3.201 | J108: =ROUND(I108*H108,2) -> 0 | K108: CS ÚRS 2018 01 | N108: snížená | P108: =O108*H108 -> 0 | Q108: 0 | R108: =Q108*H108 -> 0 | S108: 0 | T108: =S108*H108 -> 0 | AR108: 4 | AT108: K | AU108: 2 | AY108: ROZPOCET | BE108: =IF(N108="základní",J108,0) -> 0 | BF108: =IF(N108="snížená",J108,0) -> 0 | BG108: =IF(N108="zákl. přenesená",J108,0) -> 0 | BH108: =IF(N108="sníž. přenesená",J108,0) -> 0 | BI108: =IF(N108="nulová",J108,0) -> 0 | BJ108: 2 | BK108: =ROUND(I108*H108,2) -> 0 | BL108: 4 | BM108: 108313933
C109: 10 | D109: K | E109: 997013509 | F109: Odvoz suti a vybouraných hmot na skládku nebo meziskládku se složením, na vzdálenost Příplatek k ceně za každý další i započatý 1 km přes 1 km | G109: t | H109: 60.819 | J109: =ROUND(I109*H109,2) -> 0 | K109: CS ÚRS 2018 01 | N109: snížená | P109: =O109*H109 -> 0 | Q109: 0 | R109: =Q109*H109 -> 0 | S109: 0 | T109: =S109*H109 -> 0 | AR109: 4 | AT109: K | AU109: 2 | AY109: ROZPOCET | BE109: =IF(N109="základní",J109,0) -> 0 | BF109: =IF(N109="snížená",J109,0) -> 0 | BG109: =IF(N109="zákl. přenesená",J109,0) -> 0 | BH109: =IF(N109="sníž. přenesená",J109,0) -> 0 | BI109: =IF(N109="nulová",J109,0) -> 0 | BJ109: 2 | BK109: =ROUND(I109*H109,2) -> 0 | BL109: 4 | BM109: 1778335832
D110: VV | F110: 3,201*19 'Přepočtené koeficientem množství | H110: 60.819 | AT110: VV | AU110: 2 | AV110: 2 | AW110: False | AX110: 1 | AY110: ROZPOCET
C111: 11 | D111: K | E111: 997013814 | F111: Poplatek za uložení stavebního odpadu na skládce (skládkovné) z izolačních materiálů zatříděného do Katalogu odpadů pod kódem 170 604 | G111: t | H111: 0.591 | J111: =ROUND(I111*H111,2) -> 0 | K111: CS ÚRS 2018 01 | N111: snížená | P111: =O111*H111 -> 0 | Q111: 0 | R111: =Q111*H111 -> 0 | S111: 0 | T111: =S111*H111 -> 0 | AR111: 4 | AT111: K | AU111: 2 | AY111: ROZPOCET | BE111: =IF(N111="základní",J111,0) -> 0 | BF111: =IF(N111="snížená",J111,0) -> 0 | BG111: =IF(N111="zákl. přenesená",J111,0) -> 0 | BH111: =IF(N111="sníž. přenesená",J111,0) -> 0 | BI111: =IF(N111="nulová",J111,0) -> 0 | BJ111: 2 | BK111: =ROUND(I111*H111,2) -> 0 | BL111: 4 | BM111: -1822044286
C112: 12 | D112: K | E112: 997013831 | F112: Poplatek za uložení stavebního odpadu na skládce (skládkovné) směsného stavebního a demoličního zatříděného do Katalogu odpadů pod kódem 170 904 | G112: t | H112: 2.592 | J112: =ROUND(I112*H112,2) -> 0 | K112: CS ÚRS 2018 01 | N112: snížená | P112: =O112*H112 -> 0 | Q112: 0 | R112: =Q112*H112 -> 0 | S112: 0 | T112: =S112*H112 -> 0 | AR112: 4 | AT112: K | AU112: 2 | AY112: ROZPOCET | BE112: =IF(N112="základní",J112,0) -> 0 | BF112: =IF(N112="snížená",J112,0) -> 0 | BG112: =IF(N112="zákl. přenesená",J112,0) -> 0 | BH112: =IF(N112="sníž. přenesená",J112,0) -> 0 | BI112: =IF(N112="nulová",J112,0) -> 0 | BJ112: 2 | BK112: =ROUND(I112*H112,2) -> 0 | BL112: 4 | BM112: -516695912
D113: VV | F113: 3,183-0,591 | H113: 2.592 | AT113: VV | AU113: 2 | AV113: 2 | AW113: True | AX113: 1 | AY113: ROZPOCET
D114: D | E114: PSV | F114: Práce a dodávky PSV | J114: =BK114 -> 0 | P114: =P115+P119+P137+P139+P197+P230+P283+P295 -> 0 | R114: =R115+R119+R137+R139+R197+R230+R283+R295 -> 13.123405 | T114: =T115+T119+T137+T139+T197+T230+T283+T295 -> 3.2010719 | AR114: 2 | AT114: D | AU114: 0 | AY114: ROZPOCET | BK114: =BK115+BK119+BK137+BK139+BK197+BK230+BK283+BK295 -> 0
D115: D | E115: 712 | F115: Povlakové krytiny | J115: =BK115 -> 0 | P115: =SUM(P116:P118) -> 0 | R115: =SUM(R116:R118) -> 0 | T115: =SUM(T116:T118) -> 0.228648 | AR115: 2 | AT115: D | AU115: 1 | AY115: ROZPOCET | BK115: =SUM(BK116:BK118) -> 0
C116: 13 | D116: K | E116: 712300831 | F116: Odstranění ze střech plochých do 10° krytiny povlakové jednovrstvé | G116: m2 | H116: 38.108 | J116: =ROUND(I116*H116,2) -> 0 | K116: CS ÚRS 2018 01 | N116: snížená | P116: =O116*H116 -> 0 | Q116: 0 | R116: =Q116*H116 -> 0 | S116: 0.006 | T116: =S116*H116 -> 0.228648 | AR116: 16 | AT116: K | AU116: 2 | AY116: ROZPOCET | BE116: =IF(N116="základní",J116,0) -> 0 | BF116: =IF(N116="snížená",J116,0) -> 0 | BG116: =IF(N116="zákl. přenesená",J116,0) -> 0 | BH116: =IF(N116="sníž. přenesená",J116,0) -> 0 | BI116: =IF(N116="nulová",J116,0) -> 0 | BJ116: 2 | BK116: =ROUND(I116*H116,2) -> 0 | BL116: 16 | BM116: 532413355
D117: VV | F117: "v.č.d.1.1-03 - podkladní pás šindel" | AT117: VV | AU117: 2 | AV117: 1 | AW117: True | AX117: 0 | AY117: ROZPOCET
D118: VV | F118: "Vikýře - kde dojde k příložkování"(18,33+18,94)/0,978 | H118: 38.108 | AT118: VV | AU118: 2 | AV118: 2 | AW118: True | AX118: 1 | AY118: ROZPOCET
D119: D | E119: 713 | F119: Izolace tepelné | J119: =BK119 -> 0 | P119: =SUM(P120:P136) -> 0 | R119: =SUM(R120:R136) -> 1.0027368 | T119: =SUM(T120:T136) -> 0 | AR119: 2 | AT119: D | AU119: 1 | AY119: ROZPOCET | BK119: =SUM(BK120:BK136) -> 0
C120: 14 | D120: K | E120: 713151131 | F120: Montáž tepelné izolace střech šikmých rohožemi, pásy, deskami (izolační materiál ve specifikaci) kladenými volně nad krokve, sklonu střechy do 30° | G120: m2 | H120: 114.949 | J120: =ROUND(I120*H120,2) -> 0 | K120: CS ÚRS 2018 01 | N120: snížená | P120: =O120*H120 -> 0 | Q120: 0 | R120: =Q120*H120 -> 0 | S120: 0 | T120: =S120*H120 -> 0 | AR120: 16 | AT120: K | AU120: 2 | AY120: ROZPOCET | BE120: =IF(N120="základní",J120,0) -> 0 | BF120: =IF(N120="snížená",J120,0) -> 0 | BG120: =IF(N120="zákl. přenesená",J120,0) -> 0 | BH120: =IF(N120="sníž. přenesená",J120,0) -> 0 | BI120: =IF(N120="nulová",J120,0) -> 0 | BJ120: 2 | BK120: =ROUND(I120*H120,2) -> 0 | BL120: 16 | BM120: -2015738943
D121: VV | F121: "v.č.d.1.1-03" | AT121: VV | AU121: 2 | AV121: 1 | AW121: True | AX121: 0 | AY121: ROZPOCET
D122: VV | F122: "Vikýře"(18,33*2+18,94*4)/0,978 | H122: 114.949 | AT122: VV | AU122: 2 | AV122: 2 | AW122: True | AX122: 1 | AY122: ROZPOCET
C123: 15 | D123: K | E123: 713151132 | F123: Montáž tepelné izolace střech šikmých rohožemi, pásy, deskami (izolační materiál ve specifikaci) kladenými volně nad krokve, sklonu střechy přes 30° do 45° | G123: m2 | H123: 415.6 | J123: =ROUND(I123*H123,2) -> 0 | K123: CS ÚRS 2018 01 | N123: snížená | P123: =O123*H123 -> 0 | Q123: 0 | R123: =Q123*H123 -> 0 | S123: 0 | T123: =S123*H123 -> 0 | AR123: 16 | AT123: K | AU123: 2 | AY123: ROZPOCET | BE123: =IF(N123="základní",J123,0) -> 0 | BF123: =IF(N123="snížená",J123,0) -> 0 | BG123: =IF(N123="zákl. přenesená",J123,0) -> 0 | BH123: =IF(N123="sníž. přenesená",J123,0) -> 0 | BI123: =IF(N123="nulová",J123,0) -> 0 | BJ123: 2 | BK123: =ROUND(I123*H123,2) -> 0 | BL123: 16 | BM123: -513525813
D124: VV | F124: "v.č.d.1.1-03" | AT124: VV | AU124: 2 | AV124: 1 | AW124: True | AX124: 0 | AY124: ROZPOCET
D125: VV | F125: "hlavní střecha"36*12,25/0,766 | H125: 575.718 | AT125: VV | AU125: 2 | AV125: 2 | AW125: True | AX125: 0 | AY125: ROZPOCET
D126: VV | F126: "odpočet vikýře"-17/0,766*2-17,58/0,766*4 | H126: -136.188 | AT126: VV | AU126: 2 | AV126: 2 | AW126: True | AX126: 0 | AY126: ROZPOCET
D127: VV | F127: "střešní okna"-0,78*1,18*26 | H127: -23.93 | AT127: VV | AU127: 2 | AV127: 2 | AW127: True | AX127: 0 | AY127: ROZPOCET
D128: VV | F128: Mezisoučet | H128: 415.6 | AT128: VV | AU128: 2 | AV128: 3 | AW128: True | AX128: 1 | AY128: ROZPOCET
C129: 16 | D129: M | E129: 28376526a | F129: deska izolační s oboustranným rounem s rastrem PIR 1250 x 625 x 60mm | G129: m2 | H129: 557.076 | J129: =ROUND(I129*H129,2) -> 0 | K129: Kalkul. rozpočtáře | N129: snížená | P129: =O129*H129 -> 0 | Q129: 0.0018 | R129: =Q129*H129 -> 1.0027368 | S129: 0 | T129: =S129*H129 -> 0 | AR129: 32 | AT129: M | AU129: 2 | AY129: ROZPOCET | BE129: =IF(N129="základní",J129,0) -> 0 | BF129: =IF(N129="snížená",J129,0) -> 0 | BG129: =IF(N129="zákl. přenesená",J129,0) -> 0 | BH129: =IF(N129="sníž. přenesená",J129,0) -> 0 | BI129: =IF(N129="nulová",J129,0) -> 0 | BJ129: 2 | BK129: =ROUND(I129*H129,2) -> 0 | BL129: 16 | BM129: -1322862280
D130: VV | F130: "v.č.d.1.1-03" | AT130: VV | AU130: 2 | AV130: 1 | AW130: True | AX130: 0 | AY130: ROZPOCET
D131: VV | F131: "hlavní střecha"36*12,25/0,766*1,05 | H131: 604.504 | AT131: VV | AU131: 2 | AV131: 2 | AW131: True | AX131: 0 | AY131: ROZPOCET
...

Sheet 17_037_0200 - Ostatní nák...
D1: List obsahuje: | F1: 1) Krycí list soupisu | G1: 2) Rekapitulace | J1: 3) Soupis prací | K1: Zpět na list: | L1: Rekapitulace stavby
AT2: {51eaceb4-658d-42bd-b4df-ed6904575185}
AT3: 1
D4: KRYCÍ LIST SOUPISU | M4: v --- níže se nacházejí doplnkové a pomocné údaje k sestavám --- v | AT4: False
D6: Stavba:
E7: ='Rekapitulace stavby'!K6 -> Výměna a zateplení střešního pláště bytového domu Letná 255 a 256, Mimoň
D8: Objekt:
E9: 17_037_0200 - Ostatní náklady
D11: KSO: | I11: CC-CZ:
D12: Místo: | F12: Letná 255 a 256, Mimoň | I12: Datum: | J12: ='Rekapitulace stavby'!AN8 -> 1. 6. 2018
D14: Zadavatel: | I14: IČ: | J14: =IF('Rekapitulace stavby'!AN10="","",'Rekapitulace stavby'!AN10)
E15: =IF('Rekapitulace stavby'!E11="","",'Rekapitulace stavby'!E11) -> Město Mimoň | I15: DIČ: | J15: =IF('Rekapitulace stavby'!AN11="","",'Rekapitulace stavby'!AN11)
D17: Uchazeč: | I17: IČ: | J17: =IF('Rekapitulace stavby'!AN13="Vyplň údaj","",IF('Rekapitulace stavby'!AN13="","",'Rekapitulace stavby'!AN13))
E18: =IF('Rekapitulace stavby'!E14="Vyplň údaj","",IF('Rekapitulace stavby'!E14="","",'Rekapitulace stavby'!E14)) | I18: DIČ: | J18: =IF('Rekapitulace stavby'!AN14="Vyplň údaj","",IF('Rekapitulace stavby'!AN14="","",'Rekapitulace stavby'!AN14))
D20: Projektant: | I20: IČ:
E21: Jiří Schneider | I21: DIČ:
D23: Poznámka:
D27: Cena bez DPH | J27: =ROUND(J77,2) -> 0
F29: Základ daně | I29: Sazba daně | J29: Výše daně
D30: DPH | E30: základní | F30: =ROUND(SUM(BE77:BE80), 2) -> 0 | I30: 0.21 | J30: =ROUND(ROUND((SUM(BE77:BE80)), 2)*I30, 2) -> 0
E31: snížená | F31: =ROUND(SUM(BF77:BF80), 2) -> 0 | I31: 0.15 | J31: =ROUND(ROUND((SUM(BF77:BF80)), 2)*I31, 2) -> 0
E32: zákl. přenesená | F32: =ROUND(SUM(BG77:BG80), 2) -> 0 | I32: 0.21 | J32: 0
E33: sníž. přenesená | F33: =ROUND(SUM(BH77:BH80), 2) -> 0 | I33: 0.15 | J33: 0
E34: nulová | F34: =ROUND(SUM(BI77:BI80), 2) -> 0 | I34: 0 | J34: 0
D36: Cena s DPH | G36: v | H36: CZK | J36: =SUM(J27:J34) -> 0
C42: REKAPITULACE ČLENĚNÍ SOUPISU PRACÍ
C44: Stavba:
E45: =E7 -> Výměna a zateplení střešního pláště bytového domu Letná 255 a 256, Mimoň
C46: Objekt:
E47: =E9 -> 17_037_0200 - Ostatní náklady
C49: Místo: | F49: =F12 -> Letná 255 a 256, Mimoň | I49: Datum: | J49: =IF(J12="","",J12) -> 1. 6. 2018
C51: Zadavatel: | F51: =E15 -> Město Mimoň | I51: Projektant: | J51: =E21 -> Jiří Schneider
C52: Uchazeč: | F52: =IF(E18="","",E18)
C54: Kód dílu - Popis | J54: Cena celkem [CZK]
C56: Náklady soupisu celkem | J56: =J77 -> 0 | AU56: -1
D57: OST - Ostatní | J57: =J78 -> 0
C64: SOUPIS PRACÍ
C66: Stavba:
E67: =E7 -> Výměna a zateplení střešního pláště bytového domu Letná 255 a 256, Mimoň
C68: Objekt:
E69: =E9 -> 17_037_0200 - Ostatní náklady
C71: Místo: | F71: =F12 -> Letná 255 a 256, Mimoň | I71: Datum: | J71: =IF(J12="","",J12) -> 1. 6. 2018
C73: Zadavatel: | F73: =E15 -> Město Mimoň | I73: Projektant: | J73: =E21 -> Jiří Schneider
C74: Uchazeč: | F74: =IF(E18="","",E18)
C76: PČ | D76: Typ | E76: Kód | F76: Popis | G76: MJ | H76: Množství | I76: J.cena [CZK] | J76: Cena celkem [CZK] | K76: Cenová soustava | M76: Poznámka | N76: DPH | O76: J. Nh [h] | P76: Nh celkem [h] | Q76: J. hmotnost_x000D_ [t] | R76: Hmotnost_x000D_ celkem [t] | S76: J. suť [t] | T76: Suť Celkem [t]
C77: Náklady soupisu celkem | J77: =BK77 -> 0 | P77: =P78 -> 0 | R77: =R78 -> 0 | T77: =T78 -> 0 | AT77: D | AU77: -1 | BK77: =BK78 -> 0
D78: D | E78: OST | F78: Ostatní | J78: =BK78 -> 0 | P78: =SUM(P79:P80) -> 0 | R78: =SUM(R79:R80) -> 0 | T78: =SUM(T79:T80) -> 0 | AR78: 1 | AT78: D | AU78: 0 | AY78: ROZPOCET | BK78: =SUM(BK79:BK80) -> 0
C79: 1 | D79: K | E79: 001/001 | F79: VRN | G79: Kč | H79: 1 | J79: =ROUND(I79*H79,2) -> 0 | K79: Kalkul. rozpočtáře | N79: snížená | P79: =O79*H79 -> 0 | Q79: 0 | R79: =Q79*H79 -> 0 | S79: 0 | T79: =S79*H79 -> 0 | AR79: 512 | AT79: K | AU79: 1 | AY79: ROZPOCET | BE79: =IF(N79="základní",J79,0) -> 0 | BF79: =IF(N79="snížená",J79,0) -> 0 | BG79: =IF(N79="zákl. přenesená",J79,0) -> 0 | BH79: =IF(N79="sníž. přenesená",J79,0) -> 0 | BI79: =IF(N79="nulová",J79,0) -> 0 | BJ79: 2 | BK79: =ROUND(I79*H79,2) -> 0 | BL79: 512 | BM79: 396660352
C80: 2 | D80: K | E80: 001/004 | F80: VRN | G80: Kč | H80: 1 | J80: =ROUND(I80*H80,2) -> 0 | K80: Kalkul. rozpočtáře | N80: snížená | P80: =O80*H80 -> 0 | Q80: 0 | R80: =Q80*H80 -> 0 | S80: 0 | T80: =S80*H80 -> 0 | AR80: 512 | AT80: K | AU80: 1 | AY80: ROZPOCET | BE80: =IF(N80="základní",J80,0) -> 0 | BF80: =IF(N80="snížená",J80,0) -> 0 | BG80: =IF(N80="zákl. přenesená",J80,0) -> 0 | BH80: =IF(N80="sníž. přenesená",J80,0) -> 0 | BI80: =IF(N80="nulová",J80,0) -> 0 | BJ80: 2 | BK80: =ROUND(I80*H80,2) -> 0 | BL80: 512 | BM80: -1621215779

Sheet Pokyny pro vyplnění
C3: Struktura údajů, formát souboru a metodika pro zpracování
C4: Struktura
C6: Soubor je složen ze záložky Rekapitulace stavby a záložek s názvem soupisu prací pro jednotlivé objekty ve formátu XLSX. Každá ze záložek přitom obsahuje
C7: ještě samostatné sestavy vymezené orámovaním a nadpisem sestavy.
C9: Rekapitulace stavby obsahuje sestavu Rekapitulace stavby a Rekapitulace objektů stavby a soupisů prací.
D10: V sestavě Rekapitulace stavby jsou uvedeny informace identifikující předmět veřejné zakázky na stavební práce, KSO, CC-CZ, CZ-CPV, CZ-CPA a rekapitulaci
D11: celkové nabídkové ceny uchazeče.
D13: V sestavě Rekapitulace objektů stavby a soupisů prací je uvedena rekapitulace stavebních objektů, inženýrských objektů, provozních souborů,
D14: vedlejších a ostatních nákladů a ostatních nákladů s rekapitulací nabídkové ceny za jednotlivé soupisy prací. Na základě údaje Typ je možné
D15: identifikovat, zda se jedná o objekt nebo soupis prací pro daný objekt:
E16: STA | F16: Stavební objekt pozemní
E17: ING | F17: Stavební objekt inženýrský
E18: PRO | F18: Provozní soubor
E19: VON | F19: Vedlejší a ostatní náklady
E20: OST | F20: Ostatní
E21: Soupis | F21: Soupis prací pro daný typ objektu
C23: Soupis prací pro jednotlivé objekty obsahuje sestavy Krycí list soupisu, Rekapitulace členění soupisu prací, Soupis prací. Za soupis prací může být považován
C24: i objekt stavby v případě, že neobsahuje podřízenou zakázku.
D25: Krycí list soupisu obsahuje rekapitulaci informací o předmětu veřejné zakázky ze sestavy Rekapitulace stavby, informaci o zařazení objektu do KSO,
D26: CC-CZ, CZ-CPV, CZ-CPA a rekapitulaci celkové nabídkové ceny uchazeče za aktuální soupis prací.
D28: Rekapitulace členění soupisu prací obsahuje rekapitulaci soupisu prací ve všech úrovních členění soupisu tak, jak byla tato členění použita (např.
D29: stavební díly, funkční díly, případně jiné členění) s rekapitulací nabídkové ceny.
D31: Soupis prací obsahuje položky veškerých stavebních nebo montážních prací, dodávek materiálů a služeb nezbytných pro zhotovení stavebního objektu,
D32: inženýrského objektu, provozního souboru, vedlejších a ostatních nákladů.
D33: Pro položky soupisu prací se zobrazují následující informace:
E34: PČ | G34: Pořadové číslo položky v aktuálním soupisu
E35: TYP | G35: Typ položky: K - konstrukce, M - materiál, PP - plný popis, PSC - poznámka k souboru cen, P - poznámka k položce, VV - výkaz výměr
E36: Kód | G36: Kód položky
E37: Popis | G37: Zkrácený popis položky
E38: MJ | G38: Měrná jednotka položky
E39: Množství | G39: Množství v měrné jednotce
E40: J.cena | G40: Jednotková cena položky. Zadaní může obsahovat namísto J.ceny sloupce J.materiál a J.montáž, jejichž součet definuje
G41: J.cenu položky.
E42: Cena celkem | G42: Celková cena položky daná jako součin množství a j.ceny
E43: Cenová soustava | G43: Příslušnost položky do cenové soustavy
D45: Ke každé položce soupisu prací se na samostatných řádcích může zobrazovat:
E46: Plný popis položky
E47: Poznámka k souboru cen a poznámka zadavatele
E48: Výkaz výměr
D49: Pokud je k řádku výkazu výměr evidovaný údaj ve sloupci Kód, jedná se o definovaný odkaz, na který se může odvolávat výkaz výměr z jiné položky.
C50: Metodika pro zpracování
C52: Jednotlivé sestavy jsou v souboru provázány. Editovatelné pole jsou zvýrazněny žlutým podbarvením, ostatní pole neslouží k editaci a nesmí být jakkoliv
C53: modifikovány.
C55: Uchazeč je pro podání nabídky povinen vyplnit žlutě podbarvená pole:
D56: Pole Uchazeč v sestavě Rekapitulace stavby - zde uchazeč vyplní svůj název (název subjektu)
D57: Pole IČ a DIČ v sestavě Rekapitulace stavby - zde uchazeč vyplní svoje IČ a DIČ
D58: Datum v sestavě Rekapitulace stavby - zde uchazeč vyplní datum vytvoření nabídky
D59: J.cena = jednotková cena v sestavě Soupis prací o maximálním počtu desetinných míst uvedených v poli
D60: - pokud sestavy soupisů prací obsahují pole J.cena, musí být všechna tato pole vyplněna nenulovými kladnými číslicemi
D61: Poznámka - nepovinný údaj pro položku soupisu
D63: V případě, že sestavy soupisů prací neobsahují pole J.cena, potom ve všech soupisech prací obsahují pole:
D64: - J.materiál - jednotková cena materiálu
D65: - J.montáž - jednotková cena montáže
D66: Uchazeč je v tomto případě povinen vyplnit všechna pole J.materiál a pole J.montáž nenulovými kladnými číslicemi. V případech, kdy položka
D67: neobsahuje žádný materiál je přípustné, aby pole J.materiál bylo vyplněno nulou. V případech, kdy položka neobsahuje žádnou montáž je přípustné,
D68: aby pole J.montáž bylo vyplněno nulou. Není však přípustné, aby obě pole - J.materiál, J.Montáž byly u jedné položky vyplněny nulou.
C73: Rekapitulace stavby
C74: Název | F74: Povinný | H74: Popis | I74: Typ | J74: Max. počet
C75: atributu | F75: (A/N) | J75: znaků
C77: Kód | F77: A | H77: Kód stavby | I77: String | J77: 20
C78: Stavba | F78: A | H78: Název stavby | I78: String | J78: 120
C79: Místo | F79: N | H79: Místo stavby | I79: String | J79: 50
C80: Datum | F80: A | H80: Datum vykonaného exportu | I80: Date
C81: KSO | F81: N | H81: Klasifikace stavebního objektu | I81: String | J81: 15
C82: CC-CZ | F82: N | H82: Klasifikace stavbeních děl | I82: String | J82: 15
C83: CZ-CPV | F83: N | H83: Společný slovník pro veřejné zakázky | I83: String | J83: 20
C84: CZ-CPA | F84: N | H84: Klasifikace produkce podle činností | I84: String | J84: 20
C85: Zadavatel | F85: N | H85: Zadavatel zadaní | I85: String | J85: 50
C86: IČ | F86: N | H86: IČ zadavatele zadaní | I86: String | J86: 20
C87: DIČ | F87: N | H87: DIČ zadavatele zadaní | I87: String | J87: 20
C88: Uchazeč | F88: N | H88: Uchazeč veřejné zakázky | I88: String | J88: 50
C89: Projektant | F89: N | H89: Projektant | I89: String | J89: 50
C90: Poznámka | F90: N | H90: Poznámka k zadání | I90: String | J90: 255
C91: Sazba DPH | F91: A | H91: Rekapitulace sazeb DPH u položek soupisů | I91: eGSazbaDph
C92: Základna DPH | F92: A | H92: Základna DPH určena součtem celkové ceny z položek soupisů | I92: Double
C93: Hodnota DPH | F93: A | H93: Hodnota DPH | I93: Double
C94: Cena bez DPH | F94: A | H94: Celková cena bez DPH za celou stavbu. Sčítává se ze všech listů. | I94: Double
C95: Cena s DPH | F95: A | H95: Celková cena s DPH za celou stavbu | I95: Double
C100: Rekapitulace objektů stavby a soupisů prací
C101: Název | F101: Povinný | H101: Popis | I101: Typ | J101: Max. počet
C102: atributu | F102: (A/N) | J102: znaků
C104: Kód | F104: A | H104: Přebírá se z Rekapitulace stavby | I104: String | J104: 20
C105: Stavba | F105: A | H105: Přebírá se z Rekapitulace stavby | I105: String | J105: 120
C106: Místo | F106: N | H106: Přebírá se z Rekapitulace stavby | I106: String | J106: 50
C107: Datum | F107: A | H107: Přebírá se z Rekapitulace stavby | I107: Date
C108: Zadavatel | F108: N | H108: Přebírá se z Rekapitulace stavby | I108: String | J108: 50
C109: Projektant | F109: N | H109: Přebírá se z Rekapitulace stavby | I109: String | J109: 50
C110: Uchazeč | F110: N | H110: Přebírá se z Rekapitulace stavby | I110: String | J110: 50
C111: Kód | F111: A | H111: Kód objektu | I111: String | J111: 20
C112: Objektu, Soupis prací | F112: A | H112: Název objektu | I112: String | J112: 120
C113: Cena bez DPH | F113: A | H113: Cena bez DPH za daný objekt | I113: Double
C114: Cena s DPH | F114: A | H114: Cena spolu s DPH za daný objekt | I114: Double
C115: Typ | F115: A | H115: Typ zakázky | I115: eGTypZakazky
C120: Krycí list soupisu
C121: Název | F121: Povinný | H121: Popis | I121: Typ | J121: Max. počet
C122: atributu | F122: (A/N) | J122: znaků
C124: Stavba | F124: A | H124: Přebírá se z Rekapitulace stavby | I124: String | J124: 120
C125: Objekt | F125: A | H125: Kód a název objektu | I125: String | J125: 20 + 120
C126: Soupis | F126: A | H126: Kód a název soupisu | I126: String | J126: 20 + 120
C127: KSO | F127: N | H127: Klasifikace stavebního objektu | I127: String | J127: 15
...
