Workbook

Sheet Rekapitulace stavby
A1: Export VZ | D1: List obsahuje: | K1: 1) Rekapitulace stavby | W1: 2) Rekapitulace objektů stavby a soupisů prací | BA1: 3.0 | BT1: False | BU1: False | BV1: {817651d3-0720-42ac-9ead-c747f4e8684c}
AR2: >> skryté sloupce << | BS2: 0,01 | BT2: 21
BS3: 0,01 | BT3: 15
D4: REKAPITULACE STAVBY | AS4: v --- níže se nacházejí doplnkové a pomocné údaje k sestavám --- v | BS4: 0,001
D5: Kód: | K5: 17_42_0000 | BS5: 0,01
D6: Stavba: | K6: Zateplení obvodového pláště bytového domu U Nemocnice 543 a 544, Mimoň | BS6: 0,1
D7: KSO: | AK7: CC-CZ: | BS7: 1
D8: Místo: | K8: Mimoň | AK8: Datum: | AN8: 09.05.2017 | BS8: 10
BS9: 100
D10: Zadavatel: | AK10: IČ: | BS10: 0,1
E11: OÚ Mimoň | AK11: DIČ: | BS11: 0,1
BS12: 0,1
D13: Uchazeč: | AK13: IČ: | BS13: 0,1
AK14: DIČ: | BS14: 0,1
BS15: False
D16: Projektant: | AK16: IČ: | BS16: False
E17: Jiří Schneider | AK17: DIČ: | BS17: True
BS18: 0,01
D19: Poznámka: | BS19: 0,01
E20: Soupis prací je sestaven s využitím Cenové soustavy ÚRS. Položky, které pochází z této cenové soustavy, jsou ve sloupci 'Cenová soustava' označeny popisem 'CS ÚRS' a úrovní příslušného kalendářního pololetí. Veškeré další informace vymezující popis a podmínky použití těchto položek z Cenové soustavy, které nejsou uvedeny přímo v soupisu prací, jsou neomezeně dálkově k dispozici na www.cs-urs.cz, sekce Cenové a technické podmínky. | BS20: False
D23: Cena bez DPH | AK23: =ROUND(AG51,2) -> 0
L25: Sazba daně | W25: Základ daně | AK25: Výše daně
D26: DPH | F26: základní | L26: 0.21 | W26: =ROUND(AZ51,2) -> 0 | AK26: =ROUND(AV51,2) -> 0
F27: snížená | L27: 0.15 | W27: =ROUND(BA51,2) -> 0 | AK27: =ROUND(AW51,2) -> 0
F28: zákl. přenesená | L28: 0.21 | W28: =ROUND(BB51,2) -> 0 | AK28: 0
F29: sníž. přenesená | L29: 0.15 | W29: =ROUND(BC51,2) -> 0 | AK29: 0
F30: nulová | L30: 0 | W30: =ROUND(BD51,2) -> 0 | AK30: 0
D32: Cena s DPH | T32: v | X32: CZK | AK32: =SUM(AK23:AK30) -> 0
C39: REKAPITULACE OBJEKTŮ STAVBY A SOUPISŮ PRACÍ
C41: Kód: | L41: =K5 -> 17_42_0000
C42: Stavba: | L42: =K6 -> Zateplení obvodového pláště bytového domu U Nemocnice 543 a 544, Mimoň
C44: Místo: | L44: =IF(K8="","",K8) -> Mimoň | AI44: Datum: | AM44: =IF(AN8= "","",AN8) -> 09.05.2017
C46: Zadavatel: | L46: =IF(E11= "","",E11) -> OÚ Mimoň | AI46: Projektant: | AM46: =IF(E17="","",E17) -> Jiří Schneider | AS46: Informatívní údaje z listů zakázek
C47: Uchazeč: | L47: =IF(E14="","",E14)
C49: Kód | I49: Objekt, Soupis prací | AG49: Cena bez DPH [CZK] | AN49: Cena s DPH [CZK] | AQ49: Typ | AS49: z toho Ostat._x000D_ náklady [CZK] | AT49: DPH [CZK] | AU49: Normohodiny [h] | AV49: DPH základní [CZK] | AW49: DPH snížená [CZK] | AX49: DPH základní přenesená_x000D_ [CZK] | AY49: DPH snížená přenesená_x000D_ [CZK] | AZ49: Základna_x000D_ DPH základní | BA49: Základna_x000D_ DPH snížená | BB49: Základna_x000D_ DPH zákl. přenesená | BC49: Základna_x000D_ DPH sníž. přenesená | BD49: Základna_x000D_ DPH nulová
C51: Náklady stavby celkem | AG51: =ROUND(SUM(AG52:AG53),2) -> 0 | AN51: =SUM(AG51,AT51) -> 0 | AS51: =ROUND(SUM(AS52:AS53),2) -> 0 | AT51: =ROUND(SUM(AV51:AW51),2) -> 0 | AU51: =ROUND(SUM(AU52:AU53),5) -> 3940.7471 | AV51: =ROUND(AZ51*L26,2) -> 0 | AW51: =ROUND(BA51*L27,2) -> 0 | AX51: =ROUND(BB51*L26,2) -> 0 | AY51: =ROUND(BC51*L27,2) -> 0 | AZ51: =ROUND(SUM(AZ52:AZ53),2) -> 0 | BA51: =ROUND(SUM(BA52:BA53),2) -> 0 | BB51: =ROUND(SUM(BB52:BB53),2) -> 0 | BC51: =ROUND(SUM(BC52:BC53),2) -> 0 | BD51: =ROUND(SUM(BD52:BD53),2) -> 0 | BS51: D | BT51: 0 | BU51: ###NOIMPORT### | BV51: IMPORT | BW51: {817651d3-0720-42ac-9ead-c747f4e8684c} | BX51: {00000000-0000-0000-0000-000000000000}
A52: / | D52: 17_42_0100 | J52: Stavební část | AG52: ='17_42_0100 - Stavební část'!J27 -> 0 | AN52: =SUM(AG52,AT52) -> 0 | AQ52: STA | AS52: 0 | AT52: =ROUND(SUM(AV52:AW52),2) -> 0 | AU52: ='17_42_0100 - Stavební část'!P92 -> 3940.7471 | AV52: ='17_42_0100 - Stavební část'!J30 -> 0 | AW52: ='17_42_0100 - Stavební část'!J31 -> 0 | AX52: ='17_42_0100 - Stavební část'!J32 -> 0 | AY52: ='17_42_0100 - Stavební část'!J33 -> 0 | AZ52: ='17_42_0100 - Stavební část'!F30 -> 0 | BA52: ='17_42_0100 - Stavební část'!F31 -> 0 | BB52: ='17_42_0100 - Stavební část'!F32 -> 0 | BC52: ='17_42_0100 - Stavební část'!F33 -> 0 | BD52: ='17_42_0100 - Stavební část'!F34 -> 0 | BT52: 1 | BV52: IMPORT | BW52: {5fca6a9d-ab5a-4614-9bd3-fe04548da3f9} | BX52: {817651d3-0720-42ac-9ead-c747f4e8684c} | CM52: 1
A53: / | D53: 17_42_0200 | J53: Ostatní náklady | AG53: ='17_42_0200 - Ostatní náklady'!J27 -> 0 | AN53: =SUM(AG53,AT53) -> 0 | AQ53: STA | AS53: 0 | AT53: =ROUND(SUM(AV53:AW53),2) -> 0 | AU53: ='17_42_0200 - Ostatní náklady'!P77 -> 0 | AV53: ='17_42_0200 - Ostatní náklady'!J30 -> 0 | AW53: ='17_42_0200 - Ostatní náklady'!J31 -> 0 | AX53: ='17_42_0200 - Ostatní náklady'!J32 -> 0 | AY53: ='17_42_0200 - Ostatní náklady'!J33 -> 0 | AZ53: ='17_42_0200 - Ostatní náklady'!F30 -> 0 | BA53: ='17_42_0200 - Ostatní náklady'!F31 -> 0 | BB53: ='17_42_0200 - Ostatní náklady'!F32 -> 0 | BC53: ='17_42_0200 - Ostatní náklady'!F33 -> 0 | BD53: ='17_42_0200 - Ostatní náklady'!F34 -> 0 | BT53: 1 | BV53: IMPORT | BW53: {f4e3a8ed-9c3e-4568-a554-279ad1cb5254} | BX53: {817651d3-0720-42ac-9ead-c747f4e8684c} | CM53: 1

Sheet 17_42_0100 - Stavební část
D1: List obsahuje: | F1: 1) Krycí list soupisu | G1: 2) Rekapitulace | J1: 3) Soupis prací | K1: Zpět na list: | L1: Rekapitulace stavby
L2: >> skryté sloupce << | AT2: {5fca6a9d-ab5a-4614-9bd3-fe04548da3f9}
AT3: 1
D4: KRYCÍ LIST SOUPISU | M4: v --- níže se nacházejí doplnkové a pomocné údaje k sestavám --- v | AT4: False
D6: Stavba:
E7: ='Rekapitulace stavby'!K6 -> Zateplení obvodového pláště bytového domu U Nemocnice 543 a 544, Mimoň
D8: Objekt:
E9: 17_42_0100 - Stavební část
D11: KSO: | I11: CC-CZ:
D12: Místo: | F12: Mimoň | I12: Datum: | J12: ='Rekapitulace stavby'!AN8 -> 09.05.2017
D14: Zadavatel: | I14: IČ:
E15: OÚ Mimoň | I15: DIČ:
D17: Uchazeč: | I17: IČ: | J17: =IF('Rekapitulace stavby'!AN13="Vyplň údaj","",IF('Rekapitulace stavby'!AN13="","",'Rekapitulace stavby'!AN13))
E18: =IF('Rekapitulace stavby'!E14="Vyplň údaj","",IF('Rekapitulace stavby'!E14="","",'Rekapitulace stavby'!E14)) | I18: DIČ: | J18: =IF('Rekapitulace stavby'!AN14="Vyplň údaj","",IF('Rekapitulace stavby'!AN14="","",'Rekapitulace stavby'!AN14))
D20: Projektant: | I20: IČ:
E21: Jiří Schneider | I21: DIČ:
D23: Poznámka:
D27: Cena bez DPH | J27: =ROUND(J92,2) -> 0
F29: Základ daně | I29: Sazba daně | J29: Výše daně
D30: DPH | E30: základní | F30: =ROUND(SUM(BE92:BE634), 2) -> 0 | I30: 0.21 | J30: =ROUND(ROUND((SUM(BE92:BE634)), 2)*I30, 2) -> 0
E31: snížená | F31: =ROUND(SUM(BF92:BF634), 2) -> 0 | I31: 0.15 | J31: =ROUND(ROUND((SUM(BF92:BF634)), 2)*I31, 2) -> 0
E32: zákl. přenesená | F32: =ROUND(SUM(BG92:BG634), 2) -> 0 | I32: 0.21 | J32: 0
E33: sníž. přenesená | F33: =ROUND(SUM(BH92:BH634), 2) -> 0 | I33: 0.15 | J33: 0
E34: nulová | F34: =ROUND(SUM(BI92:BI634), 2) -> 0 | I34: 0 | J34: 0
D36: Cena s DPH | G36: v | H36: CZK | J36: =SUM(J27:J34) -> 0
C42: REKAPITULACE ČLENĚNÍ SOUPISU PRACÍ
C44: Stavba:
E45: =E7 -> Zateplení obvodového pláště bytového domu U Nemocnice 543 a 544, Mimoň
C46: Objekt:
E47: =E9 -> 17_42_0100 - Stavební část
C49: Místo: | F49: =F12 -> Mimoň | I49: Datum: | J49: =IF(J12="","",J12) -> 09.05.2017
C51: Zadavatel: | F51: =E15 -> OÚ Mimoň | I51: Projektant: | J51: =E21 -> Jiří Schneider
C52: Uchazeč: | F52: =IF(E18="","",E18)
C54: Kód dílu - Popis | J54: Cena celkem [CZK]
C56: Náklady soupisu celkem | J56: =J92 -> 0 | AU56: -1
D57: HSV - Práce a dodávky HSV | J57: =J93 -> 0
D58: 3 - Svislé a kompletní konstrukce | J58: =J94 -> 0
D59: 6 - Úpravy povrchů, podlahy a osazování výplní | J59: =J106 -> 0
D60: 9 - Ostatní konstrukce a práce-bourání | J60: =J450 -> 0
D61: 997 - Přesun sutě | J61: =J492 -> 0
D62: 998 - Přesun hmot | J62: =J498 -> 0
D63: PSV - Práce a dodávky PSV | J63: =J500 -> 0
D64: 712 - Povlakové krytiny | J64: =J501 -> 0
D65: 713 - Izolace tepelné | J65: =J517 -> 0
D66: 764 - Konstrukce klempířské | J66: =J527 -> 0
D67: 767 - Konstrukce zámečnické | J67: =J549 -> 0
D68: 771 - Podlahy z dlaždic | J68: =J556 -> 0
D69: 781 - Dokončovací práce - obklady | J69: =J586 -> 0
D70: 783 - Dokončovací práce - nátěry | J70: =J599 -> 0
D71: 784 - Dokončovací práce - malby a tapety | J71: =J606 -> 0
D72: OST - Ostatní | J72: =J627 -> 0
C79: SOUPIS PRACÍ
C81: Stavba:
E82: =E7 -> Zateplení obvodového pláště bytového domu U Nemocnice 543 a 544, Mimoň
C83: Objekt:
E84: =E9 -> 17_42_0100 - Stavební část
C86: Místo: | F86: =F12 -> Mimoň | I86: Datum: | J86: =IF(J12="","",J12) -> 09.05.2017
C88: Zadavatel: | F88: =E15 -> OÚ Mimoň | I88: Projektant: | J88: =E21 -> Jiří Schneider
C89: Uchazeč: | F89: =IF(E18="","",E18)
C91: PČ | D91: Typ | E91: Kód | F91: Popis | G91: MJ | H91: Množství | I91: J.cena [CZK] | J91: Cena celkem [CZK] | K91: Cenová soustava | M91: Poznámka | N91: DPH | O91: J. Nh [h] | P91: Nh celkem [h] | Q91: J. hmotnost_x000D_ [t] | R91: Hmotnost_x000D_ celkem [t] | S91: J. suť [t] | T91: Suť Celkem [t]
C92: Náklady soupisu celkem | J92: =BK92 -> 0 | P92: =P93+P500+P627 -> 3940.7471 | R92: =R93+R500+R627 -> 58.122163 | T92: =T93+T500+T627 -> 25.991495 | AT92: D | AU92: -1 | BK92: =BK93+BK500+BK627 -> 0
D93: D | E93: HSV | F93: Práce a dodávky HSV | J93: =BK93 -> 0 | P93: =P94+P106+P450+P492+P498 -> 3598.1799 | R93: =R94+R106+R450+R492+R498 -> 54.980725 | T93: =T94+T106+T450+T492+T498 -> 14.87414 | AR93: 1 | AT93: D | AU93: 0 | AY93: ROZPOCET | BK93: =BK94+BK106+BK450+BK492+BK498 -> 0
D94: D | E94: 3 | F94: Svislé a kompletní konstrukce | J94: =BK94 -> 0 | P94: =SUM(P95:P105) -> 8.522146 | R94: =SUM(R95:R105) -> 2.1755699 | T94: =SUM(T95:T105) -> 0 | AR94: 1 | AT94: D | AU94: 1 | AY94: ROZPOCET | BK94: =SUM(BK95:BK105) -> 0
C95: 1 | D95: K | E95: 310239211 | F95: Zazdívka otvorů ve zdivu nadzákladovém cihlami pálenými plochy přes 1 m2 do 4 m2 na maltu vápenocementovou | G95: m3 | H95: 0.563 | J95: =ROUND(I95*H95,2) -> 0 | K95: CS ÚRS 2016 02 | N95: snížená | O95: 3.842 | P95: =O95*H95 -> 2.163046 | Q95: 1.8775 | R95: =Q95*H95 -> 1.0570325 | S95: 0 | T95: =S95*H95 -> 0 | AR95: 4 | AT95: K | AU95: 2 | AY95: ROZPOCET | BE95: =IF(N95="základní",J95,0) -> 0 | BF95: =IF(N95="snížená",J95,0) -> 0 | BG95: =IF(N95="zákl. přenesená",J95,0) -> 0 | BH95: =IF(N95="sníž. přenesená",J95,0) -> 0 | BI95: =IF(N95="nulová",J95,0) -> 0 | BJ95: 2 | BK95: =ROUND(I95*H95,2) -> 0 | BL95: 4 | BM95: -329126
D96: VV | F96: "D1.1-01"1*1,5*0,375 | H96: 0.563 | AT96: VV | AU96: 2 | AV96: 2 | AW96: True | AX96: 1 | AY96: ROZPOCET
C97: 2 | D97: K | E97: 348272115 | F97: Ploty z tvárnic betonových plotová zeď na maltu cementovou včetně spárování současně při zdění z tvarovek hladkých, dutých přírodních, tloušťka zdiva 290 mm | G97: m2 | H97: 2.46 | J97: =ROUND(I97*H97,2) -> 0 | K97: CS ÚRS 2016 02 | N97: snížená | O97: 0.915 | P97: =O97*H97 -> 2.2509 | Q97: 0.29233 | R97: =Q97*H97 -> 0.7191318 | S97: 0 | T97: =S97*H97 -> 0 | AR97: 4 | AT97: K | AU97: 2 | AY97: ROZPOCET | BE97: =IF(N97="základní",J97,0) -> 0 | BF97: =IF(N97="snížená",J97,0) -> 0 | BG97: =IF(N97="zákl. přenesená",J97,0) -> 0 | BH97: =IF(N97="sníž. přenesená",J97,0) -> 0 | BI97: =IF(N97="nulová",J97,0) -> 0 | BJ97: 2 | BK97: =ROUND(I97*H97,2) -> 0 | BL97: 4 | BM97: -920452297
D98: VV | F98: "D1.1-01" | AT98: VV | AU98: 2 | AV98: 1 | AW98: True | AX98: 0 | AY98: ROZPOCET
D99: VV | F99: 0,4*(4,65+1,5) | H99: 2.46 | AT99: VV | AU99: 2 | AV99: 2 | AW99: True | AX99: 1 | AY99: ROZPOCET
C100: 3 | D100: K | E100: 348272295 | F100: Ploty z tvárnic betonových plotová zeď Příplatek k cenám plotového zdiva za provedení ztužujícího sloupku šířky 400 mm, osové vzdálenosti do 3200 mm vylitím betonu C 16/20, včetně výztuže 2x BSt 500 D 10 mm, tloušťka zdiva 295 mm | G100: m2 | H100: 2.46 | J100: =ROUND(I100*H100,2) -> 0 | K100: CS ÚRS 2016 02 | N100: snížená | O100: 0.085 | P100: =O100*H100 -> 0.2091 | Q100: 0.04651 | R100: =Q100*H100 -> 0.1144146 | S100: 0 | T100: =S100*H100 -> 0 | AR100: 4 | AT100: K | AU100: 2 | AY100: ROZPOCET | BE100: =IF(N100="základní",J100,0) -> 0 | BF100: =IF(N100="snížená",J100,0) -> 0 | BG100: =IF(N100="zákl. přenesená",J100,0) -> 0 | BH100: =IF(N100="sníž. přenesená",J100,0) -> 0 | BI100: =IF(N100="nulová",J100,0) -> 0 | BJ100: 2 | BK100: =ROUND(I100*H100,2) -> 0 | BL100: 4 | BM100: 626934436
D101: VV | F101: "D1.1-01" | AT101: VV | AU101: 2 | AV101: 1 | AW101: True | AX101: 0 | AY101: ROZPOCET
D102: VV | F102: 0,4*(4,65+1,5) | H102: 2.46 | AT102: VV | AU102: 2 | AV102: 2 | AW102: True | AX102: 1 | AY102: ROZPOCET
C103: 4 | D103: K | E103: 348272515 | F103: Ploty z tvárnic betonových plotová stříška lepená mrazuvzdorným lepidlem z tvarovek hladkých nebo štípaných, sedlového tvaru přírodních, tloušťka zdiva 295 mm | G103: m | H103: 6.15 | J103: =ROUND(I103*H103,2) -> 0 | K103: CS ÚRS 2016 02 | N103: snížená | O103: 0.634 | P103: =O103*H103 -> 3.8991 | Q103: 0.04634 | R103: =Q103*H103 -> 0.284991 | S103: 0 | T103: =S103*H103 -> 0 | AR103: 4 | AT103: K | AU103: 2 | AY103: ROZPOCET | BE103: =IF(N103="základní",J103,0) -> 0 | BF103: =IF(N103="snížená",J103,0) -> 0 | BG103: =IF(N103="zákl. přenesená",J103,0) -> 0 | BH103: =IF(N103="sníž. přenesená",J103,0) -> 0 | BI103: =IF(N103="nulová",J103,0) -> 0 | BJ103: 2 | BK103: =ROUND(I103*H103,2) -> 0 | BL103: 4 | BM103: -364433084
D104: VV | F104: "D1.1-01" | AT104: VV | AU104: 2 | AV104: 1 | AW104: True | AX104: 0 | AY104: ROZPOCET
D105: VV | F105: (4,65+1,5) | H105: 6.15 | AT105: VV | AU105: 2 | AV105: 2 | AW105: True | AX105: 1 | AY105: ROZPOCET
D106: D | E106: 6 | F106: Úpravy povrchů, podlahy a osazování výplní | J106: =BK106 -> 0 | P106: =SUM(P107:P449) -> 2966.8006 | R106: =SUM(R107:R449) -> 52.794495 | T106: =SUM(T107:T449) -> 0 | AR106: 1 | AT106: D | AU106: 1 | AY106: ROZPOCET | BK106: =SUM(BK107:BK449) -> 0
C107: 5 | D107: K | E107: 611311131 | F107: Potažení vnitřních ploch štukem tloušťky do 3 mm vodorovných konstrukcí stropů rovných | G107: m2 | H107: 216.49 | J107: =ROUND(I107*H107,2) -> 0 | K107: CS ÚRS 2016 02 | N107: snížená | O107: 0.358 | P107: =O107*H107 -> 77.50342 | Q107: 0.003 | R107: =Q107*H107 -> 0.64947 | S107: 0 | T107: =S107*H107 -> 0 | AR107: 4 | AT107: K | AU107: 2 | AY107: ROZPOCET | BE107: =IF(N107="základní",J107,0) -> 0 | BF107: =IF(N107="snížená",J107,0) -> 0 | BG107: =IF(N107="zákl. přenesená",J107,0) -> 0 | BH107: =IF(N107="sníž. přenesená",J107,0) -> 0 | BI107: =IF(N107="nulová",J107,0) -> 0 | BJ107: 2 | BK107: =ROUND(I107*H107,2) -> 0 | BL107: 4 | BM107: -547188777
D108: VV | F108: "v.č. D1.1-3_ PDL1" | AT108: VV | AU108: 2 | AV108: 1 | AW108: True | AX108: 0 | AY108: ROZPOCET
D109: VV | F109: 8,76+31,37+24,95+4,43*3+4,46+6,9+3,66+4,93+6,43+50,96+5,26+5,9+5,39 | H109: 172.26 | AT109: VV | AU109: 2 | AV109: 2 | AW109: True | AX109: 0 | AY109: ROZPOCET
D110: VV | F110: 5,26+5,9+4,94+6,43+5,12+5,12+3,82*3 | H110: 44.23 | AT110: VV | AU110: 2 | AV110: 2 | AW110: True | AX110: 0 | AY110: ROZPOCET
D111: VV | F111: Mezisoučet | H111: 216.49 | AT111: VV | AU111: 2 | AV111: 3 | AW111: True | AX111: 1 | AY111: ROZPOCET
C112: 6 | D112: K | E112: 612311131 | F112: Potažení vnitřních ploch štukem tloušťky do 3 mm svislých konstrukcí stěn | G112: m2 | H112: 4.191 | J112: =ROUND(I112*H112,2) -> 0 | K112: CS ÚRS 2016 02 | N112: snížená | O112: 0.272 | P112: =O112*H112 -> 1.139952 | Q112: 0.003 | R112: =Q112*H112 -> 0.012573 | S112: 0 | T112: =S112*H112 -> 0 | AR112: 4 | AT112: K | AU112: 2 | AY112: ROZPOCET | BE112: =IF(N112="základní",J112,0) -> 0 | BF112: =IF(N112="snížená",J112,0) -> 0 | BG112: =IF(N112="zákl. přenesená",J112,0) -> 0 | BH112: =IF(N112="sníž. přenesená",J112,0) -> 0 | BI112: =IF(N112="nulová",J112,0) -> 0 | BJ112: 2 | BK112: =ROUND(I112*H112,2) -> 0 | BL112: 4 | BM112: -1475626992
D113: VV | F113: "D1.1-01"2,47*(2,15)-0,8*2+0,1*(0,8+2*2) | H113: 4.191 | AT113: VV | AU113: 2 | AV113: 2 | AW113: True | AX113: 1 | AY113: ROZPOCET
C114: 7 | D114: K | E114: 612321141 | F114: Omítka vápenocementová vnitřních ploch nanášená ručně dvouvrstvá, tloušťky jádrové omítky do 10 mm a tloušťky štuku do 3 mm štuková svislých konstrukcí stěn | G114: m2 | H114: 1.5 | J114: =ROUND(I114*H114,2) -> 0 | K114: CS ÚRS 2016 02 | N114: snížená | O114: 0.47 | P114: =O114*H114 -> 0.705 | Q114: 0.01838 | R114: =Q114*H114 -> 0.02757 | S114: 0 | T114: =S114*H114 -> 0 | AR114: 4 | AT114: K | AU114: 2 | AY114: ROZPOCET | BE114: =IF(N114="základní",J114,0) -> 0 | BF114: =IF(N114="snížená",J114,0) -> 0 | BG114: =IF(N114="zákl. přenesená",J114,0) -> 0 | BH114: =IF(N114="sníž. přenesená",J114,0) -> 0 | BI114: =IF(N114="nulová",J114,0) -> 0 | BJ114: 2 | BK114: =ROUND(I114*H114,2) -> 0 | BL114: 4 | BM114: -1925440867
D115: VV | F115: "D1.1-01 - zazdívka"1*1,5 | H115: 1.5 | AT115: VV | AU115: 2 | AV115: 2 | AW115: True | AX115: 0 | AY115: ROZPOCET
D116: VV | F116: Mezisoučet | H116: 1.5 | AT116: VV | AU116: 2 | AV116: 3 | AW116: True | AX116: 1 | AY116: ROZPOCET
C117: 8 | D117: K | E117: 612321191 | F117: Omítka vápenocementová vnitřních ploch nanášená ručně Příplatek k cenám za každých dalších i započatých 5 mm tloušťky omítky přes 10 mm stěn | G117: m2 | H117: 3 | J117: =ROUND(I117*H117,2) -> 0 | K117: CS ÚRS 2016 02 | N117: snížená | O117: 0.09 | P117: =O117*H117 -> 0.27 | Q117: 0.0079 | R117: =Q117*H117 -> 0.0237 | S117: 0 | T117: =S117*H117 -> 0 | AR117: 4 | AT117: K | AU117: 2 | AY117: ROZPOCET | BE117: =IF(N117="základní",J117,0) -> 0 | BF117: =IF(N117="snížená",J117,0) -> 0 | BG117: =IF(N117="zákl. přenesená",J117,0) -> 0 | BH117: =IF(N117="sníž. přenesená",J117,0) -> 0 | BI117: =IF(N117="nulová",J117,0) -> 0 | BJ117: 2 | BK117: =ROUND(I117*H117,2) -> 0 | BL117: 4 | BM117: -1185853055
D118: VV | F118: 1,5*2 | H118: 3 | AT118: VV | AU118: 2 | AV118: 2 | AW118: True | AX118: 1 | AY118: ROZPOCET
C119: 9 | D119: K | E119: 621221021 | F119: Montáž kontaktního zateplení z desek z minerální vlny s podélnou orientací vláken na vnější podhledy, tloušťky desek přes 80 do 120 mm | G119: m2 | H119: 70.49 | J119: =ROUND(I119*H119,2) -> 0 | K119: CS ÚRS 2016 02 | N119: snížená | O119: 1.4 | P119: =O119*H119 -> 98.686 | Q119: 0.00947 | R119: =Q119*H119 -> 0.6675403 | S119: 0 | T119: =S119*H119 -> 0 | AR119: 4 | AT119: K | AU119: 2 | AY119: ROZPOCET | BE119: =IF(N119="základní",J119,0) -> 0 | BF119: =IF(N119="snížená",J119,0) -> 0 | BG119: =IF(N119="zákl. přenesená",J119,0) -> 0 | BH119: =IF(N119="sníž. přenesená",J119,0) -> 0 | BI119: =IF(N119="nulová",J119,0) -> 0 | BJ119: 2 | BK119: =ROUND(I119*H119,2) -> 0 | BL119: 4 | BM119: -401399296
D120: VV | F120: "Bal1 - podhled - vata tl. 80mm" | AT120: VV | AU120: 2 | AV120: 1 | AW120: True | AX120: 0 | AY120: ROZPOCET
D121: VV | F121: "JZ"0,95*3,05*8 | H121: 23.18 | AT121: VV | AU121: 2 | AV121: 2 | AW121: True | AX121: 0 | AY121: ROZPOCET
D122: VV | F122: "SV"0,95*3,*16 | H122: 45.6 | AT122: VV | AU122: 2 | AV122: 2 | AW122: True | AX122: 0 | AY122: ROZPOCET
D123: VV | F123: "stříška vstup"(1,9*0,45)*2 | H123: 1.71 | AT123: VV | AU123: 2 | AV123: 2 | AW123: True | AX123: 0 | AY123: ROZPOCET
D124: VV | F124: Mezisoučet | H124: 70.49 | AT124: VV | AU124: 2 | AV124: 3 | AW124: True | AX124: 0 | AY124: ROZPOCET
D125: VV | F125: Součet | H125: 70.49 | AT125: VV | AU125: 2 | AV125: 4 | AW125: True | AX125: 1 | AY125: ROZPOCET
C126: 10 | D126: M | E126: 631515260 | F126: deska izolační minerální kontaktních fasád podélné vlákno λ-0.036 tl. 80 mm | G126: m2 | H126: 74.015 | J126: =ROUND(I126*H126,2) -> 0 | K126: CS ÚRS 2016 02 | N126: snížená | O126: 0 | P126: =O126*H126 -> 0 | Q126: 0.012 | R126: =Q126*H126 -> 0.88818 | S126: 0 | T126: =S126*H126 -> 0 | AR126: 8 | AT126: M | AU126: 2 | AY126: ROZPOCET | BE126: =IF(N126="základní",J126,0) -> 0 | BF126: =IF(N126="snížená",J126,0) -> 0 | BG126: =IF(N126="zákl. přenesená",J126,0) -> 0 | BH126: =IF(N126="sníž. přenesená",J126,0) -> 0 | BI126: =IF(N126="nulová",J126,0) -> 0 | BJ126: 2 | BK126: =ROUND(I126*H126,2) -> 0 | BL126: 4 | BM126: 2048085610
D127: VV | F127: "v.č. D1.1-01-05" | AT127: VV | AU127: 2 | AV127: 1 | AW127: True | AX127: 0 | AY127: ROZPOCET
D128: VV | F128: "Bal1 - podhled - vata tl. 80mm" | AT128: VV | AU128: 2 | AV128: 1 | AW128: True | AX128: 0 | AY128: ROZPOCET
D129: VV | F129: "JZ"0,95*3,05*8 | H129: 23.18 | AT129: VV | AU129: 2 | AV129: 2 | AW129: True | AX129: 0 | AY129: ROZPOCET
D130: VV | F130: "SV"0,95*3,*16 | H130: 45.6 | AT130: VV | AU130: 2 | AV130: 2 | AW130: True | AX130: 0 | AY130: ROZPOCET
D131: VV | F131: "stříška vstup"(1,9*0,45)*2 | H131: 1.71 | AT131: VV | AU131: 2 | AV131: 2 | AW131: True | AX131: 0 | AY131: ROZPOCET
...

Sheet 17_42_0200 - Ostatní náklady
D1: List obsahuje: | F1: 1) Krycí list soupisu | G1: 2) Rekapitulace | J1: 3) Soupis prací | K1: Zpět na list: | L1: Rekapitulace stavby
L2: >> skryté sloupce << | AT2: {f4e3a8ed-9c3e-4568-a554-279ad1cb5254}
AT3: 1
D4: KRYCÍ LIST SOUPISU | M4: v --- níže se nacházejí doplnkové a pomocné údaje k sestavám --- v | AT4: False
D6: Stavba:
E7: ='Rekapitulace stavby'!K6 -> Zateplení obvodového pláště bytového domu U Nemocnice 543 a 544, Mimoň
D8: Objekt:
E9: 17_42_0200 - Ostatní náklady
D11: KSO: | I11: CC-CZ:
D12: Místo: | F12: Mimoň | I12: Datum: | J12: ='Rekapitulace stavby'!AN8 -> 09.05.2017
D14: Zadavatel: | I14: IČ:
E15: OÚ Mimoň | I15: DIČ:
D17: Uchazeč: | I17: IČ: | J17: =IF('Rekapitulace stavby'!AN13="Vyplň údaj","",IF('Rekapitulace stavby'!AN13="","",'Rekapitulace stavby'!AN13))
E18: =IF('Rekapitulace stavby'!E14="Vyplň údaj","",IF('Rekapitulace stavby'!E14="","",'Rekapitulace stavby'!E14)) | I18: DIČ: | J18: =IF('Rekapitulace stavby'!AN14="Vyplň údaj","",IF('Rekapitulace stavby'!AN14="","",'Rekapitulace stavby'!AN14))
D20: Projektant: | I20: IČ:
E21: Jiří Schneider | I21: DIČ:
D23: Poznámka:
D27: Cena bez DPH | J27: =ROUND(J77,2) -> 0
F29: Základ daně | I29: Sazba daně | J29: Výše daně
D30: DPH | E30: základní | F30: =ROUND(SUM(BE77:BE82), 2) -> 0 | I30: 0.21 | J30: =ROUND(ROUND((SUM(BE77:BE82)), 2)*I30, 2) -> 0
E31: snížená | F31: =ROUND(SUM(BF77:BF82), 2) -> 0 | I31: 0.15 | J31: =ROUND(ROUND((SUM(BF77:BF82)), 2)*I31, 2) -> 0
E32: zákl. přenesená | F32: =ROUND(SUM(BG77:BG82), 2) -> 0 | I32: 0.21 | J32: 0
E33: sníž. přenesená | F33: =ROUND(SUM(BH77:BH82), 2) -> 0 | I33: 0.15 | J33: 0
E34: nulová | F34: =ROUND(SUM(BI77:BI82), 2) -> 0 | I34: 0 | J34: 0
D36: Cena s DPH | G36: v | H36: CZK | J36: =SUM(J27:J34) -> 0
C42: REKAPITULACE ČLENĚNÍ SOUPISU PRACÍ
C44: Stavba:
E45: =E7 -> Zateplení obvodového pláště bytového domu U Nemocnice 543 a 544, Mimoň
C46: Objekt:
E47: =E9 -> 17_42_0200 - Ostatní náklady
C49: Místo: | F49: =F12 -> Mimoň | I49: Datum: | J49: =IF(J12="","",J12) -> 09.05.2017
C51: Zadavatel: | F51: =E15 -> OÚ Mimoň | I51: Projektant: | J51: =E21 -> Jiří Schneider
C52: Uchazeč: | F52: =IF(E18="","",E18)
C54: Kód dílu - Popis | J54: Cena celkem [CZK]
C56: Náklady soupisu celkem | J56: =J77 -> 0 | AU56: -1
D57: OST - Ostatní | J57: =J78 -> 0
C64: SOUPIS PRACÍ
C66: Stavba:
E67: =E7 -> Zateplení obvodového pláště bytového domu U Nemocnice 543 a 544, Mimoň
C68: Objekt:
E69: =E9 -> 17_42_0200 - Ostatní náklady
C71: Místo: | F71: =F12 -> Mimoň | I71: Datum: | J71: =IF(J12="","",J12) -> 09.05.2017
C73: Zadavatel: | F73: =E15 -> OÚ Mimoň | I73: Projektant: | J73: =E21 -> Jiří Schneider
C74: Uchazeč: | F74: =IF(E18="","",E18)
C76: PČ | D76: Typ | E76: Kód | F76: Popis | G76: MJ | H76: Množství | I76: J.cena [CZK] | J76: Cena celkem [CZK] | K76: Cenová soustava | M76: Poznámka | N76: DPH | O76: J. Nh [h] | P76: Nh celkem [h] | Q76: J. hmotnost_x000D_ [t] | R76: Hmotnost_x000D_ celkem [t] | S76: J. suť [t] | T76: Suť Celkem [t]
C77: Náklady soupisu celkem | J77: =BK77 -> 0 | P77: =P78 -> 0 | R77: =R78 -> 0 | T77: =T78 -> 0 | AT77: D | AU77: -1 | BK77: =BK78 -> 0
D78: D | E78: OST | F78: Ostatní | J78: =BK78 -> 0 | P78: =SUM(P79:P82) -> 0 | R78: =SUM(R79:R82) -> 0 | T78: =SUM(T79:T82) -> 0 | AR78: 1 | AT78: D | AU78: 0 | AY78: ROZPOCET | BK78: =SUM(BK79:BK82) -> 0
C79: 1 | D79: K | E79: 001/001 | F79: VRN - zařízení staveniště | G79: Kč | H79: 1 | J79: =ROUND(I79*H79,2) -> 0 | K79: Kalkul. rozpoč. | N79: snížená | O79: 0 | P79: =O79*H79 -> 0 | Q79: 0 | R79: =Q79*H79 -> 0 | S79: 0 | T79: =S79*H79 -> 0 | AR79: 512 | AT79: K | AU79: 1 | AY79: ROZPOCET | BE79: =IF(N79="základní",J79,0) -> 0 | BF79: =IF(N79="snížená",J79,0) -> 0 | BG79: =IF(N79="zákl. přenesená",J79,0) -> 0 | BH79: =IF(N79="sníž. přenesená",J79,0) -> 0 | BI79: =IF(N79="nulová",J79,0) -> 0 | BJ79: 2 | BK79: =ROUND(I79*H79,2) -> 0 | BL79: 512 | BM79: -315909866
C80: 2 | D80: K | E80: 001/002 | F80: VRN - osazení měřičů vody a elektřiny, náklady na energie a zdroje | G80: Kč | H80: 1 | J80: =ROUND(I80*H80,2) -> 0 | K80: Kalkul. rozpoč. | N80: snížená | O80: 0 | P80: =O80*H80 -> 0 | Q80: 0 | R80: =Q80*H80 -> 0 | S80: 0 | T80: =S80*H80 -> 0 | AR80: 512 | AT80: K | AU80: 1 | AY80: ROZPOCET | BE80: =IF(N80="základní",J80,0) -> 0 | BF80: =IF(N80="snížená",J80,0) -> 0 | BG80: =IF(N80="zákl. přenesená",J80,0) -> 0 | BH80: =IF(N80="sníž. přenesená",J80,0) -> 0 | BI80: =IF(N80="nulová",J80,0) -> 0 | BJ80: 2 | BK80: =ROUND(I80*H80,2) -> 0 | BL80: 512 | BM80: 1011552659
C81: 3 | D81: K | E81: 001/003 | F81: VRN - dokumentace skutečného provedení stavu ( „DSPS“) ve 4 vyhotoveních (3x tisk + 1x dig. forma) | G81: Kč | H81: 1 | J81: =ROUND(I81*H81,2) -> 0 | K81: Kalkul. rozpoč. | N81: snížená | O81: 0 | P81: =O81*H81 -> 0 | Q81: 0 | R81: =Q81*H81 -> 0 | S81: 0 | T81: =S81*H81 -> 0 | AR81: 512 | AT81: K | AU81: 1 | AY81: ROZPOCET | BE81: =IF(N81="základní",J81,0) -> 0 | BF81: =IF(N81="snížená",J81,0) -> 0 | BG81: =IF(N81="zákl. přenesená",J81,0) -> 0 | BH81: =IF(N81="sníž. přenesená",J81,0) -> 0 | BI81: =IF(N81="nulová",J81,0) -> 0 | BJ81: 2 | BK81: =ROUND(I81*H81,2) -> 0 | BL81: 512 | BM81: -1927259871
C82: 4 | D82: K | E82: 001/004 | F82: VRN - provedení úklid stavby a dotčeného okolí, provedení likvidaci zařízení staveniště do jednoho týdne od ukončení činností | G82: Kč | H82: 1 | J82: =ROUND(I82*H82,2) -> 0 | K82: Kalkul. rozpoč. | N82: snížená | O82: 0 | P82: =O82*H82 -> 0 | Q82: 0 | R82: =Q82*H82 -> 0 | S82: 0 | T82: =S82*H82 -> 0 | AR82: 512 | AT82: K | AU82: 1 | AY82: ROZPOCET | BE82: =IF(N82="základní",J82,0) -> 0 | BF82: =IF(N82="snížená",J82,0) -> 0 | BG82: =IF(N82="zákl. přenesená",J82,0) -> 0 | BH82: =IF(N82="sníž. přenesená",J82,0) -> 0 | BI82: =IF(N82="nulová",J82,0) -> 0 | BJ82: 2 | BK82: =ROUND(I82*H82,2) -> 0 | BL82: 512 | BM82: 1914694642

Sheet Pokyny pro vyplnění
C3: Struktura údajů, formát souboru a metodika pro zpracování
C4: Struktura
C6: Soubor je složen ze záložky Rekapitulace stavby a záložek s názvem soupisu prací pro jednotlivé objekty ve formátu XLSX. Každá ze záložek přitom obsahuje
C7: ještě samostatné sestavy vymezené orámovaním a nadpisem sestavy.
C9: Rekapitulace stavby obsahuje sestavu Rekapitulace stavby a Rekapitulace objektů stavby a soupisů prací.
D10: V sestavě Rekapitulace stavby jsou uvedeny informace identifikující předmět veřejné zakázky na stavební práce, KSO, CC-CZ, CZ-CPV, CZ-CPA a rekapitulaci
D11: celkové nabídkové ceny uchazeče.
D13: V sestavě Rekapitulace objektů stavby a soupisů prací je uvedena rekapitulace stavebních objektů, inženýrských objektů, provozních souborů,
D14: vedlejších a ostatních nákladů a ostatních nákladů s rekapitulací nabídkové ceny za jednotlivé soupisy prací. Na základě údaje Typ je možné
D15: identifikovat, zda se jedná o objekt nebo soupis prací pro daný objekt:
E16: STA | F16: Stavební objekt pozemní
E17: ING | F17: Stavební objekt inženýrský
E18: PRO | F18: Provozní soubor
E19: VON | F19: Vedlejší a ostatní náklady
E20: OST | F20: Ostatní
E21: Soupis | F21: Soupis prací pro daný typ objektu
C23: Soupis prací pro jednotlivé objekty obsahuje sestavy Krycí list soupisu, Rekapitulace členění soupisu prací, Soupis prací. Za soupis prací může být považován
C24: i objekt stavby v případě, že neobsahuje podřízenou zakázku.
D25: Krycí list soupisu obsahuje rekapitulaci informací o předmětu veřejné zakázky ze sestavy Rekapitulace stavby, informaci o zařazení objektu do KSO,
D26: CC-CZ, CZ-CPV, CZ-CPA a rekapitulaci celkové nabídkové ceny uchazeče za aktuální soupis prací.
D28: Rekapitulace členění soupisu prací obsahuje rekapitulaci soupisu prací ve všech úrovních členění soupisu tak, jak byla tato členění použita (např.
D29: stavební díly, funkční díly, případně jiné členění) s rekapitulací nabídkové ceny.
D31: Soupis prací obsahuje položky veškerých stavebních nebo montážních prací, dodávek materiálů a služeb nezbytných pro zhotovení stavebního objektu,
D32: inženýrského objektu, provozního souboru, vedlejších a ostatních nákladů.
D33: Pro položky soupisu prací se zobrazují následující informace:
E34: PČ | G34: Pořadové číslo položky v aktuálním soupisu
E35: TYP | G35: Typ položky: K - konstrukce, M - materiál, PP - plný popis, PSC - poznámka k souboru cen, P - poznámka k položce, VV - výkaz výměr
E36: Kód | G36: Kód položky
E37: Popis | G37: Zkrácený popis položky
E38: MJ | G38: Měrná jednotka položky
E39: Množství | G39: Množství v měrné jednotce
E40: J.cena | G40: Jednotková cena položky. Zadaní může obsahovat namísto J.ceny sloupce J.materiál a J.montáž, jejichž součet definuje
G41: J.cenu položky.
E42: Cena celkem | G42: Celková cena položky daná jako součin množství a j.ceny
E43: Cenová soustava | G43: Příslušnost položky do cenové soustavy
D45: Ke každé položce soupisu prací se na samostatných řádcích může zobrazovat:
E46: Plný popis položky
E47: Poznámka k souboru cen a poznámka zadavatele
E48: Výkaz výměr
D49: Pokud je k řádku výkazu výměr evidovaný údaj ve sloupci Kód, jedná se o definovaný odkaz, na který se může odvolávat výkaz výměr z jiné položky.
C50: Metodika pro zpracování
C52: Jednotlivé sestavy jsou v souboru provázány. Editovatelné pole jsou zvýrazněny žlutým podbarvením, ostatní pole neslouží k editaci a nesmí být jakkoliv
C53: modifikovány.
C55: Uchazeč je pro podání nabídky povinen vyplnit žlutě podbarvená pole:
D56: Pole Uchazeč v sestavě Rekapitulace stavby - zde uchazeč vyplní svůj název (název subjektu)
D57: Pole IČ a DIČ v sestavě Rekapitulace stavby - zde uchazeč vyplní svoje IČ a DIČ
D58: Datum v sestavě Rekapitulace stavby - zde uchazeč vyplní datum vytvoření nabídky
D59: J.cena = jednotková cena v sestavě Soupis prací o maximálním počtu desetinných míst uvedených v poli
D60: - pokud sestavy soupisů prací obsahují pole J.cena, musí být všechna tato pole vyplněna nenulovými kladnými číslicemi
D61: Poznámka - nepovinný údaj pro položku soupisu
D63: V případě, že sestavy soupisů prací neobsahují pole J.cena, potom ve všech soupisech prací obsahují pole:
D64: - J.materiál - jednotková cena materiálu
D65: - J.montáž - jednotková cena montáže
D66: Uchazeč je v tomto případě povinen vyplnit všechna pole J.materiál a pole J.montáž nenulovými kladnými číslicemi. V případech, kdy položka
D67: neobsahuje žádný materiál je přípustné, aby pole J.materiál bylo vyplněno nulou. V případech, kdy položka neobsahuje žádnou montáž je přípustné,
D68: aby pole J.montáž bylo vyplněno nulou. Není však přípustné, aby obě pole - J.materiál, J.Montáž byly u jedné položky vyplněny nulou.
C73: Rekapitulace stavby
C74: Název | F74: Povinný | H74: Popis | I74: Typ | J74: Max. počet
C75: atributu | F75: (A/N) | J75: znaků
C77: Kód | F77: A | H77: Kód stavby | I77: String | J77: 20
C78: Stavba | F78: A | H78: Název stavby | I78: String | J78: 120
C79: Místo | F79: N | H79: Místo stavby | I79: String | J79: 50
C80: Datum | F80: A | H80: Datum vykonaného exportu | I80: Date
C81: KSO | F81: N | H81: Klasifikace stavebního objektu | I81: String | J81: 15
C82: CC-CZ | F82: N | H82: Klasifikace stavbeních děl | I82: String | J82: 15
C83: CZ-CPV | F83: N | H83: Společný slovník pro veřejné zakázky | I83: String | J83: 20
C84: CZ-CPA | F84: N | H84: Klasifikace produkce podle činností | I84: String | J84: 20
C85: Zadavatel | F85: N | H85: Zadavatel zadaní | I85: String | J85: 50
C86: IČ | F86: N | H86: IČ zadavatele zadaní | I86: String | J86: 20
C87: DIČ | F87: N | H87: DIČ zadavatele zadaní | I87: String | J87: 20
C88: Uchazeč | F88: N | H88: Uchazeč veřejné zakázky | I88: String | J88: 50
C89: Projektant | F89: N | H89: Projektant | I89: String | J89: 50
C90: Poznámka | F90: N | H90: Poznámka k zadání | I90: String | J90: 255
C91: Sazba DPH | F91: A | H91: Rekapitulace sazeb DPH u položek soupisů | I91: eGSazbaDph
C92: Základna DPH | F92: A | H92: Základna DPH určena součtem celkové ceny z položek soupisů | I92: Double
C93: Hodnota DPH | F93: A | H93: Hodnota DPH | I93: Double
C94: Cena bez DPH | F94: A | H94: Celková cena bez DPH za celou stavbu. Sčítává se ze všech listů. | I94: Double
C95: Cena s DPH | F95: A | H95: Celková cena s DPH za celou stavbu | I95: Double
C100: Rekapitulace objektů stavby a soupisů prací
C101: Název | F101: Povinný | H101: Popis | I101: Typ | J101: Max. počet
C102: atributu | F102: (A/N) | J102: znaků
C104: Kód | F104: A | H104: Přebírá se z Rekapitulace stavby | I104: String | J104: 20
C105: Stavba | F105: A | H105: Přebírá se z Rekapitulace stavby | I105: String | J105: 120
C106: Místo | F106: N | H106: Přebírá se z Rekapitulace stavby | I106: String | J106: 50
C107: Datum | F107: A | H107: Přebírá se z Rekapitulace stavby | I107: Date
C108: Zadavatel | F108: N | H108: Přebírá se z Rekapitulace stavby | I108: String | J108: 50
C109: Projektant | F109: N | H109: Přebírá se z Rekapitulace stavby | I109: String | J109: 50
C110: Uchazeč | F110: N | H110: Přebírá se z Rekapitulace stavby | I110: String | J110: 50
C111: Kód | F111: A | H111: Kód objektu | I111: String | J111: 20
C112: Objektu, Soupis prací | F112: A | H112: Název objektu | I112: String | J112: 120
C113: Cena bez DPH | F113: A | H113: Cena bez DPH za daný objekt | I113: Double
C114: Cena s DPH | F114: A | H114: Cena spolu s DPH za daný objekt | I114: Double
C115: Typ | F115: A | H115: Typ zakázky | I115: eGTypZakazky
C120: Krycí list soupisu
C121: Název | F121: Povinný | H121: Popis | I121: Typ | J121: Max. počet
C122: atributu | F122: (A/N) | J122: znaků
C124: Stavba | F124: A | H124: Přebírá se z Rekapitulace stavby | I124: String | J124: 120
C125: Objekt | F125: A | H125: Kód a název objektu | I125: String | J125: 20 + 120
C126: Soupis | F126: A | H126: Kód a název soupisu | I126: String | J126: 20 + 120
C127: KSO | F127: N | H127: Klasifikace stavebního objektu | I127: String | J127: 15
...
