Workbook

Sheet návod k vyplnění
A1: Návod k vyplnění rozpočtu
A6: Uchazeč je povinen vyplnit jen žlutě označená pole ostatní buňky se doplní automaticky.
A7: V listě celková cena Uchazeč nevyplňuje žádné hodnoty, ale je povinen jej po doplnění všech částek v ostaních listech vytisknout spolu s ostatními rozpočty
A8: Uchazeč nesmí provádět zásahy do vložených vzorců.
A9: Uchazeč nesmí vkládat další položky
A10: Uchazeč po vytištění každý položkový rozpočet označí razítkem uchazeče a připojí podpis oprávněné osoby

Sheet správa veřejného osvětlení
A1: Správa veřejného osvětlení | B1: mj | C1: množství | D1: Kč za mj | E1: Kč bez DPH | F1: DPH % | G1: Kč s DPH | H1: Kč za 4 roky bez DPH | I1: Kč za 4 roky s DPH
F2: 20
A3: Správa veřejného osvětlení | B3: měsíc | C3: 12 | E3: =D3*C3 -> 0 | F3: =0.01*F2*E3 -> 0 | G3: =F3+E3 -> 0 | H3: =4*E3 -> 0 | I3: =4*G3 -> 0
D4: celkem | E4: =SUM(E3:E3) -> 0 | F4: =SUM(F3:F3) -> 0 | G4: =SUM(G3:G3) -> 0 | H4: =SUM(H3:H3) -> 0 | I4: =SUM(I3:I3) -> 0
A7: Viz SOD čl. 3 bod 1 správa veřejného osvětlení
A8: Cena za činnosti dle bodu 1. (správa VO) bude vypočítána jako soubor činností vykonávaných v jednom kalendářním měsíci, tzn., že výsledkem ocenění bude paušální částka za měsíc.

Sheet preventivní údržba
A1: Preventivní údržba | B1: mj | C1: množství | D1: Kč za mj | E1: Kč bez DPH | F1: DPH % | G1: Kč s DPH | H1: Kč za 4 roky bez DPH | I1: Kč za 4 roky s DPH
F2: 20
A3: Komplexní údržba spínacích rozvaděčů (21 ks), podružných rozvaděčů (19 ks) | B3: ks | C3: 40 | E3: =D3*C3 -> 0 | F3: =E3*0.01*F2 -> 0 | G3: =F3+E3 -> 0 | H3: =4*E3 -> 0 | I3: =4*G3 -> 0
A4: Komplexní údržba stožárů 862 ks/rok | B4: ks | C4: 862 | E4: =D4*C4 -> 0 | F4: =E4*0.01*F2 -> 0 | G4: =F4+E4 -> 0 | H4: =4*E4 -> 0 | I4: =4*G4 -> 0
A5: Natírání stožárů 30 ks/rok | B5: ks | C5: 30 | E5: =D5*C5 -> 0 | F5: =E5*0.01*F2 -> 0 | G5: =F5+E5 -> 0 | H5: =4*E5 -> 0 | I5: =4*G5 -> 0
A6: Komplexní údržba svítidel 225 ks/rok | B6: ks | C6: 225 | E6: =D6*C6 -> 0 | F6: =E6*0.01*F2 -> 0 | G6: =F6+E6 -> 0 | H6: =4*E6 -> 0 | I6: =4*G6 -> 0
A7: Měření tloušťky stěn ocelových stožárů cca 50 ks/rok | B7: ks | C7: 50 | E7: =D7*C7 -> 0 | F7: =E7*0.01*F2 -> 0 | G7: =F7+E7 -> 0 | H7: =4*E7 -> 0 | I7: =4*G7 -> 0
D8: celkem | E8: =SUM(E3:E7) -> 0 | F8: =SUM(F3:F7) -> 0 | G8: =SUM(G3:G7) -> 0 | H8: =SUM(H3:H7) -> 0 | I8: =SUM(I3:I7) -> 0
A11: Viz SOD čl. 3 bod 2.1 preventivní údržba
A12: Cena za činnosti dle bodu 2.1. (preventivní údržba VO) bude vypočítána jako soubor jednotlivých činností dle přiloženého výkazu za celou dobu platnosti smlouvy.

Sheet pravidelná údržba
A1: Pravidelná údržba | B1: mj | C1: množství | D1: Kč za mj | E1: Kč bez DPH | F1: DPH % | G1: Kč s DPH | H1: Kč za 4 roky bez DPH | I1: Kč za 4 roky s DPH
F2: 20
A3: výměna dvířek | B3: ks | C3: 15 | D3: ='Celkem pravidelná údržba'!E3 -> 0 | E3: =D3*C3 -> 0 | F3: =E3*0.01*F2 -> 0 | G3: =E3+F3 -> 0 | H3: =E3*4 -> 0 | I3: =G3*4 -> 0
A4: výměna halogenu | B4: ks | C4: 5 | D4: ='Celkem pravidelná údržba'!E4 -> 0 | E4: =D4*C4 -> 0 | F4: =E4*0.01*F2 -> 0 | G4: =E4+F4 -> 0 | H4: =E4*4 -> 0 | I4: =G4*4 -> 0
A5: výměna krytu svítidla | B5: ks | C5: 10 | D5: ='Celkem pravidelná údržba'!E5 -> 0 | E5: =D5*C5 -> 0 | F5: =E5*0.01*F2 -> 0 | G5: =E5+F5 -> 0 | H5: =E5*4 -> 0 | I5: =G5*4 -> 0
A6: výměna stožáru včetně svítidla | B6: ks | C6: 15 | D6: ='Celkem pravidelná údržba'!E6 -> 0 | E6: =D6*C6 -> 0 | F6: =E6*0.01*F2 -> 0 | G6: =E6+F6 -> 0 | H6: =E6*4 -> 0 | I6: =G6*4 -> 0
A7: výměna svítidla | B7: ks | C7: 15 | D7: ='Celkem pravidelná údržba'!E7 -> 0 | E7: =D7*C7 -> 0 | F7: =E7*0.01*F2 -> 0 | G7: =E7+F7 -> 0 | H7: =E7*4 -> 0 | I7: =G7*4 -> 0
A8: Výměna svorkovnice | B8: ks | C8: 8 | D8: ='Celkem pravidelná údržba'!E8 -> 0 | E8: =D8*C8 -> 0 | F8: =E8*0.01*F2 -> 0 | G8: =E8+F8 -> 0 | H8: =E8*4 -> 0 | I8: =G8*4 -> 0
A9: výměna tlumivky 125 W | B9: ks | C9: 8 | D9: ='Celkem pravidelná údržba'!E9 -> 0 | E9: =D9*C9 -> 0 | F9: =E9*0.01*F2 -> 0 | G9: =E9+F9 -> 0 | H9: =E9*4 -> 0 | I9: =G9*4 -> 0
A10: výměna tlumivky 150 W | B10: ks | C10: 10 | D10: ='Celkem pravidelná údržba'!E10 -> 0 | E10: =D10*C10 -> 0 | F10: =E10*0.01*F2 -> 0 | G10: =E10+F10 -> 0 | H10: =E10*4 -> 0 | I10: =G10*4 -> 0
A11: výměna tlumivky 250 W | B11: ks | C11: 5 | D11: ='Celkem pravidelná údržba'!E11 -> 0 | E11: =D11*C11 -> 0 | F11: =E11*0.01*F2 -> 0 | G11: =E11+F11 -> 0 | H11: =E11*4 -> 0 | I11: =G11*4 -> 0
A12: výměna tlumivky 70 W | B12: ks | C12: 10 | D12: ='Celkem pravidelná údržba'!E12 -> 0 | E12: =D12*C12 -> 0 | F12: =E12*0.01*F2 -> 0 | G12: =E12+F12 -> 0 | H12: =E12*4 -> 0 | I12: =G12*4 -> 0
A13: výměna výbojky 100 W | B13: ks | C13: 5 | D13: ='Celkem pravidelná údržba'!E13 -> 0 | E13: =D13*C13 -> 0 | F13: =E13*0.01*F2 -> 0 | G13: =E13+F13 -> 0 | H13: =E13*4 -> 0 | I13: =G13*4 -> 0
A14: výměna výbojky 150 W | B14: ks | C14: 50 | D14: ='Celkem pravidelná údržba'!E14 -> 0 | E14: =D14*C14 -> 0 | F14: =E14*0.01*F2 -> 0 | G14: =E14+F14 -> 0 | H14: =E14*4 -> 0 | I14: =G14*4 -> 0
A15: výměna výbojky 210 W | B15: ks | C15: 10 | D15: ='Celkem pravidelná údržba'!E15 -> 0 | E15: =D15*C15 -> 0 | F15: =E15*0.01*F2 -> 0 | G15: =E15+F15 -> 0 | H15: =E15*4 -> 0 | I15: =G15*4 -> 0
A16: výměna výbojky 250 W | B16: ks | C16: 10 | D16: ='Celkem pravidelná údržba'!E16 -> 0 | E16: =D16*C16 -> 0 | F16: =E16*0.01*F2 -> 0 | G16: =E16+F16 -> 0 | H16: =E16*4 -> 0 | I16: =G16*4 -> 0
A17: výměna výbojky 350 W | B17: ks | C17: 5 | D17: ='Celkem pravidelná údržba'!E17 -> 0 | E17: =D17*C17 -> 0 | F17: =E17*0.01*F2 -> 0 | G17: =E17+F17 -> 0 | H17: =E17*4 -> 0 | I17: =G17*4 -> 0
A18: výměna výbojky 70 W | B18: ks | C18: 120 | D18: ='Celkem pravidelná údržba'!E18 -> 0 | E18: =D18*C18 -> 0 | F18: =E18*0.01*F2 -> 0 | G18: =E18+F18 -> 0 | H18: =E18*4 -> 0 | I18: =G18*4 -> 0
A19: výměna výbojky 70 W | B19: ks | C19: 2 | D19: ='Celkem pravidelná údržba'!E19 -> 0 | E19: =D19*C19 -> 0 | F19: =E19*0.01*F2 -> 0 | G19: =E19+F19 -> 0 | H19: =E19*4 -> 0 | I19: =G19*4 -> 0
A20: výměna výbojky HQI-E | B20: ks | C20: 2 | D20: ='Celkem pravidelná údržba'!E20 -> 0 | E20: =D20*C20 -> 0 | F20: =E20*0.01*F2 -> 0 | G20: =E20+F20 -> 0 | H20: =E20*4 -> 0 | I20: =G20*4 -> 0
A21: výměna výbojky PHK | B21: ks | C21: 2 | D21: ='Celkem pravidelná údržba'!E21 -> 0 | E21: =D21*C21 -> 0 | F21: =E21*0.01*F2 -> 0 | G21: =E21+F21 -> 0 | H21: =E21*4 -> 0 | I21: =G21*4 -> 0
A22: výměna zapalovače TR10 | B22: ks | C22: 20 | D22: ='Celkem pravidelná údržba'!E22 -> 0 | E22: =D22*C22 -> 0 | F22: =E22*0.01*F2 -> 0 | G22: =E22+F22 -> 0 | H22: =E22*4 -> 0 | I22: =G22*4 -> 0
A23: výměna zapalovače TR11 | B23: ks | C23: 30 | D23: ='Celkem pravidelná údržba'!E23 -> 0 | E23: =D23*C23 -> 0 | F23: =E23*0.01*F2 -> 0 | G23: =E23+F23 -> 0 | H23: =E23*4 -> 0 | I23: =G23*4 -> 0
A24: Výměna zářivky 24 W | B24: ks | C24: 3 | D24: ='Celkem pravidelná údržba'!E24 -> 0 | E24: =D24*C24 -> 0 | F24: =E24*0.01*F2 -> 0 | G24: =E24+F24 -> 0 | H24: =E24*4 -> 0 | I24: =G24*4 -> 0
A25: Výměna zářivky 48 W | B25: ks | C25: 2 | D25: ='Celkem pravidelná údržba'!E25 -> 0 | E25: =D25*C25 -> 0 | F25: =E25*0.01*F2 -> 0 | G25: =E25+F25 -> 0 | H25: =E25*4 -> 0 | I25: =G25*4 -> 0
D26: celkem | E26: =SUM(E3:E25) -> 0 | F26: =SUM(F3:F25) -> 0 | G26: =SUM(G3:G25) -> 0 | H26: =SUM(H3:H25) -> 0 | I26: =SUM(I3:I25) -> 0
A29: Viz SOD čl. 3 bod 2.2. pravidelná údržba
A30: Cena za činnosti dle bodu 2.2 bude vypočítána základě ocenění jednotlivých položkových rozpočtů předaných objednatelem. Celková cena činnost dle č. 2.2. bude stanovena jako předběžná na základě vybraných ukázkových případů odstraňování poruch pro jeden kalendářní rok a pro celou platnost smlouvy.Objednatel je povinen ocenit všechny položky uvedené ve výkazu výměr viz listy tohoto souboru "Materiál pravidelná údržba" a "Montáž pravidelná údržba"
A33: Poznámka
A34: Ceny v tomto listě se doplní automaticky po vyplněníl listů "Materiál pravidelná údržba a Montáž pravidlená údržba"

Sheet havarijní údržba
A1: Havarijní údžba údržba | B1: mj | C1: množství | D1: Kč za mj | E1: Kč bez DPH | F1: DPH % | G1: Kč s DPH | H1: Kč za 4 roky bez DPH | I1: Kč za 4 roky s DPH
F2: 20
A3: zaištění havarijního spojení | B3: ks | C3: 3 | E3: =D3*C3 -> 0 | F3: =E3*0.01*F2 -> 0 | G3: =F3+E3 -> 0 | H3: =4*E3 -> 0 | I3: =4*G3 -> 0
A4: Odstranění stožáru, včetně likdvidace | B4: ks | C4: 3 | E4: =D4*C4 -> 0 | F4: =E4*0.01*F2 -> 0 | G4: =F4+E4 -> 0 | H4: =4*E4 -> 0 | I4: =4*G4 -> 0
D5: celkem | E5: =SUM(E3:E4) -> 0 | F5: =SUM(F3:F4) -> 0 | G5: =SUM(G3:G4) -> 0 | H5: =SUM(H3:H4) -> 0 | I5: =SUM(I3:I4) -> 0
A8: Viz SOD čl. 3 bod 2.3 havarijní údržba
A9: Cena za činnosti dle bodu 2.3. (havarijní údržba VO) bude vypočítána jako soubor jednotlivých činností dle přiloženého výkazu za celou dobu platnosti smlouvy.

Sheet vánoční osvětlení
A1: vánoční osvětlení | B1: mj | C1: množství | D1: Kč za mj | E1: Kč bez DPH | F1: DPH % | G1: Kč s DPH | H1: Kč za 4 roky bez DPH | I1: Kč za 4 roky s DPH
F2: 20
A3: Montáž dekorů vánočního osvětlení | B3: ks | C3: 56 | E3: =D3*C3 -> 0 | F3: =E3*0.21 -> 0 | G3: =F3+E3 -> 0 | H3: =4*E3 -> 0 | I3: =4*G3 -> 0
A4: Demontáž dekorů vánočního osvětlení | B4: ks | C4: 56 | E4: =D4*C4 -> 0 | F4: =E4*0.21 -> 0 | G4: =F4+E4 -> 0 | H4: =4*E4 -> 0 | I4: =4*G4 -> 0
A5: Pravidelná revize dekorů vánočního osvětlení | B5: ks | C5: =56/2 -> 28 | E5: =D5*C5 -> 0 | F5: =E5*0.21 -> 0 | G5: =F5+E5 -> 0 | H5: =4*E5 -> 0 | I5: =4*G5 -> 0
A6: práce s plošinou | B6: hod | C6: 32 | E6: =D6*C6 -> 0 | F6: =E6*0.21 -> 0 | G6: =F6+E6 -> 0 | H6: =4*E6 -> 0 | I6: =4*G6 -> 0
D7: celkem | E7: =SUM(E3:E6) -> 0 | F7: =SUM(F3:F6) -> 0 | G7: =SUM(G3:G6) -> 0 | H7: =SUM(H3:H6) -> 0 | I7: =SUM(I3:I6) -> 0
A10: Viz SOD čl. 3 bod 3 ostatní činnosti
A11: Cena za činnosti dle bodu 3. (ostatní činnosti) bude vypočítána jako soubor jednotlivých činností dle přiloženého výkazu za celou dobu platnosti smlouvy.

Sheet celková cena
A1: Celková cena | B1: mj | C1: množství | D1: Kč za mj | E1: Kč bez DPH | F1: DPH % | G1: Kč s DPH | H1: Kč za 4 roky bez DPH | I1: Kč za 4 roky s DPH
F2: 20
A3: správa veřejného osvětlení | B3: komplet | C3: 1 | D3: ='správa veřejného osvětlení'!E4 -> 0 | E3: =D3*C3 -> 0 | F3: =E3*0.01*F2 -> 0 | G3: =1.2*E3 -> 0 | H3: =4*E3 -> 0 | I3: =4*G3 -> 0
A4: preventivní údržba | B4: komplet | C4: 1 | D4: ='preventivní údržba'!E8 -> 0 | E4: =D4*C4 -> 0 | F4: =E4*0.01*F2 -> 0 | G4: =1.2*E4 -> 0 | H4: =4*E4 -> 0 | I4: =4*G4 -> 0
A5: pravidelná údržba | B5: komplet | C5: 1 | D5: ='pravidelná údržba'!E26 -> 0 | E5: =D5*C5 -> 0 | F5: =E5*0.01*F2 -> 0 | G5: =1.2*E5 -> 0 | H5: =4*E5 -> 0 | I5: =4*G5 -> 0
A6: havarijní údržba | B6: komplet | C6: 1 | D6: ='havarijní údržba'!E5 -> 0 | E6: =D6*C6 -> 0 | F6: =E6*0.01*F2 -> 0 | G6: =1.2*E6 -> 0 | H6: =4*E6 -> 0 | I6: =4*G6 -> 0
A7: vánoční osvětlení | B7: komplet | C7: 1 | D7: ='vánoční osvětlení'!E7 -> 0 | E7: =D7*C7 -> 0 | F7: =E7*0.01*F2 -> 0 | G7: =1.2*E7 -> 0 | H7: =4*E7 -> 0 | I7: =4*G7 -> 0
D8: celkem | E8: =SUM(E3:E7) -> 0 | F8: =SUM(F3:F7) -> 0 | G8: =SUM(G3:G7) -> 0 | H8: =SUM(H3:H7) -> 0 | I8: =SUM(I3:I7) -> 0

Sheet Celkem pravidelná údržba
A1: Úkon | B1: Montáže | C1: mj | D1: ks | E1: CELKEM | F1: Materiál | G1: Montáž
A3: A | B3: výměna dvířek FeZn stožáru FeZn v=6m | C3: ks | D3: 1 | E3: =F3+G3+H3 -> 0 | F3: ='Materiál pravidelná údržba'!C3 -> 0 | G3: ='Montáže pravidelná údržba'!F5 -> 0
A4: B | B4: výměna halogenové žárovky Rs7 120W/230V | C4: ks | D4: 1 | E4: =F4+G4+H4 -> 0 | F4: ='Materiál pravidelná údržba'!C4 -> 0 | G4: ='Montáže pravidelná údržba'!F13 -> 0
A5: C | B5: výměna krytu svítidla ASTRA 70W polykarb | C5: ks | D5: 1 | E5: =F5+G5+H5 -> 0 | F5: ='Materiál pravidelná údržba'!C5 -> 0 | G5: ='Montáže pravidelná údržba'!F21 -> 0
A6: D | B6: výměna stožáru FeZn v=6m + svítidlo ASTRA 70W | C6: ks | D6: 1 | E6: =F6+G6+H6 -> 0 | F6: ='Materiál pravidelná údržba'!C6+'Materiál pravidelná údržba'!C7+'Materiál pravidelná údržba'!C8+'Materiál pravidelná údržba'!C13 -> 0 | G6: ='Montáže pravidelná údržba'!F43 -> 0
A7: E | B7: výměna svítidla ASTRA 70W | C7: ks | D7: 1 | E7: =F7+G7+H7 -> 0 | F7: ='Materiál pravidelná údržba'!C6+'Materiál pravidelná údržba'!C13 -> 0 | G7: ='Montáže pravidelná údržba'!F55 -> 0
A8: F | B8: Výměna svorkovnice | C8: ks | D8: 1 | E8: =F8+G8+H8 -> 0 | F8: ='Materiál pravidelná údržba'!C8 -> 0 | G8: ='Montáže pravidelná údržba'!F67 -> 0
A9: G | B9: výměna tlumivky 125 W | C9: ks | D9: 1 | E9: =F9+G9+H9 -> 0 | F9: ='Materiál pravidelná údržba'!C10 -> 0 | G9: ='Montáže pravidelná údržba'!F78 -> 0
A10: G | B10: výměna tlumivky 150 W | C10: ks | D10: 1 | E10: =F10+G10+H10 -> 0 | F10: ='Materiál pravidelná údržba'!C11 -> 0 | G10: ='Montáže pravidelná údržba'!F78 -> 0
A11: G | B11: výměna tlumivky 250 W | C11: ks | D11: 1 | E11: =F11+G11+H11 -> 0 | F11: ='Materiál pravidelná údržba'!C12 -> 0 | G11: ='Montáže pravidelná údržba'!F78 -> 0
A12: G | B12: výměna tlumivky 70 W | C12: ks | D12: 1 | E12: =F12+G12+H12 -> 0 | F12: ='Materiál pravidelná údržba'!C9 -> 0 | G12: ='Montáže pravidelná údržba'!F78 -> 0
A13: H | B13: výměna výbojky 100 W | C13: ks | D13: 1 | E13: =F13+G13+H13 -> 0 | F13: ='Materiál pravidelná údržba'!C14 -> 0 | G13: ='Montáže pravidelná údržba'!F87 -> 0
A14: H | B14: výměna výbojky 150 W | C14: ks | D14: 1 | E14: =F14+G14+H14 -> 0 | F14: ='Materiál pravidelná údržba'!C15 -> 0 | G14: ='Montáže pravidelná údržba'!F87 -> 0
A15: H | B15: výměna výbojky 210 W | C15: ks | D15: 1 | E15: =F15+G15+H15 -> 0 | F15: ='Materiál pravidelná údržba'!C16 -> 0 | G15: ='Montáže pravidelná údržba'!F87 -> 0
A16: H | B16: výměna výbojky 250 W | C16: ks | D16: 1 | E16: =F16+G16+H16 -> 0 | F16: ='Materiál pravidelná údržba'!C17 -> 0 | G16: ='Montáže pravidelná údržba'!F87 -> 0
A17: H | B17: výměna výbojky 350 W | C17: ks | D17: 1 | E17: =F17+G17+H17 -> 0 | F17: ='Materiál pravidelná údržba'!C18 -> 0 | G17: ='Montáže pravidelná údržba'!F87 -> 0
A18: H | B18: výměna výbojky 70 W | C18: ks | D18: 1 | E18: =F18+G18+H18 -> 0 | F18: ='Materiál pravidelná údržba'!C13 -> 0 | G18: ='Montáže pravidelná údržba'!F87 -> 0
A19: H | B19: výměna výbojky HQI-E | C19: ks | D19: 1 | E19: =F19+G19+H19 -> 0 | F19: ='Materiál pravidelná údržba'!C19 -> 0 | G19: ='Montáže pravidelná údržba'!F87 -> 0
A20: H | B20: výměna výbojky PH | C20: ks | D20: 1 | E20: =F20+G20+H20 -> 0 | F20: ='Materiál pravidelná údržba'!C20 -> 0 | G20: ='Montáže pravidelná údržba'!F87 -> 0
A21: G | B21: výměna zapalovače | C21: ks | D21: 1 | E21: =F21+G21+H21 -> 0 | F21: ='Materiál pravidelná údržba'!C21 -> 0 | G21: ='Montáže pravidelná údržba'!F78 -> 0
A22: I | B22: Výměna zářivky 24 W | C22: ks | D22: 1 | E22: =F22+G22+H22 -> 0 | F22: ='Materiál pravidelná údržba'!C22 -> 0 | G22: ='Montáže pravidelná údržba'!F96 -> 0
A23: I | B23: Výměna zářivky 48 W | C23: ks | D23: 1 | E23: =F23+G23+H23 -> 0 | F23: ='Materiál pravidelná údržba'!C23 -> 0 | G23: ='Montáže pravidelná údržba'!F96 -> 0
B25: BEZ DOPRAVY
B26: REVIZE JEN V ÚKONU "D"

Sheet Materiál pravidelná údržba
A1: Materiál | B1: mj | C1: CENA
A3: dvířka FeZn stožáru FeZn v=6m | B3: ks | C3: 0
A4: halogenová žárovka Rs7 120W/230V | B4: ks | C4: 0
A5: kryt svítidla ASTRA 70W polykarb | B5: ks | C5: 0
A6: svítidlo ASTRA 70W | B6: ks | C6: 0
A7: stožár FeZn v=6m | B7: ks | C7: 0
A8: výzbroj stožáru 1 okruh | B8: ks | C8: 0
A9: tlumivka 70W - sod. | B9: ks | C9: 0
A10: tlumivka 125W - sod. | B10: ks | C10: 0
A11: tlumivka 150W - sod. | B11: ks | C11: 0
A12: tlumivka 250W - sod. | B12: ks | C12: 0
A13: výbojka sodíková SHL 70W / E27 | B13: ks | C13: 0
A14: výbojka sodíková elip.matn. 100W | B14: ks | C14: 0
... A23: zářivka 48W / E27 | B23: ks | C23: 0

Sheet Montáže pravidelná údržba
A1: Úkon | B1: Popis | C1: Cena | D1: Množství | E1: Jedn | F1: Celkem
A2: A | B2: Vyp.ved.,přezk.a.zaj.vyp.st.,označ.,opět.zapnutí | D2: 2 | E2: ks | F2: =C2*D2 -> 0
B3: Zjištění stavu přípojkové skříně | D3: 1 | E3: ks | F3: =C3*D3 -> 0
B4: Demont.a opět.mont.krytu rozvadeče,rozvodnice | D4: 1 | E4: ks | F4: =C4*D4 -> 0
B5: CELKEM | F5: =SUM(F2:F4) -> 0
A7: B | B7: Vyp.ved.,přezk.a.zaj.vyp.st.,označ.,opět.zapnutí | D7: 2 | E7: ks | F7: =C7*D7 -> 0
B8: Zjišt.stavu okruhu v prost.zvl.neb.do 5-ti vývodů | D8: 1 | E8: okruh | F8: =C8*D8 -> 0
B9: Demontáž halogenového svítidla | D9: 1 | E9: ks | F9: =C9*D9 -> 0
B10: Montáž halogenového svítidla | D10: 1 | E10: ks | F10: =C10*D10 -> 0
B11: Práce výšce 3 - 6 m | D11: 1 | E11: ks | F11: =C11*D11 -> 0
B12: Demont.a opět.mont.krytu rozvadeče,rozvodnice | D12: 1 | E12: ks | F12: =C12*D12 -> 0
B13: CELKEM | F13: =SUM(F7:F12) -> 0
A15: C | B15: Vyp.ved.,přezk.a.zaj.vyp.st.,označ.,opět.zapnutí | D15: 2 | E15: ks | F15: =C15*D15 -> 0
B16: Zjišt.stavu okruhu v prost.zvl.neb.do 5-ti vývodů | D16: 1 | E16: okruh | F16: =C16*D16 -> 0
B17: Demontáž krytu svítidla ASTRA 70W | D17: 1 | E17: ks | F17: =C17*D17 -> 0
B18: Montáž krytu svítidla ASTRA 70W | D18: 1 | E18: ks | F18: =C18*D18 -> 0
B19: Práce výšce 3 - 6 m | D19: 1 | E19: ks | F19: =C19*D19 -> 0
B20: Demont.a opět.mont.krytu rozvadeče,rozvodnice | D20: 1 | E20: ks | F20: =C20*D20 -> 0
B21: CELKEM | F21: =SUM(F15:F20) -> 0
A23: D | B23: Vyp.ved.,přezk.a.zaj.vyp.st.,označ.,opět.zapnutí | D23: 2 | E23: ks | F23: =C23*D23 -> 0
B24: vyp.vedení a zajiš.proti nedovolenému zapnutí | D24: 1 | E24: ks | F24: =C24*D24 -> 0
B25: Zjišt.stavu okruhu v prost.zvl.neb.do 5-ti vývodů | D25: 1 | E25: okruh | F25: =C25*D25 -> 0
B26: Demontáž stožáru FeZn v=6m | D26: 1 | E26: ks | F26: =C26*D26 -> 0
B27: Montáž stožáru FeZn v=6m | D27: 1 | E27: ks | F27: =C27*D27 -> 0
B28: Demontáž elektrovýzbroj stožáru pro 1 okruh | D28: 1 | E28: ks | F28: =C28*D28 -> 0
B29: Montáž elektrovýzbroj stožáru pro 1 okruh | D29: 1 | E29: ks | F29: =C29*D29 -> 0
B30: Demontáž svítidla ASTRA 70W | D30: 1 | E30: ks | F30: =C30*D30 -> 0
B31: Montáž svítidla ASTRA 70W | D31: 1 | E31: ks | F31: =C31*D31 -> 0
B32: pevné spojení pás.zemničů (nerozeb.) | D32: 2 | E32: ks | F32: =C32*D32 -> 0
B33: provizorní úprava terénu zem.tř.3 | D33: 1 | E33: m2 | F33: =C33*D33 -> 0
B34: označení kabelového vedení, spojky, pupinové skř. | D34: 2 | E34: ks | F34: =C34*D34 -> 0
B35: CYKY-CYKYm 3Cx1.5 mm2 750V (PU) | D35: 7 | E35: m | F35: =C35*D35 -> 0
... B42: Demont.a opět.mont.krytu rozvadeče,rozvodnice | D42: 1 | E42: ks | F42: =C42*D42 -> 0
B43: CELKEM | F43: =SUM(F23:F42) -> 0
A45: E | B45: Vyp.ved.,přezk.a.zaj.vyp.st.,označ.,opět.zapnutí | D45: 2 | E45: ks | F45: =C45*D45 -> 0
B46: vyp.vedení a zajiš.proti nedovolenému zapnutí | D46: 1 | E46: ks | F46: =C46*D46 -> 0
B47: Zjišt.stavu okruhu v prost.zvl.neb.do 5-ti vývodů | D47: 1 | E47: okruh | F47: =C47*D47 -> 0
B48: Demontáž svítidla ASTRA 70W | D48: 1 | E48: ks | F48: =C48*D48 -> 0
B49: Montáž svítidla ASTRA 70W | D49: 1 | E49: ks | F49: =C49*D49 -> 0
B50: ukonč.vod.v rozv.vč.zap.a konc.do 2.5mm2 | D50: 6 | E50: ks | F50: =C50*D50 -> 0
B51: demontáž - výměna pojistk.vložka do 25 A | D51: 1 | E51: ks | F51: =C51*D51 -> 0
B52: montáž - výměna pojistk.vložka do 25 A | D52: 1 | E52: ks | F52: =C52*D52 -> 0
B53: Práce výšce 3 - 6 m | D53: 1 | E53: ks | F53: =C53*D53 -> 0
B54: Demont.a opět.mont.krytu rozvadeče,rozvodnice | D54: 1 | E54: ks | F54: =C54*D54 -> 0
B55: CELKEM | F55: =SUM(F45:F54) -> 0
A57: F | B57: Vyp.ved.,přezk.a.zaj.vyp.st.,označ.,opět.zapnutí | D57: 2 | E57: ks | F57: =C57*D57 -> 0
B58: vyp.vedení a zajiš.proti nedovolenému zapnutí | D58: 1 | E58: ks | F58: =C58*D58 -> 0
B59: Zjišt.stavu okruhu v prost.zvl.neb.do 5-ti vývodů | D59: 1 | E59: okruh | F59: =C59*D59 -> 0
B60: demontáž elektrovýzbroj stožáru pro 1 okruh | D60: 1 | E60: ks | F60: =C60*D60 -> 0
B61: montáž elektrovýzbroj stožáru pro 1 okruh | D61: 1 | E61: ks | F61: =C61*D61 -> 0
B62: ukonč.vod.v rozv.vč.zap.a konc.do 16mm2 | D62: 8 | E62: ks | F62: =C62*D62 -> 0
B63: demontáž - výměna pojistk.vložka do 25 A | D63: 1 | E63: ks | F63: =C63*D63 -> 0
B64: montáž - výměna pojistk.vložka do 25 A | D64: 1 | E64: ks | F64: =C64*D64 -> 0
B65: pevné spojení pás.zemničů (nerozeb.) | D65: 2 | E65: ks | F65: =C65*D65 -> 0
B66: Demont.a opět.mont.krytu rozvadeče,rozvodnice | D66: 1 | E66: ks | F66: =C66*D66 -> 0
B67: CELKEM | F67: =SUM(F57:F66) -> 0
A69: G | B69: Vyp.ved.,přezk.a.zaj.vyp.st.,označ.,opět.zapnutí | D69: 2 | E69: ks | F69: =C69*D69 -> 0
B70: Zjišt.stavu okruhu v prost.zvl.neb.do 5-ti vývodů | D70: 1 | E70: okruh | F70: =C70*D70 -> 0
B71: demont 1-fáz.transf.nn vest. 1prim.-2sek.do 200VA | D71: 1 | E71: ks | F71: =C71*D71 -> 0
B72: mont 1-fáz.transf.nn vest. 1prim.-2sek.do 200VA | D72: 1 | E72: ks | F72: =C72*D72 -> 0
B73: Demontáž krytu svítidla ASTRA 70W | D73: 1 | E73: ks | F73: =C73*D73 -> 0
B74: Montáž krytu svítidla ASTRA 70W | D74: 1 | E74: ks | F74: =C74*D74 -> 0
B75: ukonč.vod.v rozv.vč.zap.a konc.do 2.5mm2 | D75: 6 | E75: ks | F75: =C75*D75 -> 0
B76: Práce výšce 3 - 6 m | D76: 1 | E76: ks | F76: =C76*D76 -> 0
B77: Demont.a opět.mont.krytu rozvadeče,rozvodnice | D77: 1 | E77: ks | F77: =C77*D77 -> 0
B78: CELKEM | F78: =SUM(F69:F77) -> 0
A80: H | B80: Vyp.ved.,přezk.a.zaj.vyp.st.,označ.,opět.zapnutí | D80: 2 | E80: ks | F80: =C80*D80 -> 0
B81: Zjišt.stavu okruhu v prost.zvl.neb.do 5-ti vývodů | D81: 1 | E81: okruh | F81: =C81*D81 -> 0
B82: Demontáž krytu svítidla ASTRA 70W | D82: 1 | E82: ks | F82: =C82*D82 -> 0
B83: Montáž krytu svítidla ASTRA 70W | D83: 1 | E83: ks | F83: =C83*D83 -> 0
B84: Výměna výbojky | D84: 1 | E84: ks | F84: =C84*D84 -> 0
B85: Práce výšce 3 - 6 m | D85: 1 | E85: ks | F85: =C85*D85 -> 0
B86: Demont.a opět.mont.krytu rozvadeče,rozvodnice | D86: 1 | E86: ks | F86: =C86*D86 -> 0
B87: CELKEM | F87: =SUM(F80:F86) -> 0
A89: I | B89: Vyp.ved.,přezk.a.zaj.vyp.st.,označ.,opět.zapnutí | D89: 2 | E89: ks | F89: =C89*D89 -> 0
B90: Zjišt.stavu okruhu v prost.zvl.neb.do 5-ti vývodů | D90: 1 | E90: okruh | F90: =C90*D90 -> 0
B91: Demontáž krytu svítidla | D91: 1 | E91: ks | F91: =C91*D91 -> 0
B92: Montáž krytu svítidla | D92: 1 | E92: ks | F92: =C92*D92 -> 0
B93: Výměna zářivky | D93: 1 | E93: ks | F93: =C93*D93 -> 0
B94: Práce výšce 3 - 6 m | D94: 1 | E94: ks | F94: =C94*D94 -> 0
B95: Demont.a opět.mont.krytu rozvadeče,rozvodnice | D95: 1 | E95: ks | F95: =C95*D95 -> 0
B96: CELKEM | F96: =SUM(F89:F95) -> 0
