Workbook

Sheet návod k vyplnění
A1: Návod k vyplnění rozpočtu
A6: Uchazeč je povinen vyplnit jen žlutě označená pole ostatní buňky se doplní automaticky.
A7: V listě celková cena Uchazeč nevyplňuje žádné hodnoty, ale je povinen jej po doplnění všech částek v ostaních listech vytisknout spolu s ostatními rozpočty
A8: Uchazeč nesmí provádět zásahy do vložených vzorců.
A9: Uchazeč nesmí vkládat další položky
A10: Uchazeč po vytištění každý položkový rozpočet označí razítkem uchazeče a připojí podpis oprávněné osoby

Sheet správa veřejného osvětlení
A1: Správa veřejného osvětlení | B1: mj | C1: množství | D1: Kč za mj | E1: Kč bez DPH | F1: DPH % | G1: Kč s DPH | H1: Kč za 4 roky bez DPH | I1: Kč za 4 roky s DPH
F2: 20
A3: Správa veřejného osvětlení | B3: měsíc | C3: 12 | E3: =D3*C3 -> 0 | F3: =0.01*F2*E3 -> 0 | G3: =F3+E3 -> 0 | H3: =4*E3 -> 0 | I3: =4*G3 -> 0
D4: celkem | E4: =SUM(E3:E3) -> 0 | F4: =SUM(F3:F3) -> 0 | G4: =SUM(G3:G3) -> 0 | H4: =SUM(H3:H3) -> 0 | I4: =SUM(I3:I3) -> 0
A7: Viz SOD čl. 3 bod 1 správa veřejného osvětlení
A8: Cena za činnosti dle bodu 1. (správa VO) bude vypočítána jako soubor činností vykonávaných v jednom kalendářním měsíci, tzn., že výsledkem ocenění bude paušální částka za měsíc.

Sheet preventivní údržba
A1: Preventivní údržba | B1: mj | C1: množství | D1: Kč za mj | E1: Kč bez DPH | F1: DPH % | G1: Kč s DPH | H1: Kč za 4 roky bez DPH | I1: Kč za 4 roky s DPH
F2: 20
A3: Komplexní údržba spínacích rozvaděčů (21 ks), podružných rozvaděčů (19 ks) | B3: ks | C3: 40 | E3: =D3*C3 -> 0 | F3: =E3*0.01*F2 -> 0 | G3: =F3+E3 -> 0 | H3: =4*E3 -> 0 | I3: =4*G3 -> 0
A4: Komplexní údržba stožárů 862 ks/rok | B4: ks | C4: 862 | E4: =D4*C4 -> 0 | F4: =E4*0.01*F2 -> 0 | G4: =F4+E4 -> 0 | H4: =4*E4 -> 0 | I4: =4*G4 -> 0
A5: Natírání stožárů 50 ks/rok | B5: ks | C5: 30 | E5: =D5*C5 -> 0 | F5: =E5*0.01*F2 -> 0 | G5: =F5+E5 -> 0 | H5: =4*E5 -> 0 | I5: =4*G5 -> 0
A6: Komplexní údržba svítidel 225 ks/rok | B6: ks | C6: 225 | E6: =D6*C6 -> 0 | F6: =E6*0.01*F2 -> 0 | G6: =F6+E6 -> 0 | H6: =4*E6 -> 0 | I6: =4*G6 -> 0
A7: Měření tloušťky stěn ocelových stožárů cca 50 ks/rok | B7: ks | C7: 50 | E7: =D7*C7 -> 0 | F7: =E7*0.01*F2 -> 0 | G7: =F7+E7 -> 0 | H7: =4*E7 -> 0 | I7: =4*G7 -> 0
D8: celkem | E8: =SUM(E3:E7) -> 0 | F8: =SUM(F3:F7) -> 0 | G8: =SUM(G3:G7) -> 0 | H8: =SUM(H3:H7) -> 0 | I8: =SUM(I3:I7) -> 0
A11: Viz SOD čl. 3 bod 2.1 preventivní údržba
A12: Cena za činnosti dle bodu 2.1. (preventivní údržba VO) bude vypočítána jako soubor jednotlivých činností dle přiloženého výkazu za celou dobu platnosti smlouvy.

Sheet pravidelná údržba
A1: Pravidelná údržba | B1: mj | C1: množství | D1: Kč za mj | E1: Kč bez DPH | F1: DPH % | G1: Kč s DPH | H1: Kč za 4 roky bez DPH | I1: Kč za 4 roky s DPH
F2: 20
A3: výměna dvířek | B3: ks | C3: 15 | E3: =D3*C3 -> 0 | F3: =E3*0.01*F2 -> 0 | G3: =E3+F3 -> 0 | H3: =E3*4 -> 0 | I3: =G3*4 -> 0
A4: výměna halogenu | B4: ks | C4: 5 | E4: =D4*C4 -> 0 | F4: =E4*0.01*F2 -> 0 | G4: =E4+F4 -> 0 | H4: =E4*4 -> 0 | I4: =G4*4 -> 0
A5: výměna krytu svítidla | B5: ks | C5: 10 | E5: =D5*C5 -> 0 | F5: =E5*0.01*F2 -> 0 | G5: =E5+F5 -> 0 | H5: =E5*4 -> 0 | I5: =G5*4 -> 0
A6: výměna stožáru včetně svítidla | B6: ks | C6: 15 | E6: =D6*C6 -> 0 | F6: =E6*0.01*F2 -> 0 | G6: =E6+F6 -> 0 | H6: =E6*4 -> 0 | I6: =G6*4 -> 0
A7: výměna svítidla | B7: ks | C7: 15 | E7: =D7*C7 -> 0 | F7: =E7*0.01*F2 -> 0 | G7: =E7+F7 -> 0 | H7: =E7*4 -> 0 | I7: =G7*4 -> 0
A8: Výměna svorkovnice | B8: ks | C8: 8 | E8: =D8*C8 -> 0 | F8: =E8*0.01*F2 -> 0 | G8: =E8+F8 -> 0 | H8: =E8*4 -> 0 | I8: =G8*4 -> 0
A9: výměna tlumivky 125 W | B9: ks | C9: 8 | E9: =D9*C9 -> 0 | F9: =E9*0.01*F2 -> 0 | G9: =E9+F9 -> 0 | H9: =E9*4 -> 0 | I9: =G9*4 -> 0
A10: výměna tlumivky 150 W | B10: ks | C10: 10 | E10: =D10*C10 -> 0 | F10: =E10*0.01*F2 -> 0 | G10: =E10+F10 -> 0 | H10: =E10*4 -> 0 | I10: =G10*4 -> 0
A11: výměna tlumivky 250 W | B11: ks | C11: 5 | E11: =D11*C11 -> 0 | F11: =E11*0.01*F2 -> 0 | G11: =E11+F11 -> 0 | H11: =E11*4 -> 0 | I11: =G11*4 -> 0
A12: výměna tlumivky 70 W | B12: ks | C12: 10 | E12: =D12*C12 -> 0 | F12: =E12*0.01*F2 -> 0 | G12: =E12+F12 -> 0 | H12: =E12*4 -> 0 | I12: =G12*4 -> 0
A13: výměna výbojky 100 W | B13: ks | C13: 5 | E13: =D13*C13 -> 0 | F13: =E13*0.01*F2 -> 0 | G13: =E13+F13 -> 0 | H13: =E13*4 -> 0 | I13: =G13*4 -> 0
A14: výměna výbojky 150 W | B14: ks | C14: 50 | E14: =D14*C14 -> 0 | F14: =E14*0.01*F2 -> 0 | G14: =E14+F14 -> 0 | H14: =E14*4 -> 0 | I14: =G14*4 -> 0
A15: výměna výbojky 210 W | B15: ks | C15: 10 | E15: =D15*C15 -> 0 | F15: =E15*0.01*F2 -> 0 | G15: =E15+F15 -> 0 | H15: =E15*4 -> 0 | I15: =G15*4 -> 0
A16: výměna výbojky 250 W | B16: ks | C16: 10 | E16: =D16*C16 -> 0 | F16: =E16*0.01*F2 -> 0 | G16: =E16+F16 -> 0 | H16: =E16*4 -> 0 | I16: =G16*4 -> 0
A17: výměna výbojky 350 W | B17: ks | C17: 5 | E17: =D17*C17 -> 0 | F17: =E17*0.01*F2 -> 0 | G17: =E17+F17 -> 0 | H17: =E17*4 -> 0 | I17: =G17*4 -> 0
A18: výměna výbojky 70 W | B18: ks | C18: 120 | E18: =D18*C18 -> 0 | F18: =E18*0.01*F2 -> 0 | G18: =E18+F18 -> 0 | H18: =E18*4 -> 0 | I18: =G18*4 -> 0
A19: výměna výbojky 70 W | B19: ks | C19: 2 | E19: =D19*C19 -> 0 | F19: =E19*0.01*F2 -> 0 | G19: =E19+F19 -> 0 | H19: =E19*4 -> 0 | I19: =G19*4 -> 0
A20: výměna výbojky HQI-E | B20: ks | C20: 2 | E20: =D20*C20 -> 0 | F20: =E20*0.01*F2 -> 0 | G20: =E20+F20 -> 0 | H20: =E20*4 -> 0 | I20: =G20*4 -> 0
A21: výměna výbojky PHK | B21: ks | C21: 2 | E21: =D21*C21 -> 0 | F21: =E21*0.01*F2 -> 0 | G21: =E21+F21 -> 0 | H21: =E21*4 -> 0 | I21: =G21*4 -> 0
A22: výměna zapalovače TR10 | B22: ks | C22: 20 | E22: =D22*C22 -> 0 | F22: =E22*0.01*F2 -> 0 | G22: =E22+F22 -> 0 | H22: =E22*4 -> 0 | I22: =G22*4 -> 0
A23: výměna zapalovače TR11 | B23: ks | C23: 30 | E23: =D23*C23 -> 0 | F23: =E23*0.01*F2 -> 0 | G23: =E23+F23 -> 0 | H23: =E23*4 -> 0 | I23: =G23*4 -> 0
A24: Výměna zářivky 24 W | B24: ks | C24: 3 | E24: =D24*C24 -> 0 | F24: =E24*0.01*F2 -> 0 | G24: =E24+F24 -> 0 | H24: =E24*4 -> 0 | I24: =G24*4 -> 0
A25: Výměna zářivky 48 W | B25: ks | C25: 2 | E25: =D25*C25 -> 0 | F25: =E25*0.01*F2 -> 0 | G25: =E25+F25 -> 0 | H25: =E25*4 -> 0 | I25: =G25*4 -> 0
D26: celkem | E26: =SUM(E3:E25) -> 0 | F26: =SUM(F3:F25) -> 0 | G26: =SUM(G3:G25) -> 0 | H26: =SUM(H3:H25) -> 0 | I26: =SUM(I3:I25) -> 0
A29: Viz SOD čl. 3 bod 2.2. pravidelná údržba
A30: Cena za činnosti dle bodu 2.2 bude vypočítána základě ocenění jednotlivých položkových rozpočtů předaných objednatelem. Celková cena činnost dle č. 2.2. bude stanovena jako předběžná na základě vybraných ukázkových případů odstraňování poruch pro jeden kalendářní rok a pro celou platnost smlouvy.Objednatel je povinen ocenit všechny položky uvedené ve výkazu výměr viz příloha č. .....

Sheet havarijní údržba
A1: Havarijní údžba údržba | B1: mj | C1: množství | D1: Kč za mj | E1: Kč bez DPH | F1: DPH % | G1: Kč s DPH | H1: Kč za 4 roky bez DPH | I1: Kč za 4 roky s DPH
F2: 20
A3: zaištění havarijního spojení | B3: ks | C3: 3 | E3: =D3*C3 -> 0 | F3: =E3*0.01*F2 -> 0 | G3: =F3+E3 -> 0 | H3: =4*E3 -> 0 | I3: =4*G3 -> 0
A4: Odstranění stožáru, včetně likdvidace | B4: ks | C4: 3 | E4: =D4*C4 -> 0 | F4: =E4*0.01*F2 -> 0 | G4: =F4+E4 -> 0 | H4: =4*E4 -> 0 | I4: =4*G4 -> 0
D5: celkem | E5: =SUM(E3:E4) -> 0 | F5: =SUM(F3:F4) -> 0 | G5: =SUM(G3:G4) -> 0 | H5: =SUM(H3:H4) -> 0 | I5: =SUM(I3:I4) -> 0
A8: Viz SOD čl. 3 bod 2.3 havarijní údržba
A9: Cena za činnosti dle bodu 2.3. (havarijní údržba VO) bude vypočítána jako soubor jednotlivých činností dle přiloženého výkazu za celou dobu platnosti smlouvy.

Sheet vánoční osvětlení
A1: vánoční osvětlení | B1: mj | C1: množství | D1: Kč za mj | E1: Kč bez DPH | F1: DPH % | G1: Kč s DPH | H1: Kč za 4 roky bez DPH | I1: Kč za 4 roky s DPH
F2: 20
A3: Montáž dekorů vánočního osvětlení | B3: ks | C3: 56 | E3: =D3*C3 -> 0 | F3: =E3*0.21 -> 0 | G3: =F3+E3 -> 0 | H3: =4*E3 -> 0 | I3: =4*G3 -> 0
A4: Demontáž dekorů vánočního osvětlení | B4: ks | C4: 56 | E4: =D4*C4 -> 0 | F4: =E4*0.21 -> 0 | G4: =F4+E4 -> 0 | H4: =4*E4 -> 0 | I4: =4*G4 -> 0
A5: Pravidelná revize dekorů vánočního osvětlení | B5: ks | C5: =56/2 -> 28 | E5: =D5*C5 -> 0 | F5: =E5*0.21 -> 0 | G5: =F5+E5 -> 0 | H5: =4*E5 -> 0 | I5: =4*G5 -> 0
A6: práce s plošinou | B6: hod | C6: 32 | E6: =D6*C6 -> 0 | F6: =E6*0.21 -> 0 | G6: =F6+E6 -> 0 | H6: =4*E6 -> 0 | I6: =4*G6 -> 0
D7: celkem | E7: =SUM(E3:E6) -> 0 | F7: =SUM(F3:F6) -> 0 | G7: =SUM(G3:G6) -> 0 | H7: =SUM(H3:H6) -> 0 | I7: =SUM(I3:I6) -> 0
A10: Viz SOD čl. 3 bod 3 ostatní činnosti
A11: Cena za činnosti dle bodu 3. (ostatní činnosti) bude vypočítána jako soubor jednotlivých činností dle přiloženého výkazu za celou dobu platnosti smlouvy.

Sheet celková cena
A1: Celková cena | B1: mj | C1: množství | D1: Kč za mj | E1: Kč bez DPH | F1: DPH % | G1: Kč s DPH | H1: Kč za 4 roky bez DPH | I1: Kč za 4 roky s DPH
F2: 20
A3: správa veřejného osvětlení | B3: komplet | C3: 1 | D3: ='správa veřejného osvětlení'!E4 -> 0 | E3: =D3*C3 -> 0 | F3: =E3*0.01*F2 -> 0 | G3: =1.2*E3 -> 0 | H3: =4*E3 -> 0 | I3: =4*G3 -> 0
A4: preventivní údržba | B4: komplet | C4: 1 | D4: ='preventivní údržba'!E8 -> 0 | E4: =D4*C4 -> 0 | F4: =E4*0.01*F2 -> 0 | G4: =1.2*E4 -> 0 | H4: =4*E4 -> 0 | I4: =4*G4 -> 0
A5: pravidelná údržba | B5: komplet | C5: 1 | D5: ='pravidelná údržba'!E26 -> 0 | E5: =D5*C5 -> 0 | F5: =E5*0.01*F2 -> 0 | G5: =1.2*E5 -> 0 | H5: =4*E5 -> 0 | I5: =4*G5 -> 0
A6: havarijní údržba | B6: komplet | C6: 1 | D6: ='havarijní údržba'!E5 -> 0 | E6: =D6*C6 -> 0 | F6: =E6*0.01*F2 -> 0 | G6: =1.2*E6 -> 0 | H6: =4*E6 -> 0 | I6: =4*G6 -> 0
A7: vánoční osvětlení | B7: komplet | C7: 1 | D7: ='vánoční osvětlení'!E7 -> 0 | E7: =D7*C7 -> 0 | F7: =E7*0.01*F2 -> 0 | G7: =1.2*E7 -> 0 | H7: =4*E7 -> 0 | I7: =4*G7 -> 0
D8: celkem | E8: =SUM(E3:E7) -> 0 | F8: =SUM(F3:F7) -> 0 | G8: =SUM(G3:G7) -> 0 | H8: =SUM(H3:H7) -> 0 | I8: =SUM(I3:I7) -> 0
